{"text_format":"1","workbook":"xlsx","n_sheets":9,"sheets":["Capa","1_Causas_Levantadas","2_Notas_votacao","3_Ordem_Votacao","4_Base_votacao","5_Verificar_Votos","6_Causas_Priorizadas","Habilitar Macro","Ajuda"],"not_rendered":{"charts":0,"images":15,"macros":1,"external_links":2,"defined_names":29,"comments":0,"pivot_tables":2},"unopened":[],"bounds":{"document_bytes":16777216,"sheet_cells":100000,"rows_first":2000,"rows_last":500,"rows_between":2000,"halvings":0,"cell_chars":16384,"cell_head_chars":4096},"cells_cut":0,"cells_raw":0,"read":"whole","date_system":"1900"}

{"sheet":"Capa","index":0,"n_rows":0,"n_cols":0,"rows_kept":0,"cut":false,"hidden":true,"merged":[]}

{"sheet":"1_Causas_Levantadas","index":1,"n_rows":200,"n_cols":5,"rows_kept":200,"cut":false,"hidden":true,"merged":[]}
[]
[]
[]
[null,null,"# Causa","Causa"]
[null,null,{"$f":"IF(D5=\"\",\"\",1)","v":1},"Causa exemplo 1",{"$f":"COUNT(C5:C200)-1","v":11}]
[null,null,{"$f":"IFERROR(IF(D6=\"\",\"\",C5+1),\"Erro\")","v":2},"Causa exemplo 2"]
[null,null,{"$f":"IFERROR(IF(D7=\"\",\"\",C6+1),\"Erro\")","v":3},"Causa exemplo 3"]
[null,null,4,"Causa exemplo 4"]
[null,null,5,"Causa exemplo 5"]
[null,null,6,"Causa exemplo 6"]
[null,null,7,"Causa exemplo 7"]
[null,null,8,"Causa exemplo 8"]
[null,null,9,"Causa exemplo 9"]
[null,null,10,"Causa exemplo 10"]
[null,null,11,"Causa exemplo 11"]
[null,null,12,"Causa exemplo 12"]
[null,null,""]
[null,null,""]
[null,null,""]
[null,null,""]
[null,null,""]
[null,null,""]
[null,null,""]
[null,null,""]
[null,null,""]
[null,null,""]
[null,null,""]
[null,null,""]
[null,null,""]
[null,null,""]
[null,null,""]
[null,null,""]
[null,null,""]
[null,null,""]
[null,null,""]
[null,null,""]
[null,null,""]
[null,null,""]
[null,null,""]
[null,null,""]
[null,null,""]
[null,null,""]
[null,null,""]
[null,null,""]
[null,null,""]
[null,null,""]
[null,null,""]
[null,null,""]
[null,null,""]
[null,null,""]
[null,null,""]
[null,null,""]
[null,null,""]
[null,null,""]
[null,null,""]
[null,null,""]
[null,null,""]
[null,null,""]
[null,null,""]
[null,null,""]
[null,null,""]
[null,null,""]
[null,null,""]
[null,null,""]
[null,null,""]
[null,null,""]
[null,null,""]
[null,null,""]
[null,null,""]
[null,null,""]
[null,null,{"$f":"IFERROR(IF(D71=\"\",\"\",C70+1),\"Erro\")","v":""}]
[null,null,""]
[null,null,""]
[null,null,""]
[null,null,""]
[null,null,""]
[null,null,""]
[null,null,""]
[null,null,""]
[null,null,""]
[null,null,""]
[null,null,""]
[null,null,""]
[null,null,""]
[null,null,""]
[null,null,""]
[null,null,""]
[null,null,""]
[null,null,""]
[null,null,""]
[null,null,""]
[null,null,""]
[null,null,""]
[null,null,""]
[null,null,""]
[null,null,""]
[null,null,""]
[null,null,""]
[null,null,""]
[null,null,""]
[null,null,""]
[null,null,""]
[null,null,""]
[null,null,""]
[null,null,""]
[null,null,""]
[null,null,""]
[null,null,""]
[null,null,""]
[null,null,""]
[null,null,""]
[null,null,""]
[null,null,""]
[null,null,""]
[null,null,""]
[null,null,""]
[null,null,""]
[null,null,""]
[null,null,""]
[null,null,""]
[null,null,""]
[null,null,""]
[null,null,""]
[null,null,""]
[null,null,""]
[null,null,""]
[null,null,""]
[null,null,""]
[null,null,""]
[null,null,""]
[null,null,""]
[null,null,""]
[null,null,""]
[null,null,""]
[null,null,{"$f":"IFERROR(IF(D135=\"\",\"\",C134+1),\"Erro\")","v":""}]
[null,null,""]
[null,null,""]
[null,null,""]
[null,null,""]
[null,null,""]
[null,null,""]
[null,null,""]
[null,null,""]
[null,null,""]
[null,null,""]
[null,null,""]
[null,null,""]
[null,null,""]
[null,null,""]
[null,null,""]
[null,null,""]
[null,null,""]
[null,null,""]
[null,null,""]
[null,null,""]
[null,null,""]
[null,null,""]
[null,null,""]
[null,null,""]
[null,null,""]
[null,null,""]
[null,null,""]
[null,null,""]
[null,null,""]
[null,null,""]
[null,null,""]
[null,null,""]
[null,null,""]
[null,null,""]
[null,null,""]
[null,null,""]
[null,null,""]
[null,null,""]
[null,null,""]
[null,null,""]
[null,null,""]
[null,null,""]
[null,null,""]
[null,null,""]
[null,null,""]
[null,null,""]
[null,null,""]
[null,null,""]
[null,null,""]
[null,null,""]
[null,null,""]
[null,null,""]
[null,null,""]
[null,null,""]
[null,null,""]
[null,null,""]
[null,null,""]
[null,null,""]
[null,null,""]
[null,null,""]
[null,null,""]
[null,null,""]
[null,null,""]
[null,null,{"$f":"IFERROR(IF(D199=\"\",\"\",C198+1),\"Erro\")","v":""}]
[null,null,""]

{"sheet":"2_Notas_votacao","index":2,"n_rows":10,"n_cols":12,"rows_kept":10,"cut":false,"hidden":true,"merged":[[4,1,4,5],[6,5,7,5]]}
[]
[]
[]
[null,"Instruções para priorização:",null,null,null,null,null,"Total causas",{"$f":"COUNTA('1_Causas_Levantadas'!$D$5:$D$200)","v":12}]
[null,"   1. Informe o número de participantes abaixo:            2. As notas devem ser dadas e distribuídas de acordo com a tabela abaixo:",null,null,null,null,null,"Causas/part",{"$f":"COUNTA('1_Causas_Levantadas'!$D$5:$D$200)","v":12}]
[]
[null,null,null,null,null,null,null,null,"devem ter/partic","Devem ter total","têm","check"]
[null,null,null,null,null,null,null,"Notas 10",{"$f":"ROUNDDOWN(I5*20%,0)","v":2},{"$f":"I8*$C$9","v":14},{"$f":"COUNTIF('4_Base_votacao'!F:F,10)","v":3},{"$f":"IF(K8=J8,1,0)","v":0}]
[null,null,7,null,null,null,null,"Notas 5",{"$f":"ROUND(I5*30%,0)","v":4},{"$f":"I9*$C$9","v":28},{"$f":"COUNTIF('4_Base_votacao'!F:F,5)","v":3},{"$f":"IF(K9=J9,1,0)","v":0}]
[null,null,null,null,null,null,null,"Notas 3",{"$f":"I5-SUM(I8:I9)","v":6},{"$f":"I10*$C$9","v":42},{"$f":"COUNTIF('4_Base_votacao'!F:F,3)","v":6},{"$f":"IF(K10=J10,1,0)","v":0}]

{"sheet":"3_Ordem_Votacao","index":3,"n_rows":17,"n_cols":3,"rows_kept":17,"cut":false,"hidden":true,"merged":[]}
[]
[]
[]
[null,"# Causa","Causa"]
[null,1,"Causa exemplo 1"]
[null,2,"Causa exemplo 2"]
[null,3,"Causa exemplo 3"]
[null,4,"Causa exemplo 4"]
[null,5,"Causa exemplo 5"]
[null,6,"Causa exemplo 6"]
[null,7,"Causa exemplo 7"]
[null,8,"Causa exemplo 8"]
[null,9,"Causa exemplo 9"]
[null,10,"Causa exemplo 10"]
[null,11,"Causa exemplo 11"]
[null,12,"Causa exemplo 12"]
[null,"","(vazio)"]

{"sheet":"4_Base_votacao","index":4,"n_rows":5000,"n_cols":11,"rows_kept":5000,"cut":false,"hidden":true,"merged":[]}
[]
[]
[]
[null,null,"Causa","# Causa","Participante","Nota",{"$f":"'1_Causas_Levantadas'!$E$5+1","v":12},{"$f":"'2_Notas_votacao'!C9","v":7}]
[null,null,{"$f":"IFERROR(VLOOKUP(D5,'1_Causas_Levantadas'!C:D,2,0),\"\")","v":"Causa exemplo 1"},{"$f":"IF(K5<=$H$4,(IF(G4>0,G5,$G$5)),\"\")","v":1},{"$f":"IF(D5<>\"\",\"Participante \"&K5,\"\")","v":"Participante 1"},10,{"$f":"J5","v":1},{"$f":"'2_Notas_votacao'!C9","v":7},1,1,{"$f":"I5","v":1}]
[null,null,{"$f":"IFERROR(VLOOKUP(D6,'1_Causas_Levantadas'!C:D,2,0),\"\")","v":"Causa exemplo 2"},{"$f":"IF(K6<=$H$4,(IF(G5>0,G6,$G$5)),\"\")","v":2},{"$f":"IF(D6<>\"\",\"Participante \"&K6,\"\")","v":"Participante 1"},10,{"$f":"J6","v":2},null,{"$f":"IF(G6=$G$5,1,0)","v":0},{"$f":"IF(G5<$G$4,J5+1,1)","v":2},{"$f":"I6+K5","v":1}]
[null,null,{"$f":"IFERROR(VLOOKUP(D7,'1_Causas_Levantadas'!C:D,2,0),\"\")","v":"Causa exemplo 3"},3,"Participante 1",10,3,null,0,{"$f":"IF(G6<$G$4,J6+1,1)","v":3},1]
[null,null,{"$f":"IFERROR(VLOOKUP(D8,'1_Causas_Levantadas'!C:D,2,0),\"\")","v":"Causa exemplo 4"},4,"Participante 1",5,4,null,0,4,1]
[null,null,{"$f":"IFERROR(VLOOKUP(D9,'1_Causas_Levantadas'!C:D,2,0),\"\")","v":"Causa exemplo 5"},5,"Participante 1",5,5,null,0,5,1]
[null,null,{"$f":"IFERROR(VLOOKUP(D10,'1_Causas_Levantadas'!C:D,2,0),\"\")","v":"Causa exemplo 6"},6,"Participante 1",5,6,null,0,6,1]
[null,null,{"$f":"IFERROR(VLOOKUP(D11,'1_Causas_Levantadas'!C:D,2,0),\"\")","v":"Causa exemplo 7"},7,"Participante 1",3,7,null,0,7,1]
[null,null,{"$f":"IFERROR(VLOOKUP(D12,'1_Causas_Levantadas'!C:D,2,0),\"\")","v":"Causa exemplo 8"},8,"Participante 1",3,8,null,0,8,1]
[null,null,{"$f":"IFERROR(VLOOKUP(D13,'1_Causas_Levantadas'!C:D,2,0),\"\")","v":"Causa exemplo 9"},9,"Participante 1",3,9,null,0,9,1]
[null,null,{"$f":"IFERROR(VLOOKUP(D14,'1_Causas_Levantadas'!C:D,2,0),\"\")","v":"Causa exemplo 10"},10,"Participante 1",3,10,null,0,10,1]
[null,null,{"$f":"IFERROR(VLOOKUP(D15,'1_Causas_Levantadas'!C:D,2,0),\"\")","v":"Causa exemplo 11"},11,"Participante 1",3,11,null,0,11,1]
[null,null,{"$f":"IFERROR(VLOOKUP(D16,'1_Causas_Levantadas'!C:D,2,0),\"\")","v":"Causa exemplo 12"},12,"Participante 1",3,12,null,0,12,1]
[null,null,{"$f":"IFERROR(VLOOKUP(D17,'1_Causas_Levantadas'!C:D,2,0),\"\")","v":"Causa exemplo 1"},1,"Participante 2",null,1,null,1,1,2]
[null,null,{"$f":"IFERROR(VLOOKUP(D18,'1_Causas_Levantadas'!C:D,2,0),\"\")","v":"Causa exemplo 2"},2,"Participante 2",null,2,null,0,2,2]
[null,null,{"$f":"IFERROR(VLOOKUP(D19,'1_Causas_Levantadas'!C:D,2,0),\"\")","v":"Causa exemplo 3"},3,"Participante 2",null,3,null,0,3,2]
[null,null,{"$f":"IFERROR(VLOOKUP(D20,'1_Causas_Levantadas'!C:D,2,0),\"\")","v":"Causa exemplo 4"},4,"Participante 2",null,4,null,0,4,2]
[null,null,{"$f":"IFERROR(VLOOKUP(D21,'1_Causas_Levantadas'!C:D,2,0),\"\")","v":"Causa exemplo 5"},5,"Participante 2",null,5,null,0,5,2]
[null,null,{"$f":"IFERROR(VLOOKUP(D22,'1_Causas_Levantadas'!C:D,2,0),\"\")","v":"Causa exemplo 6"},6,"Participante 2",null,6,null,0,6,2]
[null,null,{"$f":"IFERROR(VLOOKUP(D23,'1_Causas_Levantadas'!C:D,2,0),\"\")","v":"Causa exemplo 7"},7,"Participante 2",null,7,null,0,7,2]
[null,null,{"$f":"IFERROR(VLOOKUP(D24,'1_Causas_Levantadas'!C:D,2,0),\"\")","v":"Causa exemplo 8"},8,"Participante 2",null,8,null,0,8,2]
[null,null,{"$f":"IFERROR(VLOOKUP(D25,'1_Causas_Levantadas'!C:D,2,0),\"\")","v":"Causa exemplo 9"},9,"Participante 2",null,9,null,0,9,2]
[null,null,{"$f":"IFERROR(VLOOKUP(D26,'1_Causas_Levantadas'!C:D,2,0),\"\")","v":"Causa exemplo 10"},10,"Participante 2",null,10,null,0,10,2]
[null,null,{"$f":"IFERROR(VLOOKUP(D27,'1_Causas_Levantadas'!C:D,2,0),\"\")","v":"Causa exemplo 11"},11,"Participante 2",null,11,null,0,11,2]
[null,null,{"$f":"IFERROR(VLOOKUP(D28,'1_Causas_Levantadas'!C:D,2,0),\"\")","v":"Causa exemplo 12"},12,"Participante 2",null,12,null,0,12,2]
[null,null,{"$f":"IFERROR(VLOOKUP(D29,'1_Causas_Levantadas'!C:D,2,0),\"\")","v":"Causa exemplo 1"},1,"Participante 3",null,1,null,1,1,3]
[null,null,{"$f":"IFERROR(VLOOKUP(D30,'1_Causas_Levantadas'!C:D,2,0),\"\")","v":"Causa exemplo 2"},2,"Participante 3",null,2,null,0,2,3]
[null,null,{"$f":"IFERROR(VLOOKUP(D31,'1_Causas_Levantadas'!C:D,2,0),\"\")","v":"Causa exemplo 3"},3,"Participante 3",null,3,null,0,3,3]
[null,null,{"$f":"IFERROR(VLOOKUP(D32,'1_Causas_Levantadas'!C:D,2,0),\"\")","v":"Causa exemplo 4"},4,"Participante 3",null,4,null,0,4,3]
[null,null,{"$f":"IFERROR(VLOOKUP(D33,'1_Causas_Levantadas'!C:D,2,0),\"\")","v":"Causa exemplo 5"},5,"Participante 3",null,5,null,0,5,3]
[null,null,{"$f":"IFERROR(VLOOKUP(D34,'1_Causas_Levantadas'!C:D,2,0),\"\")","v":"Causa exemplo 6"},6,"Participante 3",null,6,null,0,6,3]
[null,null,{"$f":"IFERROR(VLOOKUP(D35,'1_Causas_Levantadas'!C:D,2,0),\"\")","v":"Causa exemplo 7"},7,"Participante 3",null,7,null,0,7,3]
[null,null,{"$f":"IFERROR(VLOOKUP(D36,'1_Causas_Levantadas'!C:D,2,0),\"\")","v":"Causa exemplo 8"},8,"Participante 3",null,8,null,0,8,3]
[null,null,{"$f":"IFERROR(VLOOKUP(D37,'1_Causas_Levantadas'!C:D,2,0),\"\")","v":"Causa exemplo 9"},9,"Participante 3",null,9,null,0,9,3]
[null,null,{"$f":"IFERROR(VLOOKUP(D38,'1_Causas_Levantadas'!C:D,2,0),\"\")","v":"Causa exemplo 10"},10,"Participante 3",null,10,null,0,10,3]
[null,null,{"$f":"IFERROR(VLOOKUP(D39,'1_Causas_Levantadas'!C:D,2,0),\"\")","v":"Causa exemplo 11"},11,"Participante 3",null,11,null,0,11,3]
[null,null,{"$f":"IFERROR(VLOOKUP(D40,'1_Causas_Levantadas'!C:D,2,0),\"\")","v":"Causa exemplo 12"},12,"Participante 3",null,12,null,0,12,3]
[null,null,{"$f":"IFERROR(VLOOKUP(D41,'1_Causas_Levantadas'!C:D,2,0),\"\")","v":"Causa exemplo 1"},1,"Participante 4",null,1,null,1,1,4]
[null,null,{"$f":"IFERROR(VLOOKUP(D42,'1_Causas_Levantadas'!C:D,2,0),\"\")","v":"Causa exemplo 2"},2,"Participante 4",null,2,null,0,2,4]
[null,null,{"$f":"IFERROR(VLOOKUP(D43,'1_Causas_Levantadas'!C:D,2,0),\"\")","v":"Causa exemplo 3"},3,"Participante 4",null,3,null,0,3,4]
[null,null,{"$f":"IFERROR(VLOOKUP(D44,'1_Causas_Levantadas'!C:D,2,0),\"\")","v":"Causa exemplo 4"},4,"Participante 4",null,4,null,0,4,4]
[null,null,{"$f":"IFERROR(VLOOKUP(D45,'1_Causas_Levantadas'!C:D,2,0),\"\")","v":"Causa exemplo 5"},5,"Participante 4",null,5,null,0,5,4]
[null,null,{"$f":"IFERROR(VLOOKUP(D46,'1_Causas_Levantadas'!C:D,2,0),\"\")","v":"Causa exemplo 6"},6,"Participante 4",null,6,null,0,6,4]
[null,null,{"$f":"IFERROR(VLOOKUP(D47,'1_Causas_Levantadas'!C:D,2,0),\"\")","v":"Causa exemplo 7"},7,"Participante 4",null,7,null,0,7,4]
[null,null,{"$f":"IFERROR(VLOOKUP(D48,'1_Causas_Levantadas'!C:D,2,0),\"\")","v":"Causa exemplo 8"},8,"Participante 4",null,8,null,0,8,4]
[null,null,{"$f":"IFERROR(VLOOKUP(D49,'1_Causas_Levantadas'!C:D,2,0),\"\")","v":"Causa exemplo 9"},9,"Participante 4",null,9,null,0,9,4]
[null,null,{"$f":"IFERROR(VLOOKUP(D50,'1_Causas_Levantadas'!C:D,2,0),\"\")","v":"Causa exemplo 10"},10,"Participante 4",null,10,null,0,10,4]
[null,null,{"$f":"IFERROR(VLOOKUP(D51,'1_Causas_Levantadas'!C:D,2,0),\"\")","v":"Causa exemplo 11"},11,"Participante 4",null,11,null,0,11,4]
[null,null,{"$f":"IFERROR(VLOOKUP(D52,'1_Causas_Levantadas'!C:D,2,0),\"\")","v":"Causa exemplo 12"},12,"Participante 4",null,12,null,0,12,4]
[null,null,{"$f":"IFERROR(VLOOKUP(D53,'1_Causas_Levantadas'!C:D,2,0),\"\")","v":"Causa exemplo 1"},1,"Participante 5",null,1,null,1,1,5]
[null,null,{"$f":"IFERROR(VLOOKUP(D54,'1_Causas_Levantadas'!C:D,2,0),\"\")","v":"Causa exemplo 2"},2,"Participante 5",null,2,null,0,2,5]
[null,null,{"$f":"IFERROR(VLOOKUP(D55,'1_Causas_Levantadas'!C:D,2,0),\"\")","v":"Causa exemplo 3"},3,"Participante 5",null,3,null,0,3,5]
[null,null,{"$f":"IFERROR(VLOOKUP(D56,'1_Causas_Levantadas'!C:D,2,0),\"\")","v":"Causa exemplo 4"},4,"Participante 5",null,4,null,0,4,5]
[null,null,{"$f":"IFERROR(VLOOKUP(D57,'1_Causas_Levantadas'!C:D,2,0),\"\")","v":"Causa exemplo 5"},5,"Participante 5",null,5,null,0,5,5]
[null,null,{"$f":"IFERROR(VLOOKUP(D58,'1_Causas_Levantadas'!C:D,2,0),\"\")","v":"Causa exemplo 6"},6,"Participante 5",null,6,null,0,6,5]
[null,null,{"$f":"IFERROR(VLOOKUP(D59,'1_Causas_Levantadas'!C:D,2,0),\"\")","v":"Causa exemplo 7"},7,"Participante 5",null,7,null,0,7,5]
[null,null,{"$f":"IFERROR(VLOOKUP(D60,'1_Causas_Levantadas'!C:D,2,0),\"\")","v":"Causa exemplo 8"},8,"Participante 5",null,8,null,0,8,5]
[null,null,{"$f":"IFERROR(VLOOKUP(D61,'1_Causas_Levantadas'!C:D,2,0),\"\")","v":"Causa exemplo 9"},9,"Participante 5",null,9,null,0,9,5]
[null,null,{"$f":"IFERROR(VLOOKUP(D62,'1_Causas_Levantadas'!C:D,2,0),\"\")","v":"Causa exemplo 10"},10,"Participante 5",null,10,null,0,10,5]
[null,null,{"$f":"IFERROR(VLOOKUP(D63,'1_Causas_Levantadas'!C:D,2,0),\"\")","v":"Causa exemplo 11"},11,"Participante 5",null,11,null,0,11,5]
[null,null,{"$f":"IFERROR(VLOOKUP(D64,'1_Causas_Levantadas'!C:D,2,0),\"\")","v":"Causa exemplo 12"},12,"Participante 5",null,12,null,0,12,5]
[null,null,{"$f":"IFERROR(VLOOKUP(D65,'1_Causas_Levantadas'!C:D,2,0),\"\")","v":"Causa exemplo 1"},1,"Participante 6",null,1,null,1,1,6]
[null,null,{"$f":"IFERROR(VLOOKUP(D66,'1_Causas_Levantadas'!C:D,2,0),\"\")","v":"Causa exemplo 2"},2,"Participante 6",null,2,null,0,2,6]
[null,null,{"$f":"IFERROR(VLOOKUP(D67,'1_Causas_Levantadas'!C:D,2,0),\"\")","v":"Causa exemplo 3"},3,"Participante 6",null,3,null,0,3,6]
[null,null,{"$f":"IFERROR(VLOOKUP(D68,'1_Causas_Levantadas'!C:D,2,0),\"\")","v":"Causa exemplo 4"},4,"Participante 6",null,4,null,0,4,6]
[null,null,{"$f":"IFERROR(VLOOKUP(D69,'1_Causas_Levantadas'!C:D,2,0),\"\")","v":"Causa exemplo 5"},5,"Participante 6",null,5,null,0,5,6]
[null,null,{"$f":"IFERROR(VLOOKUP(D70,'1_Causas_Levantadas'!C:D,2,0),\"\")","v":"Causa exemplo 6"},{"$f":"IF(K70<=$H$4,(IF(G69>0,G70,$G$5)),\"\")","v":6},{"$f":"IF(D70<>\"\",\"Participante \"&K70,\"\")","v":"Participante 6"},null,{"$f":"J70","v":6},null,{"$f":"IF(G70=$G$5,1,0)","v":0},6,{"$f":"I70+K69","v":6}]
[null,null,{"$f":"IFERROR(VLOOKUP(D71,'1_Causas_Levantadas'!C:D,2,0),\"\")","v":"Causa exemplo 7"},7,"Participante 6",null,7,null,0,{"$f":"IF(G70<$G$4,J70+1,1)","v":7},6]
[null,null,{"$f":"IFERROR(VLOOKUP(D72,'1_Causas_Levantadas'!C:D,2,0),\"\")","v":"Causa exemplo 8"},8,"Participante 6",null,8,null,0,8,6]
[null,null,{"$f":"IFERROR(VLOOKUP(D73,'1_Causas_Levantadas'!C:D,2,0),\"\")","v":"Causa exemplo 9"},9,"Participante 6",null,9,null,0,9,6]
[null,null,{"$f":"IFERROR(VLOOKUP(D74,'1_Causas_Levantadas'!C:D,2,0),\"\")","v":"Causa exemplo 10"},10,"Participante 6",null,10,null,0,10,6]
[null,null,{"$f":"IFERROR(VLOOKUP(D75,'1_Causas_Levantadas'!C:D,2,0),\"\")","v":"Causa exemplo 11"},11,"Participante 6",null,11,null,0,11,6]
[null,null,{"$f":"IFERROR(VLOOKUP(D76,'1_Causas_Levantadas'!C:D,2,0),\"\")","v":"Causa exemplo 12"},12,"Participante 6",null,12,null,0,12,6]
[null,null,{"$f":"IFERROR(VLOOKUP(D77,'1_Causas_Levantadas'!C:D,2,0),\"\")","v":"Causa exemplo 1"},1,"Participante 7",null,1,null,1,1,7]
[null,null,{"$f":"IFERROR(VLOOKUP(D78,'1_Causas_Levantadas'!C:D,2,0),\"\")","v":"Causa exemplo 2"},2,"Participante 7",null,2,null,0,2,7]
[null,null,{"$f":"IFERROR(VLOOKUP(D79,'1_Causas_Levantadas'!C:D,2,0),\"\")","v":"Causa exemplo 3"},3,"Participante 7",null,3,null,0,3,7]
[null,null,{"$f":"IFERROR(VLOOKUP(D80,'1_Causas_Levantadas'!C:D,2,0),\"\")","v":"Causa exemplo 4"},4,"Participante 7",null,4,null,0,4,7]
[null,null,{"$f":"IFERROR(VLOOKUP(D81,'1_Causas_Levantadas'!C:D,2,0),\"\")","v":"Causa exemplo 5"},5,"Participante 7",null,5,null,0,5,7]
[null,null,{"$f":"IFERROR(VLOOKUP(D82,'1_Causas_Levantadas'!C:D,2,0),\"\")","v":"Causa exemplo 6"},6,"Participante 7",null,6,null,0,6,7]
[null,null,{"$f":"IFERROR(VLOOKUP(D83,'1_Causas_Levantadas'!C:D,2,0),\"\")","v":"Causa exemplo 7"},7,"Participante 7",null,7,null,0,7,7]
[null,null,{"$f":"IFERROR(VLOOKUP(D84,'1_Causas_Levantadas'!C:D,2,0),\"\")","v":"Causa exemplo 8"},8,"Participante 7",null,8,null,0,8,7]
[null,null,{"$f":"IFERROR(VLOOKUP(D85,'1_Causas_Levantadas'!C:D,2,0),\"\")","v":"Causa exemplo 9"},9,"Participante 7",null,9,null,0,9,7]
[null,null,{"$f":"IFERROR(VLOOKUP(D86,'1_Causas_Levantadas'!C:D,2,0),\"\")","v":"Causa exemplo 10"},10,"Participante 7",null,10,null,0,10,7]
[null,null,{"$f":"IFERROR(VLOOKUP(D87,'1_Causas_Levantadas'!C:D,2,0),\"\")","v":"Causa exemplo 11"},11,"Participante 7",null,11,null,0,11,7]
[null,null,{"$f":"IFERROR(VLOOKUP(D88,'1_Causas_Levantadas'!C:D,2,0),\"\")","v":"Causa exemplo 12"},12,"Participante 7",null,12,null,0,12,7]
[null,null,{"$f":"IFERROR(VLOOKUP(D89,'1_Causas_Levantadas'!C:D,2,0),\"\")","v":0},"","",null,1,null,1,1,8]
[null,null,{"$f":"IFERROR(VLOOKUP(D90,'1_Causas_Levantadas'!C:D,2,0),\"\")","v":0},"","",null,2,null,0,2,8]
[null,null,{"$f":"IFERROR(VLOOKUP(D91,'1_Causas_Levantadas'!C:D,2,0),\"\")","v":0},"","",null,3,null,0,3,8]
[null,null,{"$f":"IFERROR(VLOOKUP(D92,'1_Causas_Levantadas'!C:D,2,0),\"\")","v":0},"","",null,4,null,0,4,8]
[null,null,{"$f":"IFERROR(VLOOKUP(D93,'1_Causas_Levantadas'!C:D,2,0),\"\")","v":0},"","",null,5,null,0,5,8]
[null,null,{"$f":"IFERROR(VLOOKUP(D94,'1_Causas_Levantadas'!C:D,2,0),\"\")","v":0},"","",null,6,null,0,6,8]
[null,null,{"$f":"IFERROR(VLOOKUP(D95,'1_Causas_Levantadas'!C:D,2,0),\"\")","v":0},"","",null,7,null,0,7,8]
[null,null,{"$f":"IFERROR(VLOOKUP(D96,'1_Causas_Levantadas'!C:D,2,0),\"\")","v":0},"","",null,8,null,0,8,8]
[null,null,{"$f":"IFERROR(VLOOKUP(D97,'1_Causas_Levantadas'!C:D,2,0),\"\")","v":0},"","",null,9,null,0,9,8]
[null,null,{"$f":"IFERROR(VLOOKUP(D98,'1_Causas_Levantadas'!C:D,2,0),\"\")","v":0},"","",null,10,null,0,10,8]
[null,null,{"$f":"IFERROR(VLOOKUP(D99,'1_Causas_Levantadas'!C:D,2,0),\"\")","v":0},"","",null,11,null,0,11,8]
[null,null,{"$f":"IFERROR(VLOOKUP(D100,'1_Causas_Levantadas'!C:D,2,0),\"\")","v":0},"","",null,12,null,0,12,8]
[null,null,{"$f":"IFERROR(VLOOKUP(D101,'1_Causas_Levantadas'!C:D,2,0),\"\")","v":0},"","",null,1,null,1,1,9]
[null,null,{"$f":"IFERROR(VLOOKUP(D102,'1_Causas_Levantadas'!C:D,2,0),\"\")","v":0},"","",null,2,null,0,2,9]
[null,null,{"$f":"IFERROR(VLOOKUP(D103,'1_Causas_Levantadas'!C:D,2,0),\"\")","v":0},"","",null,3,null,0,3,9]
[null,null,{"$f":"IFERROR(VLOOKUP(D104,'1_Causas_Levantadas'!C:D,2,0),\"\")","v":0},"","",null,4,null,0,4,9]
[null,null,{"$f":"IFERROR(VLOOKUP(D105,'1_Causas_Levantadas'!C:D,2,0),\"\")","v":0},"","",null,5,null,0,5,9]
[null,null,{"$f":"IFERROR(VLOOKUP(D106,'1_Causas_Levantadas'!C:D,2,0),\"\")","v":0},"","",null,6,null,0,6,9]
[null,null,{"$f":"IFERROR(VLOOKUP(D107,'1_Causas_Levantadas'!C:D,2,0),\"\")","v":0},"","",null,7,null,0,7,9]
[null,null,{"$f":"IFERROR(VLOOKUP(D108,'1_Causas_Levantadas'!C:D,2,0),\"\")","v":0},"","",null,8,null,0,8,9]
[null,null,{"$f":"IFERROR(VLOOKUP(D109,'1_Causas_Levantadas'!C:D,2,0),\"\")","v":0},"","",null,9,null,0,9,9]
[null,null,{"$f":"IFERROR(VLOOKUP(D110,'1_Causas_Levantadas'!C:D,2,0),\"\")","v":0},"","",null,10,null,0,10,9]
[null,null,{"$f":"IFERROR(VLOOKUP(D111,'1_Causas_Levantadas'!C:D,2,0),\"\")","v":0},"","",null,11,null,0,11,9]
[null,null,{"$f":"IFERROR(VLOOKUP(D112,'1_Causas_Levantadas'!C:D,2,0),\"\")","v":0},"","",null,12,null,0,12,9]
[null,null,{"$f":"IFERROR(VLOOKUP(D113,'1_Causas_Levantadas'!C:D,2,0),\"\")","v":0},"","",null,1,null,1,1,10]
[null,null,{"$f":"IFERROR(VLOOKUP(D114,'1_Causas_Levantadas'!C:D,2,0),\"\")","v":0},"","",null,2,null,0,2,10]
[null,null,{"$f":"IFERROR(VLOOKUP(D115,'1_Causas_Levantadas'!C:D,2,0),\"\")","v":0},"","",null,3,null,0,3,10]
[null,null,{"$f":"IFERROR(VLOOKUP(D116,'1_Causas_Levantadas'!C:D,2,0),\"\")","v":0},"","",null,4,null,0,4,10]
[null,null,{"$f":"IFERROR(VLOOKUP(D117,'1_Causas_Levantadas'!C:D,2,0),\"\")","v":0},"","",null,5,null,0,5,10]
[null,null,{"$f":"IFERROR(VLOOKUP(D118,'1_Causas_Levantadas'!C:D,2,0),\"\")","v":0},"","",null,6,null,0,6,10]
[null,null,{"$f":"IFERROR(VLOOKUP(D119,'1_Causas_Levantadas'!C:D,2,0),\"\")","v":0},"","",null,7,null,0,7,10]
[null,null,{"$f":"IFERROR(VLOOKUP(D120,'1_Causas_Levantadas'!C:D,2,0),\"\")","v":0},"","",null,8,null,0,8,10]
[null,null,{"$f":"IFERROR(VLOOKUP(D121,'1_Causas_Levantadas'!C:D,2,0),\"\")","v":0},"","",null,9,null,0,9,10]
[null,null,{"$f":"IFERROR(VLOOKUP(D122,'1_Causas_Levantadas'!C:D,2,0),\"\")","v":0},"","",null,10,null,0,10,10]
[null,null,{"$f":"IFERROR(VLOOKUP(D123,'1_Causas_Levantadas'!C:D,2,0),\"\")","v":0},"","",null,11,null,0,11,10]
[null,null,{"$f":"IFERROR(VLOOKUP(D124,'1_Causas_Levantadas'!C:D,2,0),\"\")","v":0},"","",null,12,null,0,12,10]
[null,null,{"$f":"IFERROR(VLOOKUP(D125,'1_Causas_Levantadas'!C:D,2,0),\"\")","v":0},"","",null,1,null,1,1,11]
[null,null,{"$f":"IFERROR(VLOOKUP(D126,'1_Causas_Levantadas'!C:D,2,0),\"\")","v":0},"","",null,2,null,0,2,11]
[null,null,{"$f":"IFERROR(VLOOKUP(D127,'1_Causas_Levantadas'!C:D,2,0),\"\")","v":0},"","",null,3,null,0,3,11]
[null,null,{"$f":"IFERROR(VLOOKUP(D128,'1_Causas_Levantadas'!C:D,2,0),\"\")","v":0},"","",null,4,null,0,4,11]
[null,null,{"$f":"IFERROR(VLOOKUP(D129,'1_Causas_Levantadas'!C:D,2,0),\"\")","v":0},"","",null,5,null,0,5,11]
[null,null,{"$f":"IFERROR(VLOOKUP(D130,'1_Causas_Levantadas'!C:D,2,0),\"\")","v":0},"","",null,6,null,0,6,11]
[null,null,{"$f":"IFERROR(VLOOKUP(D131,'1_Causas_Levantadas'!C:D,2,0),\"\")","v":0},"","",null,7,null,0,7,11]
[null,null,{"$f":"IFERROR(VLOOKUP(D132,'1_Causas_Levantadas'!C:D,2,0),\"\")","v":0},"","",null,8,null,0,8,11]
[null,null,{"$f":"IFERROR(VLOOKUP(D133,'1_Causas_Levantadas'!C:D,2,0),\"\")","v":0},"","",null,9,null,0,9,11]
[null,null,{"$f":"IFERROR(VLOOKUP(D134,'1_Causas_Levantadas'!C:D,2,0),\"\")","v":0},{"$f":"IF(K134<=$H$4,(IF(G133>0,G134,$G$5)),\"\")","v":""},{"$f":"IF(D134<>\"\",\"Participante \"&K134,\"\")","v":""},null,{"$f":"J134","v":10},null,{"$f":"IF(G134=$G$5,1,0)","v":0},10,{"$f":"I134+K133","v":11}]
[null,null,{"$f":"IFERROR(VLOOKUP(D135,'1_Causas_Levantadas'!C:D,2,0),\"\")","v":0},"","",null,11,null,0,{"$f":"IF(G134<$G$4,J134+1,1)","v":11},11]
[null,null,{"$f":"IFERROR(VLOOKUP(D136,'1_Causas_Levantadas'!C:D,2,0),\"\")","v":0},"","",null,12,null,0,12,11]
[null,null,{"$f":"IFERROR(VLOOKUP(D137,'1_Causas_Levantadas'!C:D,2,0),\"\")","v":0},"","",null,1,null,1,1,12]
[null,null,{"$f":"IFERROR(VLOOKUP(D138,'1_Causas_Levantadas'!C:D,2,0),\"\")","v":0},"","",null,2,null,0,2,12]
[null,null,{"$f":"IFERROR(VLOOKUP(D139,'1_Causas_Levantadas'!C:D,2,0),\"\")","v":0},"","",null,3,null,0,3,12]
[null,null,{"$f":"IFERROR(VLOOKUP(D140,'1_Causas_Levantadas'!C:D,2,0),\"\")","v":0},"","",null,4,null,0,4,12]
[null,null,{"$f":"IFERROR(VLOOKUP(D141,'1_Causas_Levantadas'!C:D,2,0),\"\")","v":0},"","",null,5,null,0,5,12]
[null,null,{"$f":"IFERROR(VLOOKUP(D142,'1_Causas_Levantadas'!C:D,2,0),\"\")","v":0},"","",null,6,null,0,6,12]
[null,null,{"$f":"IFERROR(VLOOKUP(D143,'1_Causas_Levantadas'!C:D,2,0),\"\")","v":0},"","",null,7,null,0,7,12]
[null,null,{"$f":"IFERROR(VLOOKUP(D144,'1_Causas_Levantadas'!C:D,2,0),\"\")","v":0},"","",null,8,null,0,8,12]
[null,null,{"$f":"IFERROR(VLOOKUP(D145,'1_Causas_Levantadas'!C:D,2,0),\"\")","v":0},"","",null,9,null,0,9,12]
[null,null,{"$f":"IFERROR(VLOOKUP(D146,'1_Causas_Levantadas'!C:D,2,0),\"\")","v":0},"","",null,10,null,0,10,12]
[null,null,{"$f":"IFERROR(VLOOKUP(D147,'1_Causas_Levantadas'!C:D,2,0),\"\")","v":0},"","",null,11,null,0,11,12]
[null,null,{"$f":"IFERROR(VLOOKUP(D148,'1_Causas_Levantadas'!C:D,2,0),\"\")","v":0},"","",null,12,null,0,12,12]
[null,null,{"$f":"IFERROR(VLOOKUP(D149,'1_Causas_Levantadas'!C:D,2,0),\"\")","v":0},"","",null,1,null,1,1,13]
[null,null,{"$f":"IFERROR(VLOOKUP(D150,'1_Causas_Levantadas'!C:D,2,0),\"\")","v":0},"","",null,2,null,0,2,13]
[null,null,{"$f":"IFERROR(VLOOKUP(D151,'1_Causas_Levantadas'!C:D,2,0),\"\")","v":0},"","",null,3,null,0,3,13]
[null,null,{"$f":"IFERROR(VLOOKUP(D152,'1_Causas_Levantadas'!C:D,2,0),\"\")","v":0},"","",null,4,null,0,4,13]
[null,null,{"$f":"IFERROR(VLOOKUP(D153,'1_Causas_Levantadas'!C:D,2,0),\"\")","v":0},"","",null,5,null,0,5,13]
[null,null,{"$f":"IFERROR(VLOOKUP(D154,'1_Causas_Levantadas'!C:D,2,0),\"\")","v":0},"","",null,6,null,0,6,13]
[null,null,{"$f":"IFERROR(VLOOKUP(D155,'1_Causas_Levantadas'!C:D,2,0),\"\")","v":0},"","",null,7,null,0,7,13]
[null,null,{"$f":"IFERROR(VLOOKUP(D156,'1_Causas_Levantadas'!C:D,2,0),\"\")","v":0},"","",null,8,null,0,8,13]
[null,null,{"$f":"IFERROR(VLOOKUP(D157,'1_Causas_Levantadas'!C:D,2,0),\"\")","v":0},"","",null,9,null,0,9,13]
[null,null,{"$f":"IFERROR(VLOOKUP(D158,'1_Causas_Levantadas'!C:D,2,0),\"\")","v":0},"","",null,10,null,0,10,13]
[null,null,{"$f":"IFERROR(VLOOKUP(D159,'1_Causas_Levantadas'!C:D,2,0),\"\")","v":0},"","",null,11,null,0,11,13]
[null,null,{"$f":"IFERROR(VLOOKUP(D160,'1_Causas_Levantadas'!C:D,2,0),\"\")","v":0},"","",null,12,null,0,12,13]
[null,null,{"$f":"IFERROR(VLOOKUP(D161,'1_Causas_Levantadas'!C:D,2,0),\"\")","v":0},"","",null,1,null,1,1,14]
[null,null,{"$f":"IFERROR(VLOOKUP(D162,'1_Causas_Levantadas'!C:D,2,0),\"\")","v":0},"","",null,2,null,0,2,14]
[null,null,{"$f":"IFERROR(VLOOKUP(D163,'1_Causas_Levantadas'!C:D,2,0),\"\")","v":0},"","",null,3,null,0,3,14]
[null,null,{"$f":"IFERROR(VLOOKUP(D164,'1_Causas_Levantadas'!C:D,2,0),\"\")","v":0},"","",null,4,null,0,4,14]
[null,null,{"$f":"IFERROR(VLOOKUP(D165,'1_Causas_Levantadas'!C:D,2,0),\"\")","v":0},"","",null,5,null,0,5,14]
[null,null,{"$f":"IFERROR(VLOOKUP(D166,'1_Causas_Levantadas'!C:D,2,0),\"\")","v":0},"","",null,6,null,0,6,14]
[null,null,{"$f":"IFERROR(VLOOKUP(D167,'1_Causas_Levantadas'!C:D,2,0),\"\")","v":0},"","",null,7,null,0,7,14]
[null,null,{"$f":"IFERROR(VLOOKUP(D168,'1_Causas_Levantadas'!C:D,2,0),\"\")","v":0},"","",null,8,null,0,8,14]
[null,null,{"$f":"IFERROR(VLOOKUP(D169,'1_Causas_Levantadas'!C:D,2,0),\"\")","v":0},"","",null,9,null,0,9,14]
[null,null,{"$f":"IFERROR(VLOOKUP(D170,'1_Causas_Levantadas'!C:D,2,0),\"\")","v":0},"","",null,10,null,0,10,14]
[null,null,{"$f":"IFERROR(VLOOKUP(D171,'1_Causas_Levantadas'!C:D,2,0),\"\")","v":0},"","",null,11,null,0,11,14]
[null,null,{"$f":"IFERROR(VLOOKUP(D172,'1_Causas_Levantadas'!C:D,2,0),\"\")","v":0},"","",null,12,null,0,12,14]
[null,null,{"$f":"IFERROR(VLOOKUP(D173,'1_Causas_Levantadas'!C:D,2,0),\"\")","v":0},"","",null,1,null,1,1,15]
[null,null,{"$f":"IFERROR(VLOOKUP(D174,'1_Causas_Levantadas'!C:D,2,0),\"\")","v":0},"","",null,2,null,0,2,15]
[null,null,{"$f":"IFERROR(VLOOKUP(D175,'1_Causas_Levantadas'!C:D,2,0),\"\")","v":0},"","",null,3,null,0,3,15]
[null,null,{"$f":"IFERROR(VLOOKUP(D176,'1_Causas_Levantadas'!C:D,2,0),\"\")","v":0},"","",null,4,null,0,4,15]
[null,null,{"$f":"IFERROR(VLOOKUP(D177,'1_Causas_Levantadas'!C:D,2,0),\"\")","v":0},"","",null,5,null,0,5,15]
[null,null,{"$f":"IFERROR(VLOOKUP(D178,'1_Causas_Levantadas'!C:D,2,0),\"\")","v":0},"","",null,6,null,0,6,15]
[null,null,{"$f":"IFERROR(VLOOKUP(D179,'1_Causas_Levantadas'!C:D,2,0),\"\")","v":0},"","",null,7,null,0,7,15]
[null,null,{"$f":"IFERROR(VLOOKUP(D180,'1_Causas_Levantadas'!C:D,2,0),\"\")","v":0},"","",null,8,null,0,8,15]
[null,null,{"$f":"IFERROR(VLOOKUP(D181,'1_Causas_Levantadas'!C:D,2,0),\"\")","v":0},"","",null,9,null,0,9,15]
[null,null,{"$f":"IFERROR(VLOOKUP(D182,'1_Causas_Levantadas'!C:D,2,0),\"\")","v":0},"","",null,10,null,0,10,15]
[null,null,{"$f":"IFERROR(VLOOKUP(D183,'1_Causas_Levantadas'!C:D,2,0),\"\")","v":0},"","",null,11,null,0,11,15]
[null,null,{"$f":"IFERROR(VLOOKUP(D184,'1_Causas_Levantadas'!C:D,2,0),\"\")","v":0},"","",null,12,null,0,12,15]
[null,null,{"$f":"IFERROR(VLOOKUP(D185,'1_Causas_Levantadas'!C:D,2,0),\"\")","v":0},"","",null,1,null,1,1,16]
[null,null,{"$f":"IFERROR(VLOOKUP(D186,'1_Causas_Levantadas'!C:D,2,0),\"\")","v":0},"","",null,2,null,0,2,16]
[null,null,{"$f":"IFERROR(VLOOKUP(D187,'1_Causas_Levantadas'!C:D,2,0),\"\")","v":0},"","",null,3,null,0,3,16]
[null,null,{"$f":"IFERROR(VLOOKUP(D188,'1_Causas_Levantadas'!C:D,2,0),\"\")","v":0},"","",null,4,null,0,4,16]
[null,null,{"$f":"IFERROR(VLOOKUP(D189,'1_Causas_Levantadas'!C:D,2,0),\"\")","v":0},"","",null,5,null,0,5,16]
[null,null,{"$f":"IFERROR(VLOOKUP(D190,'1_Causas_Levantadas'!C:D,2,0),\"\")","v":0},"","",null,6,null,0,6,16]
[null,null,{"$f":"IFERROR(VLOOKUP(D191,'1_Causas_Levantadas'!C:D,2,0),\"\")","v":0},"","",null,7,null,0,7,16]
[null,null,{"$f":"IFERROR(VLOOKUP(D192,'1_Causas_Levantadas'!C:D,2,0),\"\")","v":0},"","",null,8,null,0,8,16]
[null,null,{"$f":"IFERROR(VLOOKUP(D193,'1_Causas_Levantadas'!C:D,2,0),\"\")","v":0},"","",null,9,null,0,9,16]
[null,null,{"$f":"IFERROR(VLOOKUP(D194,'1_Causas_Levantadas'!C:D,2,0),\"\")","v":0},"","",null,10,null,0,10,16]
[null,null,{"$f":"IFERROR(VLOOKUP(D195,'1_Causas_Levantadas'!C:D,2,0),\"\")","v":0},"","",null,11,null,0,11,16]
[null,null,{"$f":"IFERROR(VLOOKUP(D196,'1_Causas_Levantadas'!C:D,2,0),\"\")","v":0},"","",null,12,null,0,12,16]
[null,null,{"$f":"IFERROR(VLOOKUP(D197,'1_Causas_Levantadas'!C:D,2,0),\"\")","v":0},"","",null,1,null,1,1,17]
[null,null,{"$f":"IFERROR(VLOOKUP(D198,'1_Causas_Levantadas'!C:D,2,0),\"\")","v":0},{"$f":"IF(K198<=$H$4,(IF(G197>0,G198,$G$5)),\"\")","v":""},{"$f":"IF(D198<>\"\",\"Participante \"&K198,\"\")","v":""},null,{"$f":"J198","v":2},null,{"$f":"IF(G198=$G$5,1,0)","v":0},2,{"$f":"I198+K197","v":17}]
[null,null,{"$f":"IFERROR(VLOOKUP(D199,'1_Causas_Levantadas'!C:D,2,0),\"\")","v":0},"","",null,3,null,0,{"$f":"IF(G198<$G$4,J198+1,1)","v":3},17]
[null,null,{"$f":"IFERROR(VLOOKUP(D200,'1_Causas_Levantadas'!C:D,2,0),\"\")","v":0},"","",null,4,null,0,4,17]
[null,null,{"$f":"IFERROR(VLOOKUP(D201,'1_Causas_Levantadas'!C:D,2,0),\"\")","v":0},"","",null,5,null,0,5,17]
[null,null,{"$f":"IFERROR(VLOOKUP(D202,'1_Causas_Levantadas'!C:D,2,0),\"\")","v":0},"","",null,6,null,0,6,17]
[null,null,{"$f":"IFERROR(VLOOKUP(D203,'1_Causas_Levantadas'!C:D,2,0),\"\")","v":0},"","",null,7,null,0,7,17]
[null,null,{"$f":"IFERROR(VLOOKUP(D204,'1_Causas_Levantadas'!C:D,2,0),\"\")","v":0},"","",null,8,null,0,8,17]
[null,null,{"$f":"IFERROR(VLOOKUP(D205,'1_Causas_Levantadas'!C:D,2,0),\"\")","v":0},"","",null,9,null,0,9,17]
[null,null,{"$f":"IFERROR(VLOOKUP(D206,'1_Causas_Levantadas'!C:D,2,0),\"\")","v":0},"","",null,10,null,0,10,17]
[null,null,{"$f":"IFERROR(VLOOKUP(D207,'1_Causas_Levantadas'!C:D,2,0),\"\")","v":0},"","",null,11,null,0,11,17]
[null,null,{"$f":"IFERROR(VLOOKUP(D208,'1_Causas_Levantadas'!C:D,2,0),\"\")","v":0},"","",null,12,null,0,12,17]
[null,null,{"$f":"IFERROR(VLOOKUP(D209,'1_Causas_Levantadas'!C:D,2,0),\"\")","v":0},"","",null,1,null,1,1,18]
[null,null,{"$f":"IFERROR(VLOOKUP(D210,'1_Causas_Levantadas'!C:D,2,0),\"\")","v":0},"","",null,2,null,0,2,18]
[null,null,{"$f":"IFERROR(VLOOKUP(D211,'1_Causas_Levantadas'!C:D,2,0),\"\")","v":0},"","",null,3,null,0,3,18]
[null,null,{"$f":"IFERROR(VLOOKUP(D212,'1_Causas_Levantadas'!C:D,2,0),\"\")","v":0},"","",null,4,null,0,4,18]
[null,null,{"$f":"IFERROR(VLOOKUP(D213,'1_Causas_Levantadas'!C:D,2,0),\"\")","v":0},"","",null,5,null,0,5,18]
[null,null,{"$f":"IFERROR(VLOOKUP(D214,'1_Causas_Levantadas'!C:D,2,0),\"\")","v":0},"","",null,6,null,0,6,18]
[null,null,{"$f":"IFERROR(VLOOKUP(D215,'1_Causas_Levantadas'!C:D,2,0),\"\")","v":0},"","",null,7,null,0,7,18]
[null,null,{"$f":"IFERROR(VLOOKUP(D216,'1_Causas_Levantadas'!C:D,2,0),\"\")","v":0},"","",null,8,null,0,8,18]
[null,null,{"$f":"IFERROR(VLOOKUP(D217,'1_Causas_Levantadas'!C:D,2,0),\"\")","v":0},"","",null,9,null,0,9,18]
[null,null,{"$f":"IFERROR(VLOOKUP(D218,'1_Causas_Levantadas'!C:D,2,0),\"\")","v":0},"","",null,10,null,0,10,18]
[null,null,{"$f":"IFERROR(VLOOKUP(D219,'1_Causas_Levantadas'!C:D,2,0),\"\")","v":0},"","",null,11,null,0,11,18]
[null,null,{"$f":"IFERROR(VLOOKUP(D220,'1_Causas_Levantadas'!C:D,2,0),\"\")","v":0},"","",null,12,null,0,12,18]
[null,null,{"$f":"IFERROR(VLOOKUP(D221,'1_Causas_Levantadas'!C:D,2,0),\"\")","v":0},"","",null,1,null,1,1,19]
[null,null,{"$f":"IFERROR(VLOOKUP(D222,'1_Causas_Levantadas'!C:D,2,0),\"\")","v":0},"","",null,2,null,0,2,19]
[null,null,{"$f":"IFERROR(VLOOKUP(D223,'1_Causas_Levantadas'!C:D,2,0),\"\")","v":0},"","",null,3,null,0,3,19]
[null,null,{"$f":"IFERROR(VLOOKUP(D224,'1_Causas_Levantadas'!C:D,2,0),\"\")","v":0},"","",null,4,null,0,4,19]
[null,null,{"$f":"IFERROR(VLOOKUP(D225,'1_Causas_Levantadas'!C:D,2,0),\"\")","v":0},"","",null,5,null,0,5,19]
[null,null,{"$f":"IFERROR(VLOOKUP(D226,'1_Causas_Levantadas'!C:D,2,0),\"\")","v":0},"","",null,6,null,0,6,19]
[null,null,{"$f":"IFERROR(VLOOKUP(D227,'1_Causas_Levantadas'!C:D,2,0),\"\")","v":0},"","",null,7,null,0,7,19]
[null,null,{"$f":"IFERROR(VLOOKUP(D228,'1_Causas_Levantadas'!C:D,2,0),\"\")","v":0},"","",null,8,null,0,8,19]
[null,null,{"$f":"IFERROR(VLOOKUP(D229,'1_Causas_Levantadas'!C:D,2,0),\"\")","v":0},"","",null,9,null,0,9,19]
[null,null,{"$f":"IFERROR(VLOOKUP(D230,'1_Causas_Levantadas'!C:D,2,0),\"\")","v":0},"","",null,10,null,0,10,19]
[null,null,{"$f":"IFERROR(VLOOKUP(D231,'1_Causas_Levantadas'!C:D,2,0),\"\")","v":0},"","",null,11,null,0,11,19]
[null,null,{"$f":"IFERROR(VLOOKUP(D232,'1_Causas_Levantadas'!C:D,2,0),\"\")","v":0},"","",null,12,null,0,12,19]
[null,null,{"$f":"IFERROR(VLOOKUP(D233,'1_Causas_Levantadas'!C:D,2,0),\"\")","v":0},"","",null,1,null,1,1,20]
[null,null,{"$f":"IFERROR(VLOOKUP(D234,'1_Causas_Levantadas'!C:D,2,0),\"\")","v":0},"","",null,2,null,0,2,20]
[null,null,{"$f":"IFERROR(VLOOKUP(D235,'1_Causas_Levantadas'!C:D,2,0),\"\")","v":0},"","",null,3,null,0,3,20]
[null,null,{"$f":"IFERROR(VLOOKUP(D236,'1_Causas_Levantadas'!C:D,2,0),\"\")","v":0},"","",null,4,null,0,4,20]
[null,null,{"$f":"IFERROR(VLOOKUP(D237,'1_Causas_Levantadas'!C:D,2,0),\"\")","v":0},"","",null,5,null,0,5,20]
[null,null,{"$f":"IFERROR(VLOOKUP(D238,'1_Causas_Levantadas'!C:D,2,0),\"\")","v":0},"","",null,6,null,0,6,20]
[null,null,{"$f":"IFERROR(VLOOKUP(D239,'1_Causas_Levantadas'!C:D,2,0),\"\")","v":0},"","",null,7,null,0,7,20]
[null,null,{"$f":"IFERROR(VLOOKUP(D240,'1_Causas_Levantadas'!C:D,2,0),\"\")","v":0},"","",null,8,null,0,8,20]
[null,null,{"$f":"IFERROR(VLOOKUP(D241,'1_Causas_Levantadas'!C:D,2,0),\"\")","v":0},"","",null,9,null,0,9,20]
[null,null,{"$f":"IFERROR(VLOOKUP(D242,'1_Causas_Levantadas'!C:D,2,0),\"\")","v":0},"","",null,10,null,0,10,20]
[null,null,{"$f":"IFERROR(VLOOKUP(D243,'1_Causas_Levantadas'!C:D,2,0),\"\")","v":0},"","",null,11,null,0,11,20]
[null,null,{"$f":"IFERROR(VLOOKUP(D244,'1_Causas_Levantadas'!C:D,2,0),\"\")","v":0},"","",null,12,null,0,12,20]
[null,null,{"$f":"IFERROR(VLOOKUP(D245,'1_Causas_Levantadas'!C:D,2,0),\"\")","v":0},"","",null,1,null,1,1,21]
[null,null,{"$f":"IFERROR(VLOOKUP(D246,'1_Causas_Levantadas'!C:D,2,0),\"\")","v":0},"","",null,2,null,0,2,21]
[null,null,{"$f":"IFERROR(VLOOKUP(D247,'1_Causas_Levantadas'!C:D,2,0),\"\")","v":0},"","",null,3,null,0,3,21]
[null,null,{"$f":"IFERROR(VLOOKUP(D248,'1_Causas_Levantadas'!C:D,2,0),\"\")","v":0},"","",null,4,null,0,4,21]
[null,null,{"$f":"IFERROR(VLOOKUP(D249,'1_Causas_Levantadas'!C:D,2,0),\"\")","v":0},"","",null,5,null,0,5,21]
[null,null,{"$f":"IFERROR(VLOOKUP(D250,'1_Causas_Levantadas'!C:D,2,0),\"\")","v":0},"","",null,6,null,0,6,21]
[null,null,{"$f":"IFERROR(VLOOKUP(D251,'1_Causas_Levantadas'!C:D,2,0),\"\")","v":0},"","",null,7,null,0,7,21]
[null,null,{"$f":"IFERROR(VLOOKUP(D252,'1_Causas_Levantadas'!C:D,2,0),\"\")","v":0},"","",null,8,null,0,8,21]
[null,null,{"$f":"IFERROR(VLOOKUP(D253,'1_Causas_Levantadas'!C:D,2,0),\"\")","v":0},"","",null,9,null,0,9,21]
[null,null,{"$f":"IFERROR(VLOOKUP(D254,'1_Causas_Levantadas'!C:D,2,0),\"\")","v":0},"","",null,10,null,0,10,21]
[null,null,{"$f":"IFERROR(VLOOKUP(D255,'1_Causas_Levantadas'!C:D,2,0),\"\")","v":0},"","",null,11,null,0,11,21]
[null,null,{"$f":"IFERROR(VLOOKUP(D256,'1_Causas_Levantadas'!C:D,2,0),\"\")","v":0},"","",null,12,null,0,12,21]
[null,null,{"$f":"IFERROR(VLOOKUP(D257,'1_Causas_Levantadas'!C:D,2,0),\"\")","v":0},"","",null,1,null,1,1,22]
[null,null,{"$f":"IFERROR(VLOOKUP(D258,'1_Causas_Levantadas'!C:D,2,0),\"\")","v":0},"","",null,2,null,0,2,22]
[null,null,{"$f":"IFERROR(VLOOKUP(D259,'1_Causas_Levantadas'!C:D,2,0),\"\")","v":0},"","",null,3,null,0,3,22]
[null,null,{"$f":"IFERROR(VLOOKUP(D260,'1_Causas_Levantadas'!C:D,2,0),\"\")","v":0},"","",null,4,null,0,4,22]
[null,null,{"$f":"IFERROR(VLOOKUP(D261,'1_Causas_Levantadas'!C:D,2,0),\"\")","v":0},"","",null,5,null,0,5,22]
[null,null,{"$f":"IFERROR(VLOOKUP(D262,'1_Causas_Levantadas'!C:D,2,0),\"\")","v":0},{"$f":"IF(K262<=$H$4,(IF(G261>0,G262,$G$5)),\"\")","v":""},{"$f":"IF(D262<>\"\",\"Participante \"&K262,\"\")","v":""},null,{"$f":"J262","v":6},null,{"$f":"IF(G262=$G$5,1,0)","v":0},6,{"$f":"I262+K261","v":22}]
[null,null,{"$f":"IFERROR(VLOOKUP(D263,'1_Causas_Levantadas'!C:D,2,0),\"\")","v":0},"","",null,7,null,0,{"$f":"IF(G262<$G$4,J262+1,1)","v":7},22]
[null,null,{"$f":"IFERROR(VLOOKUP(D264,'1_Causas_Levantadas'!C:D,2,0),\"\")","v":0},"","",null,8,null,0,8,22]
[null,null,{"$f":"IFERROR(VLOOKUP(D265,'1_Causas_Levantadas'!C:D,2,0),\"\")","v":0},"","",null,9,null,0,9,22]
[null,null,{"$f":"IFERROR(VLOOKUP(D266,'1_Causas_Levantadas'!C:D,2,0),\"\")","v":0},"","",null,10,null,0,10,22]
[null,null,{"$f":"IFERROR(VLOOKUP(D267,'1_Causas_Levantadas'!C:D,2,0),\"\")","v":0},"","",null,11,null,0,11,22]
[null,null,{"$f":"IFERROR(VLOOKUP(D268,'1_Causas_Levantadas'!C:D,2,0),\"\")","v":0},"","",null,12,null,0,12,22]
[null,null,{"$f":"IFERROR(VLOOKUP(D269,'1_Causas_Levantadas'!C:D,2,0),\"\")","v":0},"","",null,1,null,1,1,23]
[null,null,{"$f":"IFERROR(VLOOKUP(D270,'1_Causas_Levantadas'!C:D,2,0),\"\")","v":0},"","",null,2,null,0,2,23]
[null,null,{"$f":"IFERROR(VLOOKUP(D271,'1_Causas_Levantadas'!C:D,2,0),\"\")","v":0},"","",null,3,null,0,3,23]
[null,null,{"$f":"IFERROR(VLOOKUP(D272,'1_Causas_Levantadas'!C:D,2,0),\"\")","v":0},"","",null,4,null,0,4,23]
[null,null,{"$f":"IFERROR(VLOOKUP(D273,'1_Causas_Levantadas'!C:D,2,0),\"\")","v":0},"","",null,5,null,0,5,23]
[null,null,{"$f":"IFERROR(VLOOKUP(D274,'1_Causas_Levantadas'!C:D,2,0),\"\")","v":0},"","",null,6,null,0,6,23]
[null,null,{"$f":"IFERROR(VLOOKUP(D275,'1_Causas_Levantadas'!C:D,2,0),\"\")","v":0},"","",null,7,null,0,7,23]
[null,null,{"$f":"IFERROR(VLOOKUP(D276,'1_Causas_Levantadas'!C:D,2,0),\"\")","v":0},"","",null,8,null,0,8,23]
[null,null,{"$f":"IFERROR(VLOOKUP(D277,'1_Causas_Levantadas'!C:D,2,0),\"\")","v":0},"","",null,9,null,0,9,23]
[null,null,{"$f":"IFERROR(VLOOKUP(D278,'1_Causas_Levantadas'!C:D,2,0),\"\")","v":0},"","",null,10,null,0,10,23]
[null,null,{"$f":"IFERROR(VLOOKUP(D279,'1_Causas_Levantadas'!C:D,2,0),\"\")","v":0},"","",null,11,null,0,11,23]
[null,null,{"$f":"IFERROR(VLOOKUP(D280,'1_Causas_Levantadas'!C:D,2,0),\"\")","v":0},"","",null,12,null,0,12,23]
[null,null,{"$f":"IFERROR(VLOOKUP(D281,'1_Causas_Levantadas'!C:D,2,0),\"\")","v":0},"","",null,1,null,1,1,24]
[null,null,{"$f":"IFERROR(VLOOKUP(D282,'1_Causas_Levantadas'!C:D,2,0),\"\")","v":0},"","",null,2,null,0,2,24]
[null,null,{"$f":"IFERROR(VLOOKUP(D283,'1_Causas_Levantadas'!C:D,2,0),\"\")","v":0},"","",null,3,null,0,3,24]
[null,null,{"$f":"IFERROR(VLOOKUP(D284,'1_Causas_Levantadas'!C:D,2,0),\"\")","v":0},"","",null,4,null,0,4,24]
[null,null,{"$f":"IFERROR(VLOOKUP(D285,'1_Causas_Levantadas'!C:D,2,0),\"\")","v":0},"","",null,5,null,0,5,24]
[null,null,{"$f":"IFERROR(VLOOKUP(D286,'1_Causas_Levantadas'!C:D,2,0),\"\")","v":0},"","",null,6,null,0,6,24]
[null,null,{"$f":"IFERROR(VLOOKUP(D287,'1_Causas_Levantadas'!C:D,2,0),\"\")","v":0},"","",null,7,null,0,7,24]
[null,null,{"$f":"IFERROR(VLOOKUP(D288,'1_Causas_Levantadas'!C:D,2,0),\"\")","v":0},"","",null,8,null,0,8,24]
[null,null,{"$f":"IFERROR(VLOOKUP(D289,'1_Causas_Levantadas'!C:D,2,0),\"\")","v":0},"","",null,9,null,0,9,24]
[null,null,{"$f":"IFERROR(VLOOKUP(D290,'1_Causas_Levantadas'!C:D,2,0),\"\")","v":0},"","",null,10,null,0,10,24]
[null,null,{"$f":"IFERROR(VLOOKUP(D291,'1_Causas_Levantadas'!C:D,2,0),\"\")","v":0},"","",null,11,null,0,11,24]
[null,null,{"$f":"IFERROR(VLOOKUP(D292,'1_Causas_Levantadas'!C:D,2,0),\"\")","v":0},"","",null,12,null,0,12,24]
[null,null,{"$f":"IFERROR(VLOOKUP(D293,'1_Causas_Levantadas'!C:D,2,0),\"\")","v":0},"","",null,1,null,1,1,25]
[null,null,{"$f":"IFERROR(VLOOKUP(D294,'1_Causas_Levantadas'!C:D,2,0),\"\")","v":0},"","",null,2,null,0,2,25]
[null,null,{"$f":"IFERROR(VLOOKUP(D295,'1_Causas_Levantadas'!C:D,2,0),\"\")","v":0},"","",null,3,null,0,3,25]
[null,null,{"$f":"IFERROR(VLOOKUP(D296,'1_Causas_Levantadas'!C:D,2,0),\"\")","v":0},"","",null,4,null,0,4,25]
[null,null,{"$f":"IFERROR(VLOOKUP(D297,'1_Causas_Levantadas'!C:D,2,0),\"\")","v":0},"","",null,5,null,0,5,25]
[null,null,{"$f":"IFERROR(VLOOKUP(D298,'1_Causas_Levantadas'!C:D,2,0),\"\")","v":0},"","",null,6,null,0,6,25]
[null,null,{"$f":"IFERROR(VLOOKUP(D299,'1_Causas_Levantadas'!C:D,2,0),\"\")","v":0},"","",null,7,null,0,7,25]
[null,null,{"$f":"IFERROR(VLOOKUP(D300,'1_Causas_Levantadas'!C:D,2,0),\"\")","v":0},"","",null,8,null,0,8,25]
[null,null,{"$f":"IFERROR(VLOOKUP(D301,'1_Causas_Levantadas'!C:D,2,0),\"\")","v":0},"","",null,9,null,0,9,25]
[null,null,{"$f":"IFERROR(VLOOKUP(D302,'1_Causas_Levantadas'!C:D,2,0),\"\")","v":0},"","",null,10,null,0,10,25]
[null,null,{"$f":"IFERROR(VLOOKUP(D303,'1_Causas_Levantadas'!C:D,2,0),\"\")","v":0},"","",null,11,null,0,11,25]
[null,null,{"$f":"IFERROR(VLOOKUP(D304,'1_Causas_Levantadas'!C:D,2,0),\"\")","v":0},"","",null,12,null,0,12,25]
[null,null,{"$f":"IFERROR(VLOOKUP(D305,'1_Causas_Levantadas'!C:D,2,0),\"\")","v":0},"","",null,1,null,1,1,26]
[null,null,{"$f":"IFERROR(VLOOKUP(D306,'1_Causas_Levantadas'!C:D,2,0),\"\")","v":0},"","",null,2,null,0,2,26]
[null,null,{"$f":"IFERROR(VLOOKUP(D307,'1_Causas_Levantadas'!C:D,2,0),\"\")","v":0},"","",null,3,null,0,3,26]
[null,null,{"$f":"IFERROR(VLOOKUP(D308,'1_Causas_Levantadas'!C:D,2,0),\"\")","v":0},"","",null,4,null,0,4,26]
[null,null,{"$f":"IFERROR(VLOOKUP(D309,'1_Causas_Levantadas'!C:D,2,0),\"\")","v":0},"","",null,5,null,0,5,26]
[null,null,{"$f":"IFERROR(VLOOKUP(D310,'1_Causas_Levantadas'!C:D,2,0),\"\")","v":0},"","",null,6,null,0,6,26]
[null,null,{"$f":"IFERROR(VLOOKUP(D311,'1_Causas_Levantadas'!C:D,2,0),\"\")","v":0},"","",null,7,null,0,7,26]
[null,null,{"$f":"IFERROR(VLOOKUP(D312,'1_Causas_Levantadas'!C:D,2,0),\"\")","v":0},"","",null,8,null,0,8,26]
[null,null,{"$f":"IFERROR(VLOOKUP(D313,'1_Causas_Levantadas'!C:D,2,0),\"\")","v":0},"","",null,9,null,0,9,26]
[null,null,{"$f":"IFERROR(VLOOKUP(D314,'1_Causas_Levantadas'!C:D,2,0),\"\")","v":0},"","",null,10,null,0,10,26]
[null,null,{"$f":"IFERROR(VLOOKUP(D315,'1_Causas_Levantadas'!C:D,2,0),\"\")","v":0},"","",null,11,null,0,11,26]
[null,null,{"$f":"IFERROR(VLOOKUP(D316,'1_Causas_Levantadas'!C:D,2,0),\"\")","v":0},"","",null,12,null,0,12,26]
[null,null,{"$f":"IFERROR(VLOOKUP(D317,'1_Causas_Levantadas'!C:D,2,0),\"\")","v":0},"","",null,1,null,1,1,27]
[null,null,{"$f":"IFERROR(VLOOKUP(D318,'1_Causas_Levantadas'!C:D,2,0),\"\")","v":0},"","",null,2,null,0,2,27]
[null,null,{"$f":"IFERROR(VLOOKUP(D319,'1_Causas_Levantadas'!C:D,2,0),\"\")","v":0},"","",null,3,null,0,3,27]
[null,null,{"$f":"IFERROR(VLOOKUP(D320,'1_Causas_Levantadas'!C:D,2,0),\"\")","v":0},"","",null,4,null,0,4,27]
[null,null,{"$f":"IFERROR(VLOOKUP(D321,'1_Causas_Levantadas'!C:D,2,0),\"\")","v":0},"","",null,5,null,0,5,27]
[null,null,{"$f":"IFERROR(VLOOKUP(D322,'1_Causas_Levantadas'!C:D,2,0),\"\")","v":0},"","",null,6,null,0,6,27]
[null,null,{"$f":"IFERROR(VLOOKUP(D323,'1_Causas_Levantadas'!C:D,2,0),\"\")","v":0},"","",null,7,null,0,7,27]
[null,null,{"$f":"IFERROR(VLOOKUP(D324,'1_Causas_Levantadas'!C:D,2,0),\"\")","v":0},"","",null,8,null,0,8,27]
[null,null,{"$f":"IFERROR(VLOOKUP(D325,'1_Causas_Levantadas'!C:D,2,0),\"\")","v":0},"","",null,9,null,0,9,27]
[null,null,{"$f":"IFERROR(VLOOKUP(D326,'1_Causas_Levantadas'!C:D,2,0),\"\")","v":0},{"$f":"IF(K326<=$H$4,(IF(G325>0,G326,$G$5)),\"\")","v":""},{"$f":"IF(D326<>\"\",\"Participante \"&K326,\"\")","v":""},null,{"$f":"J326","v":10},null,{"$f":"IF(G326=$G$5,1,0)","v":0},10,{"$f":"I326+K325","v":27}]
[null,null,{"$f":"IFERROR(VLOOKUP(D327,'1_Causas_Levantadas'!C:D,2,0),\"\")","v":0},"","",null,11,null,0,{"$f":"IF(G326<$G$4,J326+1,1)","v":11},27]
[null,null,{"$f":"IFERROR(VLOOKUP(D328,'1_Causas_Levantadas'!C:D,2,0),\"\")","v":0},"","",null,12,null,0,12,27]
[null,null,{"$f":"IFERROR(VLOOKUP(D329,'1_Causas_Levantadas'!C:D,2,0),\"\")","v":0},"","",null,1,null,1,1,28]
[null,null,{"$f":"IFERROR(VLOOKUP(D330,'1_Causas_Levantadas'!C:D,2,0),\"\")","v":0},"","",null,2,null,0,2,28]
[null,null,{"$f":"IFERROR(VLOOKUP(D331,'1_Causas_Levantadas'!C:D,2,0),\"\")","v":0},"","",null,3,null,0,3,28]
[null,null,{"$f":"IFERROR(VLOOKUP(D332,'1_Causas_Levantadas'!C:D,2,0),\"\")","v":0},"","",null,4,null,0,4,28]
[null,null,{"$f":"IFERROR(VLOOKUP(D333,'1_Causas_Levantadas'!C:D,2,0),\"\")","v":0},"","",null,5,null,0,5,28]
[null,null,{"$f":"IFERROR(VLOOKUP(D334,'1_Causas_Levantadas'!C:D,2,0),\"\")","v":0},"","",null,6,null,0,6,28]
[null,null,{"$f":"IFERROR(VLOOKUP(D335,'1_Causas_Levantadas'!C:D,2,0),\"\")","v":0},"","",null,7,null,0,7,28]
[null,null,{"$f":"IFERROR(VLOOKUP(D336,'1_Causas_Levantadas'!C:D,2,0),\"\")","v":0},"","",null,8,null,0,8,28]
[null,null,{"$f":"IFERROR(VLOOKUP(D337,'1_Causas_Levantadas'!C:D,2,0),\"\")","v":0},"","",null,9,null,0,9,28]
[null,null,{"$f":"IFERROR(VLOOKUP(D338,'1_Causas_Levantadas'!C:D,2,0),\"\")","v":0},"","",null,10,null,0,10,28]
[null,null,{"$f":"IFERROR(VLOOKUP(D339,'1_Causas_Levantadas'!C:D,2,0),\"\")","v":0},"","",null,11,null,0,11,28]
[null,null,{"$f":"IFERROR(VLOOKUP(D340,'1_Causas_Levantadas'!C:D,2,0),\"\")","v":0},"","",null,12,null,0,12,28]
[null,null,{"$f":"IFERROR(VLOOKUP(D341,'1_Causas_Levantadas'!C:D,2,0),\"\")","v":0},"","",null,1,null,1,1,29]
[null,null,{"$f":"IFERROR(VLOOKUP(D342,'1_Causas_Levantadas'!C:D,2,0),\"\")","v":0},"","",null,2,null,0,2,29]
[null,null,{"$f":"IFERROR(VLOOKUP(D343,'1_Causas_Levantadas'!C:D,2,0),\"\")","v":0},"","",null,3,null,0,3,29]
[null,null,{"$f":"IFERROR(VLOOKUP(D344,'1_Causas_Levantadas'!C:D,2,0),\"\")","v":0},"","",null,4,null,0,4,29]
[null,null,{"$f":"IFERROR(VLOOKUP(D345,'1_Causas_Levantadas'!C:D,2,0),\"\")","v":0},"","",null,5,null,0,5,29]
[null,null,{"$f":"IFERROR(VLOOKUP(D346,'1_Causas_Levantadas'!C:D,2,0),\"\")","v":0},"","",null,6,null,0,6,29]
[null,null,{"$f":"IFERROR(VLOOKUP(D347,'1_Causas_Levantadas'!C:D,2,0),\"\")","v":0},"","",null,7,null,0,7,29]
[null,null,{"$f":"IFERROR(VLOOKUP(D348,'1_Causas_Levantadas'!C:D,2,0),\"\")","v":0},"","",null,8,null,0,8,29]
[null,null,{"$f":"IFERROR(VLOOKUP(D349,'1_Causas_Levantadas'!C:D,2,0),\"\")","v":0},"","",null,9,null,0,9,29]
[null,null,{"$f":"IFERROR(VLOOKUP(D350,'1_Causas_Levantadas'!C:D,2,0),\"\")","v":0},"","",null,10,null,0,10,29]
[null,null,{"$f":"IFERROR(VLOOKUP(D351,'1_Causas_Levantadas'!C:D,2,0),\"\")","v":0},"","",null,11,null,0,11,29]
[null,null,{"$f":"IFERROR(VLOOKUP(D352,'1_Causas_Levantadas'!C:D,2,0),\"\")","v":0},"","",null,12,null,0,12,29]
[null,null,{"$f":"IFERROR(VLOOKUP(D353,'1_Causas_Levantadas'!C:D,2,0),\"\")","v":0},"","",null,1,null,1,1,30]
[null,null,{"$f":"IFERROR(VLOOKUP(D354,'1_Causas_Levantadas'!C:D,2,0),\"\")","v":0},"","",null,2,null,0,2,30]
[null,null,{"$f":"IFERROR(VLOOKUP(D355,'1_Causas_Levantadas'!C:D,2,0),\"\")","v":0},"","",null,3,null,0,3,30]
[null,null,{"$f":"IFERROR(VLOOKUP(D356,'1_Causas_Levantadas'!C:D,2,0),\"\")","v":0},"","",null,4,null,0,4,30]
[null,null,{"$f":"IFERROR(VLOOKUP(D357,'1_Causas_Levantadas'!C:D,2,0),\"\")","v":0},"","",null,5,null,0,5,30]
[null,null,{"$f":"IFERROR(VLOOKUP(D358,'1_Causas_Levantadas'!C:D,2,0),\"\")","v":0},"","",null,6,null,0,6,30]
[null,null,{"$f":"IFERROR(VLOOKUP(D359,'1_Causas_Levantadas'!C:D,2,0),\"\")","v":0},"","",null,7,null,0,7,30]
[null,null,{"$f":"IFERROR(VLOOKUP(D360,'1_Causas_Levantadas'!C:D,2,0),\"\")","v":0},"","",null,8,null,0,8,30]
[null,null,{"$f":"IFERROR(VLOOKUP(D361,'1_Causas_Levantadas'!C:D,2,0),\"\")","v":0},"","",null,9,null,0,9,30]
[null,null,{"$f":"IFERROR(VLOOKUP(D362,'1_Causas_Levantadas'!C:D,2,0),\"\")","v":0},"","",null,10,null,0,10,30]
[null,null,{"$f":"IFERROR(VLOOKUP(D363,'1_Causas_Levantadas'!C:D,2,0),\"\")","v":0},"","",null,11,null,0,11,30]
[null,null,{"$f":"IFERROR(VLOOKUP(D364,'1_Causas_Levantadas'!C:D,2,0),\"\")","v":0},"","",null,12,null,0,12,30]
[null,null,{"$f":"IFERROR(VLOOKUP(D365,'1_Causas_Levantadas'!C:D,2,0),\"\")","v":0},"","",null,1,null,1,1,31]
[null,null,{"$f":"IFERROR(VLOOKUP(D366,'1_Causas_Levantadas'!C:D,2,0),\"\")","v":0},"","",null,2,null,0,2,31]
[null,null,{"$f":"IFERROR(VLOOKUP(D367,'1_Causas_Levantadas'!C:D,2,0),\"\")","v":0},"","",null,3,null,0,3,31]
[null,null,{"$f":"IFERROR(VLOOKUP(D368,'1_Causas_Levantadas'!C:D,2,0),\"\")","v":0},"","",null,4,null,0,4,31]
[null,null,{"$f":"IFERROR(VLOOKUP(D369,'1_Causas_Levantadas'!C:D,2,0),\"\")","v":0},"","",null,5,null,0,5,31]
[null,null,{"$f":"IFERROR(VLOOKUP(D370,'1_Causas_Levantadas'!C:D,2,0),\"\")","v":0},"","",null,6,null,0,6,31]
[null,null,{"$f":"IFERROR(VLOOKUP(D371,'1_Causas_Levantadas'!C:D,2,0),\"\")","v":0},"","",null,7,null,0,7,31]
[null,null,{"$f":"IFERROR(VLOOKUP(D372,'1_Causas_Levantadas'!C:D,2,0),\"\")","v":0},"","",null,8,null,0,8,31]
[null,null,{"$f":"IFERROR(VLOOKUP(D373,'1_Causas_Levantadas'!C:D,2,0),\"\")","v":0},"","",null,9,null,0,9,31]
[null,null,{"$f":"IFERROR(VLOOKUP(D374,'1_Causas_Levantadas'!C:D,2,0),\"\")","v":0},"","",null,10,null,0,10,31]
[null,null,{"$f":"IFERROR(VLOOKUP(D375,'1_Causas_Levantadas'!C:D,2,0),\"\")","v":0},"","",null,11,null,0,11,31]
[null,null,{"$f":"IFERROR(VLOOKUP(D376,'1_Causas_Levantadas'!C:D,2,0),\"\")","v":0},"","",null,12,null,0,12,31]
[null,null,{"$f":"IFERROR(VLOOKUP(D377,'1_Causas_Levantadas'!C:D,2,0),\"\")","v":0},"","",null,1,null,1,1,32]
[null,null,{"$f":"IFERROR(VLOOKUP(D378,'1_Causas_Levantadas'!C:D,2,0),\"\")","v":0},"","",null,2,null,0,2,32]
[null,null,{"$f":"IFERROR(VLOOKUP(D379,'1_Causas_Levantadas'!C:D,2,0),\"\")","v":0},"","",null,3,null,0,3,32]
[null,null,{"$f":"IFERROR(VLOOKUP(D380,'1_Causas_Levantadas'!C:D,2,0),\"\")","v":0},"","",null,4,null,0,4,32]
[null,null,{"$f":"IFERROR(VLOOKUP(D381,'1_Causas_Levantadas'!C:D,2,0),\"\")","v":0},"","",null,5,null,0,5,32]
[null,null,{"$f":"IFERROR(VLOOKUP(D382,'1_Causas_Levantadas'!C:D,2,0),\"\")","v":0},"","",null,6,null,0,6,32]
[null,null,{"$f":"IFERROR(VLOOKUP(D383,'1_Causas_Levantadas'!C:D,2,0),\"\")","v":0},"","",null,7,null,0,7,32]
[null,null,{"$f":"IFERROR(VLOOKUP(D384,'1_Causas_Levantadas'!C:D,2,0),\"\")","v":0},"","",null,8,null,0,8,32]
[null,null,{"$f":"IFERROR(VLOOKUP(D385,'1_Causas_Levantadas'!C:D,2,0),\"\")","v":0},"","",null,9,null,0,9,32]
[null,null,{"$f":"IFERROR(VLOOKUP(D386,'1_Causas_Levantadas'!C:D,2,0),\"\")","v":0},"","",null,10,null,0,10,32]
[null,null,{"$f":"IFERROR(VLOOKUP(D387,'1_Causas_Levantadas'!C:D,2,0),\"\")","v":0},"","",null,11,null,0,11,32]
[null,null,{"$f":"IFERROR(VLOOKUP(D388,'1_Causas_Levantadas'!C:D,2,0),\"\")","v":0},"","",null,12,null,0,12,32]
[null,null,{"$f":"IFERROR(VLOOKUP(D389,'1_Causas_Levantadas'!C:D,2,0),\"\")","v":0},"","",null,1,null,1,1,33]
[null,null,{"$f":"IFERROR(VLOOKUP(D390,'1_Causas_Levantadas'!C:D,2,0),\"\")","v":0},{"$f":"IF(K390<=$H$4,(IF(G389>0,G390,$G$5)),\"\")","v":""},{"$f":"IF(D390<>\"\",\"Participante \"&K390,\"\")","v":""},null,{"$f":"J390","v":2},null,{"$f":"IF(G390=$G$5,1,0)","v":0},2,{"$f":"I390+K389","v":33}]
[null,null,{"$f":"IFERROR(VLOOKUP(D391,'1_Causas_Levantadas'!C:D,2,0),\"\")","v":0},"","",null,3,null,0,{"$f":"IF(G390<$G$4,J390+1,1)","v":3},33]
[null,null,{"$f":"IFERROR(VLOOKUP(D392,'1_Causas_Levantadas'!C:D,2,0),\"\")","v":0},"","",null,4,null,0,4,33]
[null,null,{"$f":"IFERROR(VLOOKUP(D393,'1_Causas_Levantadas'!C:D,2,0),\"\")","v":0},"","",null,5,null,0,5,33]
[null,null,{"$f":"IFERROR(VLOOKUP(D394,'1_Causas_Levantadas'!C:D,2,0),\"\")","v":0},"","",null,6,null,0,6,33]
[null,null,{"$f":"IFERROR(VLOOKUP(D395,'1_Causas_Levantadas'!C:D,2,0),\"\")","v":0},"","",null,7,null,0,7,33]
[null,null,{"$f":"IFERROR(VLOOKUP(D396,'1_Causas_Levantadas'!C:D,2,0),\"\")","v":0},"","",null,8,null,0,8,33]
[null,null,{"$f":"IFERROR(VLOOKUP(D397,'1_Causas_Levantadas'!C:D,2,0),\"\")","v":0},"","",null,9,null,0,9,33]
[null,null,{"$f":"IFERROR(VLOOKUP(D398,'1_Causas_Levantadas'!C:D,2,0),\"\")","v":0},"","",null,10,null,0,10,33]
[null,null,{"$f":"IFERROR(VLOOKUP(D399,'1_Causas_Levantadas'!C:D,2,0),\"\")","v":0},"","",null,11,null,0,11,33]
[null,null,{"$f":"IFERROR(VLOOKUP(D400,'1_Causas_Levantadas'!C:D,2,0),\"\")","v":0},"","",null,12,null,0,12,33]
[null,null,{"$f":"IFERROR(VLOOKUP(D401,'1_Causas_Levantadas'!C:D,2,0),\"\")","v":0},"","",null,1,null,1,1,34]
[null,null,{"$f":"IFERROR(VLOOKUP(D402,'1_Causas_Levantadas'!C:D,2,0),\"\")","v":0},"","",null,2,null,0,2,34]
[null,null,{"$f":"IFERROR(VLOOKUP(D403,'1_Causas_Levantadas'!C:D,2,0),\"\")","v":0},"","",null,3,null,0,3,34]
[null,null,{"$f":"IFERROR(VLOOKUP(D404,'1_Causas_Levantadas'!C:D,2,0),\"\")","v":0},"","",null,4,null,0,4,34]
[null,null,{"$f":"IFERROR(VLOOKUP(D405,'1_Causas_Levantadas'!C:D,2,0),\"\")","v":0},"","",null,5,null,0,5,34]
[null,null,{"$f":"IFERROR(VLOOKUP(D406,'1_Causas_Levantadas'!C:D,2,0),\"\")","v":0},"","",null,6,null,0,6,34]
[null,null,{"$f":"IFERROR(VLOOKUP(D407,'1_Causas_Levantadas'!C:D,2,0),\"\")","v":0},"","",null,7,null,0,7,34]
[null,null,{"$f":"IFERROR(VLOOKUP(D408,'1_Causas_Levantadas'!C:D,2,0),\"\")","v":0},"","",null,8,null,0,8,34]
[null,null,{"$f":"IFERROR(VLOOKUP(D409,'1_Causas_Levantadas'!C:D,2,0),\"\")","v":0},"","",null,9,null,0,9,34]
[null,null,{"$f":"IFERROR(VLOOKUP(D410,'1_Causas_Levantadas'!C:D,2,0),\"\")","v":0},"","",null,10,null,0,10,34]
[null,null,{"$f":"IFERROR(VLOOKUP(D411,'1_Causas_Levantadas'!C:D,2,0),\"\")","v":0},"","",null,11,null,0,11,34]
[null,null,{"$f":"IFERROR(VLOOKUP(D412,'1_Causas_Levantadas'!C:D,2,0),\"\")","v":0},"","",null,12,null,0,12,34]
[null,null,{"$f":"IFERROR(VLOOKUP(D413,'1_Causas_Levantadas'!C:D,2,0),\"\")","v":0},"","",null,1,null,1,1,35]
[null,null,{"$f":"IFERROR(VLOOKUP(D414,'1_Causas_Levantadas'!C:D,2,0),\"\")","v":0},"","",null,2,null,0,2,35]
[null,null,{"$f":"IFERROR(VLOOKUP(D415,'1_Causas_Levantadas'!C:D,2,0),\"\")","v":0},"","",null,3,null,0,3,35]
[null,null,{"$f":"IFERROR(VLOOKUP(D416,'1_Causas_Levantadas'!C:D,2,0),\"\")","v":0},"","",null,4,null,0,4,35]
[null,null,{"$f":"IFERROR(VLOOKUP(D417,'1_Causas_Levantadas'!C:D,2,0),\"\")","v":0},"","",null,5,null,0,5,35]
[null,null,{"$f":"IFERROR(VLOOKUP(D418,'1_Causas_Levantadas'!C:D,2,0),\"\")","v":0},"","",null,6,null,0,6,35]
[null,null,{"$f":"IFERROR(VLOOKUP(D419,'1_Causas_Levantadas'!C:D,2,0),\"\")","v":0},"","",null,7,null,0,7,35]
[null,null,{"$f":"IFERROR(VLOOKUP(D420,'1_Causas_Levantadas'!C:D,2,0),\"\")","v":0},"","",null,8,null,0,8,35]
[null,null,{"$f":"IFERROR(VLOOKUP(D421,'1_Causas_Levantadas'!C:D,2,0),\"\")","v":0},"","",null,9,null,0,9,35]
[null,null,{"$f":"IFERROR(VLOOKUP(D422,'1_Causas_Levantadas'!C:D,2,0),\"\")","v":0},"","",null,10,null,0,10,35]
[null,null,{"$f":"IFERROR(VLOOKUP(D423,'1_Causas_Levantadas'!C:D,2,0),\"\")","v":0},"","",null,11,null,0,11,35]
[null,null,{"$f":"IFERROR(VLOOKUP(D424,'1_Causas_Levantadas'!C:D,2,0),\"\")","v":0},"","",null,12,null,0,12,35]
[null,null,{"$f":"IFERROR(VLOOKUP(D425,'1_Causas_Levantadas'!C:D,2,0),\"\")","v":0},"","",null,1,null,1,1,36]
[null,null,{"$f":"IFERROR(VLOOKUP(D426,'1_Causas_Levantadas'!C:D,2,0),\"\")","v":0},"","",null,2,null,0,2,36]
[null,null,{"$f":"IFERROR(VLOOKUP(D427,'1_Causas_Levantadas'!C:D,2,0),\"\")","v":0},"","",null,3,null,0,3,36]
[null,null,{"$f":"IFERROR(VLOOKUP(D428,'1_Causas_Levantadas'!C:D,2,0),\"\")","v":0},"","",null,4,null,0,4,36]
[null,null,{"$f":"IFERROR(VLOOKUP(D429,'1_Causas_Levantadas'!C:D,2,0),\"\")","v":0},"","",null,5,null,0,5,36]
[null,null,{"$f":"IFERROR(VLOOKUP(D430,'1_Causas_Levantadas'!C:D,2,0),\"\")","v":0},"","",null,6,null,0,6,36]
[null,null,{"$f":"IFERROR(VLOOKUP(D431,'1_Causas_Levantadas'!C:D,2,0),\"\")","v":0},"","",null,7,null,0,7,36]
[null,null,{"$f":"IFERROR(VLOOKUP(D432,'1_Causas_Levantadas'!C:D,2,0),\"\")","v":0},"","",null,8,null,0,8,36]
[null,null,{"$f":"IFERROR(VLOOKUP(D433,'1_Causas_Levantadas'!C:D,2,0),\"\")","v":0},"","",null,9,null,0,9,36]
[null,null,{"$f":"IFERROR(VLOOKUP(D434,'1_Causas_Levantadas'!C:D,2,0),\"\")","v":0},"","",null,10,null,0,10,36]
[null,null,{"$f":"IFERROR(VLOOKUP(D435,'1_Causas_Levantadas'!C:D,2,0),\"\")","v":0},"","",null,11,null,0,11,36]
[null,null,{"$f":"IFERROR(VLOOKUP(D436,'1_Causas_Levantadas'!C:D,2,0),\"\")","v":0},"","",null,12,null,0,12,36]
[null,null,{"$f":"IFERROR(VLOOKUP(D437,'1_Causas_Levantadas'!C:D,2,0),\"\")","v":0},"","",null,1,null,1,1,37]
[null,null,{"$f":"IFERROR(VLOOKUP(D438,'1_Causas_Levantadas'!C:D,2,0),\"\")","v":0},"","",null,2,null,0,2,37]
[null,null,{"$f":"IFERROR(VLOOKUP(D439,'1_Causas_Levantadas'!C:D,2,0),\"\")","v":0},"","",null,3,null,0,3,37]
[null,null,{"$f":"IFERROR(VLOOKUP(D440,'1_Causas_Levantadas'!C:D,2,0),\"\")","v":0},"","",null,4,null,0,4,37]
[null,null,{"$f":"IFERROR(VLOOKUP(D441,'1_Causas_Levantadas'!C:D,2,0),\"\")","v":0},"","",null,5,null,0,5,37]
[null,null,{"$f":"IFERROR(VLOOKUP(D442,'1_Causas_Levantadas'!C:D,2,0),\"\")","v":0},"","",null,6,null,0,6,37]
[null,null,{"$f":"IFERROR(VLOOKUP(D443,'1_Causas_Levantadas'!C:D,2,0),\"\")","v":0},"","",null,7,null,0,7,37]
[null,null,{"$f":"IFERROR(VLOOKUP(D444,'1_Causas_Levantadas'!C:D,2,0),\"\")","v":0},"","",null,8,null,0,8,37]
[null,null,{"$f":"IFERROR(VLOOKUP(D445,'1_Causas_Levantadas'!C:D,2,0),\"\")","v":0},"","",null,9,null,0,9,37]
[null,null,{"$f":"IFERROR(VLOOKUP(D446,'1_Causas_Levantadas'!C:D,2,0),\"\")","v":0},"","",null,10,null,0,10,37]
[null,null,{"$f":"IFERROR(VLOOKUP(D447,'1_Causas_Levantadas'!C:D,2,0),\"\")","v":0},"","",null,11,null,0,11,37]
[null,null,{"$f":"IFERROR(VLOOKUP(D448,'1_Causas_Levantadas'!C:D,2,0),\"\")","v":0},"","",null,12,null,0,12,37]
[null,null,{"$f":"IFERROR(VLOOKUP(D449,'1_Causas_Levantadas'!C:D,2,0),\"\")","v":0},"","",null,1,null,1,1,38]
[null,null,{"$f":"IFERROR(VLOOKUP(D450,'1_Causas_Levantadas'!C:D,2,0),\"\")","v":0},"","",null,2,null,0,2,38]
[null,null,{"$f":"IFERROR(VLOOKUP(D451,'1_Causas_Levantadas'!C:D,2,0),\"\")","v":0},"","",null,3,null,0,3,38]
[null,null,{"$f":"IFERROR(VLOOKUP(D452,'1_Causas_Levantadas'!C:D,2,0),\"\")","v":0},"","",null,4,null,0,4,38]
[null,null,{"$f":"IFERROR(VLOOKUP(D453,'1_Causas_Levantadas'!C:D,2,0),\"\")","v":0},"","",null,5,null,0,5,38]
[null,null,{"$f":"IFERROR(VLOOKUP(D454,'1_Causas_Levantadas'!C:D,2,0),\"\")","v":0},{"$f":"IF(K454<=$H$4,(IF(G453>0,G454,$G$5)),\"\")","v":""},{"$f":"IF(D454<>\"\",\"Participante \"&K454,\"\")","v":""},null,{"$f":"J454","v":6},null,{"$f":"IF(G454=$G$5,1,0)","v":0},6,{"$f":"I454+K453","v":38}]
[null,null,{"$f":"IFERROR(VLOOKUP(D455,'1_Causas_Levantadas'!C:D,2,0),\"\")","v":0},"","",null,7,null,0,{"$f":"IF(G454<$G$4,J454+1,1)","v":7},38]
[null,null,{"$f":"IFERROR(VLOOKUP(D456,'1_Causas_Levantadas'!C:D,2,0),\"\")","v":0},"","",null,8,null,0,8,38]
[null,null,{"$f":"IFERROR(VLOOKUP(D457,'1_Causas_Levantadas'!C:D,2,0),\"\")","v":0},"","",null,9,null,0,9,38]
[null,null,{"$f":"IFERROR(VLOOKUP(D458,'1_Causas_Levantadas'!C:D,2,0),\"\")","v":0},"","",null,10,null,0,10,38]
[null,null,{"$f":"IFERROR(VLOOKUP(D459,'1_Causas_Levantadas'!C:D,2,0),\"\")","v":0},"","",null,11,null,0,11,38]
[null,null,{"$f":"IFERROR(VLOOKUP(D460,'1_Causas_Levantadas'!C:D,2,0),\"\")","v":0},"","",null,12,null,0,12,38]
[null,null,{"$f":"IFERROR(VLOOKUP(D461,'1_Causas_Levantadas'!C:D,2,0),\"\")","v":0},"","",null,1,null,1,1,39]
[null,null,{"$f":"IFERROR(VLOOKUP(D462,'1_Causas_Levantadas'!C:D,2,0),\"\")","v":0},"","",null,2,null,0,2,39]
[null,null,{"$f":"IFERROR(VLOOKUP(D463,'1_Causas_Levantadas'!C:D,2,0),\"\")","v":0},"","",null,3,null,0,3,39]
[null,null,{"$f":"IFERROR(VLOOKUP(D464,'1_Causas_Levantadas'!C:D,2,0),\"\")","v":0},"","",null,4,null,0,4,39]
[null,null,{"$f":"IFERROR(VLOOKUP(D465,'1_Causas_Levantadas'!C:D,2,0),\"\")","v":0},"","",null,5,null,0,5,39]
[null,null,{"$f":"IFERROR(VLOOKUP(D466,'1_Causas_Levantadas'!C:D,2,0),\"\")","v":0},"","",null,6,null,0,6,39]
[null,null,{"$f":"IFERROR(VLOOKUP(D467,'1_Causas_Levantadas'!C:D,2,0),\"\")","v":0},"","",null,7,null,0,7,39]
[null,null,{"$f":"IFERROR(VLOOKUP(D468,'1_Causas_Levantadas'!C:D,2,0),\"\")","v":0},"","",null,8,null,0,8,39]
[null,null,{"$f":"IFERROR(VLOOKUP(D469,'1_Causas_Levantadas'!C:D,2,0),\"\")","v":0},"","",null,9,null,0,9,39]
[null,null,{"$f":"IFERROR(VLOOKUP(D470,'1_Causas_Levantadas'!C:D,2,0),\"\")","v":0},"","",null,10,null,0,10,39]
[null,null,{"$f":"IFERROR(VLOOKUP(D471,'1_Causas_Levantadas'!C:D,2,0),\"\")","v":0},"","",null,11,null,0,11,39]
[null,null,{"$f":"IFERROR(VLOOKUP(D472,'1_Causas_Levantadas'!C:D,2,0),\"\")","v":0},"","",null,12,null,0,12,39]
[null,null,{"$f":"IFERROR(VLOOKUP(D473,'1_Causas_Levantadas'!C:D,2,0),\"\")","v":0},"","",null,1,null,1,1,40]
[null,null,{"$f":"IFERROR(VLOOKUP(D474,'1_Causas_Levantadas'!C:D,2,0),\"\")","v":0},"","",null,2,null,0,2,40]
[null,null,{"$f":"IFERROR(VLOOKUP(D475,'1_Causas_Levantadas'!C:D,2,0),\"\")","v":0},"","",null,3,null,0,3,40]
[null,null,{"$f":"IFERROR(VLOOKUP(D476,'1_Causas_Levantadas'!C:D,2,0),\"\")","v":0},"","",null,4,null,0,4,40]
[null,null,{"$f":"IFERROR(VLOOKUP(D477,'1_Causas_Levantadas'!C:D,2,0),\"\")","v":0},"","",null,5,null,0,5,40]
[null,null,{"$f":"IFERROR(VLOOKUP(D478,'1_Causas_Levantadas'!C:D,2,0),\"\")","v":0},"","",null,6,null,0,6,40]
[null,null,{"$f":"IFERROR(VLOOKUP(D479,'1_Causas_Levantadas'!C:D,2,0),\"\")","v":0},"","",null,7,null,0,7,40]
[null,null,{"$f":"IFERROR(VLOOKUP(D480,'1_Causas_Levantadas'!C:D,2,0),\"\")","v":0},"","",null,8,null,0,8,40]
[null,null,{"$f":"IFERROR(VLOOKUP(D481,'1_Causas_Levantadas'!C:D,2,0),\"\")","v":0},"","",null,9,null,0,9,40]
[null,null,{"$f":"IFERROR(VLOOKUP(D482,'1_Causas_Levantadas'!C:D,2,0),\"\")","v":0},"","",null,10,null,0,10,40]
[null,null,{"$f":"IFERROR(VLOOKUP(D483,'1_Causas_Levantadas'!C:D,2,0),\"\")","v":0},"","",null,11,null,0,11,40]
[null,null,{"$f":"IFERROR(VLOOKUP(D484,'1_Causas_Levantadas'!C:D,2,0),\"\")","v":0},"","",null,12,null,0,12,40]
[null,null,{"$f":"IFERROR(VLOOKUP(D485,'1_Causas_Levantadas'!C:D,2,0),\"\")","v":0},"","",null,1,null,1,1,41]
[null,null,{"$f":"IFERROR(VLOOKUP(D486,'1_Causas_Levantadas'!C:D,2,0),\"\")","v":0},"","",null,2,null,0,2,41]
[null,null,{"$f":"IFERROR(VLOOKUP(D487,'1_Causas_Levantadas'!C:D,2,0),\"\")","v":0},"","",null,3,null,0,3,41]
[null,null,{"$f":"IFERROR(VLOOKUP(D488,'1_Causas_Levantadas'!C:D,2,0),\"\")","v":0},"","",null,4,null,0,4,41]
[null,null,{"$f":"IFERROR(VLOOKUP(D489,'1_Causas_Levantadas'!C:D,2,0),\"\")","v":0},"","",null,5,null,0,5,41]
[null,null,{"$f":"IFERROR(VLOOKUP(D490,'1_Causas_Levantadas'!C:D,2,0),\"\")","v":0},"","",null,6,null,0,6,41]
[null,null,{"$f":"IFERROR(VLOOKUP(D491,'1_Causas_Levantadas'!C:D,2,0),\"\")","v":0},"","",null,7,null,0,7,41]
[null,null,{"$f":"IFERROR(VLOOKUP(D492,'1_Causas_Levantadas'!C:D,2,0),\"\")","v":0},"","",null,8,null,0,8,41]
[null,null,{"$f":"IFERROR(VLOOKUP(D493,'1_Causas_Levantadas'!C:D,2,0),\"\")","v":0},"","",null,9,null,0,9,41]
[null,null,{"$f":"IFERROR(VLOOKUP(D494,'1_Causas_Levantadas'!C:D,2,0),\"\")","v":0},"","",null,10,null,0,10,41]
[null,null,{"$f":"IFERROR(VLOOKUP(D495,'1_Causas_Levantadas'!C:D,2,0),\"\")","v":0},"","",null,11,null,0,11,41]
[null,null,{"$f":"IFERROR(VLOOKUP(D496,'1_Causas_Levantadas'!C:D,2,0),\"\")","v":0},"","",null,12,null,0,12,41]
[null,null,{"$f":"IFERROR(VLOOKUP(D497,'1_Causas_Levantadas'!C:D,2,0),\"\")","v":0},"","",null,1,null,1,1,42]
[null,null,{"$f":"IFERROR(VLOOKUP(D498,'1_Causas_Levantadas'!C:D,2,0),\"\")","v":0},"","",null,2,null,0,2,42]
[null,null,{"$f":"IFERROR(VLOOKUP(D499,'1_Causas_Levantadas'!C:D,2,0),\"\")","v":0},"","",null,3,null,0,3,42]
[null,null,{"$f":"IFERROR(VLOOKUP(D500,'1_Causas_Levantadas'!C:D,2,0),\"\")","v":0},"","",null,4,null,0,4,42]
[null,null,{"$f":"IFERROR(VLOOKUP(D501,'1_Causas_Levantadas'!C:D,2,0),\"\")","v":0},"","",null,5,null,0,5,42]
[null,null,{"$f":"IFERROR(VLOOKUP(D502,'1_Causas_Levantadas'!C:D,2,0),\"\")","v":0},"","",null,6,null,0,6,42]
[null,null,{"$f":"IFERROR(VLOOKUP(D503,'1_Causas_Levantadas'!C:D,2,0),\"\")","v":0},"","",null,7,null,0,7,42]
[null,null,{"$f":"IFERROR(VLOOKUP(D504,'1_Causas_Levantadas'!C:D,2,0),\"\")","v":0},"","",null,8,null,0,8,42]
[null,null,{"$f":"IFERROR(VLOOKUP(D505,'1_Causas_Levantadas'!C:D,2,0),\"\")","v":0},"","",null,9,null,0,9,42]
[null,null,{"$f":"IFERROR(VLOOKUP(D506,'1_Causas_Levantadas'!C:D,2,0),\"\")","v":0},"","",null,10,null,0,10,42]
[null,null,{"$f":"IFERROR(VLOOKUP(D507,'1_Causas_Levantadas'!C:D,2,0),\"\")","v":0},"","",null,11,null,0,11,42]
[null,null,{"$f":"IFERROR(VLOOKUP(D508,'1_Causas_Levantadas'!C:D,2,0),\"\")","v":0},"","",null,12,null,0,12,42]
[null,null,{"$f":"IFERROR(VLOOKUP(D509,'1_Causas_Levantadas'!C:D,2,0),\"\")","v":0},"","",null,1,null,1,1,43]
[null,null,{"$f":"IFERROR(VLOOKUP(D510,'1_Causas_Levantadas'!C:D,2,0),\"\")","v":0},"","",null,2,null,0,2,43]
[null,null,{"$f":"IFERROR(VLOOKUP(D511,'1_Causas_Levantadas'!C:D,2,0),\"\")","v":0},"","",null,3,null,0,3,43]
[null,null,{"$f":"IFERROR(VLOOKUP(D512,'1_Causas_Levantadas'!C:D,2,0),\"\")","v":0},"","",null,4,null,0,4,43]
[null,null,{"$f":"IFERROR(VLOOKUP(D513,'1_Causas_Levantadas'!C:D,2,0),\"\")","v":0},"","",null,5,null,0,5,43]
[null,null,{"$f":"IFERROR(VLOOKUP(D514,'1_Causas_Levantadas'!C:D,2,0),\"\")","v":0},"","",null,6,null,0,6,43]
[null,null,{"$f":"IFERROR(VLOOKUP(D515,'1_Causas_Levantadas'!C:D,2,0),\"\")","v":0},"","",null,7,null,0,7,43]
[null,null,{"$f":"IFERROR(VLOOKUP(D516,'1_Causas_Levantadas'!C:D,2,0),\"\")","v":0},"","",null,8,null,0,8,43]
[null,null,{"$f":"IFERROR(VLOOKUP(D517,'1_Causas_Levantadas'!C:D,2,0),\"\")","v":0},"","",null,9,null,0,9,43]
[null,null,{"$f":"IFERROR(VLOOKUP(D518,'1_Causas_Levantadas'!C:D,2,0),\"\")","v":0},{"$f":"IF(K518<=$H$4,(IF(G517>0,G518,$G$5)),\"\")","v":""},{"$f":"IF(D518<>\"\",\"Participante \"&K518,\"\")","v":""},null,{"$f":"J518","v":10},null,{"$f":"IF(G518=$G$5,1,0)","v":0},10,{"$f":"I518+K517","v":43}]
[null,null,{"$f":"IFERROR(VLOOKUP(D519,'1_Causas_Levantadas'!C:D,2,0),\"\")","v":0},"","",null,11,null,0,{"$f":"IF(G518<$G$4,J518+1,1)","v":11},43]
[null,null,{"$f":"IFERROR(VLOOKUP(D520,'1_Causas_Levantadas'!C:D,2,0),\"\")","v":0},"","",null,12,null,0,12,43]
[null,null,{"$f":"IFERROR(VLOOKUP(D521,'1_Causas_Levantadas'!C:D,2,0),\"\")","v":0},"","",null,1,null,1,1,44]
[null,null,{"$f":"IFERROR(VLOOKUP(D522,'1_Causas_Levantadas'!C:D,2,0),\"\")","v":0},"","",null,2,null,0,2,44]
[null,null,{"$f":"IFERROR(VLOOKUP(D523,'1_Causas_Levantadas'!C:D,2,0),\"\")","v":0},"","",null,3,null,0,3,44]
[null,null,{"$f":"IFERROR(VLOOKUP(D524,'1_Causas_Levantadas'!C:D,2,0),\"\")","v":0},"","",null,4,null,0,4,44]
[null,null,{"$f":"IFERROR(VLOOKUP(D525,'1_Causas_Levantadas'!C:D,2,0),\"\")","v":0},"","",null,5,null,0,5,44]
[null,null,{"$f":"IFERROR(VLOOKUP(D526,'1_Causas_Levantadas'!C:D,2,0),\"\")","v":0},"","",null,6,null,0,6,44]
[null,null,{"$f":"IFERROR(VLOOKUP(D527,'1_Causas_Levantadas'!C:D,2,0),\"\")","v":0},"","",null,7,null,0,7,44]
[null,null,{"$f":"IFERROR(VLOOKUP(D528,'1_Causas_Levantadas'!C:D,2,0),\"\")","v":0},"","",null,8,null,0,8,44]
[null,null,{"$f":"IFERROR(VLOOKUP(D529,'1_Causas_Levantadas'!C:D,2,0),\"\")","v":0},"","",null,9,null,0,9,44]
[null,null,{"$f":"IFERROR(VLOOKUP(D530,'1_Causas_Levantadas'!C:D,2,0),\"\")","v":0},"","",null,10,null,0,10,44]
[null,null,{"$f":"IFERROR(VLOOKUP(D531,'1_Causas_Levantadas'!C:D,2,0),\"\")","v":0},"","",null,11,null,0,11,44]
[null,null,{"$f":"IFERROR(VLOOKUP(D532,'1_Causas_Levantadas'!C:D,2,0),\"\")","v":0},"","",null,12,null,0,12,44]
[null,null,{"$f":"IFERROR(VLOOKUP(D533,'1_Causas_Levantadas'!C:D,2,0),\"\")","v":0},"","",null,1,null,1,1,45]
[null,null,{"$f":"IFERROR(VLOOKUP(D534,'1_Causas_Levantadas'!C:D,2,0),\"\")","v":0},"","",null,2,null,0,2,45]
[null,null,{"$f":"IFERROR(VLOOKUP(D535,'1_Causas_Levantadas'!C:D,2,0),\"\")","v":0},"","",null,3,null,0,3,45]
[null,null,{"$f":"IFERROR(VLOOKUP(D536,'1_Causas_Levantadas'!C:D,2,0),\"\")","v":0},"","",null,4,null,0,4,45]
[null,null,{"$f":"IFERROR(VLOOKUP(D537,'1_Causas_Levantadas'!C:D,2,0),\"\")","v":0},"","",null,5,null,0,5,45]
[null,null,{"$f":"IFERROR(VLOOKUP(D538,'1_Causas_Levantadas'!C:D,2,0),\"\")","v":0},"","",null,6,null,0,6,45]
[null,null,{"$f":"IFERROR(VLOOKUP(D539,'1_Causas_Levantadas'!C:D,2,0),\"\")","v":0},"","",null,7,null,0,7,45]
[null,null,{"$f":"IFERROR(VLOOKUP(D540,'1_Causas_Levantadas'!C:D,2,0),\"\")","v":0},"","",null,8,null,0,8,45]
[null,null,{"$f":"IFERROR(VLOOKUP(D541,'1_Causas_Levantadas'!C:D,2,0),\"\")","v":0},"","",null,9,null,0,9,45]
[null,null,{"$f":"IFERROR(VLOOKUP(D542,'1_Causas_Levantadas'!C:D,2,0),\"\")","v":0},"","",null,10,null,0,10,45]
[null,null,{"$f":"IFERROR(VLOOKUP(D543,'1_Causas_Levantadas'!C:D,2,0),\"\")","v":0},"","",null,11,null,0,11,45]
[null,null,{"$f":"IFERROR(VLOOKUP(D544,'1_Causas_Levantadas'!C:D,2,0),\"\")","v":0},"","",null,12,null,0,12,45]
[null,null,{"$f":"IFERROR(VLOOKUP(D545,'1_Causas_Levantadas'!C:D,2,0),\"\")","v":0},"","",null,1,null,1,1,46]
[null,null,{"$f":"IFERROR(VLOOKUP(D546,'1_Causas_Levantadas'!C:D,2,0),\"\")","v":0},"","",null,2,null,0,2,46]
[null,null,{"$f":"IFERROR(VLOOKUP(D547,'1_Causas_Levantadas'!C:D,2,0),\"\")","v":0},"","",null,3,null,0,3,46]
[null,null,{"$f":"IFERROR(VLOOKUP(D548,'1_Causas_Levantadas'!C:D,2,0),\"\")","v":0},"","",null,4,null,0,4,46]
[null,null,{"$f":"IFERROR(VLOOKUP(D549,'1_Causas_Levantadas'!C:D,2,0),\"\")","v":0},"","",null,5,null,0,5,46]
[null,null,{"$f":"IFERROR(VLOOKUP(D550,'1_Causas_Levantadas'!C:D,2,0),\"\")","v":0},"","",null,6,null,0,6,46]
[null,null,{"$f":"IFERROR(VLOOKUP(D551,'1_Causas_Levantadas'!C:D,2,0),\"\")","v":0},"","",null,7,null,0,7,46]
[null,null,{"$f":"IFERROR(VLOOKUP(D552,'1_Causas_Levantadas'!C:D,2,0),\"\")","v":0},"","",null,8,null,0,8,46]
[null,null,{"$f":"IFERROR(VLOOKUP(D553,'1_Causas_Levantadas'!C:D,2,0),\"\")","v":0},"","",null,9,null,0,9,46]
[null,null,{"$f":"IFERROR(VLOOKUP(D554,'1_Causas_Levantadas'!C:D,2,0),\"\")","v":0},"","",null,10,null,0,10,46]
[null,null,{"$f":"IFERROR(VLOOKUP(D555,'1_Causas_Levantadas'!C:D,2,0),\"\")","v":0},"","",null,11,null,0,11,46]
[null,null,{"$f":"IFERROR(VLOOKUP(D556,'1_Causas_Levantadas'!C:D,2,0),\"\")","v":0},"","",null,12,null,0,12,46]
[null,null,{"$f":"IFERROR(VLOOKUP(D557,'1_Causas_Levantadas'!C:D,2,0),\"\")","v":0},"","",null,1,null,1,1,47]
[null,null,{"$f":"IFERROR(VLOOKUP(D558,'1_Causas_Levantadas'!C:D,2,0),\"\")","v":0},"","",null,2,null,0,2,47]
[null,null,{"$f":"IFERROR(VLOOKUP(D559,'1_Causas_Levantadas'!C:D,2,0),\"\")","v":0},"","",null,3,null,0,3,47]
[null,null,{"$f":"IFERROR(VLOOKUP(D560,'1_Causas_Levantadas'!C:D,2,0),\"\")","v":0},"","",null,4,null,0,4,47]
[null,null,{"$f":"IFERROR(VLOOKUP(D561,'1_Causas_Levantadas'!C:D,2,0),\"\")","v":0},"","",null,5,null,0,5,47]
[null,null,{"$f":"IFERROR(VLOOKUP(D562,'1_Causas_Levantadas'!C:D,2,0),\"\")","v":0},"","",null,6,null,0,6,47]
[null,null,{"$f":"IFERROR(VLOOKUP(D563,'1_Causas_Levantadas'!C:D,2,0),\"\")","v":0},"","",null,7,null,0,7,47]
[null,null,{"$f":"IFERROR(VLOOKUP(D564,'1_Causas_Levantadas'!C:D,2,0),\"\")","v":0},"","",null,8,null,0,8,47]
[null,null,{"$f":"IFERROR(VLOOKUP(D565,'1_Causas_Levantadas'!C:D,2,0),\"\")","v":0},"","",null,9,null,0,9,47]
[null,null,{"$f":"IFERROR(VLOOKUP(D566,'1_Causas_Levantadas'!C:D,2,0),\"\")","v":0},"","",null,10,null,0,10,47]
[null,null,{"$f":"IFERROR(VLOOKUP(D567,'1_Causas_Levantadas'!C:D,2,0),\"\")","v":0},"","",null,11,null,0,11,47]
[null,null,{"$f":"IFERROR(VLOOKUP(D568,'1_Causas_Levantadas'!C:D,2,0),\"\")","v":0},"","",null,12,null,0,12,47]
[null,null,{"$f":"IFERROR(VLOOKUP(D569,'1_Causas_Levantadas'!C:D,2,0),\"\")","v":0},"","",null,1,null,1,1,48]
[null,null,{"$f":"IFERROR(VLOOKUP(D570,'1_Causas_Levantadas'!C:D,2,0),\"\")","v":0},"","",null,2,null,0,2,48]
[null,null,{"$f":"IFERROR(VLOOKUP(D571,'1_Causas_Levantadas'!C:D,2,0),\"\")","v":0},"","",null,3,null,0,3,48]
[null,null,{"$f":"IFERROR(VLOOKUP(D572,'1_Causas_Levantadas'!C:D,2,0),\"\")","v":0},"","",null,4,null,0,4,48]
[null,null,{"$f":"IFERROR(VLOOKUP(D573,'1_Causas_Levantadas'!C:D,2,0),\"\")","v":0},"","",null,5,null,0,5,48]
[null,null,{"$f":"IFERROR(VLOOKUP(D574,'1_Causas_Levantadas'!C:D,2,0),\"\")","v":0},"","",null,6,null,0,6,48]
[null,null,{"$f":"IFERROR(VLOOKUP(D575,'1_Causas_Levantadas'!C:D,2,0),\"\")","v":0},"","",null,7,null,0,7,48]
[null,null,{"$f":"IFERROR(VLOOKUP(D576,'1_Causas_Levantadas'!C:D,2,0),\"\")","v":0},"","",null,8,null,0,8,48]
[null,null,{"$f":"IFERROR(VLOOKUP(D577,'1_Causas_Levantadas'!C:D,2,0),\"\")","v":0},"","",null,9,null,0,9,48]
[null,null,{"$f":"IFERROR(VLOOKUP(D578,'1_Causas_Levantadas'!C:D,2,0),\"\")","v":0},"","",null,10,null,0,10,48]
[null,null,{"$f":"IFERROR(VLOOKUP(D579,'1_Causas_Levantadas'!C:D,2,0),\"\")","v":0},"","",null,11,null,0,11,48]
[null,null,{"$f":"IFERROR(VLOOKUP(D580,'1_Causas_Levantadas'!C:D,2,0),\"\")","v":0},"","",null,12,null,0,12,48]
[null,null,{"$f":"IFERROR(VLOOKUP(D581,'1_Causas_Levantadas'!C:D,2,0),\"\")","v":0},"","",null,1,null,1,1,49]
[null,null,{"$f":"IFERROR(VLOOKUP(D582,'1_Causas_Levantadas'!C:D,2,0),\"\")","v":0},{"$f":"IF(K582<=$H$4,(IF(G581>0,G582,$G$5)),\"\")","v":""},{"$f":"IF(D582<>\"\",\"Participante \"&K582,\"\")","v":""},null,{"$f":"J582","v":2},null,{"$f":"IF(G582=$G$5,1,0)","v":0},2,{"$f":"I582+K581","v":49}]
[null,null,{"$f":"IFERROR(VLOOKUP(D583,'1_Causas_Levantadas'!C:D,2,0),\"\")","v":0},"","",null,3,null,0,{"$f":"IF(G582<$G$4,J582+1,1)","v":3},49]
[null,null,{"$f":"IFERROR(VLOOKUP(D584,'1_Causas_Levantadas'!C:D,2,0),\"\")","v":0},"","",null,4,null,0,4,49]
[null,null,{"$f":"IFERROR(VLOOKUP(D585,'1_Causas_Levantadas'!C:D,2,0),\"\")","v":0},"","",null,5,null,0,5,49]
[null,null,{"$f":"IFERROR(VLOOKUP(D586,'1_Causas_Levantadas'!C:D,2,0),\"\")","v":0},"","",null,6,null,0,6,49]
[null,null,{"$f":"IFERROR(VLOOKUP(D587,'1_Causas_Levantadas'!C:D,2,0),\"\")","v":0},"","",null,7,null,0,7,49]
[null,null,{"$f":"IFERROR(VLOOKUP(D588,'1_Causas_Levantadas'!C:D,2,0),\"\")","v":0},"","",null,8,null,0,8,49]
[null,null,{"$f":"IFERROR(VLOOKUP(D589,'1_Causas_Levantadas'!C:D,2,0),\"\")","v":0},"","",null,9,null,0,9,49]
[null,null,{"$f":"IFERROR(VLOOKUP(D590,'1_Causas_Levantadas'!C:D,2,0),\"\")","v":0},"","",null,10,null,0,10,49]
[null,null,{"$f":"IFERROR(VLOOKUP(D591,'1_Causas_Levantadas'!C:D,2,0),\"\")","v":0},"","",null,11,null,0,11,49]
[null,null,{"$f":"IFERROR(VLOOKUP(D592,'1_Causas_Levantadas'!C:D,2,0),\"\")","v":0},"","",null,12,null,0,12,49]
[null,null,{"$f":"IFERROR(VLOOKUP(D593,'1_Causas_Levantadas'!C:D,2,0),\"\")","v":0},"","",null,1,null,1,1,50]
[null,null,{"$f":"IFERROR(VLOOKUP(D594,'1_Causas_Levantadas'!C:D,2,0),\"\")","v":0},"","",null,2,null,0,2,50]
[null,null,{"$f":"IFERROR(VLOOKUP(D595,'1_Causas_Levantadas'!C:D,2,0),\"\")","v":0},"","",null,3,null,0,3,50]
[null,null,{"$f":"IFERROR(VLOOKUP(D596,'1_Causas_Levantadas'!C:D,2,0),\"\")","v":0},"","",null,4,null,0,4,50]
[null,null,{"$f":"IFERROR(VLOOKUP(D597,'1_Causas_Levantadas'!C:D,2,0),\"\")","v":0},"","",null,5,null,0,5,50]
[null,null,{"$f":"IFERROR(VLOOKUP(D598,'1_Causas_Levantadas'!C:D,2,0),\"\")","v":0},"","",null,6,null,0,6,50]
[null,null,{"$f":"IFERROR(VLOOKUP(D599,'1_Causas_Levantadas'!C:D,2,0),\"\")","v":0},"","",null,7,null,0,7,50]
[null,null,{"$f":"IFERROR(VLOOKUP(D600,'1_Causas_Levantadas'!C:D,2,0),\"\")","v":0},"","",null,8,null,0,8,50]
[null,null,{"$f":"IFERROR(VLOOKUP(D601,'1_Causas_Levantadas'!C:D,2,0),\"\")","v":0},"","",null,9,null,0,9,50]
[null,null,{"$f":"IFERROR(VLOOKUP(D602,'1_Causas_Levantadas'!C:D,2,0),\"\")","v":0},"","",null,10,null,0,10,50]
[null,null,{"$f":"IFERROR(VLOOKUP(D603,'1_Causas_Levantadas'!C:D,2,0),\"\")","v":0},"","",null,11,null,0,11,50]
[null,null,{"$f":"IFERROR(VLOOKUP(D604,'1_Causas_Levantadas'!C:D,2,0),\"\")","v":0},"","",null,12,null,0,12,50]
[null,null,{"$f":"IFERROR(VLOOKUP(D605,'1_Causas_Levantadas'!C:D,2,0),\"\")","v":0},"","",null,1,null,1,1,51]
[null,null,{"$f":"IFERROR(VLOOKUP(D606,'1_Causas_Levantadas'!C:D,2,0),\"\")","v":0},"","",null,2,null,0,2,51]
[null,null,{"$f":"IFERROR(VLOOKUP(D607,'1_Causas_Levantadas'!C:D,2,0),\"\")","v":0},"","",null,3,null,0,3,51]
[null,null,{"$f":"IFERROR(VLOOKUP(D608,'1_Causas_Levantadas'!C:D,2,0),\"\")","v":0},"","",null,4,null,0,4,51]
[null,null,{"$f":"IFERROR(VLOOKUP(D609,'1_Causas_Levantadas'!C:D,2,0),\"\")","v":0},"","",null,5,null,0,5,51]
[null,null,{"$f":"IFERROR(VLOOKUP(D610,'1_Causas_Levantadas'!C:D,2,0),\"\")","v":0},"","",null,6,null,0,6,51]
[null,null,{"$f":"IFERROR(VLOOKUP(D611,'1_Causas_Levantadas'!C:D,2,0),\"\")","v":0},"","",null,7,null,0,7,51]
[null,null,{"$f":"IFERROR(VLOOKUP(D612,'1_Causas_Levantadas'!C:D,2,0),\"\")","v":0},"","",null,8,null,0,8,51]
[null,null,{"$f":"IFERROR(VLOOKUP(D613,'1_Causas_Levantadas'!C:D,2,0),\"\")","v":0},"","",null,9,null,0,9,51]
[null,null,{"$f":"IFERROR(VLOOKUP(D614,'1_Causas_Levantadas'!C:D,2,0),\"\")","v":0},"","",null,10,null,0,10,51]
[null,null,{"$f":"IFERROR(VLOOKUP(D615,'1_Causas_Levantadas'!C:D,2,0),\"\")","v":0},"","",null,11,null,0,11,51]
[null,null,{"$f":"IFERROR(VLOOKUP(D616,'1_Causas_Levantadas'!C:D,2,0),\"\")","v":0},"","",null,12,null,0,12,51]
[null,null,{"$f":"IFERROR(VLOOKUP(D617,'1_Causas_Levantadas'!C:D,2,0),\"\")","v":0},"","",null,1,null,1,1,52]
[null,null,{"$f":"IFERROR(VLOOKUP(D618,'1_Causas_Levantadas'!C:D,2,0),\"\")","v":0},"","",null,2,null,0,2,52]
[null,null,{"$f":"IFERROR(VLOOKUP(D619,'1_Causas_Levantadas'!C:D,2,0),\"\")","v":0},"","",null,3,null,0,3,52]
[null,null,{"$f":"IFERROR(VLOOKUP(D620,'1_Causas_Levantadas'!C:D,2,0),\"\")","v":0},"","",null,4,null,0,4,52]
[null,null,{"$f":"IFERROR(VLOOKUP(D621,'1_Causas_Levantadas'!C:D,2,0),\"\")","v":0},"","",null,5,null,0,5,52]
[null,null,{"$f":"IFERROR(VLOOKUP(D622,'1_Causas_Levantadas'!C:D,2,0),\"\")","v":0},"","",null,6,null,0,6,52]
[null,null,{"$f":"IFERROR(VLOOKUP(D623,'1_Causas_Levantadas'!C:D,2,0),\"\")","v":0},"","",null,7,null,0,7,52]
[null,null,{"$f":"IFERROR(VLOOKUP(D624,'1_Causas_Levantadas'!C:D,2,0),\"\")","v":0},"","",null,8,null,0,8,52]
[null,null,{"$f":"IFERROR(VLOOKUP(D625,'1_Causas_Levantadas'!C:D,2,0),\"\")","v":0},"","",null,9,null,0,9,52]
[null,null,{"$f":"IFERROR(VLOOKUP(D626,'1_Causas_Levantadas'!C:D,2,0),\"\")","v":0},"","",null,10,null,0,10,52]
[null,null,{"$f":"IFERROR(VLOOKUP(D627,'1_Causas_Levantadas'!C:D,2,0),\"\")","v":0},"","",null,11,null,0,11,52]
[null,null,{"$f":"IFERROR(VLOOKUP(D628,'1_Causas_Levantadas'!C:D,2,0),\"\")","v":0},"","",null,12,null,0,12,52]
[null,null,{"$f":"IFERROR(VLOOKUP(D629,'1_Causas_Levantadas'!C:D,2,0),\"\")","v":0},"","",null,1,null,1,1,53]
[null,null,{"$f":"IFERROR(VLOOKUP(D630,'1_Causas_Levantadas'!C:D,2,0),\"\")","v":0},"","",null,2,null,0,2,53]
[null,null,{"$f":"IFERROR(VLOOKUP(D631,'1_Causas_Levantadas'!C:D,2,0),\"\")","v":0},"","",null,3,null,0,3,53]
[null,null,{"$f":"IFERROR(VLOOKUP(D632,'1_Causas_Levantadas'!C:D,2,0),\"\")","v":0},"","",null,4,null,0,4,53]
[null,null,{"$f":"IFERROR(VLOOKUP(D633,'1_Causas_Levantadas'!C:D,2,0),\"\")","v":0},"","",null,5,null,0,5,53]
[null,null,{"$f":"IFERROR(VLOOKUP(D634,'1_Causas_Levantadas'!C:D,2,0),\"\")","v":0},"","",null,6,null,0,6,53]
[null,null,{"$f":"IFERROR(VLOOKUP(D635,'1_Causas_Levantadas'!C:D,2,0),\"\")","v":0},"","",null,7,null,0,7,53]
[null,null,{"$f":"IFERROR(VLOOKUP(D636,'1_Causas_Levantadas'!C:D,2,0),\"\")","v":0},"","",null,8,null,0,8,53]
[null,null,{"$f":"IFERROR(VLOOKUP(D637,'1_Causas_Levantadas'!C:D,2,0),\"\")","v":0},"","",null,9,null,0,9,53]
[null,null,{"$f":"IFERROR(VLOOKUP(D638,'1_Causas_Levantadas'!C:D,2,0),\"\")","v":0},"","",null,10,null,0,10,53]
[null,null,{"$f":"IFERROR(VLOOKUP(D639,'1_Causas_Levantadas'!C:D,2,0),\"\")","v":0},"","",null,11,null,0,11,53]
[null,null,{"$f":"IFERROR(VLOOKUP(D640,'1_Causas_Levantadas'!C:D,2,0),\"\")","v":0},"","",null,12,null,0,12,53]
[null,null,{"$f":"IFERROR(VLOOKUP(D641,'1_Causas_Levantadas'!C:D,2,0),\"\")","v":0},"","",null,1,null,1,1,54]
[null,null,{"$f":"IFERROR(VLOOKUP(D642,'1_Causas_Levantadas'!C:D,2,0),\"\")","v":0},"","",null,2,null,0,2,54]
[null,null,{"$f":"IFERROR(VLOOKUP(D643,'1_Causas_Levantadas'!C:D,2,0),\"\")","v":0},"","",null,3,null,0,3,54]
[null,null,{"$f":"IFERROR(VLOOKUP(D644,'1_Causas_Levantadas'!C:D,2,0),\"\")","v":0},"","",null,4,null,0,4,54]
[null,null,{"$f":"IFERROR(VLOOKUP(D645,'1_Causas_Levantadas'!C:D,2,0),\"\")","v":0},"","",null,5,null,0,5,54]
[null,null,{"$f":"IFERROR(VLOOKUP(D646,'1_Causas_Levantadas'!C:D,2,0),\"\")","v":0},{"$f":"IF(K646<=$H$4,(IF(G645>0,G646,$G$5)),\"\")","v":""},{"$f":"IF(D646<>\"\",\"Participante \"&K646,\"\")","v":""},null,{"$f":"J646","v":6},null,{"$f":"IF(G646=$G$5,1,0)","v":0},6,{"$f":"I646+K645","v":54}]
[null,null,{"$f":"IFERROR(VLOOKUP(D647,'1_Causas_Levantadas'!C:D,2,0),\"\")","v":0},"","",null,7,null,0,{"$f":"IF(G646<$G$4,J646+1,1)","v":7},54]
[null,null,{"$f":"IFERROR(VLOOKUP(D648,'1_Causas_Levantadas'!C:D,2,0),\"\")","v":0},"","",null,8,null,0,8,54]
[null,null,{"$f":"IFERROR(VLOOKUP(D649,'1_Causas_Levantadas'!C:D,2,0),\"\")","v":0},"","",null,9,null,0,9,54]
[null,null,{"$f":"IFERROR(VLOOKUP(D650,'1_Causas_Levantadas'!C:D,2,0),\"\")","v":0},"","",null,10,null,0,10,54]
[null,null,{"$f":"IFERROR(VLOOKUP(D651,'1_Causas_Levantadas'!C:D,2,0),\"\")","v":0},"","",null,11,null,0,11,54]
[null,null,{"$f":"IFERROR(VLOOKUP(D652,'1_Causas_Levantadas'!C:D,2,0),\"\")","v":0},"","",null,12,null,0,12,54]
[null,null,{"$f":"IFERROR(VLOOKUP(D653,'1_Causas_Levantadas'!C:D,2,0),\"\")","v":0},"","",null,1,null,1,1,55]
[null,null,{"$f":"IFERROR(VLOOKUP(D654,'1_Causas_Levantadas'!C:D,2,0),\"\")","v":0},"","",null,2,null,0,2,55]
[null,null,{"$f":"IFERROR(VLOOKUP(D655,'1_Causas_Levantadas'!C:D,2,0),\"\")","v":0},"","",null,3,null,0,3,55]
[null,null,{"$f":"IFERROR(VLOOKUP(D656,'1_Causas_Levantadas'!C:D,2,0),\"\")","v":0},"","",null,4,null,0,4,55]
[null,null,{"$f":"IFERROR(VLOOKUP(D657,'1_Causas_Levantadas'!C:D,2,0),\"\")","v":0},"","",null,5,null,0,5,55]
[null,null,{"$f":"IFERROR(VLOOKUP(D658,'1_Causas_Levantadas'!C:D,2,0),\"\")","v":0},"","",null,6,null,0,6,55]
[null,null,{"$f":"IFERROR(VLOOKUP(D659,'1_Causas_Levantadas'!C:D,2,0),\"\")","v":0},"","",null,7,null,0,7,55]
[null,null,{"$f":"IFERROR(VLOOKUP(D660,'1_Causas_Levantadas'!C:D,2,0),\"\")","v":0},"","",null,8,null,0,8,55]
[null,null,{"$f":"IFERROR(VLOOKUP(D661,'1_Causas_Levantadas'!C:D,2,0),\"\")","v":0},"","",null,9,null,0,9,55]
[null,null,{"$f":"IFERROR(VLOOKUP(D662,'1_Causas_Levantadas'!C:D,2,0),\"\")","v":0},"","",null,10,null,0,10,55]
[null,null,{"$f":"IFERROR(VLOOKUP(D663,'1_Causas_Levantadas'!C:D,2,0),\"\")","v":0},"","",null,11,null,0,11,55]
[null,null,{"$f":"IFERROR(VLOOKUP(D664,'1_Causas_Levantadas'!C:D,2,0),\"\")","v":0},"","",null,12,null,0,12,55]
[null,null,{"$f":"IFERROR(VLOOKUP(D665,'1_Causas_Levantadas'!C:D,2,0),\"\")","v":0},"","",null,1,null,1,1,56]
[null,null,{"$f":"IFERROR(VLOOKUP(D666,'1_Causas_Levantadas'!C:D,2,0),\"\")","v":0},"","",null,2,null,0,2,56]
[null,null,{"$f":"IFERROR(VLOOKUP(D667,'1_Causas_Levantadas'!C:D,2,0),\"\")","v":0},"","",null,3,null,0,3,56]
[null,null,{"$f":"IFERROR(VLOOKUP(D668,'1_Causas_Levantadas'!C:D,2,0),\"\")","v":0},"","",null,4,null,0,4,56]
[null,null,{"$f":"IFERROR(VLOOKUP(D669,'1_Causas_Levantadas'!C:D,2,0),\"\")","v":0},"","",null,5,null,0,5,56]
[null,null,{"$f":"IFERROR(VLOOKUP(D670,'1_Causas_Levantadas'!C:D,2,0),\"\")","v":0},"","",null,6,null,0,6,56]
[null,null,{"$f":"IFERROR(VLOOKUP(D671,'1_Causas_Levantadas'!C:D,2,0),\"\")","v":0},"","",null,7,null,0,7,56]
[null,null,{"$f":"IFERROR(VLOOKUP(D672,'1_Causas_Levantadas'!C:D,2,0),\"\")","v":0},"","",null,8,null,0,8,56]
[null,null,{"$f":"IFERROR(VLOOKUP(D673,'1_Causas_Levantadas'!C:D,2,0),\"\")","v":0},"","",null,9,null,0,9,56]
[null,null,{"$f":"IFERROR(VLOOKUP(D674,'1_Causas_Levantadas'!C:D,2,0),\"\")","v":0},"","",null,10,null,0,10,56]
[null,null,{"$f":"IFERROR(VLOOKUP(D675,'1_Causas_Levantadas'!C:D,2,0),\"\")","v":0},"","",null,11,null,0,11,56]
[null,null,{"$f":"IFERROR(VLOOKUP(D676,'1_Causas_Levantadas'!C:D,2,0),\"\")","v":0},"","",null,12,null,0,12,56]
[null,null,{"$f":"IFERROR(VLOOKUP(D677,'1_Causas_Levantadas'!C:D,2,0),\"\")","v":0},"","",null,1,null,1,1,57]
[null,null,{"$f":"IFERROR(VLOOKUP(D678,'1_Causas_Levantadas'!C:D,2,0),\"\")","v":0},"","",null,2,null,0,2,57]
[null,null,{"$f":"IFERROR(VLOOKUP(D679,'1_Causas_Levantadas'!C:D,2,0),\"\")","v":0},"","",null,3,null,0,3,57]
[null,null,{"$f":"IFERROR(VLOOKUP(D680,'1_Causas_Levantadas'!C:D,2,0),\"\")","v":0},"","",null,4,null,0,4,57]
[null,null,{"$f":"IFERROR(VLOOKUP(D681,'1_Causas_Levantadas'!C:D,2,0),\"\")","v":0},"","",null,5,null,0,5,57]
[null,null,{"$f":"IFERROR(VLOOKUP(D682,'1_Causas_Levantadas'!C:D,2,0),\"\")","v":0},"","",null,6,null,0,6,57]
[null,null,{"$f":"IFERROR(VLOOKUP(D683,'1_Causas_Levantadas'!C:D,2,0),\"\")","v":0},"","",null,7,null,0,7,57]
[null,null,{"$f":"IFERROR(VLOOKUP(D684,'1_Causas_Levantadas'!C:D,2,0),\"\")","v":0},"","",null,8,null,0,8,57]
[null,null,{"$f":"IFERROR(VLOOKUP(D685,'1_Causas_Levantadas'!C:D,2,0),\"\")","v":0},"","",null,9,null,0,9,57]
[null,null,{"$f":"IFERROR(VLOOKUP(D686,'1_Causas_Levantadas'!C:D,2,0),\"\")","v":0},"","",null,10,null,0,10,57]
[null,null,{"$f":"IFERROR(VLOOKUP(D687,'1_Causas_Levantadas'!C:D,2,0),\"\")","v":0},"","",null,11,null,0,11,57]
[null,null,{"$f":"IFERROR(VLOOKUP(D688,'1_Causas_Levantadas'!C:D,2,0),\"\")","v":0},"","",null,12,null,0,12,57]
[null,null,{"$f":"IFERROR(VLOOKUP(D689,'1_Causas_Levantadas'!C:D,2,0),\"\")","v":0},"","",null,1,null,1,1,58]
[null,null,{"$f":"IFERROR(VLOOKUP(D690,'1_Causas_Levantadas'!C:D,2,0),\"\")","v":0},"","",null,2,null,0,2,58]
[null,null,{"$f":"IFERROR(VLOOKUP(D691,'1_Causas_Levantadas'!C:D,2,0),\"\")","v":0},"","",null,3,null,0,3,58]
[null,null,{"$f":"IFERROR(VLOOKUP(D692,'1_Causas_Levantadas'!C:D,2,0),\"\")","v":0},"","",null,4,null,0,4,58]
[null,null,{"$f":"IFERROR(VLOOKUP(D693,'1_Causas_Levantadas'!C:D,2,0),\"\")","v":0},"","",null,5,null,0,5,58]
[null,null,{"$f":"IFERROR(VLOOKUP(D694,'1_Causas_Levantadas'!C:D,2,0),\"\")","v":0},"","",null,6,null,0,6,58]
[null,null,{"$f":"IFERROR(VLOOKUP(D695,'1_Causas_Levantadas'!C:D,2,0),\"\")","v":0},"","",null,7,null,0,7,58]
[null,null,{"$f":"IFERROR(VLOOKUP(D696,'1_Causas_Levantadas'!C:D,2,0),\"\")","v":0},"","",null,8,null,0,8,58]
[null,null,{"$f":"IFERROR(VLOOKUP(D697,'1_Causas_Levantadas'!C:D,2,0),\"\")","v":0},"","",null,9,null,0,9,58]
[null,null,{"$f":"IFERROR(VLOOKUP(D698,'1_Causas_Levantadas'!C:D,2,0),\"\")","v":0},"","",null,10,null,0,10,58]
[null,null,{"$f":"IFERROR(VLOOKUP(D699,'1_Causas_Levantadas'!C:D,2,0),\"\")","v":0},"","",null,11,null,0,11,58]
[null,null,{"$f":"IFERROR(VLOOKUP(D700,'1_Causas_Levantadas'!C:D,2,0),\"\")","v":0},"","",null,12,null,0,12,58]
[null,null,{"$f":"IFERROR(VLOOKUP(D701,'1_Causas_Levantadas'!C:D,2,0),\"\")","v":0},"","",null,1,null,1,1,59]
[null,null,{"$f":"IFERROR(VLOOKUP(D702,'1_Causas_Levantadas'!C:D,2,0),\"\")","v":0},"","",null,2,null,0,2,59]
[null,null,{"$f":"IFERROR(VLOOKUP(D703,'1_Causas_Levantadas'!C:D,2,0),\"\")","v":0},"","",null,3,null,0,3,59]
[null,null,{"$f":"IFERROR(VLOOKUP(D704,'1_Causas_Levantadas'!C:D,2,0),\"\")","v":0},"","",null,4,null,0,4,59]
[null,null,{"$f":"IFERROR(VLOOKUP(D705,'1_Causas_Levantadas'!C:D,2,0),\"\")","v":0},"","",null,5,null,0,5,59]
[null,null,{"$f":"IFERROR(VLOOKUP(D706,'1_Causas_Levantadas'!C:D,2,0),\"\")","v":0},"","",null,6,null,0,6,59]
[null,null,{"$f":"IFERROR(VLOOKUP(D707,'1_Causas_Levantadas'!C:D,2,0),\"\")","v":0},"","",null,7,null,0,7,59]
[null,null,{"$f":"IFERROR(VLOOKUP(D708,'1_Causas_Levantadas'!C:D,2,0),\"\")","v":0},"","",null,8,null,0,8,59]
[null,null,{"$f":"IFERROR(VLOOKUP(D709,'1_Causas_Levantadas'!C:D,2,0),\"\")","v":0},"","",null,9,null,0,9,59]
[null,null,{"$f":"IFERROR(VLOOKUP(D710,'1_Causas_Levantadas'!C:D,2,0),\"\")","v":0},{"$f":"IF(K710<=$H$4,(IF(G709>0,G710,$G$5)),\"\")","v":""},{"$f":"IF(D710<>\"\",\"Participante \"&K710,\"\")","v":""},null,{"$f":"J710","v":10},null,{"$f":"IF(G710=$G$5,1,0)","v":0},10,{"$f":"I710+K709","v":59}]
[null,null,{"$f":"IFERROR(VLOOKUP(D711,'1_Causas_Levantadas'!C:D,2,0),\"\")","v":0},"","",null,11,null,0,{"$f":"IF(G710<$G$4,J710+1,1)","v":11},59]
[null,null,{"$f":"IFERROR(VLOOKUP(D712,'1_Causas_Levantadas'!C:D,2,0),\"\")","v":0},"","",null,12,null,0,12,59]
[null,null,{"$f":"IFERROR(VLOOKUP(D713,'1_Causas_Levantadas'!C:D,2,0),\"\")","v":0},"","",null,1,null,1,1,60]
[null,null,{"$f":"IFERROR(VLOOKUP(D714,'1_Causas_Levantadas'!C:D,2,0),\"\")","v":0},"","",null,2,null,0,2,60]
[null,null,{"$f":"IFERROR(VLOOKUP(D715,'1_Causas_Levantadas'!C:D,2,0),\"\")","v":0},"","",null,3,null,0,3,60]
[null,null,{"$f":"IFERROR(VLOOKUP(D716,'1_Causas_Levantadas'!C:D,2,0),\"\")","v":0},"","",null,4,null,0,4,60]
[null,null,{"$f":"IFERROR(VLOOKUP(D717,'1_Causas_Levantadas'!C:D,2,0),\"\")","v":0},"","",null,5,null,0,5,60]
[null,null,{"$f":"IFERROR(VLOOKUP(D718,'1_Causas_Levantadas'!C:D,2,0),\"\")","v":0},"","",null,6,null,0,6,60]
[null,null,{"$f":"IFERROR(VLOOKUP(D719,'1_Causas_Levantadas'!C:D,2,0),\"\")","v":0},"","",null,7,null,0,7,60]
[null,null,{"$f":"IFERROR(VLOOKUP(D720,'1_Causas_Levantadas'!C:D,2,0),\"\")","v":0},"","",null,8,null,0,8,60]
[null,null,{"$f":"IFERROR(VLOOKUP(D721,'1_Causas_Levantadas'!C:D,2,0),\"\")","v":0},"","",null,9,null,0,9,60]
[null,null,{"$f":"IFERROR(VLOOKUP(D722,'1_Causas_Levantadas'!C:D,2,0),\"\")","v":0},"","",null,10,null,0,10,60]
[null,null,{"$f":"IFERROR(VLOOKUP(D723,'1_Causas_Levantadas'!C:D,2,0),\"\")","v":0},"","",null,11,null,0,11,60]
[null,null,{"$f":"IFERROR(VLOOKUP(D724,'1_Causas_Levantadas'!C:D,2,0),\"\")","v":0},"","",null,12,null,0,12,60]
[null,null,{"$f":"IFERROR(VLOOKUP(D725,'1_Causas_Levantadas'!C:D,2,0),\"\")","v":0},"","",null,1,null,1,1,61]
[null,null,{"$f":"IFERROR(VLOOKUP(D726,'1_Causas_Levantadas'!C:D,2,0),\"\")","v":0},"","",null,2,null,0,2,61]
[null,null,{"$f":"IFERROR(VLOOKUP(D727,'1_Causas_Levantadas'!C:D,2,0),\"\")","v":0},"","",null,3,null,0,3,61]
[null,null,{"$f":"IFERROR(VLOOKUP(D728,'1_Causas_Levantadas'!C:D,2,0),\"\")","v":0},"","",null,4,null,0,4,61]
[null,null,{"$f":"IFERROR(VLOOKUP(D729,'1_Causas_Levantadas'!C:D,2,0),\"\")","v":0},"","",null,5,null,0,5,61]
[null,null,{"$f":"IFERROR(VLOOKUP(D730,'1_Causas_Levantadas'!C:D,2,0),\"\")","v":0},"","",null,6,null,0,6,61]
[null,null,{"$f":"IFERROR(VLOOKUP(D731,'1_Causas_Levantadas'!C:D,2,0),\"\")","v":0},"","",null,7,null,0,7,61]
[null,null,{"$f":"IFERROR(VLOOKUP(D732,'1_Causas_Levantadas'!C:D,2,0),\"\")","v":0},"","",null,8,null,0,8,61]
[null,null,{"$f":"IFERROR(VLOOKUP(D733,'1_Causas_Levantadas'!C:D,2,0),\"\")","v":0},"","",null,9,null,0,9,61]
[null,null,{"$f":"IFERROR(VLOOKUP(D734,'1_Causas_Levantadas'!C:D,2,0),\"\")","v":0},"","",null,10,null,0,10,61]
[null,null,{"$f":"IFERROR(VLOOKUP(D735,'1_Causas_Levantadas'!C:D,2,0),\"\")","v":0},"","",null,11,null,0,11,61]
[null,null,{"$f":"IFERROR(VLOOKUP(D736,'1_Causas_Levantadas'!C:D,2,0),\"\")","v":0},"","",null,12,null,0,12,61]
[null,null,{"$f":"IFERROR(VLOOKUP(D737,'1_Causas_Levantadas'!C:D,2,0),\"\")","v":0},"","",null,1,null,1,1,62]
[null,null,{"$f":"IFERROR(VLOOKUP(D738,'1_Causas_Levantadas'!C:D,2,0),\"\")","v":0},"","",null,2,null,0,2,62]
[null,null,{"$f":"IFERROR(VLOOKUP(D739,'1_Causas_Levantadas'!C:D,2,0),\"\")","v":0},"","",null,3,null,0,3,62]
[null,null,{"$f":"IFERROR(VLOOKUP(D740,'1_Causas_Levantadas'!C:D,2,0),\"\")","v":0},"","",null,4,null,0,4,62]
[null,null,{"$f":"IFERROR(VLOOKUP(D741,'1_Causas_Levantadas'!C:D,2,0),\"\")","v":0},"","",null,5,null,0,5,62]
[null,null,{"$f":"IFERROR(VLOOKUP(D742,'1_Causas_Levantadas'!C:D,2,0),\"\")","v":0},"","",null,6,null,0,6,62]
[null,null,{"$f":"IFERROR(VLOOKUP(D743,'1_Causas_Levantadas'!C:D,2,0),\"\")","v":0},"","",null,7,null,0,7,62]
[null,null,{"$f":"IFERROR(VLOOKUP(D744,'1_Causas_Levantadas'!C:D,2,0),\"\")","v":0},"","",null,8,null,0,8,62]
[null,null,{"$f":"IFERROR(VLOOKUP(D745,'1_Causas_Levantadas'!C:D,2,0),\"\")","v":0},"","",null,9,null,0,9,62]
[null,null,{"$f":"IFERROR(VLOOKUP(D746,'1_Causas_Levantadas'!C:D,2,0),\"\")","v":0},"","",null,10,null,0,10,62]
[null,null,{"$f":"IFERROR(VLOOKUP(D747,'1_Causas_Levantadas'!C:D,2,0),\"\")","v":0},"","",null,11,null,0,11,62]
[null,null,{"$f":"IFERROR(VLOOKUP(D748,'1_Causas_Levantadas'!C:D,2,0),\"\")","v":0},"","",null,12,null,0,12,62]
[null,null,{"$f":"IFERROR(VLOOKUP(D749,'1_Causas_Levantadas'!C:D,2,0),\"\")","v":0},"","",null,1,null,1,1,63]
[null,null,{"$f":"IFERROR(VLOOKUP(D750,'1_Causas_Levantadas'!C:D,2,0),\"\")","v":0},"","",null,2,null,0,2,63]
[null,null,{"$f":"IFERROR(VLOOKUP(D751,'1_Causas_Levantadas'!C:D,2,0),\"\")","v":0},"","",null,3,null,0,3,63]
[null,null,{"$f":"IFERROR(VLOOKUP(D752,'1_Causas_Levantadas'!C:D,2,0),\"\")","v":0},"","",null,4,null,0,4,63]
[null,null,{"$f":"IFERROR(VLOOKUP(D753,'1_Causas_Levantadas'!C:D,2,0),\"\")","v":0},"","",null,5,null,0,5,63]
[null,null,{"$f":"IFERROR(VLOOKUP(D754,'1_Causas_Levantadas'!C:D,2,0),\"\")","v":0},"","",null,6,null,0,6,63]
[null,null,{"$f":"IFERROR(VLOOKUP(D755,'1_Causas_Levantadas'!C:D,2,0),\"\")","v":0},"","",null,7,null,0,7,63]
[null,null,{"$f":"IFERROR(VLOOKUP(D756,'1_Causas_Levantadas'!C:D,2,0),\"\")","v":0},"","",null,8,null,0,8,63]
[null,null,{"$f":"IFERROR(VLOOKUP(D757,'1_Causas_Levantadas'!C:D,2,0),\"\")","v":0},"","",null,9,null,0,9,63]
[null,null,{"$f":"IFERROR(VLOOKUP(D758,'1_Causas_Levantadas'!C:D,2,0),\"\")","v":0},"","",null,10,null,0,10,63]
[null,null,{"$f":"IFERROR(VLOOKUP(D759,'1_Causas_Levantadas'!C:D,2,0),\"\")","v":0},"","",null,11,null,0,11,63]
[null,null,{"$f":"IFERROR(VLOOKUP(D760,'1_Causas_Levantadas'!C:D,2,0),\"\")","v":0},"","",null,12,null,0,12,63]
[null,null,{"$f":"IFERROR(VLOOKUP(D761,'1_Causas_Levantadas'!C:D,2,0),\"\")","v":0},"","",null,1,null,1,1,64]
[null,null,{"$f":"IFERROR(VLOOKUP(D762,'1_Causas_Levantadas'!C:D,2,0),\"\")","v":0},"","",null,2,null,0,2,64]
[null,null,{"$f":"IFERROR(VLOOKUP(D763,'1_Causas_Levantadas'!C:D,2,0),\"\")","v":0},"","",null,3,null,0,3,64]
[null,null,{"$f":"IFERROR(VLOOKUP(D764,'1_Causas_Levantadas'!C:D,2,0),\"\")","v":0},"","",null,4,null,0,4,64]
[null,null,{"$f":"IFERROR(VLOOKUP(D765,'1_Causas_Levantadas'!C:D,2,0),\"\")","v":0},"","",null,5,null,0,5,64]
[null,null,{"$f":"IFERROR(VLOOKUP(D766,'1_Causas_Levantadas'!C:D,2,0),\"\")","v":0},"","",null,6,null,0,6,64]
[null,null,{"$f":"IFERROR(VLOOKUP(D767,'1_Causas_Levantadas'!C:D,2,0),\"\")","v":0},"","",null,7,null,0,7,64]
[null,null,{"$f":"IFERROR(VLOOKUP(D768,'1_Causas_Levantadas'!C:D,2,0),\"\")","v":0},"","",null,8,null,0,8,64]
[null,null,{"$f":"IFERROR(VLOOKUP(D769,'1_Causas_Levantadas'!C:D,2,0),\"\")","v":0},"","",null,9,null,0,9,64]
[null,null,{"$f":"IFERROR(VLOOKUP(D770,'1_Causas_Levantadas'!C:D,2,0),\"\")","v":0},"","",null,10,null,0,10,64]
[null,null,{"$f":"IFERROR(VLOOKUP(D771,'1_Causas_Levantadas'!C:D,2,0),\"\")","v":0},"","",null,11,null,0,11,64]
[null,null,{"$f":"IFERROR(VLOOKUP(D772,'1_Causas_Levantadas'!C:D,2,0),\"\")","v":0},"","",null,12,null,0,12,64]
[null,null,{"$f":"IFERROR(VLOOKUP(D773,'1_Causas_Levantadas'!C:D,2,0),\"\")","v":0},"","",null,1,null,1,1,65]
[null,null,{"$f":"IFERROR(VLOOKUP(D774,'1_Causas_Levantadas'!C:D,2,0),\"\")","v":0},{"$f":"IF(K774<=$H$4,(IF(G773>0,G774,$G$5)),\"\")","v":""},{"$f":"IF(D774<>\"\",\"Participante \"&K774,\"\")","v":""},null,{"$f":"J774","v":2},null,{"$f":"IF(G774=$G$5,1,0)","v":0},2,{"$f":"I774+K773","v":65}]
[null,null,{"$f":"IFERROR(VLOOKUP(D775,'1_Causas_Levantadas'!C:D,2,0),\"\")","v":0},"","",null,3,null,0,{"$f":"IF(G774<$G$4,J774+1,1)","v":3},65]
[null,null,{"$f":"IFERROR(VLOOKUP(D776,'1_Causas_Levantadas'!C:D,2,0),\"\")","v":0},"","",null,4,null,0,4,65]
[null,null,{"$f":"IFERROR(VLOOKUP(D777,'1_Causas_Levantadas'!C:D,2,0),\"\")","v":0},"","",null,5,null,0,5,65]
[null,null,{"$f":"IFERROR(VLOOKUP(D778,'1_Causas_Levantadas'!C:D,2,0),\"\")","v":0},"","",null,6,null,0,6,65]
[null,null,{"$f":"IFERROR(VLOOKUP(D779,'1_Causas_Levantadas'!C:D,2,0),\"\")","v":0},"","",null,7,null,0,7,65]
[null,null,{"$f":"IFERROR(VLOOKUP(D780,'1_Causas_Levantadas'!C:D,2,0),\"\")","v":0},"","",null,8,null,0,8,65]
[null,null,{"$f":"IFERROR(VLOOKUP(D781,'1_Causas_Levantadas'!C:D,2,0),\"\")","v":0},"","",null,9,null,0,9,65]
[null,null,{"$f":"IFERROR(VLOOKUP(D782,'1_Causas_Levantadas'!C:D,2,0),\"\")","v":0},"","",null,10,null,0,10,65]
[null,null,{"$f":"IFERROR(VLOOKUP(D783,'1_Causas_Levantadas'!C:D,2,0),\"\")","v":0},"","",null,11,null,0,11,65]
[null,null,{"$f":"IFERROR(VLOOKUP(D784,'1_Causas_Levantadas'!C:D,2,0),\"\")","v":0},"","",null,12,null,0,12,65]
[null,null,{"$f":"IFERROR(VLOOKUP(D785,'1_Causas_Levantadas'!C:D,2,0),\"\")","v":0},"","",null,1,null,1,1,66]
[null,null,{"$f":"IFERROR(VLOOKUP(D786,'1_Causas_Levantadas'!C:D,2,0),\"\")","v":0},"","",null,2,null,0,2,66]
[null,null,{"$f":"IFERROR(VLOOKUP(D787,'1_Causas_Levantadas'!C:D,2,0),\"\")","v":0},"","",null,3,null,0,3,66]
[null,null,{"$f":"IFERROR(VLOOKUP(D788,'1_Causas_Levantadas'!C:D,2,0),\"\")","v":0},"","",null,4,null,0,4,66]
[null,null,{"$f":"IFERROR(VLOOKUP(D789,'1_Causas_Levantadas'!C:D,2,0),\"\")","v":0},"","",null,5,null,0,5,66]
[null,null,{"$f":"IFERROR(VLOOKUP(D790,'1_Causas_Levantadas'!C:D,2,0),\"\")","v":0},"","",null,6,null,0,6,66]
[null,null,{"$f":"IFERROR(VLOOKUP(D791,'1_Causas_Levantadas'!C:D,2,0),\"\")","v":0},"","",null,7,null,0,7,66]
[null,null,{"$f":"IFERROR(VLOOKUP(D792,'1_Causas_Levantadas'!C:D,2,0),\"\")","v":0},"","",null,8,null,0,8,66]
[null,null,{"$f":"IFERROR(VLOOKUP(D793,'1_Causas_Levantadas'!C:D,2,0),\"\")","v":0},"","",null,9,null,0,9,66]
[null,null,{"$f":"IFERROR(VLOOKUP(D794,'1_Causas_Levantadas'!C:D,2,0),\"\")","v":0},"","",null,10,null,0,10,66]
[null,null,{"$f":"IFERROR(VLOOKUP(D795,'1_Causas_Levantadas'!C:D,2,0),\"\")","v":0},"","",null,11,null,0,11,66]
[null,null,{"$f":"IFERROR(VLOOKUP(D796,'1_Causas_Levantadas'!C:D,2,0),\"\")","v":0},"","",null,12,null,0,12,66]
[null,null,{"$f":"IFERROR(VLOOKUP(D797,'1_Causas_Levantadas'!C:D,2,0),\"\")","v":0},"","",null,1,null,1,1,67]
[null,null,{"$f":"IFERROR(VLOOKUP(D798,'1_Causas_Levantadas'!C:D,2,0),\"\")","v":0},"","",null,2,null,0,2,67]
[null,null,{"$f":"IFERROR(VLOOKUP(D799,'1_Causas_Levantadas'!C:D,2,0),\"\")","v":0},"","",null,3,null,0,3,67]
[null,null,{"$f":"IFERROR(VLOOKUP(D800,'1_Causas_Levantadas'!C:D,2,0),\"\")","v":0},"","",null,4,null,0,4,67]
[null,null,{"$f":"IFERROR(VLOOKUP(D801,'1_Causas_Levantadas'!C:D,2,0),\"\")","v":0},"","",null,5,null,0,5,67]
[null,null,{"$f":"IFERROR(VLOOKUP(D802,'1_Causas_Levantadas'!C:D,2,0),\"\")","v":0},"","",null,6,null,0,6,67]
[null,null,{"$f":"IFERROR(VLOOKUP(D803,'1_Causas_Levantadas'!C:D,2,0),\"\")","v":0},"","",null,7,null,0,7,67]
[null,null,{"$f":"IFERROR(VLOOKUP(D804,'1_Causas_Levantadas'!C:D,2,0),\"\")","v":0},"","",null,8,null,0,8,67]
[null,null,{"$f":"IFERROR(VLOOKUP(D805,'1_Causas_Levantadas'!C:D,2,0),\"\")","v":0},"","",null,9,null,0,9,67]
[null,null,{"$f":"IFERROR(VLOOKUP(D806,'1_Causas_Levantadas'!C:D,2,0),\"\")","v":0},"","",null,10,null,0,10,67]
[null,null,{"$f":"IFERROR(VLOOKUP(D807,'1_Causas_Levantadas'!C:D,2,0),\"\")","v":0},"","",null,11,null,0,11,67]
[null,null,{"$f":"IFERROR(VLOOKUP(D808,'1_Causas_Levantadas'!C:D,2,0),\"\")","v":0},"","",null,12,null,0,12,67]
[null,null,{"$f":"IFERROR(VLOOKUP(D809,'1_Causas_Levantadas'!C:D,2,0),\"\")","v":0},"","",null,1,null,1,1,68]
[null,null,{"$f":"IFERROR(VLOOKUP(D810,'1_Causas_Levantadas'!C:D,2,0),\"\")","v":0},"","",null,2,null,0,2,68]
[null,null,{"$f":"IFERROR(VLOOKUP(D811,'1_Causas_Levantadas'!C:D,2,0),\"\")","v":0},"","",null,3,null,0,3,68]
[null,null,{"$f":"IFERROR(VLOOKUP(D812,'1_Causas_Levantadas'!C:D,2,0),\"\")","v":0},"","",null,4,null,0,4,68]
[null,null,{"$f":"IFERROR(VLOOKUP(D813,'1_Causas_Levantadas'!C:D,2,0),\"\")","v":0},"","",null,5,null,0,5,68]
[null,null,{"$f":"IFERROR(VLOOKUP(D814,'1_Causas_Levantadas'!C:D,2,0),\"\")","v":0},"","",null,6,null,0,6,68]
[null,null,{"$f":"IFERROR(VLOOKUP(D815,'1_Causas_Levantadas'!C:D,2,0),\"\")","v":0},"","",null,7,null,0,7,68]
[null,null,{"$f":"IFERROR(VLOOKUP(D816,'1_Causas_Levantadas'!C:D,2,0),\"\")","v":0},"","",null,8,null,0,8,68]
[null,null,{"$f":"IFERROR(VLOOKUP(D817,'1_Causas_Levantadas'!C:D,2,0),\"\")","v":0},"","",null,9,null,0,9,68]
[null,null,{"$f":"IFERROR(VLOOKUP(D818,'1_Causas_Levantadas'!C:D,2,0),\"\")","v":0},"","",null,10,null,0,10,68]
[null,null,{"$f":"IFERROR(VLOOKUP(D819,'1_Causas_Levantadas'!C:D,2,0),\"\")","v":0},"","",null,11,null,0,11,68]
[null,null,{"$f":"IFERROR(VLOOKUP(D820,'1_Causas_Levantadas'!C:D,2,0),\"\")","v":0},"","",null,12,null,0,12,68]
[null,null,{"$f":"IFERROR(VLOOKUP(D821,'1_Causas_Levantadas'!C:D,2,0),\"\")","v":0},"","",null,1,null,1,1,69]
[null,null,{"$f":"IFERROR(VLOOKUP(D822,'1_Causas_Levantadas'!C:D,2,0),\"\")","v":0},"","",null,2,null,0,2,69]
[null,null,{"$f":"IFERROR(VLOOKUP(D823,'1_Causas_Levantadas'!C:D,2,0),\"\")","v":0},"","",null,3,null,0,3,69]
[null,null,{"$f":"IFERROR(VLOOKUP(D824,'1_Causas_Levantadas'!C:D,2,0),\"\")","v":0},"","",null,4,null,0,4,69]
[null,null,{"$f":"IFERROR(VLOOKUP(D825,'1_Causas_Levantadas'!C:D,2,0),\"\")","v":0},"","",null,5,null,0,5,69]
[null,null,{"$f":"IFERROR(VLOOKUP(D826,'1_Causas_Levantadas'!C:D,2,0),\"\")","v":0},"","",null,6,null,0,6,69]
[null,null,{"$f":"IFERROR(VLOOKUP(D827,'1_Causas_Levantadas'!C:D,2,0),\"\")","v":0},"","",null,7,null,0,7,69]
[null,null,{"$f":"IFERROR(VLOOKUP(D828,'1_Causas_Levantadas'!C:D,2,0),\"\")","v":0},"","",null,8,null,0,8,69]
[null,null,{"$f":"IFERROR(VLOOKUP(D829,'1_Causas_Levantadas'!C:D,2,0),\"\")","v":0},"","",null,9,null,0,9,69]
[null,null,{"$f":"IFERROR(VLOOKUP(D830,'1_Causas_Levantadas'!C:D,2,0),\"\")","v":0},"","",null,10,null,0,10,69]
[null,null,{"$f":"IFERROR(VLOOKUP(D831,'1_Causas_Levantadas'!C:D,2,0),\"\")","v":0},"","",null,11,null,0,11,69]
[null,null,{"$f":"IFERROR(VLOOKUP(D832,'1_Causas_Levantadas'!C:D,2,0),\"\")","v":0},"","",null,12,null,0,12,69]
[null,null,{"$f":"IFERROR(VLOOKUP(D833,'1_Causas_Levantadas'!C:D,2,0),\"\")","v":0},"","",null,1,null,1,1,70]
[null,null,{"$f":"IFERROR(VLOOKUP(D834,'1_Causas_Levantadas'!C:D,2,0),\"\")","v":0},"","",null,2,null,0,2,70]
[null,null,{"$f":"IFERROR(VLOOKUP(D835,'1_Causas_Levantadas'!C:D,2,0),\"\")","v":0},"","",null,3,null,0,3,70]
[null,null,{"$f":"IFERROR(VLOOKUP(D836,'1_Causas_Levantadas'!C:D,2,0),\"\")","v":0},"","",null,4,null,0,4,70]
[null,null,{"$f":"IFERROR(VLOOKUP(D837,'1_Causas_Levantadas'!C:D,2,0),\"\")","v":0},"","",null,5,null,0,5,70]
[null,null,{"$f":"IFERROR(VLOOKUP(D838,'1_Causas_Levantadas'!C:D,2,0),\"\")","v":0},{"$f":"IF(K838<=$H$4,(IF(G837>0,G838,$G$5)),\"\")","v":""},{"$f":"IF(D838<>\"\",\"Participante \"&K838,\"\")","v":""},null,{"$f":"J838","v":6},null,{"$f":"IF(G838=$G$5,1,0)","v":0},6,{"$f":"I838+K837","v":70}]
[null,null,{"$f":"IFERROR(VLOOKUP(D839,'1_Causas_Levantadas'!C:D,2,0),\"\")","v":0},"","",null,7,null,0,{"$f":"IF(G838<$G$4,J838+1,1)","v":7},70]
[null,null,{"$f":"IFERROR(VLOOKUP(D840,'1_Causas_Levantadas'!C:D,2,0),\"\")","v":0},"","",null,8,null,0,8,70]
[null,null,{"$f":"IFERROR(VLOOKUP(D841,'1_Causas_Levantadas'!C:D,2,0),\"\")","v":0},"","",null,9,null,0,9,70]
[null,null,{"$f":"IFERROR(VLOOKUP(D842,'1_Causas_Levantadas'!C:D,2,0),\"\")","v":0},"","",null,10,null,0,10,70]
[null,null,{"$f":"IFERROR(VLOOKUP(D843,'1_Causas_Levantadas'!C:D,2,0),\"\")","v":0},"","",null,11,null,0,11,70]
[null,null,{"$f":"IFERROR(VLOOKUP(D844,'1_Causas_Levantadas'!C:D,2,0),\"\")","v":0},"","",null,12,null,0,12,70]
[null,null,{"$f":"IFERROR(VLOOKUP(D845,'1_Causas_Levantadas'!C:D,2,0),\"\")","v":0},"","",null,1,null,1,1,71]
[null,null,{"$f":"IFERROR(VLOOKUP(D846,'1_Causas_Levantadas'!C:D,2,0),\"\")","v":0},"","",null,2,null,0,2,71]
[null,null,{"$f":"IFERROR(VLOOKUP(D847,'1_Causas_Levantadas'!C:D,2,0),\"\")","v":0},"","",null,3,null,0,3,71]
[null,null,{"$f":"IFERROR(VLOOKUP(D848,'1_Causas_Levantadas'!C:D,2,0),\"\")","v":0},"","",null,4,null,0,4,71]
[null,null,{"$f":"IFERROR(VLOOKUP(D849,'1_Causas_Levantadas'!C:D,2,0),\"\")","v":0},"","",null,5,null,0,5,71]
[null,null,{"$f":"IFERROR(VLOOKUP(D850,'1_Causas_Levantadas'!C:D,2,0),\"\")","v":0},"","",null,6,null,0,6,71]
[null,null,{"$f":"IFERROR(VLOOKUP(D851,'1_Causas_Levantadas'!C:D,2,0),\"\")","v":0},"","",null,7,null,0,7,71]
[null,null,{"$f":"IFERROR(VLOOKUP(D852,'1_Causas_Levantadas'!C:D,2,0),\"\")","v":0},"","",null,8,null,0,8,71]
[null,null,{"$f":"IFERROR(VLOOKUP(D853,'1_Causas_Levantadas'!C:D,2,0),\"\")","v":0},"","",null,9,null,0,9,71]
[null,null,{"$f":"IFERROR(VLOOKUP(D854,'1_Causas_Levantadas'!C:D,2,0),\"\")","v":0},"","",null,10,null,0,10,71]
[null,null,{"$f":"IFERROR(VLOOKUP(D855,'1_Causas_Levantadas'!C:D,2,0),\"\")","v":0},"","",null,11,null,0,11,71]
[null,null,{"$f":"IFERROR(VLOOKUP(D856,'1_Causas_Levantadas'!C:D,2,0),\"\")","v":0},"","",null,12,null,0,12,71]
[null,null,{"$f":"IFERROR(VLOOKUP(D857,'1_Causas_Levantadas'!C:D,2,0),\"\")","v":0},"","",null,1,null,1,1,72]
[null,null,{"$f":"IFERROR(VLOOKUP(D858,'1_Causas_Levantadas'!C:D,2,0),\"\")","v":0},"","",null,2,null,0,2,72]
[null,null,{"$f":"IFERROR(VLOOKUP(D859,'1_Causas_Levantadas'!C:D,2,0),\"\")","v":0},"","",null,3,null,0,3,72]
[null,null,{"$f":"IFERROR(VLOOKUP(D860,'1_Causas_Levantadas'!C:D,2,0),\"\")","v":0},"","",null,4,null,0,4,72]
[null,null,{"$f":"IFERROR(VLOOKUP(D861,'1_Causas_Levantadas'!C:D,2,0),\"\")","v":0},"","",null,5,null,0,5,72]
[null,null,{"$f":"IFERROR(VLOOKUP(D862,'1_Causas_Levantadas'!C:D,2,0),\"\")","v":0},"","",null,6,null,0,6,72]
[null,null,{"$f":"IFERROR(VLOOKUP(D863,'1_Causas_Levantadas'!C:D,2,0),\"\")","v":0},"","",null,7,null,0,7,72]
[null,null,{"$f":"IFERROR(VLOOKUP(D864,'1_Causas_Levantadas'!C:D,2,0),\"\")","v":0},"","",null,8,null,0,8,72]
[null,null,{"$f":"IFERROR(VLOOKUP(D865,'1_Causas_Levantadas'!C:D,2,0),\"\")","v":0},"","",null,9,null,0,9,72]
[null,null,{"$f":"IFERROR(VLOOKUP(D866,'1_Causas_Levantadas'!C:D,2,0),\"\")","v":0},"","",null,10,null,0,10,72]
[null,null,{"$f":"IFERROR(VLOOKUP(D867,'1_Causas_Levantadas'!C:D,2,0),\"\")","v":0},"","",null,11,null,0,11,72]
[null,null,{"$f":"IFERROR(VLOOKUP(D868,'1_Causas_Levantadas'!C:D,2,0),\"\")","v":0},"","",null,12,null,0,12,72]
[null,null,{"$f":"IFERROR(VLOOKUP(D869,'1_Causas_Levantadas'!C:D,2,0),\"\")","v":0},"","",null,1,null,1,1,73]
[null,null,{"$f":"IFERROR(VLOOKUP(D870,'1_Causas_Levantadas'!C:D,2,0),\"\")","v":0},"","",null,2,null,0,2,73]
[null,null,{"$f":"IFERROR(VLOOKUP(D871,'1_Causas_Levantadas'!C:D,2,0),\"\")","v":0},"","",null,3,null,0,3,73]
[null,null,{"$f":"IFERROR(VLOOKUP(D872,'1_Causas_Levantadas'!C:D,2,0),\"\")","v":0},"","",null,4,null,0,4,73]
[null,null,{"$f":"IFERROR(VLOOKUP(D873,'1_Causas_Levantadas'!C:D,2,0),\"\")","v":0},"","",null,5,null,0,5,73]
[null,null,{"$f":"IFERROR(VLOOKUP(D874,'1_Causas_Levantadas'!C:D,2,0),\"\")","v":0},"","",null,6,null,0,6,73]
[null,null,{"$f":"IFERROR(VLOOKUP(D875,'1_Causas_Levantadas'!C:D,2,0),\"\")","v":0},"","",null,7,null,0,7,73]
[null,null,{"$f":"IFERROR(VLOOKUP(D876,'1_Causas_Levantadas'!C:D,2,0),\"\")","v":0},"","",null,8,null,0,8,73]
[null,null,{"$f":"IFERROR(VLOOKUP(D877,'1_Causas_Levantadas'!C:D,2,0),\"\")","v":0},"","",null,9,null,0,9,73]
[null,null,{"$f":"IFERROR(VLOOKUP(D878,'1_Causas_Levantadas'!C:D,2,0),\"\")","v":0},"","",null,10,null,0,10,73]
[null,null,{"$f":"IFERROR(VLOOKUP(D879,'1_Causas_Levantadas'!C:D,2,0),\"\")","v":0},"","",null,11,null,0,11,73]
[null,null,{"$f":"IFERROR(VLOOKUP(D880,'1_Causas_Levantadas'!C:D,2,0),\"\")","v":0},"","",null,12,null,0,12,73]
[null,null,{"$f":"IFERROR(VLOOKUP(D881,'1_Causas_Levantadas'!C:D,2,0),\"\")","v":0},"","",null,1,null,1,1,74]
[null,null,{"$f":"IFERROR(VLOOKUP(D882,'1_Causas_Levantadas'!C:D,2,0),\"\")","v":0},"","",null,2,null,0,2,74]
[null,null,{"$f":"IFERROR(VLOOKUP(D883,'1_Causas_Levantadas'!C:D,2,0),\"\")","v":0},"","",null,3,null,0,3,74]
[null,null,{"$f":"IFERROR(VLOOKUP(D884,'1_Causas_Levantadas'!C:D,2,0),\"\")","v":0},"","",null,4,null,0,4,74]
[null,null,{"$f":"IFERROR(VLOOKUP(D885,'1_Causas_Levantadas'!C:D,2,0),\"\")","v":0},"","",null,5,null,0,5,74]
[null,null,{"$f":"IFERROR(VLOOKUP(D886,'1_Causas_Levantadas'!C:D,2,0),\"\")","v":0},"","",null,6,null,0,6,74]
[null,null,{"$f":"IFERROR(VLOOKUP(D887,'1_Causas_Levantadas'!C:D,2,0),\"\")","v":0},"","",null,7,null,0,7,74]
[null,null,{"$f":"IFERROR(VLOOKUP(D888,'1_Causas_Levantadas'!C:D,2,0),\"\")","v":0},"","",null,8,null,0,8,74]
[null,null,{"$f":"IFERROR(VLOOKUP(D889,'1_Causas_Levantadas'!C:D,2,0),\"\")","v":0},"","",null,9,null,0,9,74]
[null,null,{"$f":"IFERROR(VLOOKUP(D890,'1_Causas_Levantadas'!C:D,2,0),\"\")","v":0},"","",null,10,null,0,10,74]
[null,null,{"$f":"IFERROR(VLOOKUP(D891,'1_Causas_Levantadas'!C:D,2,0),\"\")","v":0},"","",null,11,null,0,11,74]
[null,null,{"$f":"IFERROR(VLOOKUP(D892,'1_Causas_Levantadas'!C:D,2,0),\"\")","v":0},"","",null,12,null,0,12,74]
[null,null,{"$f":"IFERROR(VLOOKUP(D893,'1_Causas_Levantadas'!C:D,2,0),\"\")","v":0},"","",null,1,null,1,1,75]
[null,null,{"$f":"IFERROR(VLOOKUP(D894,'1_Causas_Levantadas'!C:D,2,0),\"\")","v":0},"","",null,2,null,0,2,75]
[null,null,{"$f":"IFERROR(VLOOKUP(D895,'1_Causas_Levantadas'!C:D,2,0),\"\")","v":0},"","",null,3,null,0,3,75]
[null,null,{"$f":"IFERROR(VLOOKUP(D896,'1_Causas_Levantadas'!C:D,2,0),\"\")","v":0},"","",null,4,null,0,4,75]
[null,null,{"$f":"IFERROR(VLOOKUP(D897,'1_Causas_Levantadas'!C:D,2,0),\"\")","v":0},"","",null,5,null,0,5,75]
[null,null,{"$f":"IFERROR(VLOOKUP(D898,'1_Causas_Levantadas'!C:D,2,0),\"\")","v":0},"","",null,6,null,0,6,75]
[null,null,{"$f":"IFERROR(VLOOKUP(D899,'1_Causas_Levantadas'!C:D,2,0),\"\")","v":0},"","",null,7,null,0,7,75]
[null,null,{"$f":"IFERROR(VLOOKUP(D900,'1_Causas_Levantadas'!C:D,2,0),\"\")","v":0},"","",null,8,null,0,8,75]
[null,null,{"$f":"IFERROR(VLOOKUP(D901,'1_Causas_Levantadas'!C:D,2,0),\"\")","v":0},"","",null,9,null,0,9,75]
[null,null,{"$f":"IFERROR(VLOOKUP(D902,'1_Causas_Levantadas'!C:D,2,0),\"\")","v":0},{"$f":"IF(K902<=$H$4,(IF(G901>0,G902,$G$5)),\"\")","v":""},{"$f":"IF(D902<>\"\",\"Participante \"&K902,\"\")","v":""},null,{"$f":"J902","v":10},null,{"$f":"IF(G902=$G$5,1,0)","v":0},10,{"$f":"I902+K901","v":75}]
[null,null,{"$f":"IFERROR(VLOOKUP(D903,'1_Causas_Levantadas'!C:D,2,0),\"\")","v":0},"","",null,11,null,0,{"$f":"IF(G902<$G$4,J902+1,1)","v":11},75]
[null,null,{"$f":"IFERROR(VLOOKUP(D904,'1_Causas_Levantadas'!C:D,2,0),\"\")","v":0},"","",null,12,null,0,12,75]
[null,null,{"$f":"IFERROR(VLOOKUP(D905,'1_Causas_Levantadas'!C:D,2,0),\"\")","v":0},"","",null,1,null,1,1,76]
[null,null,{"$f":"IFERROR(VLOOKUP(D906,'1_Causas_Levantadas'!C:D,2,0),\"\")","v":0},"","",null,2,null,0,2,76]
[null,null,{"$f":"IFERROR(VLOOKUP(D907,'1_Causas_Levantadas'!C:D,2,0),\"\")","v":0},"","",null,3,null,0,3,76]
[null,null,{"$f":"IFERROR(VLOOKUP(D908,'1_Causas_Levantadas'!C:D,2,0),\"\")","v":0},"","",null,4,null,0,4,76]
[null,null,{"$f":"IFERROR(VLOOKUP(D909,'1_Causas_Levantadas'!C:D,2,0),\"\")","v":0},"","",null,5,null,0,5,76]
[null,null,{"$f":"IFERROR(VLOOKUP(D910,'1_Causas_Levantadas'!C:D,2,0),\"\")","v":0},"","",null,6,null,0,6,76]
[null,null,{"$f":"IFERROR(VLOOKUP(D911,'1_Causas_Levantadas'!C:D,2,0),\"\")","v":0},"","",null,7,null,0,7,76]
[null,null,{"$f":"IFERROR(VLOOKUP(D912,'1_Causas_Levantadas'!C:D,2,0),\"\")","v":0},"","",null,8,null,0,8,76]
[null,null,{"$f":"IFERROR(VLOOKUP(D913,'1_Causas_Levantadas'!C:D,2,0),\"\")","v":0},"","",null,9,null,0,9,76]
[null,null,{"$f":"IFERROR(VLOOKUP(D914,'1_Causas_Levantadas'!C:D,2,0),\"\")","v":0},"","",null,10,null,0,10,76]
[null,null,{"$f":"IFERROR(VLOOKUP(D915,'1_Causas_Levantadas'!C:D,2,0),\"\")","v":0},"","",null,11,null,0,11,76]
[null,null,{"$f":"IFERROR(VLOOKUP(D916,'1_Causas_Levantadas'!C:D,2,0),\"\")","v":0},"","",null,12,null,0,12,76]
[null,null,{"$f":"IFERROR(VLOOKUP(D917,'1_Causas_Levantadas'!C:D,2,0),\"\")","v":0},"","",null,1,null,1,1,77]
[null,null,{"$f":"IFERROR(VLOOKUP(D918,'1_Causas_Levantadas'!C:D,2,0),\"\")","v":0},"","",null,2,null,0,2,77]
[null,null,{"$f":"IFERROR(VLOOKUP(D919,'1_Causas_Levantadas'!C:D,2,0),\"\")","v":0},"","",null,3,null,0,3,77]
[null,null,{"$f":"IFERROR(VLOOKUP(D920,'1_Causas_Levantadas'!C:D,2,0),\"\")","v":0},"","",null,4,null,0,4,77]
[null,null,{"$f":"IFERROR(VLOOKUP(D921,'1_Causas_Levantadas'!C:D,2,0),\"\")","v":0},"","",null,5,null,0,5,77]
[null,null,{"$f":"IFERROR(VLOOKUP(D922,'1_Causas_Levantadas'!C:D,2,0),\"\")","v":0},"","",null,6,null,0,6,77]
[null,null,{"$f":"IFERROR(VLOOKUP(D923,'1_Causas_Levantadas'!C:D,2,0),\"\")","v":0},"","",null,7,null,0,7,77]
[null,null,{"$f":"IFERROR(VLOOKUP(D924,'1_Causas_Levantadas'!C:D,2,0),\"\")","v":0},"","",null,8,null,0,8,77]
[null,null,{"$f":"IFERROR(VLOOKUP(D925,'1_Causas_Levantadas'!C:D,2,0),\"\")","v":0},"","",null,9,null,0,9,77]
[null,null,{"$f":"IFERROR(VLOOKUP(D926,'1_Causas_Levantadas'!C:D,2,0),\"\")","v":0},"","",null,10,null,0,10,77]
[null,null,{"$f":"IFERROR(VLOOKUP(D927,'1_Causas_Levantadas'!C:D,2,0),\"\")","v":0},"","",null,11,null,0,11,77]
[null,null,{"$f":"IFERROR(VLOOKUP(D928,'1_Causas_Levantadas'!C:D,2,0),\"\")","v":0},"","",null,12,null,0,12,77]
[null,null,{"$f":"IFERROR(VLOOKUP(D929,'1_Causas_Levantadas'!C:D,2,0),\"\")","v":0},"","",null,1,null,1,1,78]
[null,null,{"$f":"IFERROR(VLOOKUP(D930,'1_Causas_Levantadas'!C:D,2,0),\"\")","v":0},"","",null,2,null,0,2,78]
[null,null,{"$f":"IFERROR(VLOOKUP(D931,'1_Causas_Levantadas'!C:D,2,0),\"\")","v":0},"","",null,3,null,0,3,78]
[null,null,{"$f":"IFERROR(VLOOKUP(D932,'1_Causas_Levantadas'!C:D,2,0),\"\")","v":0},"","",null,4,null,0,4,78]
[null,null,{"$f":"IFERROR(VLOOKUP(D933,'1_Causas_Levantadas'!C:D,2,0),\"\")","v":0},"","",null,5,null,0,5,78]
[null,null,{"$f":"IFERROR(VLOOKUP(D934,'1_Causas_Levantadas'!C:D,2,0),\"\")","v":0},"","",null,6,null,0,6,78]
[null,null,{"$f":"IFERROR(VLOOKUP(D935,'1_Causas_Levantadas'!C:D,2,0),\"\")","v":0},"","",null,7,null,0,7,78]
[null,null,{"$f":"IFERROR(VLOOKUP(D936,'1_Causas_Levantadas'!C:D,2,0),\"\")","v":0},"","",null,8,null,0,8,78]
[null,null,{"$f":"IFERROR(VLOOKUP(D937,'1_Causas_Levantadas'!C:D,2,0),\"\")","v":0},"","",null,9,null,0,9,78]
[null,null,{"$f":"IFERROR(VLOOKUP(D938,'1_Causas_Levantadas'!C:D,2,0),\"\")","v":0},"","",null,10,null,0,10,78]
[null,null,{"$f":"IFERROR(VLOOKUP(D939,'1_Causas_Levantadas'!C:D,2,0),\"\")","v":0},"","",null,11,null,0,11,78]
[null,null,{"$f":"IFERROR(VLOOKUP(D940,'1_Causas_Levantadas'!C:D,2,0),\"\")","v":0},"","",null,12,null,0,12,78]
[null,null,{"$f":"IFERROR(VLOOKUP(D941,'1_Causas_Levantadas'!C:D,2,0),\"\")","v":0},"","",null,1,null,1,1,79]
[null,null,{"$f":"IFERROR(VLOOKUP(D942,'1_Causas_Levantadas'!C:D,2,0),\"\")","v":0},"","",null,2,null,0,2,79]
[null,null,{"$f":"IFERROR(VLOOKUP(D943,'1_Causas_Levantadas'!C:D,2,0),\"\")","v":0},"","",null,3,null,0,3,79]
[null,null,{"$f":"IFERROR(VLOOKUP(D944,'1_Causas_Levantadas'!C:D,2,0),\"\")","v":0},"","",null,4,null,0,4,79]
[null,null,{"$f":"IFERROR(VLOOKUP(D945,'1_Causas_Levantadas'!C:D,2,0),\"\")","v":0},"","",null,5,null,0,5,79]
[null,null,{"$f":"IFERROR(VLOOKUP(D946,'1_Causas_Levantadas'!C:D,2,0),\"\")","v":0},"","",null,6,null,0,6,79]
[null,null,{"$f":"IFERROR(VLOOKUP(D947,'1_Causas_Levantadas'!C:D,2,0),\"\")","v":0},"","",null,7,null,0,7,79]
[null,null,{"$f":"IFERROR(VLOOKUP(D948,'1_Causas_Levantadas'!C:D,2,0),\"\")","v":0},"","",null,8,null,0,8,79]
[null,null,{"$f":"IFERROR(VLOOKUP(D949,'1_Causas_Levantadas'!C:D,2,0),\"\")","v":0},"","",null,9,null,0,9,79]
[null,null,{"$f":"IFERROR(VLOOKUP(D950,'1_Causas_Levantadas'!C:D,2,0),\"\")","v":0},"","",null,10,null,0,10,79]
[null,null,{"$f":"IFERROR(VLOOKUP(D951,'1_Causas_Levantadas'!C:D,2,0),\"\")","v":0},"","",null,11,null,0,11,79]
[null,null,{"$f":"IFERROR(VLOOKUP(D952,'1_Causas_Levantadas'!C:D,2,0),\"\")","v":0},"","",null,12,null,0,12,79]
[null,null,{"$f":"IFERROR(VLOOKUP(D953,'1_Causas_Levantadas'!C:D,2,0),\"\")","v":0},"","",null,1,null,1,1,80]
[null,null,{"$f":"IFERROR(VLOOKUP(D954,'1_Causas_Levantadas'!C:D,2,0),\"\")","v":0},"","",null,2,null,0,2,80]
[null,null,{"$f":"IFERROR(VLOOKUP(D955,'1_Causas_Levantadas'!C:D,2,0),\"\")","v":0},"","",null,3,null,0,3,80]
[null,null,{"$f":"IFERROR(VLOOKUP(D956,'1_Causas_Levantadas'!C:D,2,0),\"\")","v":0},"","",null,4,null,0,4,80]
[null,null,{"$f":"IFERROR(VLOOKUP(D957,'1_Causas_Levantadas'!C:D,2,0),\"\")","v":0},"","",null,5,null,0,5,80]
[null,null,{"$f":"IFERROR(VLOOKUP(D958,'1_Causas_Levantadas'!C:D,2,0),\"\")","v":0},"","",null,6,null,0,6,80]
[null,null,{"$f":"IFERROR(VLOOKUP(D959,'1_Causas_Levantadas'!C:D,2,0),\"\")","v":0},"","",null,7,null,0,7,80]
[null,null,{"$f":"IFERROR(VLOOKUP(D960,'1_Causas_Levantadas'!C:D,2,0),\"\")","v":0},"","",null,8,null,0,8,80]
[null,null,{"$f":"IFERROR(VLOOKUP(D961,'1_Causas_Levantadas'!C:D,2,0),\"\")","v":0},"","",null,9,null,0,9,80]
[null,null,{"$f":"IFERROR(VLOOKUP(D962,'1_Causas_Levantadas'!C:D,2,0),\"\")","v":0},"","",null,10,null,0,10,80]
[null,null,{"$f":"IFERROR(VLOOKUP(D963,'1_Causas_Levantadas'!C:D,2,0),\"\")","v":0},"","",null,11,null,0,11,80]
[null,null,{"$f":"IFERROR(VLOOKUP(D964,'1_Causas_Levantadas'!C:D,2,0),\"\")","v":0},"","",null,12,null,0,12,80]
[null,null,{"$f":"IFERROR(VLOOKUP(D965,'1_Causas_Levantadas'!C:D,2,0),\"\")","v":0},"","",null,1,null,1,1,81]
[null,null,{"$f":"IFERROR(VLOOKUP(D966,'1_Causas_Levantadas'!C:D,2,0),\"\")","v":0},{"$f":"IF(K966<=$H$4,(IF(G965>0,G966,$G$5)),\"\")","v":""},{"$f":"IF(D966<>\"\",\"Participante \"&K966,\"\")","v":""},null,{"$f":"J966","v":2},null,{"$f":"IF(G966=$G$5,1,0)","v":0},2,{"$f":"I966+K965","v":81}]
[null,null,{"$f":"IFERROR(VLOOKUP(D967,'1_Causas_Levantadas'!C:D,2,0),\"\")","v":0},"","",null,3,null,0,{"$f":"IF(G966<$G$4,J966+1,1)","v":3},81]
[null,null,{"$f":"IFERROR(VLOOKUP(D968,'1_Causas_Levantadas'!C:D,2,0),\"\")","v":0},"","",null,4,null,0,4,81]
[null,null,{"$f":"IFERROR(VLOOKUP(D969,'1_Causas_Levantadas'!C:D,2,0),\"\")","v":0},"","",null,5,null,0,5,81]
[null,null,{"$f":"IFERROR(VLOOKUP(D970,'1_Causas_Levantadas'!C:D,2,0),\"\")","v":0},"","",null,6,null,0,6,81]
[null,null,{"$f":"IFERROR(VLOOKUP(D971,'1_Causas_Levantadas'!C:D,2,0),\"\")","v":0},"","",null,7,null,0,7,81]
[null,null,{"$f":"IFERROR(VLOOKUP(D972,'1_Causas_Levantadas'!C:D,2,0),\"\")","v":0},"","",null,8,null,0,8,81]
[null,null,{"$f":"IFERROR(VLOOKUP(D973,'1_Causas_Levantadas'!C:D,2,0),\"\")","v":0},"","",null,9,null,0,9,81]
[null,null,{"$f":"IFERROR(VLOOKUP(D974,'1_Causas_Levantadas'!C:D,2,0),\"\")","v":0},"","",null,10,null,0,10,81]
[null,null,{"$f":"IFERROR(VLOOKUP(D975,'1_Causas_Levantadas'!C:D,2,0),\"\")","v":0},"","",null,11,null,0,11,81]
[null,null,{"$f":"IFERROR(VLOOKUP(D976,'1_Causas_Levantadas'!C:D,2,0),\"\")","v":0},"","",null,12,null,0,12,81]
[null,null,{"$f":"IFERROR(VLOOKUP(D977,'1_Causas_Levantadas'!C:D,2,0),\"\")","v":0},"","",null,1,null,1,1,82]
[null,null,{"$f":"IFERROR(VLOOKUP(D978,'1_Causas_Levantadas'!C:D,2,0),\"\")","v":0},"","",null,2,null,0,2,82]
[null,null,{"$f":"IFERROR(VLOOKUP(D979,'1_Causas_Levantadas'!C:D,2,0),\"\")","v":0},"","",null,3,null,0,3,82]
[null,null,{"$f":"IFERROR(VLOOKUP(D980,'1_Causas_Levantadas'!C:D,2,0),\"\")","v":0},"","",null,4,null,0,4,82]
[null,null,{"$f":"IFERROR(VLOOKUP(D981,'1_Causas_Levantadas'!C:D,2,0),\"\")","v":0},"","",null,5,null,0,5,82]
[null,null,{"$f":"IFERROR(VLOOKUP(D982,'1_Causas_Levantadas'!C:D,2,0),\"\")","v":0},"","",null,6,null,0,6,82]
[null,null,{"$f":"IFERROR(VLOOKUP(D983,'1_Causas_Levantadas'!C:D,2,0),\"\")","v":0},"","",null,7,null,0,7,82]
[null,null,{"$f":"IFERROR(VLOOKUP(D984,'1_Causas_Levantadas'!C:D,2,0),\"\")","v":0},"","",null,8,null,0,8,82]
[null,null,{"$f":"IFERROR(VLOOKUP(D985,'1_Causas_Levantadas'!C:D,2,0),\"\")","v":0},"","",null,9,null,0,9,82]
[null,null,{"$f":"IFERROR(VLOOKUP(D986,'1_Causas_Levantadas'!C:D,2,0),\"\")","v":0},"","",null,10,null,0,10,82]
[null,null,{"$f":"IFERROR(VLOOKUP(D987,'1_Causas_Levantadas'!C:D,2,0),\"\")","v":0},"","",null,11,null,0,11,82]
[null,null,{"$f":"IFERROR(VLOOKUP(D988,'1_Causas_Levantadas'!C:D,2,0),\"\")","v":0},"","",null,12,null,0,12,82]
[null,null,{"$f":"IFERROR(VLOOKUP(D989,'1_Causas_Levantadas'!C:D,2,0),\"\")","v":0},"","",null,1,null,1,1,83]
[null,null,{"$f":"IFERROR(VLOOKUP(D990,'1_Causas_Levantadas'!C:D,2,0),\"\")","v":0},"","",null,2,null,0,2,83]
[null,null,{"$f":"IFERROR(VLOOKUP(D991,'1_Causas_Levantadas'!C:D,2,0),\"\")","v":0},"","",null,3,null,0,3,83]
[null,null,{"$f":"IFERROR(VLOOKUP(D992,'1_Causas_Levantadas'!C:D,2,0),\"\")","v":0},"","",null,4,null,0,4,83]
[null,null,{"$f":"IFERROR(VLOOKUP(D993,'1_Causas_Levantadas'!C:D,2,0),\"\")","v":0},"","",null,5,null,0,5,83]
[null,null,{"$f":"IFERROR(VLOOKUP(D994,'1_Causas_Levantadas'!C:D,2,0),\"\")","v":0},"","",null,6,null,0,6,83]
[null,null,{"$f":"IFERROR(VLOOKUP(D995,'1_Causas_Levantadas'!C:D,2,0),\"\")","v":0},"","",null,7,null,0,7,83]
[null,null,{"$f":"IFERROR(VLOOKUP(D996,'1_Causas_Levantadas'!C:D,2,0),\"\")","v":0},"","",null,8,null,0,8,83]
[null,null,{"$f":"IFERROR(VLOOKUP(D997,'1_Causas_Levantadas'!C:D,2,0),\"\")","v":0},"","",null,9,null,0,9,83]
[null,null,{"$f":"IFERROR(VLOOKUP(D998,'1_Causas_Levantadas'!C:D,2,0),\"\")","v":0},"","",null,10,null,0,10,83]
[null,null,{"$f":"IFERROR(VLOOKUP(D999,'1_Causas_Levantadas'!C:D,2,0),\"\")","v":0},"","",null,11,null,0,11,83]
[null,null,{"$f":"IFERROR(VLOOKUP(D1000,'1_Causas_Levantadas'!C:D,2,0),\"\")","v":0},"","",null,12,null,0,12,83]
[null,null,{"$f":"IFERROR(VLOOKUP(D1001,'1_Causas_Levantadas'!C:D,2,0),\"\")","v":0},"","",null,1,null,1,1,84]
[null,null,{"$f":"IFERROR(VLOOKUP(D1002,'1_Causas_Levantadas'!C:D,2,0),\"\")","v":0},"","",null,2,null,0,2,84]
[null,null,{"$f":"IFERROR(VLOOKUP(D1003,'1_Causas_Levantadas'!C:D,2,0),\"\")","v":0},"","",null,3,null,0,3,84]
[null,null,{"$f":"IFERROR(VLOOKUP(D1004,'1_Causas_Levantadas'!C:D,2,0),\"\")","v":0},"","",null,4,null,0,4,84]
[null,null,{"$f":"IFERROR(VLOOKUP(D1005,'1_Causas_Levantadas'!C:D,2,0),\"\")","v":0},"","",null,5,null,0,5,84]
[null,null,{"$f":"IFERROR(VLOOKUP(D1006,'1_Causas_Levantadas'!C:D,2,0),\"\")","v":0},"","",null,6,null,0,6,84]
[null,null,{"$f":"IFERROR(VLOOKUP(D1007,'1_Causas_Levantadas'!C:D,2,0),\"\")","v":0},"","",null,7,null,0,7,84]
[null,null,{"$f":"IFERROR(VLOOKUP(D1008,'1_Causas_Levantadas'!C:D,2,0),\"\")","v":0},"","",null,8,null,0,8,84]
[null,null,{"$f":"IFERROR(VLOOKUP(D1009,'1_Causas_Levantadas'!C:D,2,0),\"\")","v":0},"","",null,9,null,0,9,84]
[null,null,{"$f":"IFERROR(VLOOKUP(D1010,'1_Causas_Levantadas'!C:D,2,0),\"\")","v":0},"","",null,10,null,0,10,84]
[null,null,{"$f":"IFERROR(VLOOKUP(D1011,'1_Causas_Levantadas'!C:D,2,0),\"\")","v":0},"","",null,11,null,0,11,84]
[null,null,{"$f":"IFERROR(VLOOKUP(D1012,'1_Causas_Levantadas'!C:D,2,0),\"\")","v":0},"","",null,12,null,0,12,84]
[null,null,{"$f":"IFERROR(VLOOKUP(D1013,'1_Causas_Levantadas'!C:D,2,0),\"\")","v":0},"","",null,1,null,1,1,85]
[null,null,{"$f":"IFERROR(VLOOKUP(D1014,'1_Causas_Levantadas'!C:D,2,0),\"\")","v":0},"","",null,2,null,0,2,85]
[null,null,{"$f":"IFERROR(VLOOKUP(D1015,'1_Causas_Levantadas'!C:D,2,0),\"\")","v":0},"","",null,3,null,0,3,85]
[null,null,{"$f":"IFERROR(VLOOKUP(D1016,'1_Causas_Levantadas'!C:D,2,0),\"\")","v":0},"","",null,4,null,0,4,85]
[null,null,{"$f":"IFERROR(VLOOKUP(D1017,'1_Causas_Levantadas'!C:D,2,0),\"\")","v":0},"","",null,5,null,0,5,85]
[null,null,{"$f":"IFERROR(VLOOKUP(D1018,'1_Causas_Levantadas'!C:D,2,0),\"\")","v":0},"","",null,6,null,0,6,85]
[null,null,{"$f":"IFERROR(VLOOKUP(D1019,'1_Causas_Levantadas'!C:D,2,0),\"\")","v":0},"","",null,7,null,0,7,85]
[null,null,{"$f":"IFERROR(VLOOKUP(D1020,'1_Causas_Levantadas'!C:D,2,0),\"\")","v":0},"","",null,8,null,0,8,85]
[null,null,{"$f":"IFERROR(VLOOKUP(D1021,'1_Causas_Levantadas'!C:D,2,0),\"\")","v":0},"","",null,9,null,0,9,85]
[null,null,{"$f":"IFERROR(VLOOKUP(D1022,'1_Causas_Levantadas'!C:D,2,0),\"\")","v":0},"","",null,10,null,0,10,85]
[null,null,{"$f":"IFERROR(VLOOKUP(D1023,'1_Causas_Levantadas'!C:D,2,0),\"\")","v":0},"","",null,11,null,0,11,85]
[null,null,{"$f":"IFERROR(VLOOKUP(D1024,'1_Causas_Levantadas'!C:D,2,0),\"\")","v":0},"","",null,12,null,0,12,85]
[null,null,{"$f":"IFERROR(VLOOKUP(D1025,'1_Causas_Levantadas'!C:D,2,0),\"\")","v":0},"","",null,1,null,1,1,86]
[null,null,{"$f":"IFERROR(VLOOKUP(D1026,'1_Causas_Levantadas'!C:D,2,0),\"\")","v":0},"","",null,2,null,0,2,86]
[null,null,{"$f":"IFERROR(VLOOKUP(D1027,'1_Causas_Levantadas'!C:D,2,0),\"\")","v":0},"","",null,3,null,0,3,86]
[null,null,{"$f":"IFERROR(VLOOKUP(D1028,'1_Causas_Levantadas'!C:D,2,0),\"\")","v":0},"","",null,4,null,0,4,86]
[null,null,{"$f":"IFERROR(VLOOKUP(D1029,'1_Causas_Levantadas'!C:D,2,0),\"\")","v":0},"","",null,5,null,0,5,86]
[null,null,{"$f":"IFERROR(VLOOKUP(D1030,'1_Causas_Levantadas'!C:D,2,0),\"\")","v":0},{"$f":"IF(K1030<=$H$4,(IF(G1029>0,G1030,$G$5)),\"\")","v":""},{"$f":"IF(D1030<>\"\",\"Participante \"&K1030,\"\")","v":""},null,{"$f":"J1030","v":6},null,{"$f":"IF(G1030=$G$5,1,0)","v":0},6,{"$f":"I1030+K1029","v":86}]
[null,null,{"$f":"IFERROR(VLOOKUP(D1031,'1_Causas_Levantadas'!C:D,2,0),\"\")","v":0},"","",null,7,null,0,{"$f":"IF(G1030<$G$4,J1030+1,1)","v":7},86]
[null,null,{"$f":"IFERROR(VLOOKUP(D1032,'1_Causas_Levantadas'!C:D,2,0),\"\")","v":0},"","",null,8,null,0,8,86]
[null,null,{"$f":"IFERROR(VLOOKUP(D1033,'1_Causas_Levantadas'!C:D,2,0),\"\")","v":0},"","",null,9,null,0,9,86]
[null,null,{"$f":"IFERROR(VLOOKUP(D1034,'1_Causas_Levantadas'!C:D,2,0),\"\")","v":0},"","",null,10,null,0,10,86]
[null,null,{"$f":"IFERROR(VLOOKUP(D1035,'1_Causas_Levantadas'!C:D,2,0),\"\")","v":0},"","",null,11,null,0,11,86]
[null,null,{"$f":"IFERROR(VLOOKUP(D1036,'1_Causas_Levantadas'!C:D,2,0),\"\")","v":0},"","",null,12,null,0,12,86]
[null,null,{"$f":"IFERROR(VLOOKUP(D1037,'1_Causas_Levantadas'!C:D,2,0),\"\")","v":0},"","",null,1,null,1,1,87]
[null,null,{"$f":"IFERROR(VLOOKUP(D1038,'1_Causas_Levantadas'!C:D,2,0),\"\")","v":0},"","",null,2,null,0,2,87]
[null,null,{"$f":"IFERROR(VLOOKUP(D1039,'1_Causas_Levantadas'!C:D,2,0),\"\")","v":0},"","",null,3,null,0,3,87]
[null,null,{"$f":"IFERROR(VLOOKUP(D1040,'1_Causas_Levantadas'!C:D,2,0),\"\")","v":0},"","",null,4,null,0,4,87]
[null,null,{"$f":"IFERROR(VLOOKUP(D1041,'1_Causas_Levantadas'!C:D,2,0),\"\")","v":0},"","",null,5,null,0,5,87]
[null,null,{"$f":"IFERROR(VLOOKUP(D1042,'1_Causas_Levantadas'!C:D,2,0),\"\")","v":0},"","",null,6,null,0,6,87]
[null,null,{"$f":"IFERROR(VLOOKUP(D1043,'1_Causas_Levantadas'!C:D,2,0),\"\")","v":0},"","",null,7,null,0,7,87]
[null,null,{"$f":"IFERROR(VLOOKUP(D1044,'1_Causas_Levantadas'!C:D,2,0),\"\")","v":0},"","",null,8,null,0,8,87]
[null,null,{"$f":"IFERROR(VLOOKUP(D1045,'1_Causas_Levantadas'!C:D,2,0),\"\")","v":0},"","",null,9,null,0,9,87]
[null,null,{"$f":"IFERROR(VLOOKUP(D1046,'1_Causas_Levantadas'!C:D,2,0),\"\")","v":0},"","",null,10,null,0,10,87]
[null,null,{"$f":"IFERROR(VLOOKUP(D1047,'1_Causas_Levantadas'!C:D,2,0),\"\")","v":0},"","",null,11,null,0,11,87]
[null,null,{"$f":"IFERROR(VLOOKUP(D1048,'1_Causas_Levantadas'!C:D,2,0),\"\")","v":0},"","",null,12,null,0,12,87]
[null,null,{"$f":"IFERROR(VLOOKUP(D1049,'1_Causas_Levantadas'!C:D,2,0),\"\")","v":0},"","",null,1,null,1,1,88]
[null,null,{"$f":"IFERROR(VLOOKUP(D1050,'1_Causas_Levantadas'!C:D,2,0),\"\")","v":0},"","",null,2,null,0,2,88]
[null,null,{"$f":"IFERROR(VLOOKUP(D1051,'1_Causas_Levantadas'!C:D,2,0),\"\")","v":0},"","",null,3,null,0,3,88]
[null,null,{"$f":"IFERROR(VLOOKUP(D1052,'1_Causas_Levantadas'!C:D,2,0),\"\")","v":0},"","",null,4,null,0,4,88]
[null,null,{"$f":"IFERROR(VLOOKUP(D1053,'1_Causas_Levantadas'!C:D,2,0),\"\")","v":0},"","",null,5,null,0,5,88]
[null,null,{"$f":"IFERROR(VLOOKUP(D1054,'1_Causas_Levantadas'!C:D,2,0),\"\")","v":0},"","",null,6,null,0,6,88]
[null,null,{"$f":"IFERROR(VLOOKUP(D1055,'1_Causas_Levantadas'!C:D,2,0),\"\")","v":0},"","",null,7,null,0,7,88]
[null,null,{"$f":"IFERROR(VLOOKUP(D1056,'1_Causas_Levantadas'!C:D,2,0),\"\")","v":0},"","",null,8,null,0,8,88]
[null,null,{"$f":"IFERROR(VLOOKUP(D1057,'1_Causas_Levantadas'!C:D,2,0),\"\")","v":0},"","",null,9,null,0,9,88]
[null,null,{"$f":"IFERROR(VLOOKUP(D1058,'1_Causas_Levantadas'!C:D,2,0),\"\")","v":0},"","",null,10,null,0,10,88]
[null,null,{"$f":"IFERROR(VLOOKUP(D1059,'1_Causas_Levantadas'!C:D,2,0),\"\")","v":0},"","",null,11,null,0,11,88]
[null,null,{"$f":"IFERROR(VLOOKUP(D1060,'1_Causas_Levantadas'!C:D,2,0),\"\")","v":0},"","",null,12,null,0,12,88]
[null,null,{"$f":"IFERROR(VLOOKUP(D1061,'1_Causas_Levantadas'!C:D,2,0),\"\")","v":0},"","",null,1,null,1,1,89]
[null,null,{"$f":"IFERROR(VLOOKUP(D1062,'1_Causas_Levantadas'!C:D,2,0),\"\")","v":0},"","",null,2,null,0,2,89]
[null,null,{"$f":"IFERROR(VLOOKUP(D1063,'1_Causas_Levantadas'!C:D,2,0),\"\")","v":0},"","",null,3,null,0,3,89]
[null,null,{"$f":"IFERROR(VLOOKUP(D1064,'1_Causas_Levantadas'!C:D,2,0),\"\")","v":0},"","",null,4,null,0,4,89]
[null,null,{"$f":"IFERROR(VLOOKUP(D1065,'1_Causas_Levantadas'!C:D,2,0),\"\")","v":0},"","",null,5,null,0,5,89]
[null,null,{"$f":"IFERROR(VLOOKUP(D1066,'1_Causas_Levantadas'!C:D,2,0),\"\")","v":0},"","",null,6,null,0,6,89]
[null,null,{"$f":"IFERROR(VLOOKUP(D1067,'1_Causas_Levantadas'!C:D,2,0),\"\")","v":0},"","",null,7,null,0,7,89]
[null,null,{"$f":"IFERROR(VLOOKUP(D1068,'1_Causas_Levantadas'!C:D,2,0),\"\")","v":0},"","",null,8,null,0,8,89]
[null,null,{"$f":"IFERROR(VLOOKUP(D1069,'1_Causas_Levantadas'!C:D,2,0),\"\")","v":0},"","",null,9,null,0,9,89]
[null,null,{"$f":"IFERROR(VLOOKUP(D1070,'1_Causas_Levantadas'!C:D,2,0),\"\")","v":0},"","",null,10,null,0,10,89]
[null,null,{"$f":"IFERROR(VLOOKUP(D1071,'1_Causas_Levantadas'!C:D,2,0),\"\")","v":0},"","",null,11,null,0,11,89]
[null,null,{"$f":"IFERROR(VLOOKUP(D1072,'1_Causas_Levantadas'!C:D,2,0),\"\")","v":0},"","",null,12,null,0,12,89]
[null,null,{"$f":"IFERROR(VLOOKUP(D1073,'1_Causas_Levantadas'!C:D,2,0),\"\")","v":0},"","",null,1,null,1,1,90]
[null,null,{"$f":"IFERROR(VLOOKUP(D1074,'1_Causas_Levantadas'!C:D,2,0),\"\")","v":0},"","",null,2,null,0,2,90]
[null,null,{"$f":"IFERROR(VLOOKUP(D1075,'1_Causas_Levantadas'!C:D,2,0),\"\")","v":0},"","",null,3,null,0,3,90]
[null,null,{"$f":"IFERROR(VLOOKUP(D1076,'1_Causas_Levantadas'!C:D,2,0),\"\")","v":0},"","",null,4,null,0,4,90]
[null,null,{"$f":"IFERROR(VLOOKUP(D1077,'1_Causas_Levantadas'!C:D,2,0),\"\")","v":0},"","",null,5,null,0,5,90]
[null,null,{"$f":"IFERROR(VLOOKUP(D1078,'1_Causas_Levantadas'!C:D,2,0),\"\")","v":0},"","",null,6,null,0,6,90]
[null,null,{"$f":"IFERROR(VLOOKUP(D1079,'1_Causas_Levantadas'!C:D,2,0),\"\")","v":0},"","",null,7,null,0,7,90]
[null,null,{"$f":"IFERROR(VLOOKUP(D1080,'1_Causas_Levantadas'!C:D,2,0),\"\")","v":0},"","",null,8,null,0,8,90]
[null,null,{"$f":"IFERROR(VLOOKUP(D1081,'1_Causas_Levantadas'!C:D,2,0),\"\")","v":0},"","",null,9,null,0,9,90]
[null,null,{"$f":"IFERROR(VLOOKUP(D1082,'1_Causas_Levantadas'!C:D,2,0),\"\")","v":0},"","",null,10,null,0,10,90]
[null,null,{"$f":"IFERROR(VLOOKUP(D1083,'1_Causas_Levantadas'!C:D,2,0),\"\")","v":0},"","",null,11,null,0,11,90]
[null,null,{"$f":"IFERROR(VLOOKUP(D1084,'1_Causas_Levantadas'!C:D,2,0),\"\")","v":0},"","",null,12,null,0,12,90]
[null,null,{"$f":"IFERROR(VLOOKUP(D1085,'1_Causas_Levantadas'!C:D,2,0),\"\")","v":0},"","",null,1,null,1,1,91]
[null,null,{"$f":"IFERROR(VLOOKUP(D1086,'1_Causas_Levantadas'!C:D,2,0),\"\")","v":0},"","",null,2,null,0,2,91]
[null,null,{"$f":"IFERROR(VLOOKUP(D1087,'1_Causas_Levantadas'!C:D,2,0),\"\")","v":0},"","",null,3,null,0,3,91]
[null,null,{"$f":"IFERROR(VLOOKUP(D1088,'1_Causas_Levantadas'!C:D,2,0),\"\")","v":0},"","",null,4,null,0,4,91]
[null,null,{"$f":"IFERROR(VLOOKUP(D1089,'1_Causas_Levantadas'!C:D,2,0),\"\")","v":0},"","",null,5,null,0,5,91]
[null,null,{"$f":"IFERROR(VLOOKUP(D1090,'1_Causas_Levantadas'!C:D,2,0),\"\")","v":0},"","",null,6,null,0,6,91]
[null,null,{"$f":"IFERROR(VLOOKUP(D1091,'1_Causas_Levantadas'!C:D,2,0),\"\")","v":0},"","",null,7,null,0,7,91]
[null,null,{"$f":"IFERROR(VLOOKUP(D1092,'1_Causas_Levantadas'!C:D,2,0),\"\")","v":0},"","",null,8,null,0,8,91]
[null,null,{"$f":"IFERROR(VLOOKUP(D1093,'1_Causas_Levantadas'!C:D,2,0),\"\")","v":0},"","",null,9,null,0,9,91]
[null,null,{"$f":"IFERROR(VLOOKUP(D1094,'1_Causas_Levantadas'!C:D,2,0),\"\")","v":0},{"$f":"IF(K1094<=$H$4,(IF(G1093>0,G1094,$G$5)),\"\")","v":""},{"$f":"IF(D1094<>\"\",\"Participante \"&K1094,\"\")","v":""},null,{"$f":"J1094","v":10},null,{"$f":"IF(G1094=$G$5,1,0)","v":0},10,{"$f":"I1094+K1093","v":91}]
[null,null,{"$f":"IFERROR(VLOOKUP(D1095,'1_Causas_Levantadas'!C:D,2,0),\"\")","v":0},"","",null,11,null,0,{"$f":"IF(G1094<$G$4,J1094+1,1)","v":11},91]
[null,null,{"$f":"IFERROR(VLOOKUP(D1096,'1_Causas_Levantadas'!C:D,2,0),\"\")","v":0},"","",null,12,null,0,12,91]
[null,null,{"$f":"IFERROR(VLOOKUP(D1097,'1_Causas_Levantadas'!C:D,2,0),\"\")","v":0},"","",null,1,null,1,1,92]
[null,null,{"$f":"IFERROR(VLOOKUP(D1098,'1_Causas_Levantadas'!C:D,2,0),\"\")","v":0},"","",null,2,null,0,2,92]
[null,null,{"$f":"IFERROR(VLOOKUP(D1099,'1_Causas_Levantadas'!C:D,2,0),\"\")","v":0},"","",null,3,null,0,3,92]
[null,null,{"$f":"IFERROR(VLOOKUP(D1100,'1_Causas_Levantadas'!C:D,2,0),\"\")","v":0},"","",null,4,null,0,4,92]
[null,null,{"$f":"IFERROR(VLOOKUP(D1101,'1_Causas_Levantadas'!C:D,2,0),\"\")","v":0},"","",null,5,null,0,5,92]
[null,null,{"$f":"IFERROR(VLOOKUP(D1102,'1_Causas_Levantadas'!C:D,2,0),\"\")","v":0},"","",null,6,null,0,6,92]
[null,null,{"$f":"IFERROR(VLOOKUP(D1103,'1_Causas_Levantadas'!C:D,2,0),\"\")","v":0},"","",null,7,null,0,7,92]
[null,null,{"$f":"IFERROR(VLOOKUP(D1104,'1_Causas_Levantadas'!C:D,2,0),\"\")","v":0},"","",null,8,null,0,8,92]
[null,null,{"$f":"IFERROR(VLOOKUP(D1105,'1_Causas_Levantadas'!C:D,2,0),\"\")","v":0},"","",null,9,null,0,9,92]
[null,null,{"$f":"IFERROR(VLOOKUP(D1106,'1_Causas_Levantadas'!C:D,2,0),\"\")","v":0},"","",null,10,null,0,10,92]
[null,null,{"$f":"IFERROR(VLOOKUP(D1107,'1_Causas_Levantadas'!C:D,2,0),\"\")","v":0},"","",null,11,null,0,11,92]
[null,null,{"$f":"IFERROR(VLOOKUP(D1108,'1_Causas_Levantadas'!C:D,2,0),\"\")","v":0},"","",null,12,null,0,12,92]
[null,null,{"$f":"IFERROR(VLOOKUP(D1109,'1_Causas_Levantadas'!C:D,2,0),\"\")","v":0},"","",null,1,null,1,1,93]
[null,null,{"$f":"IFERROR(VLOOKUP(D1110,'1_Causas_Levantadas'!C:D,2,0),\"\")","v":0},"","",null,2,null,0,2,93]
[null,null,{"$f":"IFERROR(VLOOKUP(D1111,'1_Causas_Levantadas'!C:D,2,0),\"\")","v":0},"","",null,3,null,0,3,93]
[null,null,{"$f":"IFERROR(VLOOKUP(D1112,'1_Causas_Levantadas'!C:D,2,0),\"\")","v":0},"","",null,4,null,0,4,93]
[null,null,{"$f":"IFERROR(VLOOKUP(D1113,'1_Causas_Levantadas'!C:D,2,0),\"\")","v":0},"","",null,5,null,0,5,93]
[null,null,{"$f":"IFERROR(VLOOKUP(D1114,'1_Causas_Levantadas'!C:D,2,0),\"\")","v":0},"","",null,6,null,0,6,93]
[null,null,{"$f":"IFERROR(VLOOKUP(D1115,'1_Causas_Levantadas'!C:D,2,0),\"\")","v":0},"","",null,7,null,0,7,93]
[null,null,{"$f":"IFERROR(VLOOKUP(D1116,'1_Causas_Levantadas'!C:D,2,0),\"\")","v":0},"","",null,8,null,0,8,93]
[null,null,{"$f":"IFERROR(VLOOKUP(D1117,'1_Causas_Levantadas'!C:D,2,0),\"\")","v":0},"","",null,9,null,0,9,93]
[null,null,{"$f":"IFERROR(VLOOKUP(D1118,'1_Causas_Levantadas'!C:D,2,0),\"\")","v":0},"","",null,10,null,0,10,93]
[null,null,{"$f":"IFERROR(VLOOKUP(D1119,'1_Causas_Levantadas'!C:D,2,0),\"\")","v":0},"","",null,11,null,0,11,93]
[null,null,{"$f":"IFERROR(VLOOKUP(D1120,'1_Causas_Levantadas'!C:D,2,0),\"\")","v":0},"","",null,12,null,0,12,93]
[null,null,{"$f":"IFERROR(VLOOKUP(D1121,'1_Causas_Levantadas'!C:D,2,0),\"\")","v":0},"","",null,1,null,1,1,94]
[null,null,{"$f":"IFERROR(VLOOKUP(D1122,'1_Causas_Levantadas'!C:D,2,0),\"\")","v":0},"","",null,2,null,0,2,94]
[null,null,{"$f":"IFERROR(VLOOKUP(D1123,'1_Causas_Levantadas'!C:D,2,0),\"\")","v":0},"","",null,3,null,0,3,94]
[null,null,{"$f":"IFERROR(VLOOKUP(D1124,'1_Causas_Levantadas'!C:D,2,0),\"\")","v":0},"","",null,4,null,0,4,94]
[null,null,{"$f":"IFERROR(VLOOKUP(D1125,'1_Causas_Levantadas'!C:D,2,0),\"\")","v":0},"","",null,5,null,0,5,94]
[null,null,{"$f":"IFERROR(VLOOKUP(D1126,'1_Causas_Levantadas'!C:D,2,0),\"\")","v":0},"","",null,6,null,0,6,94]
[null,null,{"$f":"IFERROR(VLOOKUP(D1127,'1_Causas_Levantadas'!C:D,2,0),\"\")","v":0},"","",null,7,null,0,7,94]
[null,null,{"$f":"IFERROR(VLOOKUP(D1128,'1_Causas_Levantadas'!C:D,2,0),\"\")","v":0},"","",null,8,null,0,8,94]
[null,null,{"$f":"IFERROR(VLOOKUP(D1129,'1_Causas_Levantadas'!C:D,2,0),\"\")","v":0},"","",null,9,null,0,9,94]
[null,null,{"$f":"IFERROR(VLOOKUP(D1130,'1_Causas_Levantadas'!C:D,2,0),\"\")","v":0},"","",null,10,null,0,10,94]
[null,null,{"$f":"IFERROR(VLOOKUP(D1131,'1_Causas_Levantadas'!C:D,2,0),\"\")","v":0},"","",null,11,null,0,11,94]
[null,null,{"$f":"IFERROR(VLOOKUP(D1132,'1_Causas_Levantadas'!C:D,2,0),\"\")","v":0},"","",null,12,null,0,12,94]
[null,null,{"$f":"IFERROR(VLOOKUP(D1133,'1_Causas_Levantadas'!C:D,2,0),\"\")","v":0},"","",null,1,null,1,1,95]
[null,null,{"$f":"IFERROR(VLOOKUP(D1134,'1_Causas_Levantadas'!C:D,2,0),\"\")","v":0},"","",null,2,null,0,2,95]
[null,null,{"$f":"IFERROR(VLOOKUP(D1135,'1_Causas_Levantadas'!C:D,2,0),\"\")","v":0},"","",null,3,null,0,3,95]
[null,null,{"$f":"IFERROR(VLOOKUP(D1136,'1_Causas_Levantadas'!C:D,2,0),\"\")","v":0},"","",null,4,null,0,4,95]
[null,null,{"$f":"IFERROR(VLOOKUP(D1137,'1_Causas_Levantadas'!C:D,2,0),\"\")","v":0},"","",null,5,null,0,5,95]
[null,null,{"$f":"IFERROR(VLOOKUP(D1138,'1_Causas_Levantadas'!C:D,2,0),\"\")","v":0},"","",null,6,null,0,6,95]
[null,null,{"$f":"IFERROR(VLOOKUP(D1139,'1_Causas_Levantadas'!C:D,2,0),\"\")","v":0},"","",null,7,null,0,7,95]
[null,null,{"$f":"IFERROR(VLOOKUP(D1140,'1_Causas_Levantadas'!C:D,2,0),\"\")","v":0},"","",null,8,null,0,8,95]
[null,null,{"$f":"IFERROR(VLOOKUP(D1141,'1_Causas_Levantadas'!C:D,2,0),\"\")","v":0},"","",null,9,null,0,9,95]
[null,null,{"$f":"IFERROR(VLOOKUP(D1142,'1_Causas_Levantadas'!C:D,2,0),\"\")","v":0},"","",null,10,null,0,10,95]
[null,null,{"$f":"IFERROR(VLOOKUP(D1143,'1_Causas_Levantadas'!C:D,2,0),\"\")","v":0},"","",null,11,null,0,11,95]
[null,null,{"$f":"IFERROR(VLOOKUP(D1144,'1_Causas_Levantadas'!C:D,2,0),\"\")","v":0},"","",null,12,null,0,12,95]
[null,null,{"$f":"IFERROR(VLOOKUP(D1145,'1_Causas_Levantadas'!C:D,2,0),\"\")","v":0},"","",null,1,null,1,1,96]
[null,null,{"$f":"IFERROR(VLOOKUP(D1146,'1_Causas_Levantadas'!C:D,2,0),\"\")","v":0},"","",null,2,null,0,2,96]
[null,null,{"$f":"IFERROR(VLOOKUP(D1147,'1_Causas_Levantadas'!C:D,2,0),\"\")","v":0},"","",null,3,null,0,3,96]
[null,null,{"$f":"IFERROR(VLOOKUP(D1148,'1_Causas_Levantadas'!C:D,2,0),\"\")","v":0},"","",null,4,null,0,4,96]
[null,null,{"$f":"IFERROR(VLOOKUP(D1149,'1_Causas_Levantadas'!C:D,2,0),\"\")","v":0},"","",null,5,null,0,5,96]
[null,null,{"$f":"IFERROR(VLOOKUP(D1150,'1_Causas_Levantadas'!C:D,2,0),\"\")","v":0},"","",null,6,null,0,6,96]
[null,null,{"$f":"IFERROR(VLOOKUP(D1151,'1_Causas_Levantadas'!C:D,2,0),\"\")","v":0},"","",null,7,null,0,7,96]
[null,null,{"$f":"IFERROR(VLOOKUP(D1152,'1_Causas_Levantadas'!C:D,2,0),\"\")","v":0},"","",null,8,null,0,8,96]
[null,null,{"$f":"IFERROR(VLOOKUP(D1153,'1_Causas_Levantadas'!C:D,2,0),\"\")","v":0},"","",null,9,null,0,9,96]
[null,null,{"$f":"IFERROR(VLOOKUP(D1154,'1_Causas_Levantadas'!C:D,2,0),\"\")","v":0},"","",null,10,null,0,10,96]
[null,null,{"$f":"IFERROR(VLOOKUP(D1155,'1_Causas_Levantadas'!C:D,2,0),\"\")","v":0},"","",null,11,null,0,11,96]
[null,null,{"$f":"IFERROR(VLOOKUP(D1156,'1_Causas_Levantadas'!C:D,2,0),\"\")","v":0},"","",null,12,null,0,12,96]
[null,null,{"$f":"IFERROR(VLOOKUP(D1157,'1_Causas_Levantadas'!C:D,2,0),\"\")","v":0},"","",null,1,null,1,1,97]
[null,null,{"$f":"IFERROR(VLOOKUP(D1158,'1_Causas_Levantadas'!C:D,2,0),\"\")","v":0},{"$f":"IF(K1158<=$H$4,(IF(G1157>0,G1158,$G$5)),\"\")","v":""},{"$f":"IF(D1158<>\"\",\"Participante \"&K1158,\"\")","v":""},null,{"$f":"J1158","v":2},null,{"$f":"IF(G1158=$G$5,1,0)","v":0},2,{"$f":"I1158+K1157","v":97}]
[null,null,{"$f":"IFERROR(VLOOKUP(D1159,'1_Causas_Levantadas'!C:D,2,0),\"\")","v":0},"","",null,3,null,0,{"$f":"IF(G1158<$G$4,J1158+1,1)","v":3},97]
[null,null,{"$f":"IFERROR(VLOOKUP(D1160,'1_Causas_Levantadas'!C:D,2,0),\"\")","v":0},"","",null,4,null,0,4,97]
[null,null,{"$f":"IFERROR(VLOOKUP(D1161,'1_Causas_Levantadas'!C:D,2,0),\"\")","v":0},"","",null,5,null,0,5,97]
[null,null,{"$f":"IFERROR(VLOOKUP(D1162,'1_Causas_Levantadas'!C:D,2,0),\"\")","v":0},"","",null,6,null,0,6,97]
[null,null,{"$f":"IFERROR(VLOOKUP(D1163,'1_Causas_Levantadas'!C:D,2,0),\"\")","v":0},"","",null,7,null,0,7,97]
[null,null,{"$f":"IFERROR(VLOOKUP(D1164,'1_Causas_Levantadas'!C:D,2,0),\"\")","v":0},"","",null,8,null,0,8,97]
[null,null,{"$f":"IFERROR(VLOOKUP(D1165,'1_Causas_Levantadas'!C:D,2,0),\"\")","v":0},"","",null,9,null,0,9,97]
[null,null,{"$f":"IFERROR(VLOOKUP(D1166,'1_Causas_Levantadas'!C:D,2,0),\"\")","v":0},"","",null,10,null,0,10,97]
[null,null,{"$f":"IFERROR(VLOOKUP(D1167,'1_Causas_Levantadas'!C:D,2,0),\"\")","v":0},"","",null,11,null,0,11,97]
[null,null,{"$f":"IFERROR(VLOOKUP(D1168,'1_Causas_Levantadas'!C:D,2,0),\"\")","v":0},"","",null,12,null,0,12,97]
[null,null,{"$f":"IFERROR(VLOOKUP(D1169,'1_Causas_Levantadas'!C:D,2,0),\"\")","v":0},"","",null,1,null,1,1,98]
[null,null,{"$f":"IFERROR(VLOOKUP(D1170,'1_Causas_Levantadas'!C:D,2,0),\"\")","v":0},"","",null,2,null,0,2,98]
[null,null,{"$f":"IFERROR(VLOOKUP(D1171,'1_Causas_Levantadas'!C:D,2,0),\"\")","v":0},"","",null,3,null,0,3,98]
[null,null,{"$f":"IFERROR(VLOOKUP(D1172,'1_Causas_Levantadas'!C:D,2,0),\"\")","v":0},"","",null,4,null,0,4,98]
[null,null,{"$f":"IFERROR(VLOOKUP(D1173,'1_Causas_Levantadas'!C:D,2,0),\"\")","v":0},"","",null,5,null,0,5,98]
[null,null,{"$f":"IFERROR(VLOOKUP(D1174,'1_Causas_Levantadas'!C:D,2,0),\"\")","v":0},"","",null,6,null,0,6,98]
[null,null,{"$f":"IFERROR(VLOOKUP(D1175,'1_Causas_Levantadas'!C:D,2,0),\"\")","v":0},"","",null,7,null,0,7,98]
[null,null,{"$f":"IFERROR(VLOOKUP(D1176,'1_Causas_Levantadas'!C:D,2,0),\"\")","v":0},"","",null,8,null,0,8,98]
[null,null,{"$f":"IFERROR(VLOOKUP(D1177,'1_Causas_Levantadas'!C:D,2,0),\"\")","v":0},"","",null,9,null,0,9,98]
[null,null,{"$f":"IFERROR(VLOOKUP(D1178,'1_Causas_Levantadas'!C:D,2,0),\"\")","v":0},"","",null,10,null,0,10,98]
[null,null,{"$f":"IFERROR(VLOOKUP(D1179,'1_Causas_Levantadas'!C:D,2,0),\"\")","v":0},"","",null,11,null,0,11,98]
[null,null,{"$f":"IFERROR(VLOOKUP(D1180,'1_Causas_Levantadas'!C:D,2,0),\"\")","v":0},"","",null,12,null,0,12,98]
[null,null,{"$f":"IFERROR(VLOOKUP(D1181,'1_Causas_Levantadas'!C:D,2,0),\"\")","v":0},"","",null,1,null,1,1,99]
[null,null,{"$f":"IFERROR(VLOOKUP(D1182,'1_Causas_Levantadas'!C:D,2,0),\"\")","v":0},"","",null,2,null,0,2,99]
[null,null,{"$f":"IFERROR(VLOOKUP(D1183,'1_Causas_Levantadas'!C:D,2,0),\"\")","v":0},"","",null,3,null,0,3,99]
[null,null,{"$f":"IFERROR(VLOOKUP(D1184,'1_Causas_Levantadas'!C:D,2,0),\"\")","v":0},"","",null,4,null,0,4,99]
[null,null,{"$f":"IFERROR(VLOOKUP(D1185,'1_Causas_Levantadas'!C:D,2,0),\"\")","v":0},"","",null,5,null,0,5,99]
[null,null,{"$f":"IFERROR(VLOOKUP(D1186,'1_Causas_Levantadas'!C:D,2,0),\"\")","v":0},"","",null,6,null,0,6,99]
[null,null,{"$f":"IFERROR(VLOOKUP(D1187,'1_Causas_Levantadas'!C:D,2,0),\"\")","v":0},"","",null,7,null,0,7,99]
[null,null,{"$f":"IFERROR(VLOOKUP(D1188,'1_Causas_Levantadas'!C:D,2,0),\"\")","v":0},"","",null,8,null,0,8,99]
[null,null,{"$f":"IFERROR(VLOOKUP(D1189,'1_Causas_Levantadas'!C:D,2,0),\"\")","v":0},"","",null,9,null,0,9,99]
[null,null,{"$f":"IFERROR(VLOOKUP(D1190,'1_Causas_Levantadas'!C:D,2,0),\"\")","v":0},"","",null,10,null,0,10,99]
[null,null,{"$f":"IFERROR(VLOOKUP(D1191,'1_Causas_Levantadas'!C:D,2,0),\"\")","v":0},"","",null,11,null,0,11,99]
[null,null,{"$f":"IFERROR(VLOOKUP(D1192,'1_Causas_Levantadas'!C:D,2,0),\"\")","v":0},"","",null,12,null,0,12,99]
[null,null,{"$f":"IFERROR(VLOOKUP(D1193,'1_Causas_Levantadas'!C:D,2,0),\"\")","v":0},"","",null,1,null,1,1,100]
[null,null,{"$f":"IFERROR(VLOOKUP(D1194,'1_Causas_Levantadas'!C:D,2,0),\"\")","v":0},"","",null,2,null,0,2,100]
[null,null,{"$f":"IFERROR(VLOOKUP(D1195,'1_Causas_Levantadas'!C:D,2,0),\"\")","v":0},"","",null,3,null,0,3,100]
[null,null,{"$f":"IFERROR(VLOOKUP(D1196,'1_Causas_Levantadas'!C:D,2,0),\"\")","v":0},"","",null,4,null,0,4,100]
[null,null,{"$f":"IFERROR(VLOOKUP(D1197,'1_Causas_Levantadas'!C:D,2,0),\"\")","v":0},"","",null,5,null,0,5,100]
[null,null,{"$f":"IFERROR(VLOOKUP(D1198,'1_Causas_Levantadas'!C:D,2,0),\"\")","v":0},"","",null,6,null,0,6,100]
[null,null,{"$f":"IFERROR(VLOOKUP(D1199,'1_Causas_Levantadas'!C:D,2,0),\"\")","v":0},"","",null,7,null,0,7,100]
[null,null,{"$f":"IFERROR(VLOOKUP(D1200,'1_Causas_Levantadas'!C:D,2,0),\"\")","v":0},"","",null,8,null,0,8,100]
[null,null,{"$f":"IFERROR(VLOOKUP(D1201,'1_Causas_Levantadas'!C:D,2,0),\"\")","v":0},"","",null,9,null,0,9,100]
[null,null,{"$f":"IFERROR(VLOOKUP(D1202,'1_Causas_Levantadas'!C:D,2,0),\"\")","v":0},"","",null,10,null,0,10,100]
[null,null,{"$f":"IFERROR(VLOOKUP(D1203,'1_Causas_Levantadas'!C:D,2,0),\"\")","v":0},"","",null,11,null,0,11,100]
[null,null,{"$f":"IFERROR(VLOOKUP(D1204,'1_Causas_Levantadas'!C:D,2,0),\"\")","v":0},"","",null,12,null,0,12,100]
[null,null,{"$f":"IFERROR(VLOOKUP(D1205,'1_Causas_Levantadas'!C:D,2,0),\"\")","v":0},"","",null,1,null,1,1,101]
[null,null,{"$f":"IFERROR(VLOOKUP(D1206,'1_Causas_Levantadas'!C:D,2,0),\"\")","v":0},"","",null,2,null,0,2,101]
[null,null,{"$f":"IFERROR(VLOOKUP(D1207,'1_Causas_Levantadas'!C:D,2,0),\"\")","v":0},"","",null,3,null,0,3,101]
[null,null,{"$f":"IFERROR(VLOOKUP(D1208,'1_Causas_Levantadas'!C:D,2,0),\"\")","v":0},"","",null,4,null,0,4,101]
[null,null,{"$f":"IFERROR(VLOOKUP(D1209,'1_Causas_Levantadas'!C:D,2,0),\"\")","v":0},"","",null,5,null,0,5,101]
[null,null,{"$f":"IFERROR(VLOOKUP(D1210,'1_Causas_Levantadas'!C:D,2,0),\"\")","v":0},"","",null,6,null,0,6,101]
[null,null,{"$f":"IFERROR(VLOOKUP(D1211,'1_Causas_Levantadas'!C:D,2,0),\"\")","v":0},"","",null,7,null,0,7,101]
[null,null,{"$f":"IFERROR(VLOOKUP(D1212,'1_Causas_Levantadas'!C:D,2,0),\"\")","v":0},"","",null,8,null,0,8,101]
[null,null,{"$f":"IFERROR(VLOOKUP(D1213,'1_Causas_Levantadas'!C:D,2,0),\"\")","v":0},"","",null,9,null,0,9,101]
[null,null,{"$f":"IFERROR(VLOOKUP(D1214,'1_Causas_Levantadas'!C:D,2,0),\"\")","v":0},"","",null,10,null,0,10,101]
[null,null,{"$f":"IFERROR(VLOOKUP(D1215,'1_Causas_Levantadas'!C:D,2,0),\"\")","v":0},"","",null,11,null,0,11,101]
[null,null,{"$f":"IFERROR(VLOOKUP(D1216,'1_Causas_Levantadas'!C:D,2,0),\"\")","v":0},"","",null,12,null,0,12,101]
[null,null,{"$f":"IFERROR(VLOOKUP(D1217,'1_Causas_Levantadas'!C:D,2,0),\"\")","v":0},"","",null,1,null,1,1,102]
[null,null,{"$f":"IFERROR(VLOOKUP(D1218,'1_Causas_Levantadas'!C:D,2,0),\"\")","v":0},"","",null,2,null,0,2,102]
[null,null,{"$f":"IFERROR(VLOOKUP(D1219,'1_Causas_Levantadas'!C:D,2,0),\"\")","v":0},"","",null,3,null,0,3,102]
[null,null,{"$f":"IFERROR(VLOOKUP(D1220,'1_Causas_Levantadas'!C:D,2,0),\"\")","v":0},"","",null,4,null,0,4,102]
[null,null,{"$f":"IFERROR(VLOOKUP(D1221,'1_Causas_Levantadas'!C:D,2,0),\"\")","v":0},"","",null,5,null,0,5,102]
[null,null,{"$f":"IFERROR(VLOOKUP(D1222,'1_Causas_Levantadas'!C:D,2,0),\"\")","v":0},{"$f":"IF(K1222<=$H$4,(IF(G1221>0,G1222,$G$5)),\"\")","v":""},{"$f":"IF(D1222<>\"\",\"Participante \"&K1222,\"\")","v":""},null,{"$f":"J1222","v":6},null,{"$f":"IF(G1222=$G$5,1,0)","v":0},6,{"$f":"I1222+K1221","v":102}]
[null,null,{"$f":"IFERROR(VLOOKUP(D1223,'1_Causas_Levantadas'!C:D,2,0),\"\")","v":0},"","",null,7,null,0,{"$f":"IF(G1222<$G$4,J1222+1,1)","v":7},102]
[null,null,{"$f":"IFERROR(VLOOKUP(D1224,'1_Causas_Levantadas'!C:D,2,0),\"\")","v":0},"","",null,8,null,0,8,102]
[null,null,{"$f":"IFERROR(VLOOKUP(D1225,'1_Causas_Levantadas'!C:D,2,0),\"\")","v":0},"","",null,9,null,0,9,102]
[null,null,{"$f":"IFERROR(VLOOKUP(D1226,'1_Causas_Levantadas'!C:D,2,0),\"\")","v":0},"","",null,10,null,0,10,102]
[null,null,{"$f":"IFERROR(VLOOKUP(D1227,'1_Causas_Levantadas'!C:D,2,0),\"\")","v":0},"","",null,11,null,0,11,102]
[null,null,{"$f":"IFERROR(VLOOKUP(D1228,'1_Causas_Levantadas'!C:D,2,0),\"\")","v":0},"","",null,12,null,0,12,102]
[null,null,{"$f":"IFERROR(VLOOKUP(D1229,'1_Causas_Levantadas'!C:D,2,0),\"\")","v":0},"","",null,1,null,1,1,103]
[null,null,{"$f":"IFERROR(VLOOKUP(D1230,'1_Causas_Levantadas'!C:D,2,0),\"\")","v":0},"","",null,2,null,0,2,103]
[null,null,{"$f":"IFERROR(VLOOKUP(D1231,'1_Causas_Levantadas'!C:D,2,0),\"\")","v":0},"","",null,3,null,0,3,103]
[null,null,{"$f":"IFERROR(VLOOKUP(D1232,'1_Causas_Levantadas'!C:D,2,0),\"\")","v":0},"","",null,4,null,0,4,103]
[null,null,{"$f":"IFERROR(VLOOKUP(D1233,'1_Causas_Levantadas'!C:D,2,0),\"\")","v":0},"","",null,5,null,0,5,103]
[null,null,{"$f":"IFERROR(VLOOKUP(D1234,'1_Causas_Levantadas'!C:D,2,0),\"\")","v":0},"","",null,6,null,0,6,103]
[null,null,{"$f":"IFERROR(VLOOKUP(D1235,'1_Causas_Levantadas'!C:D,2,0),\"\")","v":0},"","",null,7,null,0,7,103]
[null,null,{"$f":"IFERROR(VLOOKUP(D1236,'1_Causas_Levantadas'!C:D,2,0),\"\")","v":0},"","",null,8,null,0,8,103]
[null,null,{"$f":"IFERROR(VLOOKUP(D1237,'1_Causas_Levantadas'!C:D,2,0),\"\")","v":0},"","",null,9,null,0,9,103]
[null,null,{"$f":"IFERROR(VLOOKUP(D1238,'1_Causas_Levantadas'!C:D,2,0),\"\")","v":0},"","",null,10,null,0,10,103]
[null,null,{"$f":"IFERROR(VLOOKUP(D1239,'1_Causas_Levantadas'!C:D,2,0),\"\")","v":0},"","",null,11,null,0,11,103]
[null,null,{"$f":"IFERROR(VLOOKUP(D1240,'1_Causas_Levantadas'!C:D,2,0),\"\")","v":0},"","",null,12,null,0,12,103]
[null,null,{"$f":"IFERROR(VLOOKUP(D1241,'1_Causas_Levantadas'!C:D,2,0),\"\")","v":0},"","",null,1,null,1,1,104]
[null,null,{"$f":"IFERROR(VLOOKUP(D1242,'1_Causas_Levantadas'!C:D,2,0),\"\")","v":0},"","",null,2,null,0,2,104]
[null,null,{"$f":"IFERROR(VLOOKUP(D1243,'1_Causas_Levantadas'!C:D,2,0),\"\")","v":0},"","",null,3,null,0,3,104]
[null,null,{"$f":"IFERROR(VLOOKUP(D1244,'1_Causas_Levantadas'!C:D,2,0),\"\")","v":0},"","",null,4,null,0,4,104]
[null,null,{"$f":"IFERROR(VLOOKUP(D1245,'1_Causas_Levantadas'!C:D,2,0),\"\")","v":0},"","",null,5,null,0,5,104]
[null,null,{"$f":"IFERROR(VLOOKUP(D1246,'1_Causas_Levantadas'!C:D,2,0),\"\")","v":0},"","",null,6,null,0,6,104]
[null,null,{"$f":"IFERROR(VLOOKUP(D1247,'1_Causas_Levantadas'!C:D,2,0),\"\")","v":0},"","",null,7,null,0,7,104]
[null,null,{"$f":"IFERROR(VLOOKUP(D1248,'1_Causas_Levantadas'!C:D,2,0),\"\")","v":0},"","",null,8,null,0,8,104]
[null,null,{"$f":"IFERROR(VLOOKUP(D1249,'1_Causas_Levantadas'!C:D,2,0),\"\")","v":0},"","",null,9,null,0,9,104]
[null,null,{"$f":"IFERROR(VLOOKUP(D1250,'1_Causas_Levantadas'!C:D,2,0),\"\")","v":0},"","",null,10,null,0,10,104]
[null,null,{"$f":"IFERROR(VLOOKUP(D1251,'1_Causas_Levantadas'!C:D,2,0),\"\")","v":0},"","",null,11,null,0,11,104]
[null,null,{"$f":"IFERROR(VLOOKUP(D1252,'1_Causas_Levantadas'!C:D,2,0),\"\")","v":0},"","",null,12,null,0,12,104]
[null,null,{"$f":"IFERROR(VLOOKUP(D1253,'1_Causas_Levantadas'!C:D,2,0),\"\")","v":0},"","",null,1,null,1,1,105]
[null,null,{"$f":"IFERROR(VLOOKUP(D1254,'1_Causas_Levantadas'!C:D,2,0),\"\")","v":0},"","",null,2,null,0,2,105]
[null,null,{"$f":"IFERROR(VLOOKUP(D1255,'1_Causas_Levantadas'!C:D,2,0),\"\")","v":0},"","",null,3,null,0,3,105]
[null,null,{"$f":"IFERROR(VLOOKUP(D1256,'1_Causas_Levantadas'!C:D,2,0),\"\")","v":0},"","",null,4,null,0,4,105]
[null,null,{"$f":"IFERROR(VLOOKUP(D1257,'1_Causas_Levantadas'!C:D,2,0),\"\")","v":0},"","",null,5,null,0,5,105]
[null,null,{"$f":"IFERROR(VLOOKUP(D1258,'1_Causas_Levantadas'!C:D,2,0),\"\")","v":0},"","",null,6,null,0,6,105]
[null,null,{"$f":"IFERROR(VLOOKUP(D1259,'1_Causas_Levantadas'!C:D,2,0),\"\")","v":0},"","",null,7,null,0,7,105]
[null,null,{"$f":"IFERROR(VLOOKUP(D1260,'1_Causas_Levantadas'!C:D,2,0),\"\")","v":0},"","",null,8,null,0,8,105]
[null,null,{"$f":"IFERROR(VLOOKUP(D1261,'1_Causas_Levantadas'!C:D,2,0),\"\")","v":0},"","",null,9,null,0,9,105]
[null,null,{"$f":"IFERROR(VLOOKUP(D1262,'1_Causas_Levantadas'!C:D,2,0),\"\")","v":0},"","",null,10,null,0,10,105]
[null,null,{"$f":"IFERROR(VLOOKUP(D1263,'1_Causas_Levantadas'!C:D,2,0),\"\")","v":0},"","",null,11,null,0,11,105]
[null,null,{"$f":"IFERROR(VLOOKUP(D1264,'1_Causas_Levantadas'!C:D,2,0),\"\")","v":0},"","",null,12,null,0,12,105]
[null,null,{"$f":"IFERROR(VLOOKUP(D1265,'1_Causas_Levantadas'!C:D,2,0),\"\")","v":0},"","",null,1,null,1,1,106]
[null,null,{"$f":"IFERROR(VLOOKUP(D1266,'1_Causas_Levantadas'!C:D,2,0),\"\")","v":0},"","",null,2,null,0,2,106]
[null,null,{"$f":"IFERROR(VLOOKUP(D1267,'1_Causas_Levantadas'!C:D,2,0),\"\")","v":0},"","",null,3,null,0,3,106]
[null,null,{"$f":"IFERROR(VLOOKUP(D1268,'1_Causas_Levantadas'!C:D,2,0),\"\")","v":0},"","",null,4,null,0,4,106]
[null,null,{"$f":"IFERROR(VLOOKUP(D1269,'1_Causas_Levantadas'!C:D,2,0),\"\")","v":0},"","",null,5,null,0,5,106]
[null,null,{"$f":"IFERROR(VLOOKUP(D1270,'1_Causas_Levantadas'!C:D,2,0),\"\")","v":0},"","",null,6,null,0,6,106]
[null,null,{"$f":"IFERROR(VLOOKUP(D1271,'1_Causas_Levantadas'!C:D,2,0),\"\")","v":0},"","",null,7,null,0,7,106]
[null,null,{"$f":"IFERROR(VLOOKUP(D1272,'1_Causas_Levantadas'!C:D,2,0),\"\")","v":0},"","",null,8,null,0,8,106]
[null,null,{"$f":"IFERROR(VLOOKUP(D1273,'1_Causas_Levantadas'!C:D,2,0),\"\")","v":0},"","",null,9,null,0,9,106]
[null,null,{"$f":"IFERROR(VLOOKUP(D1274,'1_Causas_Levantadas'!C:D,2,0),\"\")","v":0},"","",null,10,null,0,10,106]
[null,null,{"$f":"IFERROR(VLOOKUP(D1275,'1_Causas_Levantadas'!C:D,2,0),\"\")","v":0},"","",null,11,null,0,11,106]
[null,null,{"$f":"IFERROR(VLOOKUP(D1276,'1_Causas_Levantadas'!C:D,2,0),\"\")","v":0},"","",null,12,null,0,12,106]
[null,null,{"$f":"IFERROR(VLOOKUP(D1277,'1_Causas_Levantadas'!C:D,2,0),\"\")","v":0},"","",null,1,null,1,1,107]
[null,null,{"$f":"IFERROR(VLOOKUP(D1278,'1_Causas_Levantadas'!C:D,2,0),\"\")","v":0},"","",null,2,null,0,2,107]
[null,null,{"$f":"IFERROR(VLOOKUP(D1279,'1_Causas_Levantadas'!C:D,2,0),\"\")","v":0},"","",null,3,null,0,3,107]
[null,null,{"$f":"IFERROR(VLOOKUP(D1280,'1_Causas_Levantadas'!C:D,2,0),\"\")","v":0},"","",null,4,null,0,4,107]
[null,null,{"$f":"IFERROR(VLOOKUP(D1281,'1_Causas_Levantadas'!C:D,2,0),\"\")","v":0},"","",null,5,null,0,5,107]
[null,null,{"$f":"IFERROR(VLOOKUP(D1282,'1_Causas_Levantadas'!C:D,2,0),\"\")","v":0},"","",null,6,null,0,6,107]
[null,null,{"$f":"IFERROR(VLOOKUP(D1283,'1_Causas_Levantadas'!C:D,2,0),\"\")","v":0},"","",null,7,null,0,7,107]
[null,null,{"$f":"IFERROR(VLOOKUP(D1284,'1_Causas_Levantadas'!C:D,2,0),\"\")","v":0},"","",null,8,null,0,8,107]
[null,null,{"$f":"IFERROR(VLOOKUP(D1285,'1_Causas_Levantadas'!C:D,2,0),\"\")","v":0},"","",null,9,null,0,9,107]
[null,null,{"$f":"IFERROR(VLOOKUP(D1286,'1_Causas_Levantadas'!C:D,2,0),\"\")","v":0},{"$f":"IF(K1286<=$H$4,(IF(G1285>0,G1286,$G$5)),\"\")","v":""},{"$f":"IF(D1286<>\"\",\"Participante \"&K1286,\"\")","v":""},null,{"$f":"J1286","v":10},null,{"$f":"IF(G1286=$G$5,1,0)","v":0},10,{"$f":"I1286+K1285","v":107}]
[null,null,{"$f":"IFERROR(VLOOKUP(D1287,'1_Causas_Levantadas'!C:D,2,0),\"\")","v":0},"","",null,11,null,0,{"$f":"IF(G1286<$G$4,J1286+1,1)","v":11},107]
[null,null,{"$f":"IFERROR(VLOOKUP(D1288,'1_Causas_Levantadas'!C:D,2,0),\"\")","v":0},"","",null,12,null,0,12,107]
[null,null,{"$f":"IFERROR(VLOOKUP(D1289,'1_Causas_Levantadas'!C:D,2,0),\"\")","v":0},"","",null,1,null,1,1,108]
[null,null,{"$f":"IFERROR(VLOOKUP(D1290,'1_Causas_Levantadas'!C:D,2,0),\"\")","v":0},"","",null,2,null,0,2,108]
[null,null,{"$f":"IFERROR(VLOOKUP(D1291,'1_Causas_Levantadas'!C:D,2,0),\"\")","v":0},"","",null,3,null,0,3,108]
[null,null,{"$f":"IFERROR(VLOOKUP(D1292,'1_Causas_Levantadas'!C:D,2,0),\"\")","v":0},"","",null,4,null,0,4,108]
[null,null,{"$f":"IFERROR(VLOOKUP(D1293,'1_Causas_Levantadas'!C:D,2,0),\"\")","v":0},"","",null,5,null,0,5,108]
[null,null,{"$f":"IFERROR(VLOOKUP(D1294,'1_Causas_Levantadas'!C:D,2,0),\"\")","v":0},"","",null,6,null,0,6,108]
[null,null,{"$f":"IFERROR(VLOOKUP(D1295,'1_Causas_Levantadas'!C:D,2,0),\"\")","v":0},"","",null,7,null,0,7,108]
[null,null,{"$f":"IFERROR(VLOOKUP(D1296,'1_Causas_Levantadas'!C:D,2,0),\"\")","v":0},"","",null,8,null,0,8,108]
[null,null,{"$f":"IFERROR(VLOOKUP(D1297,'1_Causas_Levantadas'!C:D,2,0),\"\")","v":0},"","",null,9,null,0,9,108]
[null,null,{"$f":"IFERROR(VLOOKUP(D1298,'1_Causas_Levantadas'!C:D,2,0),\"\")","v":0},"","",null,10,null,0,10,108]
[null,null,{"$f":"IFERROR(VLOOKUP(D1299,'1_Causas_Levantadas'!C:D,2,0),\"\")","v":0},"","",null,11,null,0,11,108]
[null,null,{"$f":"IFERROR(VLOOKUP(D1300,'1_Causas_Levantadas'!C:D,2,0),\"\")","v":0},"","",null,12,null,0,12,108]
[null,null,{"$f":"IFERROR(VLOOKUP(D1301,'1_Causas_Levantadas'!C:D,2,0),\"\")","v":0},"","",null,1,null,1,1,109]
[null,null,{"$f":"IFERROR(VLOOKUP(D1302,'1_Causas_Levantadas'!C:D,2,0),\"\")","v":0},"","",null,2,null,0,2,109]
[null,null,{"$f":"IFERROR(VLOOKUP(D1303,'1_Causas_Levantadas'!C:D,2,0),\"\")","v":0},"","",null,3,null,0,3,109]
[null,null,{"$f":"IFERROR(VLOOKUP(D1304,'1_Causas_Levantadas'!C:D,2,0),\"\")","v":0},"","",null,4,null,0,4,109]
[null,null,{"$f":"IFERROR(VLOOKUP(D1305,'1_Causas_Levantadas'!C:D,2,0),\"\")","v":0},"","",null,5,null,0,5,109]
[null,null,{"$f":"IFERROR(VLOOKUP(D1306,'1_Causas_Levantadas'!C:D,2,0),\"\")","v":0},"","",null,6,null,0,6,109]
[null,null,{"$f":"IFERROR(VLOOKUP(D1307,'1_Causas_Levantadas'!C:D,2,0),\"\")","v":0},"","",null,7,null,0,7,109]
[null,null,{"$f":"IFERROR(VLOOKUP(D1308,'1_Causas_Levantadas'!C:D,2,0),\"\")","v":0},"","",null,8,null,0,8,109]
[null,null,{"$f":"IFERROR(VLOOKUP(D1309,'1_Causas_Levantadas'!C:D,2,0),\"\")","v":0},"","",null,9,null,0,9,109]
[null,null,{"$f":"IFERROR(VLOOKUP(D1310,'1_Causas_Levantadas'!C:D,2,0),\"\")","v":0},"","",null,10,null,0,10,109]
[null,null,{"$f":"IFERROR(VLOOKUP(D1311,'1_Causas_Levantadas'!C:D,2,0),\"\")","v":0},"","",null,11,null,0,11,109]
[null,null,{"$f":"IFERROR(VLOOKUP(D1312,'1_Causas_Levantadas'!C:D,2,0),\"\")","v":0},"","",null,12,null,0,12,109]
[null,null,{"$f":"IFERROR(VLOOKUP(D1313,'1_Causas_Levantadas'!C:D,2,0),\"\")","v":0},"","",null,1,null,1,1,110]
[null,null,{"$f":"IFERROR(VLOOKUP(D1314,'1_Causas_Levantadas'!C:D,2,0),\"\")","v":0},"","",null,2,null,0,2,110]
[null,null,{"$f":"IFERROR(VLOOKUP(D1315,'1_Causas_Levantadas'!C:D,2,0),\"\")","v":0},"","",null,3,null,0,3,110]
[null,null,{"$f":"IFERROR(VLOOKUP(D1316,'1_Causas_Levantadas'!C:D,2,0),\"\")","v":0},"","",null,4,null,0,4,110]
[null,null,{"$f":"IFERROR(VLOOKUP(D1317,'1_Causas_Levantadas'!C:D,2,0),\"\")","v":0},"","",null,5,null,0,5,110]
[null,null,{"$f":"IFERROR(VLOOKUP(D1318,'1_Causas_Levantadas'!C:D,2,0),\"\")","v":0},"","",null,6,null,0,6,110]
[null,null,{"$f":"IFERROR(VLOOKUP(D1319,'1_Causas_Levantadas'!C:D,2,0),\"\")","v":0},"","",null,7,null,0,7,110]
[null,null,{"$f":"IFERROR(VLOOKUP(D1320,'1_Causas_Levantadas'!C:D,2,0),\"\")","v":0},"","",null,8,null,0,8,110]
[null,null,{"$f":"IFERROR(VLOOKUP(D1321,'1_Causas_Levantadas'!C:D,2,0),\"\")","v":0},"","",null,9,null,0,9,110]
[null,null,{"$f":"IFERROR(VLOOKUP(D1322,'1_Causas_Levantadas'!C:D,2,0),\"\")","v":0},"","",null,10,null,0,10,110]
[null,null,{"$f":"IFERROR(VLOOKUP(D1323,'1_Causas_Levantadas'!C:D,2,0),\"\")","v":0},"","",null,11,null,0,11,110]
[null,null,{"$f":"IFERROR(VLOOKUP(D1324,'1_Causas_Levantadas'!C:D,2,0),\"\")","v":0},"","",null,12,null,0,12,110]
[null,null,{"$f":"IFERROR(VLOOKUP(D1325,'1_Causas_Levantadas'!C:D,2,0),\"\")","v":0},"","",null,1,null,1,1,111]
[null,null,{"$f":"IFERROR(VLOOKUP(D1326,'1_Causas_Levantadas'!C:D,2,0),\"\")","v":0},"","",null,2,null,0,2,111]
[null,null,{"$f":"IFERROR(VLOOKUP(D1327,'1_Causas_Levantadas'!C:D,2,0),\"\")","v":0},"","",null,3,null,0,3,111]
[null,null,{"$f":"IFERROR(VLOOKUP(D1328,'1_Causas_Levantadas'!C:D,2,0),\"\")","v":0},"","",null,4,null,0,4,111]
[null,null,{"$f":"IFERROR(VLOOKUP(D1329,'1_Causas_Levantadas'!C:D,2,0),\"\")","v":0},"","",null,5,null,0,5,111]
[null,null,{"$f":"IFERROR(VLOOKUP(D1330,'1_Causas_Levantadas'!C:D,2,0),\"\")","v":0},"","",null,6,null,0,6,111]
[null,null,{"$f":"IFERROR(VLOOKUP(D1331,'1_Causas_Levantadas'!C:D,2,0),\"\")","v":0},"","",null,7,null,0,7,111]
[null,null,{"$f":"IFERROR(VLOOKUP(D1332,'1_Causas_Levantadas'!C:D,2,0),\"\")","v":0},"","",null,8,null,0,8,111]
[null,null,{"$f":"IFERROR(VLOOKUP(D1333,'1_Causas_Levantadas'!C:D,2,0),\"\")","v":0},"","",null,9,null,0,9,111]
[null,null,{"$f":"IFERROR(VLOOKUP(D1334,'1_Causas_Levantadas'!C:D,2,0),\"\")","v":0},"","",null,10,null,0,10,111]
[null,null,{"$f":"IFERROR(VLOOKUP(D1335,'1_Causas_Levantadas'!C:D,2,0),\"\")","v":0},"","",null,11,null,0,11,111]
[null,null,{"$f":"IFERROR(VLOOKUP(D1336,'1_Causas_Levantadas'!C:D,2,0),\"\")","v":0},"","",null,12,null,0,12,111]
[null,null,{"$f":"IFERROR(VLOOKUP(D1337,'1_Causas_Levantadas'!C:D,2,0),\"\")","v":0},"","",null,1,null,1,1,112]
[null,null,{"$f":"IFERROR(VLOOKUP(D1338,'1_Causas_Levantadas'!C:D,2,0),\"\")","v":0},"","",null,2,null,0,2,112]
[null,null,{"$f":"IFERROR(VLOOKUP(D1339,'1_Causas_Levantadas'!C:D,2,0),\"\")","v":0},"","",null,3,null,0,3,112]
[null,null,{"$f":"IFERROR(VLOOKUP(D1340,'1_Causas_Levantadas'!C:D,2,0),\"\")","v":0},"","",null,4,null,0,4,112]
[null,null,{"$f":"IFERROR(VLOOKUP(D1341,'1_Causas_Levantadas'!C:D,2,0),\"\")","v":0},"","",null,5,null,0,5,112]
[null,null,{"$f":"IFERROR(VLOOKUP(D1342,'1_Causas_Levantadas'!C:D,2,0),\"\")","v":0},"","",null,6,null,0,6,112]
[null,null,{"$f":"IFERROR(VLOOKUP(D1343,'1_Causas_Levantadas'!C:D,2,0),\"\")","v":0},"","",null,7,null,0,7,112]
[null,null,{"$f":"IFERROR(VLOOKUP(D1344,'1_Causas_Levantadas'!C:D,2,0),\"\")","v":0},"","",null,8,null,0,8,112]
[null,null,{"$f":"IFERROR(VLOOKUP(D1345,'1_Causas_Levantadas'!C:D,2,0),\"\")","v":0},"","",null,9,null,0,9,112]
[null,null,{"$f":"IFERROR(VLOOKUP(D1346,'1_Causas_Levantadas'!C:D,2,0),\"\")","v":0},"","",null,10,null,0,10,112]
[null,null,{"$f":"IFERROR(VLOOKUP(D1347,'1_Causas_Levantadas'!C:D,2,0),\"\")","v":0},"","",null,11,null,0,11,112]
[null,null,{"$f":"IFERROR(VLOOKUP(D1348,'1_Causas_Levantadas'!C:D,2,0),\"\")","v":0},"","",null,12,null,0,12,112]
[null,null,{"$f":"IFERROR(VLOOKUP(D1349,'1_Causas_Levantadas'!C:D,2,0),\"\")","v":0},"","",null,1,null,1,1,113]
[null,null,{"$f":"IFERROR(VLOOKUP(D1350,'1_Causas_Levantadas'!C:D,2,0),\"\")","v":0},{"$f":"IF(K1350<=$H$4,(IF(G1349>0,G1350,$G$5)),\"\")","v":""},{"$f":"IF(D1350<>\"\",\"Participante \"&K1350,\"\")","v":""},null,{"$f":"J1350","v":2},null,{"$f":"IF(G1350=$G$5,1,0)","v":0},2,{"$f":"I1350+K1349","v":113}]
[null,null,{"$f":"IFERROR(VLOOKUP(D1351,'1_Causas_Levantadas'!C:D,2,0),\"\")","v":0},"","",null,3,null,0,{"$f":"IF(G1350<$G$4,J1350+1,1)","v":3},113]
[null,null,{"$f":"IFERROR(VLOOKUP(D1352,'1_Causas_Levantadas'!C:D,2,0),\"\")","v":0},"","",null,4,null,0,4,113]
[null,null,{"$f":"IFERROR(VLOOKUP(D1353,'1_Causas_Levantadas'!C:D,2,0),\"\")","v":0},"","",null,5,null,0,5,113]
[null,null,{"$f":"IFERROR(VLOOKUP(D1354,'1_Causas_Levantadas'!C:D,2,0),\"\")","v":0},"","",null,6,null,0,6,113]
[null,null,{"$f":"IFERROR(VLOOKUP(D1355,'1_Causas_Levantadas'!C:D,2,0),\"\")","v":0},"","",null,7,null,0,7,113]
[null,null,{"$f":"IFERROR(VLOOKUP(D1356,'1_Causas_Levantadas'!C:D,2,0),\"\")","v":0},"","",null,8,null,0,8,113]
[null,null,{"$f":"IFERROR(VLOOKUP(D1357,'1_Causas_Levantadas'!C:D,2,0),\"\")","v":0},"","",null,9,null,0,9,113]
[null,null,{"$f":"IFERROR(VLOOKUP(D1358,'1_Causas_Levantadas'!C:D,2,0),\"\")","v":0},"","",null,10,null,0,10,113]
[null,null,{"$f":"IFERROR(VLOOKUP(D1359,'1_Causas_Levantadas'!C:D,2,0),\"\")","v":0},"","",null,11,null,0,11,113]
[null,null,{"$f":"IFERROR(VLOOKUP(D1360,'1_Causas_Levantadas'!C:D,2,0),\"\")","v":0},"","",null,12,null,0,12,113]
[null,null,{"$f":"IFERROR(VLOOKUP(D1361,'1_Causas_Levantadas'!C:D,2,0),\"\")","v":0},"","",null,1,null,1,1,114]
[null,null,{"$f":"IFERROR(VLOOKUP(D1362,'1_Causas_Levantadas'!C:D,2,0),\"\")","v":0},"","",null,2,null,0,2,114]
[null,null,{"$f":"IFERROR(VLOOKUP(D1363,'1_Causas_Levantadas'!C:D,2,0),\"\")","v":0},"","",null,3,null,0,3,114]
[null,null,{"$f":"IFERROR(VLOOKUP(D1364,'1_Causas_Levantadas'!C:D,2,0),\"\")","v":0},"","",null,4,null,0,4,114]
[null,null,{"$f":"IFERROR(VLOOKUP(D1365,'1_Causas_Levantadas'!C:D,2,0),\"\")","v":0},"","",null,5,null,0,5,114]
[null,null,{"$f":"IFERROR(VLOOKUP(D1366,'1_Causas_Levantadas'!C:D,2,0),\"\")","v":0},"","",null,6,null,0,6,114]
[null,null,{"$f":"IFERROR(VLOOKUP(D1367,'1_Causas_Levantadas'!C:D,2,0),\"\")","v":0},"","",null,7,null,0,7,114]
[null,null,{"$f":"IFERROR(VLOOKUP(D1368,'1_Causas_Levantadas'!C:D,2,0),\"\")","v":0},"","",null,8,null,0,8,114]
[null,null,{"$f":"IFERROR(VLOOKUP(D1369,'1_Causas_Levantadas'!C:D,2,0),\"\")","v":0},"","",null,9,null,0,9,114]
[null,null,{"$f":"IFERROR(VLOOKUP(D1370,'1_Causas_Levantadas'!C:D,2,0),\"\")","v":0},"","",null,10,null,0,10,114]
[null,null,{"$f":"IFERROR(VLOOKUP(D1371,'1_Causas_Levantadas'!C:D,2,0),\"\")","v":0},"","",null,11,null,0,11,114]
[null,null,{"$f":"IFERROR(VLOOKUP(D1372,'1_Causas_Levantadas'!C:D,2,0),\"\")","v":0},"","",null,12,null,0,12,114]
[null,null,{"$f":"IFERROR(VLOOKUP(D1373,'1_Causas_Levantadas'!C:D,2,0),\"\")","v":0},"","",null,1,null,1,1,115]
[null,null,{"$f":"IFERROR(VLOOKUP(D1374,'1_Causas_Levantadas'!C:D,2,0),\"\")","v":0},"","",null,2,null,0,2,115]
[null,null,{"$f":"IFERROR(VLOOKUP(D1375,'1_Causas_Levantadas'!C:D,2,0),\"\")","v":0},"","",null,3,null,0,3,115]
[null,null,{"$f":"IFERROR(VLOOKUP(D1376,'1_Causas_Levantadas'!C:D,2,0),\"\")","v":0},"","",null,4,null,0,4,115]
[null,null,{"$f":"IFERROR(VLOOKUP(D1377,'1_Causas_Levantadas'!C:D,2,0),\"\")","v":0},"","",null,5,null,0,5,115]
[null,null,{"$f":"IFERROR(VLOOKUP(D1378,'1_Causas_Levantadas'!C:D,2,0),\"\")","v":0},"","",null,6,null,0,6,115]
[null,null,{"$f":"IFERROR(VLOOKUP(D1379,'1_Causas_Levantadas'!C:D,2,0),\"\")","v":0},"","",null,7,null,0,7,115]
[null,null,{"$f":"IFERROR(VLOOKUP(D1380,'1_Causas_Levantadas'!C:D,2,0),\"\")","v":0},"","",null,8,null,0,8,115]
[null,null,{"$f":"IFERROR(VLOOKUP(D1381,'1_Causas_Levantadas'!C:D,2,0),\"\")","v":0},"","",null,9,null,0,9,115]
[null,null,{"$f":"IFERROR(VLOOKUP(D1382,'1_Causas_Levantadas'!C:D,2,0),\"\")","v":0},"","",null,10,null,0,10,115]
[null,null,{"$f":"IFERROR(VLOOKUP(D1383,'1_Causas_Levantadas'!C:D,2,0),\"\")","v":0},"","",null,11,null,0,11,115]
[null,null,{"$f":"IFERROR(VLOOKUP(D1384,'1_Causas_Levantadas'!C:D,2,0),\"\")","v":0},"","",null,12,null,0,12,115]
[null,null,{"$f":"IFERROR(VLOOKUP(D1385,'1_Causas_Levantadas'!C:D,2,0),\"\")","v":0},"","",null,1,null,1,1,116]
[null,null,{"$f":"IFERROR(VLOOKUP(D1386,'1_Causas_Levantadas'!C:D,2,0),\"\")","v":0},"","",null,2,null,0,2,116]
[null,null,{"$f":"IFERROR(VLOOKUP(D1387,'1_Causas_Levantadas'!C:D,2,0),\"\")","v":0},"","",null,3,null,0,3,116]
[null,null,{"$f":"IFERROR(VLOOKUP(D1388,'1_Causas_Levantadas'!C:D,2,0),\"\")","v":0},"","",null,4,null,0,4,116]
[null,null,{"$f":"IFERROR(VLOOKUP(D1389,'1_Causas_Levantadas'!C:D,2,0),\"\")","v":0},"","",null,5,null,0,5,116]
[null,null,{"$f":"IFERROR(VLOOKUP(D1390,'1_Causas_Levantadas'!C:D,2,0),\"\")","v":0},"","",null,6,null,0,6,116]
[null,null,{"$f":"IFERROR(VLOOKUP(D1391,'1_Causas_Levantadas'!C:D,2,0),\"\")","v":0},"","",null,7,null,0,7,116]
[null,null,{"$f":"IFERROR(VLOOKUP(D1392,'1_Causas_Levantadas'!C:D,2,0),\"\")","v":0},"","",null,8,null,0,8,116]
[null,null,{"$f":"IFERROR(VLOOKUP(D1393,'1_Causas_Levantadas'!C:D,2,0),\"\")","v":0},"","",null,9,null,0,9,116]
[null,null,{"$f":"IFERROR(VLOOKUP(D1394,'1_Causas_Levantadas'!C:D,2,0),\"\")","v":0},"","",null,10,null,0,10,116]
[null,null,{"$f":"IFERROR(VLOOKUP(D1395,'1_Causas_Levantadas'!C:D,2,0),\"\")","v":0},"","",null,11,null,0,11,116]
[null,null,{"$f":"IFERROR(VLOOKUP(D1396,'1_Causas_Levantadas'!C:D,2,0),\"\")","v":0},"","",null,12,null,0,12,116]
[null,null,{"$f":"IFERROR(VLOOKUP(D1397,'1_Causas_Levantadas'!C:D,2,0),\"\")","v":0},"","",null,1,null,1,1,117]
[null,null,{"$f":"IFERROR(VLOOKUP(D1398,'1_Causas_Levantadas'!C:D,2,0),\"\")","v":0},"","",null,2,null,0,2,117]
[null,null,{"$f":"IFERROR(VLOOKUP(D1399,'1_Causas_Levantadas'!C:D,2,0),\"\")","v":0},"","",null,3,null,0,3,117]
[null,null,{"$f":"IFERROR(VLOOKUP(D1400,'1_Causas_Levantadas'!C:D,2,0),\"\")","v":0},"","",null,4,null,0,4,117]
[null,null,{"$f":"IFERROR(VLOOKUP(D1401,'1_Causas_Levantadas'!C:D,2,0),\"\")","v":0},"","",null,5,null,0,5,117]
[null,null,{"$f":"IFERROR(VLOOKUP(D1402,'1_Causas_Levantadas'!C:D,2,0),\"\")","v":0},"","",null,6,null,0,6,117]
[null,null,{"$f":"IFERROR(VLOOKUP(D1403,'1_Causas_Levantadas'!C:D,2,0),\"\")","v":0},"","",null,7,null,0,7,117]
[null,null,{"$f":"IFERROR(VLOOKUP(D1404,'1_Causas_Levantadas'!C:D,2,0),\"\")","v":0},"","",null,8,null,0,8,117]
[null,null,{"$f":"IFERROR(VLOOKUP(D1405,'1_Causas_Levantadas'!C:D,2,0),\"\")","v":0},"","",null,9,null,0,9,117]
[null,null,{"$f":"IFERROR(VLOOKUP(D1406,'1_Causas_Levantadas'!C:D,2,0),\"\")","v":0},"","",null,10,null,0,10,117]
[null,null,{"$f":"IFERROR(VLOOKUP(D1407,'1_Causas_Levantadas'!C:D,2,0),\"\")","v":0},"","",null,11,null,0,11,117]
[null,null,{"$f":"IFERROR(VLOOKUP(D1408,'1_Causas_Levantadas'!C:D,2,0),\"\")","v":0},"","",null,12,null,0,12,117]
[null,null,{"$f":"IFERROR(VLOOKUP(D1409,'1_Causas_Levantadas'!C:D,2,0),\"\")","v":0},"","",null,1,null,1,1,118]
[null,null,{"$f":"IFERROR(VLOOKUP(D1410,'1_Causas_Levantadas'!C:D,2,0),\"\")","v":0},"","",null,2,null,0,2,118]
[null,null,{"$f":"IFERROR(VLOOKUP(D1411,'1_Causas_Levantadas'!C:D,2,0),\"\")","v":0},"","",null,3,null,0,3,118]
[null,null,{"$f":"IFERROR(VLOOKUP(D1412,'1_Causas_Levantadas'!C:D,2,0),\"\")","v":0},"","",null,4,null,0,4,118]
[null,null,{"$f":"IFERROR(VLOOKUP(D1413,'1_Causas_Levantadas'!C:D,2,0),\"\")","v":0},"","",null,5,null,0,5,118]
[null,null,{"$f":"IFERROR(VLOOKUP(D1414,'1_Causas_Levantadas'!C:D,2,0),\"\")","v":0},{"$f":"IF(K1414<=$H$4,(IF(G1413>0,G1414,$G$5)),\"\")","v":""},{"$f":"IF(D1414<>\"\",\"Participante \"&K1414,\"\")","v":""},null,{"$f":"J1414","v":6},null,{"$f":"IF(G1414=$G$5,1,0)","v":0},6,{"$f":"I1414+K1413","v":118}]
[null,null,{"$f":"IFERROR(VLOOKUP(D1415,'1_Causas_Levantadas'!C:D,2,0),\"\")","v":0},"","",null,7,null,0,{"$f":"IF(G1414<$G$4,J1414+1,1)","v":7},118]
[null,null,{"$f":"IFERROR(VLOOKUP(D1416,'1_Causas_Levantadas'!C:D,2,0),\"\")","v":0},"","",null,8,null,0,8,118]
[null,null,{"$f":"IFERROR(VLOOKUP(D1417,'1_Causas_Levantadas'!C:D,2,0),\"\")","v":0},"","",null,9,null,0,9,118]
[null,null,{"$f":"IFERROR(VLOOKUP(D1418,'1_Causas_Levantadas'!C:D,2,0),\"\")","v":0},"","",null,10,null,0,10,118]
[null,null,{"$f":"IFERROR(VLOOKUP(D1419,'1_Causas_Levantadas'!C:D,2,0),\"\")","v":0},"","",null,11,null,0,11,118]
[null,null,{"$f":"IFERROR(VLOOKUP(D1420,'1_Causas_Levantadas'!C:D,2,0),\"\")","v":0},"","",null,12,null,0,12,118]
[null,null,{"$f":"IFERROR(VLOOKUP(D1421,'1_Causas_Levantadas'!C:D,2,0),\"\")","v":0},"","",null,1,null,1,1,119]
[null,null,{"$f":"IFERROR(VLOOKUP(D1422,'1_Causas_Levantadas'!C:D,2,0),\"\")","v":0},"","",null,2,null,0,2,119]
[null,null,{"$f":"IFERROR(VLOOKUP(D1423,'1_Causas_Levantadas'!C:D,2,0),\"\")","v":0},"","",null,3,null,0,3,119]
[null,null,{"$f":"IFERROR(VLOOKUP(D1424,'1_Causas_Levantadas'!C:D,2,0),\"\")","v":0},"","",null,4,null,0,4,119]
[null,null,{"$f":"IFERROR(VLOOKUP(D1425,'1_Causas_Levantadas'!C:D,2,0),\"\")","v":0},"","",null,5,null,0,5,119]
[null,null,{"$f":"IFERROR(VLOOKUP(D1426,'1_Causas_Levantadas'!C:D,2,0),\"\")","v":0},"","",null,6,null,0,6,119]
[null,null,{"$f":"IFERROR(VLOOKUP(D1427,'1_Causas_Levantadas'!C:D,2,0),\"\")","v":0},"","",null,7,null,0,7,119]
[null,null,{"$f":"IFERROR(VLOOKUP(D1428,'1_Causas_Levantadas'!C:D,2,0),\"\")","v":0},"","",null,8,null,0,8,119]
[null,null,{"$f":"IFERROR(VLOOKUP(D1429,'1_Causas_Levantadas'!C:D,2,0),\"\")","v":0},"","",null,9,null,0,9,119]
[null,null,{"$f":"IFERROR(VLOOKUP(D1430,'1_Causas_Levantadas'!C:D,2,0),\"\")","v":0},"","",null,10,null,0,10,119]
[null,null,{"$f":"IFERROR(VLOOKUP(D1431,'1_Causas_Levantadas'!C:D,2,0),\"\")","v":0},"","",null,11,null,0,11,119]
[null,null,{"$f":"IFERROR(VLOOKUP(D1432,'1_Causas_Levantadas'!C:D,2,0),\"\")","v":0},"","",null,12,null,0,12,119]
[null,null,{"$f":"IFERROR(VLOOKUP(D1433,'1_Causas_Levantadas'!C:D,2,0),\"\")","v":0},"","",null,1,null,1,1,120]
[null,null,{"$f":"IFERROR(VLOOKUP(D1434,'1_Causas_Levantadas'!C:D,2,0),\"\")","v":0},"","",null,2,null,0,2,120]
[null,null,{"$f":"IFERROR(VLOOKUP(D1435,'1_Causas_Levantadas'!C:D,2,0),\"\")","v":0},"","",null,3,null,0,3,120]
[null,null,{"$f":"IFERROR(VLOOKUP(D1436,'1_Causas_Levantadas'!C:D,2,0),\"\")","v":0},"","",null,4,null,0,4,120]
[null,null,{"$f":"IFERROR(VLOOKUP(D1437,'1_Causas_Levantadas'!C:D,2,0),\"\")","v":0},"","",null,5,null,0,5,120]
[null,null,{"$f":"IFERROR(VLOOKUP(D1438,'1_Causas_Levantadas'!C:D,2,0),\"\")","v":0},"","",null,6,null,0,6,120]
[null,null,{"$f":"IFERROR(VLOOKUP(D1439,'1_Causas_Levantadas'!C:D,2,0),\"\")","v":0},"","",null,7,null,0,7,120]
[null,null,{"$f":"IFERROR(VLOOKUP(D1440,'1_Causas_Levantadas'!C:D,2,0),\"\")","v":0},"","",null,8,null,0,8,120]
[null,null,{"$f":"IFERROR(VLOOKUP(D1441,'1_Causas_Levantadas'!C:D,2,0),\"\")","v":0},"","",null,9,null,0,9,120]
[null,null,{"$f":"IFERROR(VLOOKUP(D1442,'1_Causas_Levantadas'!C:D,2,0),\"\")","v":0},"","",null,10,null,0,10,120]
[null,null,{"$f":"IFERROR(VLOOKUP(D1443,'1_Causas_Levantadas'!C:D,2,0),\"\")","v":0},"","",null,11,null,0,11,120]
[null,null,{"$f":"IFERROR(VLOOKUP(D1444,'1_Causas_Levantadas'!C:D,2,0),\"\")","v":0},"","",null,12,null,0,12,120]
[null,null,{"$f":"IFERROR(VLOOKUP(D1445,'1_Causas_Levantadas'!C:D,2,0),\"\")","v":0},"","",null,1,null,1,1,121]
[null,null,{"$f":"IFERROR(VLOOKUP(D1446,'1_Causas_Levantadas'!C:D,2,0),\"\")","v":0},"","",null,2,null,0,2,121]
[null,null,{"$f":"IFERROR(VLOOKUP(D1447,'1_Causas_Levantadas'!C:D,2,0),\"\")","v":0},"","",null,3,null,0,3,121]
[null,null,{"$f":"IFERROR(VLOOKUP(D1448,'1_Causas_Levantadas'!C:D,2,0),\"\")","v":0},"","",null,4,null,0,4,121]
[null,null,{"$f":"IFERROR(VLOOKUP(D1449,'1_Causas_Levantadas'!C:D,2,0),\"\")","v":0},"","",null,5,null,0,5,121]
[null,null,{"$f":"IFERROR(VLOOKUP(D1450,'1_Causas_Levantadas'!C:D,2,0),\"\")","v":0},"","",null,6,null,0,6,121]
[null,null,{"$f":"IFERROR(VLOOKUP(D1451,'1_Causas_Levantadas'!C:D,2,0),\"\")","v":0},"","",null,7,null,0,7,121]
[null,null,{"$f":"IFERROR(VLOOKUP(D1452,'1_Causas_Levantadas'!C:D,2,0),\"\")","v":0},"","",null,8,null,0,8,121]
[null,null,{"$f":"IFERROR(VLOOKUP(D1453,'1_Causas_Levantadas'!C:D,2,0),\"\")","v":0},"","",null,9,null,0,9,121]
[null,null,{"$f":"IFERROR(VLOOKUP(D1454,'1_Causas_Levantadas'!C:D,2,0),\"\")","v":0},"","",null,10,null,0,10,121]
[null,null,{"$f":"IFERROR(VLOOKUP(D1455,'1_Causas_Levantadas'!C:D,2,0),\"\")","v":0},"","",null,11,null,0,11,121]
[null,null,{"$f":"IFERROR(VLOOKUP(D1456,'1_Causas_Levantadas'!C:D,2,0),\"\")","v":0},"","",null,12,null,0,12,121]
[null,null,{"$f":"IFERROR(VLOOKUP(D1457,'1_Causas_Levantadas'!C:D,2,0),\"\")","v":0},"","",null,1,null,1,1,122]
[null,null,{"$f":"IFERROR(VLOOKUP(D1458,'1_Causas_Levantadas'!C:D,2,0),\"\")","v":0},"","",null,2,null,0,2,122]
[null,null,{"$f":"IFERROR(VLOOKUP(D1459,'1_Causas_Levantadas'!C:D,2,0),\"\")","v":0},"","",null,3,null,0,3,122]
[null,null,{"$f":"IFERROR(VLOOKUP(D1460,'1_Causas_Levantadas'!C:D,2,0),\"\")","v":0},"","",null,4,null,0,4,122]
[null,null,{"$f":"IFERROR(VLOOKUP(D1461,'1_Causas_Levantadas'!C:D,2,0),\"\")","v":0},"","",null,5,null,0,5,122]
[null,null,{"$f":"IFERROR(VLOOKUP(D1462,'1_Causas_Levantadas'!C:D,2,0),\"\")","v":0},"","",null,6,null,0,6,122]
[null,null,{"$f":"IFERROR(VLOOKUP(D1463,'1_Causas_Levantadas'!C:D,2,0),\"\")","v":0},"","",null,7,null,0,7,122]
[null,null,{"$f":"IFERROR(VLOOKUP(D1464,'1_Causas_Levantadas'!C:D,2,0),\"\")","v":0},"","",null,8,null,0,8,122]
[null,null,{"$f":"IFERROR(VLOOKUP(D1465,'1_Causas_Levantadas'!C:D,2,0),\"\")","v":0},"","",null,9,null,0,9,122]
[null,null,{"$f":"IFERROR(VLOOKUP(D1466,'1_Causas_Levantadas'!C:D,2,0),\"\")","v":0},"","",null,10,null,0,10,122]
[null,null,{"$f":"IFERROR(VLOOKUP(D1467,'1_Causas_Levantadas'!C:D,2,0),\"\")","v":0},"","",null,11,null,0,11,122]
[null,null,{"$f":"IFERROR(VLOOKUP(D1468,'1_Causas_Levantadas'!C:D,2,0),\"\")","v":0},"","",null,12,null,0,12,122]
[null,null,{"$f":"IFERROR(VLOOKUP(D1469,'1_Causas_Levantadas'!C:D,2,0),\"\")","v":0},"","",null,1,null,1,1,123]
[null,null,{"$f":"IFERROR(VLOOKUP(D1470,'1_Causas_Levantadas'!C:D,2,0),\"\")","v":0},"","",null,2,null,0,2,123]
[null,null,{"$f":"IFERROR(VLOOKUP(D1471,'1_Causas_Levantadas'!C:D,2,0),\"\")","v":0},"","",null,3,null,0,3,123]
[null,null,{"$f":"IFERROR(VLOOKUP(D1472,'1_Causas_Levantadas'!C:D,2,0),\"\")","v":0},"","",null,4,null,0,4,123]
[null,null,{"$f":"IFERROR(VLOOKUP(D1473,'1_Causas_Levantadas'!C:D,2,0),\"\")","v":0},"","",null,5,null,0,5,123]
[null,null,{"$f":"IFERROR(VLOOKUP(D1474,'1_Causas_Levantadas'!C:D,2,0),\"\")","v":0},"","",null,6,null,0,6,123]
[null,null,{"$f":"IFERROR(VLOOKUP(D1475,'1_Causas_Levantadas'!C:D,2,0),\"\")","v":0},"","",null,7,null,0,7,123]
[null,null,{"$f":"IFERROR(VLOOKUP(D1476,'1_Causas_Levantadas'!C:D,2,0),\"\")","v":0},"","",null,8,null,0,8,123]
[null,null,{"$f":"IFERROR(VLOOKUP(D1477,'1_Causas_Levantadas'!C:D,2,0),\"\")","v":0},"","",null,9,null,0,9,123]
[null,null,{"$f":"IFERROR(VLOOKUP(D1478,'1_Causas_Levantadas'!C:D,2,0),\"\")","v":0},{"$f":"IF(K1478<=$H$4,(IF(G1477>0,G1478,$G$5)),\"\")","v":""},{"$f":"IF(D1478<>\"\",\"Participante \"&K1478,\"\")","v":""},null,{"$f":"J1478","v":10},null,{"$f":"IF(G1478=$G$5,1,0)","v":0},10,{"$f":"I1478+K1477","v":123}]
[null,null,{"$f":"IFERROR(VLOOKUP(D1479,'1_Causas_Levantadas'!C:D,2,0),\"\")","v":0},"","",null,11,null,0,{"$f":"IF(G1478<$G$4,J1478+1,1)","v":11},123]
[null,null,{"$f":"IFERROR(VLOOKUP(D1480,'1_Causas_Levantadas'!C:D,2,0),\"\")","v":0},"","",null,12,null,0,12,123]
[null,null,{"$f":"IFERROR(VLOOKUP(D1481,'1_Causas_Levantadas'!C:D,2,0),\"\")","v":0},"","",null,1,null,1,1,124]
[null,null,{"$f":"IFERROR(VLOOKUP(D1482,'1_Causas_Levantadas'!C:D,2,0),\"\")","v":0},"","",null,2,null,0,2,124]
[null,null,{"$f":"IFERROR(VLOOKUP(D1483,'1_Causas_Levantadas'!C:D,2,0),\"\")","v":0},"","",null,3,null,0,3,124]
[null,null,{"$f":"IFERROR(VLOOKUP(D1484,'1_Causas_Levantadas'!C:D,2,0),\"\")","v":0},"","",null,4,null,0,4,124]
[null,null,{"$f":"IFERROR(VLOOKUP(D1485,'1_Causas_Levantadas'!C:D,2,0),\"\")","v":0},"","",null,5,null,0,5,124]
[null,null,{"$f":"IFERROR(VLOOKUP(D1486,'1_Causas_Levantadas'!C:D,2,0),\"\")","v":0},"","",null,6,null,0,6,124]
[null,null,{"$f":"IFERROR(VLOOKUP(D1487,'1_Causas_Levantadas'!C:D,2,0),\"\")","v":0},"","",null,7,null,0,7,124]
[null,null,{"$f":"IFERROR(VLOOKUP(D1488,'1_Causas_Levantadas'!C:D,2,0),\"\")","v":0},"","",null,8,null,0,8,124]
[null,null,{"$f":"IFERROR(VLOOKUP(D1489,'1_Causas_Levantadas'!C:D,2,0),\"\")","v":0},"","",null,9,null,0,9,124]
[null,null,{"$f":"IFERROR(VLOOKUP(D1490,'1_Causas_Levantadas'!C:D,2,0),\"\")","v":0},"","",null,10,null,0,10,124]
[null,null,{"$f":"IFERROR(VLOOKUP(D1491,'1_Causas_Levantadas'!C:D,2,0),\"\")","v":0},"","",null,11,null,0,11,124]
[null,null,{"$f":"IFERROR(VLOOKUP(D1492,'1_Causas_Levantadas'!C:D,2,0),\"\")","v":0},"","",null,12,null,0,12,124]
[null,null,{"$f":"IFERROR(VLOOKUP(D1493,'1_Causas_Levantadas'!C:D,2,0),\"\")","v":0},"","",null,1,null,1,1,125]
[null,null,{"$f":"IFERROR(VLOOKUP(D1494,'1_Causas_Levantadas'!C:D,2,0),\"\")","v":0},"","",null,2,null,0,2,125]
[null,null,{"$f":"IFERROR(VLOOKUP(D1495,'1_Causas_Levantadas'!C:D,2,0),\"\")","v":0},"","",null,3,null,0,3,125]
[null,null,{"$f":"IFERROR(VLOOKUP(D1496,'1_Causas_Levantadas'!C:D,2,0),\"\")","v":0},"","",null,4,null,0,4,125]
[null,null,{"$f":"IFERROR(VLOOKUP(D1497,'1_Causas_Levantadas'!C:D,2,0),\"\")","v":0},"","",null,5,null,0,5,125]
[null,null,{"$f":"IFERROR(VLOOKUP(D1498,'1_Causas_Levantadas'!C:D,2,0),\"\")","v":0},"","",null,6,null,0,6,125]
[null,null,{"$f":"IFERROR(VLOOKUP(D1499,'1_Causas_Levantadas'!C:D,2,0),\"\")","v":0},"","",null,7,null,0,7,125]
[null,null,{"$f":"IFERROR(VLOOKUP(D1500,'1_Causas_Levantadas'!C:D,2,0),\"\")","v":0},"","",null,8,null,0,8,125]
[null,null,{"$f":"IFERROR(VLOOKUP(D1501,'1_Causas_Levantadas'!C:D,2,0),\"\")","v":0},"","",null,9,null,0,9,125]
[null,null,{"$f":"IFERROR(VLOOKUP(D1502,'1_Causas_Levantadas'!C:D,2,0),\"\")","v":0},"","",null,10,null,0,10,125]
[null,null,{"$f":"IFERROR(VLOOKUP(D1503,'1_Causas_Levantadas'!C:D,2,0),\"\")","v":0},"","",null,11,null,0,11,125]
[null,null,{"$f":"IFERROR(VLOOKUP(D1504,'1_Causas_Levantadas'!C:D,2,0),\"\")","v":0},"","",null,12,null,0,12,125]
[null,null,{"$f":"IFERROR(VLOOKUP(D1505,'1_Causas_Levantadas'!C:D,2,0),\"\")","v":0},"","",null,1,null,1,1,126]
[null,null,{"$f":"IFERROR(VLOOKUP(D1506,'1_Causas_Levantadas'!C:D,2,0),\"\")","v":0},"","",null,2,null,0,2,126]
[null,null,{"$f":"IFERROR(VLOOKUP(D1507,'1_Causas_Levantadas'!C:D,2,0),\"\")","v":0},"","",null,3,null,0,3,126]
[null,null,{"$f":"IFERROR(VLOOKUP(D1508,'1_Causas_Levantadas'!C:D,2,0),\"\")","v":0},"","",null,4,null,0,4,126]
[null,null,{"$f":"IFERROR(VLOOKUP(D1509,'1_Causas_Levantadas'!C:D,2,0),\"\")","v":0},"","",null,5,null,0,5,126]
[null,null,{"$f":"IFERROR(VLOOKUP(D1510,'1_Causas_Levantadas'!C:D,2,0),\"\")","v":0},"","",null,6,null,0,6,126]
[null,null,{"$f":"IFERROR(VLOOKUP(D1511,'1_Causas_Levantadas'!C:D,2,0),\"\")","v":0},"","",null,7,null,0,7,126]
[null,null,{"$f":"IFERROR(VLOOKUP(D1512,'1_Causas_Levantadas'!C:D,2,0),\"\")","v":0},"","",null,8,null,0,8,126]
[null,null,{"$f":"IFERROR(VLOOKUP(D1513,'1_Causas_Levantadas'!C:D,2,0),\"\")","v":0},"","",null,9,null,0,9,126]
[null,null,{"$f":"IFERROR(VLOOKUP(D1514,'1_Causas_Levantadas'!C:D,2,0),\"\")","v":0},"","",null,10,null,0,10,126]
[null,null,{"$f":"IFERROR(VLOOKUP(D1515,'1_Causas_Levantadas'!C:D,2,0),\"\")","v":0},"","",null,11,null,0,11,126]
[null,null,{"$f":"IFERROR(VLOOKUP(D1516,'1_Causas_Levantadas'!C:D,2,0),\"\")","v":0},"","",null,12,null,0,12,126]
[null,null,{"$f":"IFERROR(VLOOKUP(D1517,'1_Causas_Levantadas'!C:D,2,0),\"\")","v":0},"","",null,1,null,1,1,127]
[null,null,{"$f":"IFERROR(VLOOKUP(D1518,'1_Causas_Levantadas'!C:D,2,0),\"\")","v":0},"","",null,2,null,0,2,127]
[null,null,{"$f":"IFERROR(VLOOKUP(D1519,'1_Causas_Levantadas'!C:D,2,0),\"\")","v":0},"","",null,3,null,0,3,127]
[null,null,{"$f":"IFERROR(VLOOKUP(D1520,'1_Causas_Levantadas'!C:D,2,0),\"\")","v":0},"","",null,4,null,0,4,127]
[null,null,{"$f":"IFERROR(VLOOKUP(D1521,'1_Causas_Levantadas'!C:D,2,0),\"\")","v":0},"","",null,5,null,0,5,127]
[null,null,{"$f":"IFERROR(VLOOKUP(D1522,'1_Causas_Levantadas'!C:D,2,0),\"\")","v":0},"","",null,6,null,0,6,127]
[null,null,{"$f":"IFERROR(VLOOKUP(D1523,'1_Causas_Levantadas'!C:D,2,0),\"\")","v":0},"","",null,7,null,0,7,127]
[null,null,{"$f":"IFERROR(VLOOKUP(D1524,'1_Causas_Levantadas'!C:D,2,0),\"\")","v":0},"","",null,8,null,0,8,127]
[null,null,{"$f":"IFERROR(VLOOKUP(D1525,'1_Causas_Levantadas'!C:D,2,0),\"\")","v":0},"","",null,9,null,0,9,127]
[null,null,{"$f":"IFERROR(VLOOKUP(D1526,'1_Causas_Levantadas'!C:D,2,0),\"\")","v":0},"","",null,10,null,0,10,127]
[null,null,{"$f":"IFERROR(VLOOKUP(D1527,'1_Causas_Levantadas'!C:D,2,0),\"\")","v":0},"","",null,11,null,0,11,127]
[null,null,{"$f":"IFERROR(VLOOKUP(D1528,'1_Causas_Levantadas'!C:D,2,0),\"\")","v":0},"","",null,12,null,0,12,127]
[null,null,{"$f":"IFERROR(VLOOKUP(D1529,'1_Causas_Levantadas'!C:D,2,0),\"\")","v":0},"","",null,1,null,1,1,128]
[null,null,{"$f":"IFERROR(VLOOKUP(D1530,'1_Causas_Levantadas'!C:D,2,0),\"\")","v":0},"","",null,2,null,0,2,128]
[null,null,{"$f":"IFERROR(VLOOKUP(D1531,'1_Causas_Levantadas'!C:D,2,0),\"\")","v":0},"","",null,3,null,0,3,128]
[null,null,{"$f":"IFERROR(VLOOKUP(D1532,'1_Causas_Levantadas'!C:D,2,0),\"\")","v":0},"","",null,4,null,0,4,128]
[null,null,{"$f":"IFERROR(VLOOKUP(D1533,'1_Causas_Levantadas'!C:D,2,0),\"\")","v":0},"","",null,5,null,0,5,128]
[null,null,{"$f":"IFERROR(VLOOKUP(D1534,'1_Causas_Levantadas'!C:D,2,0),\"\")","v":0},"","",null,6,null,0,6,128]
[null,null,{"$f":"IFERROR(VLOOKUP(D1535,'1_Causas_Levantadas'!C:D,2,0),\"\")","v":0},"","",null,7,null,0,7,128]
[null,null,{"$f":"IFERROR(VLOOKUP(D1536,'1_Causas_Levantadas'!C:D,2,0),\"\")","v":0},"","",null,8,null,0,8,128]
[null,null,{"$f":"IFERROR(VLOOKUP(D1537,'1_Causas_Levantadas'!C:D,2,0),\"\")","v":0},"","",null,9,null,0,9,128]
[null,null,{"$f":"IFERROR(VLOOKUP(D1538,'1_Causas_Levantadas'!C:D,2,0),\"\")","v":0},"","",null,10,null,0,10,128]
[null,null,{"$f":"IFERROR(VLOOKUP(D1539,'1_Causas_Levantadas'!C:D,2,0),\"\")","v":0},"","",null,11,null,0,11,128]
[null,null,{"$f":"IFERROR(VLOOKUP(D1540,'1_Causas_Levantadas'!C:D,2,0),\"\")","v":0},"","",null,12,null,0,12,128]
[null,null,{"$f":"IFERROR(VLOOKUP(D1541,'1_Causas_Levantadas'!C:D,2,0),\"\")","v":0},"","",null,1,null,1,1,129]
[null,null,{"$f":"IFERROR(VLOOKUP(D1542,'1_Causas_Levantadas'!C:D,2,0),\"\")","v":0},{"$f":"IF(K1542<=$H$4,(IF(G1541>0,G1542,$G$5)),\"\")","v":""},{"$f":"IF(D1542<>\"\",\"Participante \"&K1542,\"\")","v":""},null,{"$f":"J1542","v":2},null,{"$f":"IF(G1542=$G$5,1,0)","v":0},2,{"$f":"I1542+K1541","v":129}]
[null,null,{"$f":"IFERROR(VLOOKUP(D1543,'1_Causas_Levantadas'!C:D,2,0),\"\")","v":0},"","",null,3,null,0,{"$f":"IF(G1542<$G$4,J1542+1,1)","v":3},129]
[null,null,{"$f":"IFERROR(VLOOKUP(D1544,'1_Causas_Levantadas'!C:D,2,0),\"\")","v":0},"","",null,4,null,0,4,129]
[null,null,{"$f":"IFERROR(VLOOKUP(D1545,'1_Causas_Levantadas'!C:D,2,0),\"\")","v":0},"","",null,5,null,0,5,129]
[null,null,{"$f":"IFERROR(VLOOKUP(D1546,'1_Causas_Levantadas'!C:D,2,0),\"\")","v":0},"","",null,6,null,0,6,129]
[null,null,{"$f":"IFERROR(VLOOKUP(D1547,'1_Causas_Levantadas'!C:D,2,0),\"\")","v":0},"","",null,7,null,0,7,129]
[null,null,{"$f":"IFERROR(VLOOKUP(D1548,'1_Causas_Levantadas'!C:D,2,0),\"\")","v":0},"","",null,8,null,0,8,129]
[null,null,{"$f":"IFERROR(VLOOKUP(D1549,'1_Causas_Levantadas'!C:D,2,0),\"\")","v":0},"","",null,9,null,0,9,129]
[null,null,{"$f":"IFERROR(VLOOKUP(D1550,'1_Causas_Levantadas'!C:D,2,0),\"\")","v":0},"","",null,10,null,0,10,129]
[null,null,{"$f":"IFERROR(VLOOKUP(D1551,'1_Causas_Levantadas'!C:D,2,0),\"\")","v":0},"","",null,11,null,0,11,129]
[null,null,{"$f":"IFERROR(VLOOKUP(D1552,'1_Causas_Levantadas'!C:D,2,0),\"\")","v":0},"","",null,12,null,0,12,129]
[null,null,{"$f":"IFERROR(VLOOKUP(D1553,'1_Causas_Levantadas'!C:D,2,0),\"\")","v":0},"","",null,1,null,1,1,130]
[null,null,{"$f":"IFERROR(VLOOKUP(D1554,'1_Causas_Levantadas'!C:D,2,0),\"\")","v":0},"","",null,2,null,0,2,130]
[null,null,{"$f":"IFERROR(VLOOKUP(D1555,'1_Causas_Levantadas'!C:D,2,0),\"\")","v":0},"","",null,3,null,0,3,130]
[null,null,{"$f":"IFERROR(VLOOKUP(D1556,'1_Causas_Levantadas'!C:D,2,0),\"\")","v":0},"","",null,4,null,0,4,130]
[null,null,{"$f":"IFERROR(VLOOKUP(D1557,'1_Causas_Levantadas'!C:D,2,0),\"\")","v":0},"","",null,5,null,0,5,130]
[null,null,{"$f":"IFERROR(VLOOKUP(D1558,'1_Causas_Levantadas'!C:D,2,0),\"\")","v":0},"","",null,6,null,0,6,130]
[null,null,{"$f":"IFERROR(VLOOKUP(D1559,'1_Causas_Levantadas'!C:D,2,0),\"\")","v":0},"","",null,7,null,0,7,130]
[null,null,{"$f":"IFERROR(VLOOKUP(D1560,'1_Causas_Levantadas'!C:D,2,0),\"\")","v":0},"","",null,8,null,0,8,130]
[null,null,{"$f":"IFERROR(VLOOKUP(D1561,'1_Causas_Levantadas'!C:D,2,0),\"\")","v":0},"","",null,9,null,0,9,130]
[null,null,{"$f":"IFERROR(VLOOKUP(D1562,'1_Causas_Levantadas'!C:D,2,0),\"\")","v":0},"","",null,10,null,0,10,130]
[null,null,{"$f":"IFERROR(VLOOKUP(D1563,'1_Causas_Levantadas'!C:D,2,0),\"\")","v":0},"","",null,11,null,0,11,130]
[null,null,{"$f":"IFERROR(VLOOKUP(D1564,'1_Causas_Levantadas'!C:D,2,0),\"\")","v":0},"","",null,12,null,0,12,130]
[null,null,{"$f":"IFERROR(VLOOKUP(D1565,'1_Causas_Levantadas'!C:D,2,0),\"\")","v":0},"","",null,1,null,1,1,131]
[null,null,{"$f":"IFERROR(VLOOKUP(D1566,'1_Causas_Levantadas'!C:D,2,0),\"\")","v":0},"","",null,2,null,0,2,131]
[null,null,{"$f":"IFERROR(VLOOKUP(D1567,'1_Causas_Levantadas'!C:D,2,0),\"\")","v":0},"","",null,3,null,0,3,131]
[null,null,{"$f":"IFERROR(VLOOKUP(D1568,'1_Causas_Levantadas'!C:D,2,0),\"\")","v":0},"","",null,4,null,0,4,131]
[null,null,{"$f":"IFERROR(VLOOKUP(D1569,'1_Causas_Levantadas'!C:D,2,0),\"\")","v":0},"","",null,5,null,0,5,131]
[null,null,{"$f":"IFERROR(VLOOKUP(D1570,'1_Causas_Levantadas'!C:D,2,0),\"\")","v":0},"","",null,6,null,0,6,131]
[null,null,{"$f":"IFERROR(VLOOKUP(D1571,'1_Causas_Levantadas'!C:D,2,0),\"\")","v":0},"","",null,7,null,0,7,131]
[null,null,{"$f":"IFERROR(VLOOKUP(D1572,'1_Causas_Levantadas'!C:D,2,0),\"\")","v":0},"","",null,8,null,0,8,131]
[null,null,{"$f":"IFERROR(VLOOKUP(D1573,'1_Causas_Levantadas'!C:D,2,0),\"\")","v":0},"","",null,9,null,0,9,131]
[null,null,{"$f":"IFERROR(VLOOKUP(D1574,'1_Causas_Levantadas'!C:D,2,0),\"\")","v":0},"","",null,10,null,0,10,131]
[null,null,{"$f":"IFERROR(VLOOKUP(D1575,'1_Causas_Levantadas'!C:D,2,0),\"\")","v":0},"","",null,11,null,0,11,131]
[null,null,{"$f":"IFERROR(VLOOKUP(D1576,'1_Causas_Levantadas'!C:D,2,0),\"\")","v":0},"","",null,12,null,0,12,131]
[null,null,{"$f":"IFERROR(VLOOKUP(D1577,'1_Causas_Levantadas'!C:D,2,0),\"\")","v":0},"","",null,1,null,1,1,132]
[null,null,{"$f":"IFERROR(VLOOKUP(D1578,'1_Causas_Levantadas'!C:D,2,0),\"\")","v":0},"","",null,2,null,0,2,132]
[null,null,{"$f":"IFERROR(VLOOKUP(D1579,'1_Causas_Levantadas'!C:D,2,0),\"\")","v":0},"","",null,3,null,0,3,132]
[null,null,{"$f":"IFERROR(VLOOKUP(D1580,'1_Causas_Levantadas'!C:D,2,0),\"\")","v":0},"","",null,4,null,0,4,132]
[null,null,{"$f":"IFERROR(VLOOKUP(D1581,'1_Causas_Levantadas'!C:D,2,0),\"\")","v":0},"","",null,5,null,0,5,132]
[null,null,{"$f":"IFERROR(VLOOKUP(D1582,'1_Causas_Levantadas'!C:D,2,0),\"\")","v":0},"","",null,6,null,0,6,132]
[null,null,{"$f":"IFERROR(VLOOKUP(D1583,'1_Causas_Levantadas'!C:D,2,0),\"\")","v":0},"","",null,7,null,0,7,132]
[null,null,{"$f":"IFERROR(VLOOKUP(D1584,'1_Causas_Levantadas'!C:D,2,0),\"\")","v":0},"","",null,8,null,0,8,132]
[null,null,{"$f":"IFERROR(VLOOKUP(D1585,'1_Causas_Levantadas'!C:D,2,0),\"\")","v":0},"","",null,9,null,0,9,132]
[null,null,{"$f":"IFERROR(VLOOKUP(D1586,'1_Causas_Levantadas'!C:D,2,0),\"\")","v":0},"","",null,10,null,0,10,132]
[null,null,{"$f":"IFERROR(VLOOKUP(D1587,'1_Causas_Levantadas'!C:D,2,0),\"\")","v":0},"","",null,11,null,0,11,132]
[null,null,{"$f":"IFERROR(VLOOKUP(D1588,'1_Causas_Levantadas'!C:D,2,0),\"\")","v":0},"","",null,12,null,0,12,132]
[null,null,{"$f":"IFERROR(VLOOKUP(D1589,'1_Causas_Levantadas'!C:D,2,0),\"\")","v":0},"","",null,1,null,1,1,133]
[null,null,{"$f":"IFERROR(VLOOKUP(D1590,'1_Causas_Levantadas'!C:D,2,0),\"\")","v":0},"","",null,2,null,0,2,133]
[null,null,{"$f":"IFERROR(VLOOKUP(D1591,'1_Causas_Levantadas'!C:D,2,0),\"\")","v":0},"","",null,3,null,0,3,133]
[null,null,{"$f":"IFERROR(VLOOKUP(D1592,'1_Causas_Levantadas'!C:D,2,0),\"\")","v":0},"","",null,4,null,0,4,133]
[null,null,{"$f":"IFERROR(VLOOKUP(D1593,'1_Causas_Levantadas'!C:D,2,0),\"\")","v":0},"","",null,5,null,0,5,133]
[null,null,{"$f":"IFERROR(VLOOKUP(D1594,'1_Causas_Levantadas'!C:D,2,0),\"\")","v":0},"","",null,6,null,0,6,133]
[null,null,{"$f":"IFERROR(VLOOKUP(D1595,'1_Causas_Levantadas'!C:D,2,0),\"\")","v":0},"","",null,7,null,0,7,133]
[null,null,{"$f":"IFERROR(VLOOKUP(D1596,'1_Causas_Levantadas'!C:D,2,0),\"\")","v":0},"","",null,8,null,0,8,133]
[null,null,{"$f":"IFERROR(VLOOKUP(D1597,'1_Causas_Levantadas'!C:D,2,0),\"\")","v":0},"","",null,9,null,0,9,133]
[null,null,{"$f":"IFERROR(VLOOKUP(D1598,'1_Causas_Levantadas'!C:D,2,0),\"\")","v":0},"","",null,10,null,0,10,133]
[null,null,{"$f":"IFERROR(VLOOKUP(D1599,'1_Causas_Levantadas'!C:D,2,0),\"\")","v":0},"","",null,11,null,0,11,133]
[null,null,{"$f":"IFERROR(VLOOKUP(D1600,'1_Causas_Levantadas'!C:D,2,0),\"\")","v":0},"","",null,12,null,0,12,133]
[null,null,{"$f":"IFERROR(VLOOKUP(D1601,'1_Causas_Levantadas'!C:D,2,0),\"\")","v":0},"","",null,1,null,1,1,134]
[null,null,{"$f":"IFERROR(VLOOKUP(D1602,'1_Causas_Levantadas'!C:D,2,0),\"\")","v":0},"","",null,2,null,0,2,134]
[null,null,{"$f":"IFERROR(VLOOKUP(D1603,'1_Causas_Levantadas'!C:D,2,0),\"\")","v":0},"","",null,3,null,0,3,134]
[null,null,{"$f":"IFERROR(VLOOKUP(D1604,'1_Causas_Levantadas'!C:D,2,0),\"\")","v":0},"","",null,4,null,0,4,134]
[null,null,{"$f":"IFERROR(VLOOKUP(D1605,'1_Causas_Levantadas'!C:D,2,0),\"\")","v":0},"","",null,5,null,0,5,134]
[null,null,{"$f":"IFERROR(VLOOKUP(D1606,'1_Causas_Levantadas'!C:D,2,0),\"\")","v":0},{"$f":"IF(K1606<=$H$4,(IF(G1605>0,G1606,$G$5)),\"\")","v":""},{"$f":"IF(D1606<>\"\",\"Participante \"&K1606,\"\")","v":""},null,{"$f":"J1606","v":6},null,{"$f":"IF(G1606=$G$5,1,0)","v":0},6,{"$f":"I1606+K1605","v":134}]
[null,null,{"$f":"IFERROR(VLOOKUP(D1607,'1_Causas_Levantadas'!C:D,2,0),\"\")","v":0},"","",null,7,null,0,{"$f":"IF(G1606<$G$4,J1606+1,1)","v":7},134]
[null,null,{"$f":"IFERROR(VLOOKUP(D1608,'1_Causas_Levantadas'!C:D,2,0),\"\")","v":0},"","",null,8,null,0,8,134]
[null,null,{"$f":"IFERROR(VLOOKUP(D1609,'1_Causas_Levantadas'!C:D,2,0),\"\")","v":0},"","",null,9,null,0,9,134]
[null,null,{"$f":"IFERROR(VLOOKUP(D1610,'1_Causas_Levantadas'!C:D,2,0),\"\")","v":0},"","",null,10,null,0,10,134]
[null,null,{"$f":"IFERROR(VLOOKUP(D1611,'1_Causas_Levantadas'!C:D,2,0),\"\")","v":0},"","",null,11,null,0,11,134]
[null,null,{"$f":"IFERROR(VLOOKUP(D1612,'1_Causas_Levantadas'!C:D,2,0),\"\")","v":0},"","",null,12,null,0,12,134]
[null,null,{"$f":"IFERROR(VLOOKUP(D1613,'1_Causas_Levantadas'!C:D,2,0),\"\")","v":0},"","",null,1,null,1,1,135]
[null,null,{"$f":"IFERROR(VLOOKUP(D1614,'1_Causas_Levantadas'!C:D,2,0),\"\")","v":0},"","",null,2,null,0,2,135]
[null,null,{"$f":"IFERROR(VLOOKUP(D1615,'1_Causas_Levantadas'!C:D,2,0),\"\")","v":0},"","",null,3,null,0,3,135]
[null,null,{"$f":"IFERROR(VLOOKUP(D1616,'1_Causas_Levantadas'!C:D,2,0),\"\")","v":0},"","",null,4,null,0,4,135]
[null,null,{"$f":"IFERROR(VLOOKUP(D1617,'1_Causas_Levantadas'!C:D,2,0),\"\")","v":0},"","",null,5,null,0,5,135]
[null,null,{"$f":"IFERROR(VLOOKUP(D1618,'1_Causas_Levantadas'!C:D,2,0),\"\")","v":0},"","",null,6,null,0,6,135]
[null,null,{"$f":"IFERROR(VLOOKUP(D1619,'1_Causas_Levantadas'!C:D,2,0),\"\")","v":0},"","",null,7,null,0,7,135]
[null,null,{"$f":"IFERROR(VLOOKUP(D1620,'1_Causas_Levantadas'!C:D,2,0),\"\")","v":0},"","",null,8,null,0,8,135]
[null,null,{"$f":"IFERROR(VLOOKUP(D1621,'1_Causas_Levantadas'!C:D,2,0),\"\")","v":0},"","",null,9,null,0,9,135]
[null,null,{"$f":"IFERROR(VLOOKUP(D1622,'1_Causas_Levantadas'!C:D,2,0),\"\")","v":0},"","",null,10,null,0,10,135]
[null,null,{"$f":"IFERROR(VLOOKUP(D1623,'1_Causas_Levantadas'!C:D,2,0),\"\")","v":0},"","",null,11,null,0,11,135]
[null,null,{"$f":"IFERROR(VLOOKUP(D1624,'1_Causas_Levantadas'!C:D,2,0),\"\")","v":0},"","",null,12,null,0,12,135]
[null,null,{"$f":"IFERROR(VLOOKUP(D1625,'1_Causas_Levantadas'!C:D,2,0),\"\")","v":0},"","",null,1,null,1,1,136]
[null,null,{"$f":"IFERROR(VLOOKUP(D1626,'1_Causas_Levantadas'!C:D,2,0),\"\")","v":0},"","",null,2,null,0,2,136]
[null,null,{"$f":"IFERROR(VLOOKUP(D1627,'1_Causas_Levantadas'!C:D,2,0),\"\")","v":0},"","",null,3,null,0,3,136]
[null,null,{"$f":"IFERROR(VLOOKUP(D1628,'1_Causas_Levantadas'!C:D,2,0),\"\")","v":0},"","",null,4,null,0,4,136]
[null,null,{"$f":"IFERROR(VLOOKUP(D1629,'1_Causas_Levantadas'!C:D,2,0),\"\")","v":0},"","",null,5,null,0,5,136]
[null,null,{"$f":"IFERROR(VLOOKUP(D1630,'1_Causas_Levantadas'!C:D,2,0),\"\")","v":0},"","",null,6,null,0,6,136]
[null,null,{"$f":"IFERROR(VLOOKUP(D1631,'1_Causas_Levantadas'!C:D,2,0),\"\")","v":0},"","",null,7,null,0,7,136]
[null,null,{"$f":"IFERROR(VLOOKUP(D1632,'1_Causas_Levantadas'!C:D,2,0),\"\")","v":0},"","",null,8,null,0,8,136]
[null,null,{"$f":"IFERROR(VLOOKUP(D1633,'1_Causas_Levantadas'!C:D,2,0),\"\")","v":0},"","",null,9,null,0,9,136]
[null,null,{"$f":"IFERROR(VLOOKUP(D1634,'1_Causas_Levantadas'!C:D,2,0),\"\")","v":0},"","",null,10,null,0,10,136]
[null,null,{"$f":"IFERROR(VLOOKUP(D1635,'1_Causas_Levantadas'!C:D,2,0),\"\")","v":0},"","",null,11,null,0,11,136]
[null,null,{"$f":"IFERROR(VLOOKUP(D1636,'1_Causas_Levantadas'!C:D,2,0),\"\")","v":0},"","",null,12,null,0,12,136]
[null,null,{"$f":"IFERROR(VLOOKUP(D1637,'1_Causas_Levantadas'!C:D,2,0),\"\")","v":0},"","",null,1,null,1,1,137]
[null,null,{"$f":"IFERROR(VLOOKUP(D1638,'1_Causas_Levantadas'!C:D,2,0),\"\")","v":0},"","",null,2,null,0,2,137]
[null,null,{"$f":"IFERROR(VLOOKUP(D1639,'1_Causas_Levantadas'!C:D,2,0),\"\")","v":0},"","",null,3,null,0,3,137]
[null,null,{"$f":"IFERROR(VLOOKUP(D1640,'1_Causas_Levantadas'!C:D,2,0),\"\")","v":0},"","",null,4,null,0,4,137]
[null,null,{"$f":"IFERROR(VLOOKUP(D1641,'1_Causas_Levantadas'!C:D,2,0),\"\")","v":0},"","",null,5,null,0,5,137]
[null,null,{"$f":"IFERROR(VLOOKUP(D1642,'1_Causas_Levantadas'!C:D,2,0),\"\")","v":0},"","",null,6,null,0,6,137]
[null,null,{"$f":"IFERROR(VLOOKUP(D1643,'1_Causas_Levantadas'!C:D,2,0),\"\")","v":0},"","",null,7,null,0,7,137]
[null,null,{"$f":"IFERROR(VLOOKUP(D1644,'1_Causas_Levantadas'!C:D,2,0),\"\")","v":0},"","",null,8,null,0,8,137]
[null,null,{"$f":"IFERROR(VLOOKUP(D1645,'1_Causas_Levantadas'!C:D,2,0),\"\")","v":0},"","",null,9,null,0,9,137]
[null,null,{"$f":"IFERROR(VLOOKUP(D1646,'1_Causas_Levantadas'!C:D,2,0),\"\")","v":0},"","",null,10,null,0,10,137]
[null,null,{"$f":"IFERROR(VLOOKUP(D1647,'1_Causas_Levantadas'!C:D,2,0),\"\")","v":0},"","",null,11,null,0,11,137]
[null,null,{"$f":"IFERROR(VLOOKUP(D1648,'1_Causas_Levantadas'!C:D,2,0),\"\")","v":0},"","",null,12,null,0,12,137]
[null,null,{"$f":"IFERROR(VLOOKUP(D1649,'1_Causas_Levantadas'!C:D,2,0),\"\")","v":0},"","",null,1,null,1,1,138]
[null,null,{"$f":"IFERROR(VLOOKUP(D1650,'1_Causas_Levantadas'!C:D,2,0),\"\")","v":0},"","",null,2,null,0,2,138]
[null,null,{"$f":"IFERROR(VLOOKUP(D1651,'1_Causas_Levantadas'!C:D,2,0),\"\")","v":0},"","",null,3,null,0,3,138]
[null,null,{"$f":"IFERROR(VLOOKUP(D1652,'1_Causas_Levantadas'!C:D,2,0),\"\")","v":0},"","",null,4,null,0,4,138]
[null,null,{"$f":"IFERROR(VLOOKUP(D1653,'1_Causas_Levantadas'!C:D,2,0),\"\")","v":0},"","",null,5,null,0,5,138]
[null,null,{"$f":"IFERROR(VLOOKUP(D1654,'1_Causas_Levantadas'!C:D,2,0),\"\")","v":0},"","",null,6,null,0,6,138]
[null,null,{"$f":"IFERROR(VLOOKUP(D1655,'1_Causas_Levantadas'!C:D,2,0),\"\")","v":0},"","",null,7,null,0,7,138]
[null,null,{"$f":"IFERROR(VLOOKUP(D1656,'1_Causas_Levantadas'!C:D,2,0),\"\")","v":0},"","",null,8,null,0,8,138]
[null,null,{"$f":"IFERROR(VLOOKUP(D1657,'1_Causas_Levantadas'!C:D,2,0),\"\")","v":0},"","",null,9,null,0,9,138]
[null,null,{"$f":"IFERROR(VLOOKUP(D1658,'1_Causas_Levantadas'!C:D,2,0),\"\")","v":0},"","",null,10,null,0,10,138]
[null,null,{"$f":"IFERROR(VLOOKUP(D1659,'1_Causas_Levantadas'!C:D,2,0),\"\")","v":0},"","",null,11,null,0,11,138]
[null,null,{"$f":"IFERROR(VLOOKUP(D1660,'1_Causas_Levantadas'!C:D,2,0),\"\")","v":0},"","",null,12,null,0,12,138]
[null,null,{"$f":"IFERROR(VLOOKUP(D1661,'1_Causas_Levantadas'!C:D,2,0),\"\")","v":0},"","",null,1,null,1,1,139]
[null,null,{"$f":"IFERROR(VLOOKUP(D1662,'1_Causas_Levantadas'!C:D,2,0),\"\")","v":0},"","",null,2,null,0,2,139]
[null,null,{"$f":"IFERROR(VLOOKUP(D1663,'1_Causas_Levantadas'!C:D,2,0),\"\")","v":0},"","",null,3,null,0,3,139]
[null,null,{"$f":"IFERROR(VLOOKUP(D1664,'1_Causas_Levantadas'!C:D,2,0),\"\")","v":0},"","",null,4,null,0,4,139]
[null,null,{"$f":"IFERROR(VLOOKUP(D1665,'1_Causas_Levantadas'!C:D,2,0),\"\")","v":0},"","",null,5,null,0,5,139]
[null,null,{"$f":"IFERROR(VLOOKUP(D1666,'1_Causas_Levantadas'!C:D,2,0),\"\")","v":0},"","",null,6,null,0,6,139]
[null,null,{"$f":"IFERROR(VLOOKUP(D1667,'1_Causas_Levantadas'!C:D,2,0),\"\")","v":0},"","",null,7,null,0,7,139]
[null,null,{"$f":"IFERROR(VLOOKUP(D1668,'1_Causas_Levantadas'!C:D,2,0),\"\")","v":0},"","",null,8,null,0,8,139]
[null,null,{"$f":"IFERROR(VLOOKUP(D1669,'1_Causas_Levantadas'!C:D,2,0),\"\")","v":0},"","",null,9,null,0,9,139]
[null,null,{"$f":"IFERROR(VLOOKUP(D1670,'1_Causas_Levantadas'!C:D,2,0),\"\")","v":0},{"$f":"IF(K1670<=$H$4,(IF(G1669>0,G1670,$G$5)),\"\")","v":""},{"$f":"IF(D1670<>\"\",\"Participante \"&K1670,\"\")","v":""},null,{"$f":"J1670","v":10},null,{"$f":"IF(G1670=$G$5,1,0)","v":0},10,{"$f":"I1670+K1669","v":139}]
[null,null,{"$f":"IFERROR(VLOOKUP(D1671,'1_Causas_Levantadas'!C:D,2,0),\"\")","v":0},"","",null,11,null,0,{"$f":"IF(G1670<$G$4,J1670+1,1)","v":11},139]
[null,null,{"$f":"IFERROR(VLOOKUP(D1672,'1_Causas_Levantadas'!C:D,2,0),\"\")","v":0},"","",null,12,null,0,12,139]
[null,null,{"$f":"IFERROR(VLOOKUP(D1673,'1_Causas_Levantadas'!C:D,2,0),\"\")","v":0},"","",null,1,null,1,1,140]
[null,null,{"$f":"IFERROR(VLOOKUP(D1674,'1_Causas_Levantadas'!C:D,2,0),\"\")","v":0},"","",null,2,null,0,2,140]
[null,null,{"$f":"IFERROR(VLOOKUP(D1675,'1_Causas_Levantadas'!C:D,2,0),\"\")","v":0},"","",null,3,null,0,3,140]
[null,null,{"$f":"IFERROR(VLOOKUP(D1676,'1_Causas_Levantadas'!C:D,2,0),\"\")","v":0},"","",null,4,null,0,4,140]
[null,null,{"$f":"IFERROR(VLOOKUP(D1677,'1_Causas_Levantadas'!C:D,2,0),\"\")","v":0},"","",null,5,null,0,5,140]
[null,null,{"$f":"IFERROR(VLOOKUP(D1678,'1_Causas_Levantadas'!C:D,2,0),\"\")","v":0},"","",null,6,null,0,6,140]
[null,null,{"$f":"IFERROR(VLOOKUP(D1679,'1_Causas_Levantadas'!C:D,2,0),\"\")","v":0},"","",null,7,null,0,7,140]
[null,null,{"$f":"IFERROR(VLOOKUP(D1680,'1_Causas_Levantadas'!C:D,2,0),\"\")","v":0},"","",null,8,null,0,8,140]
[null,null,{"$f":"IFERROR(VLOOKUP(D1681,'1_Causas_Levantadas'!C:D,2,0),\"\")","v":0},"","",null,9,null,0,9,140]
[null,null,{"$f":"IFERROR(VLOOKUP(D1682,'1_Causas_Levantadas'!C:D,2,0),\"\")","v":0},"","",null,10,null,0,10,140]
[null,null,{"$f":"IFERROR(VLOOKUP(D1683,'1_Causas_Levantadas'!C:D,2,0),\"\")","v":0},"","",null,11,null,0,11,140]
[null,null,{"$f":"IFERROR(VLOOKUP(D1684,'1_Causas_Levantadas'!C:D,2,0),\"\")","v":0},"","",null,12,null,0,12,140]
[null,null,{"$f":"IFERROR(VLOOKUP(D1685,'1_Causas_Levantadas'!C:D,2,0),\"\")","v":0},"","",null,1,null,1,1,141]
[null,null,{"$f":"IFERROR(VLOOKUP(D1686,'1_Causas_Levantadas'!C:D,2,0),\"\")","v":0},"","",null,2,null,0,2,141]
[null,null,{"$f":"IFERROR(VLOOKUP(D1687,'1_Causas_Levantadas'!C:D,2,0),\"\")","v":0},"","",null,3,null,0,3,141]
[null,null,{"$f":"IFERROR(VLOOKUP(D1688,'1_Causas_Levantadas'!C:D,2,0),\"\")","v":0},"","",null,4,null,0,4,141]
[null,null,{"$f":"IFERROR(VLOOKUP(D1689,'1_Causas_Levantadas'!C:D,2,0),\"\")","v":0},"","",null,5,null,0,5,141]
[null,null,{"$f":"IFERROR(VLOOKUP(D1690,'1_Causas_Levantadas'!C:D,2,0),\"\")","v":0},"","",null,6,null,0,6,141]
[null,null,{"$f":"IFERROR(VLOOKUP(D1691,'1_Causas_Levantadas'!C:D,2,0),\"\")","v":0},"","",null,7,null,0,7,141]
[null,null,{"$f":"IFERROR(VLOOKUP(D1692,'1_Causas_Levantadas'!C:D,2,0),\"\")","v":0},"","",null,8,null,0,8,141]
[null,null,{"$f":"IFERROR(VLOOKUP(D1693,'1_Causas_Levantadas'!C:D,2,0),\"\")","v":0},"","",null,9,null,0,9,141]
[null,null,{"$f":"IFERROR(VLOOKUP(D1694,'1_Causas_Levantadas'!C:D,2,0),\"\")","v":0},"","",null,10,null,0,10,141]
[null,null,{"$f":"IFERROR(VLOOKUP(D1695,'1_Causas_Levantadas'!C:D,2,0),\"\")","v":0},"","",null,11,null,0,11,141]
[null,null,{"$f":"IFERROR(VLOOKUP(D1696,'1_Causas_Levantadas'!C:D,2,0),\"\")","v":0},"","",null,12,null,0,12,141]
[null,null,{"$f":"IFERROR(VLOOKUP(D1697,'1_Causas_Levantadas'!C:D,2,0),\"\")","v":0},"","",null,1,null,1,1,142]
[null,null,{"$f":"IFERROR(VLOOKUP(D1698,'1_Causas_Levantadas'!C:D,2,0),\"\")","v":0},"","",null,2,null,0,2,142]
[null,null,{"$f":"IFERROR(VLOOKUP(D1699,'1_Causas_Levantadas'!C:D,2,0),\"\")","v":0},"","",null,3,null,0,3,142]
[null,null,{"$f":"IFERROR(VLOOKUP(D1700,'1_Causas_Levantadas'!C:D,2,0),\"\")","v":0},"","",null,4,null,0,4,142]
[null,null,{"$f":"IFERROR(VLOOKUP(D1701,'1_Causas_Levantadas'!C:D,2,0),\"\")","v":0},"","",null,5,null,0,5,142]
[null,null,{"$f":"IFERROR(VLOOKUP(D1702,'1_Causas_Levantadas'!C:D,2,0),\"\")","v":0},"","",null,6,null,0,6,142]
[null,null,{"$f":"IFERROR(VLOOKUP(D1703,'1_Causas_Levantadas'!C:D,2,0),\"\")","v":0},"","",null,7,null,0,7,142]
[null,null,{"$f":"IFERROR(VLOOKUP(D1704,'1_Causas_Levantadas'!C:D,2,0),\"\")","v":0},"","",null,8,null,0,8,142]
[null,null,{"$f":"IFERROR(VLOOKUP(D1705,'1_Causas_Levantadas'!C:D,2,0),\"\")","v":0},"","",null,9,null,0,9,142]
[null,null,{"$f":"IFERROR(VLOOKUP(D1706,'1_Causas_Levantadas'!C:D,2,0),\"\")","v":0},"","",null,10,null,0,10,142]
[null,null,{"$f":"IFERROR(VLOOKUP(D1707,'1_Causas_Levantadas'!C:D,2,0),\"\")","v":0},"","",null,11,null,0,11,142]
[null,null,{"$f":"IFERROR(VLOOKUP(D1708,'1_Causas_Levantadas'!C:D,2,0),\"\")","v":0},"","",null,12,null,0,12,142]
[null,null,{"$f":"IFERROR(VLOOKUP(D1709,'1_Causas_Levantadas'!C:D,2,0),\"\")","v":0},"","",null,1,null,1,1,143]
[null,null,{"$f":"IFERROR(VLOOKUP(D1710,'1_Causas_Levantadas'!C:D,2,0),\"\")","v":0},"","",null,2,null,0,2,143]
[null,null,{"$f":"IFERROR(VLOOKUP(D1711,'1_Causas_Levantadas'!C:D,2,0),\"\")","v":0},"","",null,3,null,0,3,143]
[null,null,{"$f":"IFERROR(VLOOKUP(D1712,'1_Causas_Levantadas'!C:D,2,0),\"\")","v":0},"","",null,4,null,0,4,143]
[null,null,{"$f":"IFERROR(VLOOKUP(D1713,'1_Causas_Levantadas'!C:D,2,0),\"\")","v":0},"","",null,5,null,0,5,143]
[null,null,{"$f":"IFERROR(VLOOKUP(D1714,'1_Causas_Levantadas'!C:D,2,0),\"\")","v":0},"","",null,6,null,0,6,143]
[null,null,{"$f":"IFERROR(VLOOKUP(D1715,'1_Causas_Levantadas'!C:D,2,0),\"\")","v":0},"","",null,7,null,0,7,143]
[null,null,{"$f":"IFERROR(VLOOKUP(D1716,'1_Causas_Levantadas'!C:D,2,0),\"\")","v":0},"","",null,8,null,0,8,143]
[null,null,{"$f":"IFERROR(VLOOKUP(D1717,'1_Causas_Levantadas'!C:D,2,0),\"\")","v":0},"","",null,9,null,0,9,143]
[null,null,{"$f":"IFERROR(VLOOKUP(D1718,'1_Causas_Levantadas'!C:D,2,0),\"\")","v":0},"","",null,10,null,0,10,143]
[null,null,{"$f":"IFERROR(VLOOKUP(D1719,'1_Causas_Levantadas'!C:D,2,0),\"\")","v":0},"","",null,11,null,0,11,143]
[null,null,{"$f":"IFERROR(VLOOKUP(D1720,'1_Causas_Levantadas'!C:D,2,0),\"\")","v":0},"","",null,12,null,0,12,143]
[null,null,{"$f":"IFERROR(VLOOKUP(D1721,'1_Causas_Levantadas'!C:D,2,0),\"\")","v":0},"","",null,1,null,1,1,144]
[null,null,{"$f":"IFERROR(VLOOKUP(D1722,'1_Causas_Levantadas'!C:D,2,0),\"\")","v":0},"","",null,2,null,0,2,144]
[null,null,{"$f":"IFERROR(VLOOKUP(D1723,'1_Causas_Levantadas'!C:D,2,0),\"\")","v":0},"","",null,3,null,0,3,144]
[null,null,{"$f":"IFERROR(VLOOKUP(D1724,'1_Causas_Levantadas'!C:D,2,0),\"\")","v":0},"","",null,4,null,0,4,144]
[null,null,{"$f":"IFERROR(VLOOKUP(D1725,'1_Causas_Levantadas'!C:D,2,0),\"\")","v":0},"","",null,5,null,0,5,144]
[null,null,{"$f":"IFERROR(VLOOKUP(D1726,'1_Causas_Levantadas'!C:D,2,0),\"\")","v":0},"","",null,6,null,0,6,144]
[null,null,{"$f":"IFERROR(VLOOKUP(D1727,'1_Causas_Levantadas'!C:D,2,0),\"\")","v":0},"","",null,7,null,0,7,144]
[null,null,{"$f":"IFERROR(VLOOKUP(D1728,'1_Causas_Levantadas'!C:D,2,0),\"\")","v":0},"","",null,8,null,0,8,144]
[null,null,{"$f":"IFERROR(VLOOKUP(D1729,'1_Causas_Levantadas'!C:D,2,0),\"\")","v":0},"","",null,9,null,0,9,144]
[null,null,{"$f":"IFERROR(VLOOKUP(D1730,'1_Causas_Levantadas'!C:D,2,0),\"\")","v":0},"","",null,10,null,0,10,144]
[null,null,{"$f":"IFERROR(VLOOKUP(D1731,'1_Causas_Levantadas'!C:D,2,0),\"\")","v":0},"","",null,11,null,0,11,144]
[null,null,{"$f":"IFERROR(VLOOKUP(D1732,'1_Causas_Levantadas'!C:D,2,0),\"\")","v":0},"","",null,12,null,0,12,144]
[null,null,{"$f":"IFERROR(VLOOKUP(D1733,'1_Causas_Levantadas'!C:D,2,0),\"\")","v":0},"","",null,1,null,1,1,145]
[null,null,{"$f":"IFERROR(VLOOKUP(D1734,'1_Causas_Levantadas'!C:D,2,0),\"\")","v":0},{"$f":"IF(K1734<=$H$4,(IF(G1733>0,G1734,$G$5)),\"\")","v":""},{"$f":"IF(D1734<>\"\",\"Participante \"&K1734,\"\")","v":""},null,{"$f":"J1734","v":2},null,{"$f":"IF(G1734=$G$5,1,0)","v":0},2,{"$f":"I1734+K1733","v":145}]
[null,null,{"$f":"IFERROR(VLOOKUP(D1735,'1_Causas_Levantadas'!C:D,2,0),\"\")","v":0},"","",null,3,null,0,{"$f":"IF(G1734<$G$4,J1734+1,1)","v":3},145]
[null,null,{"$f":"IFERROR(VLOOKUP(D1736,'1_Causas_Levantadas'!C:D,2,0),\"\")","v":0},"","",null,4,null,0,4,145]
[null,null,{"$f":"IFERROR(VLOOKUP(D1737,'1_Causas_Levantadas'!C:D,2,0),\"\")","v":0},"","",null,5,null,0,5,145]
[null,null,{"$f":"IFERROR(VLOOKUP(D1738,'1_Causas_Levantadas'!C:D,2,0),\"\")","v":0},"","",null,6,null,0,6,145]
[null,null,{"$f":"IFERROR(VLOOKUP(D1739,'1_Causas_Levantadas'!C:D,2,0),\"\")","v":0},"","",null,7,null,0,7,145]
[null,null,{"$f":"IFERROR(VLOOKUP(D1740,'1_Causas_Levantadas'!C:D,2,0),\"\")","v":0},"","",null,8,null,0,8,145]
[null,null,{"$f":"IFERROR(VLOOKUP(D1741,'1_Causas_Levantadas'!C:D,2,0),\"\")","v":0},"","",null,9,null,0,9,145]
[null,null,{"$f":"IFERROR(VLOOKUP(D1742,'1_Causas_Levantadas'!C:D,2,0),\"\")","v":0},"","",null,10,null,0,10,145]
[null,null,{"$f":"IFERROR(VLOOKUP(D1743,'1_Causas_Levantadas'!C:D,2,0),\"\")","v":0},"","",null,11,null,0,11,145]
[null,null,{"$f":"IFERROR(VLOOKUP(D1744,'1_Causas_Levantadas'!C:D,2,0),\"\")","v":0},"","",null,12,null,0,12,145]
[null,null,{"$f":"IFERROR(VLOOKUP(D1745,'1_Causas_Levantadas'!C:D,2,0),\"\")","v":0},"","",null,1,null,1,1,146]
[null,null,{"$f":"IFERROR(VLOOKUP(D1746,'1_Causas_Levantadas'!C:D,2,0),\"\")","v":0},"","",null,2,null,0,2,146]
[null,null,{"$f":"IFERROR(VLOOKUP(D1747,'1_Causas_Levantadas'!C:D,2,0),\"\")","v":0},"","",null,3,null,0,3,146]
[null,null,{"$f":"IFERROR(VLOOKUP(D1748,'1_Causas_Levantadas'!C:D,2,0),\"\")","v":0},"","",null,4,null,0,4,146]
[null,null,{"$f":"IFERROR(VLOOKUP(D1749,'1_Causas_Levantadas'!C:D,2,0),\"\")","v":0},"","",null,5,null,0,5,146]
[null,null,{"$f":"IFERROR(VLOOKUP(D1750,'1_Causas_Levantadas'!C:D,2,0),\"\")","v":0},"","",null,6,null,0,6,146]
[null,null,{"$f":"IFERROR(VLOOKUP(D1751,'1_Causas_Levantadas'!C:D,2,0),\"\")","v":0},"","",null,7,null,0,7,146]
[null,null,{"$f":"IFERROR(VLOOKUP(D1752,'1_Causas_Levantadas'!C:D,2,0),\"\")","v":0},"","",null,8,null,0,8,146]
[null,null,{"$f":"IFERROR(VLOOKUP(D1753,'1_Causas_Levantadas'!C:D,2,0),\"\")","v":0},"","",null,9,null,0,9,146]
[null,null,{"$f":"IFERROR(VLOOKUP(D1754,'1_Causas_Levantadas'!C:D,2,0),\"\")","v":0},"","",null,10,null,0,10,146]
[null,null,{"$f":"IFERROR(VLOOKUP(D1755,'1_Causas_Levantadas'!C:D,2,0),\"\")","v":0},"","",null,11,null,0,11,146]
[null,null,{"$f":"IFERROR(VLOOKUP(D1756,'1_Causas_Levantadas'!C:D,2,0),\"\")","v":0},"","",null,12,null,0,12,146]
[null,null,{"$f":"IFERROR(VLOOKUP(D1757,'1_Causas_Levantadas'!C:D,2,0),\"\")","v":0},"","",null,1,null,1,1,147]
[null,null,{"$f":"IFERROR(VLOOKUP(D1758,'1_Causas_Levantadas'!C:D,2,0),\"\")","v":0},"","",null,2,null,0,2,147]
[null,null,{"$f":"IFERROR(VLOOKUP(D1759,'1_Causas_Levantadas'!C:D,2,0),\"\")","v":0},"","",null,3,null,0,3,147]
[null,null,{"$f":"IFERROR(VLOOKUP(D1760,'1_Causas_Levantadas'!C:D,2,0),\"\")","v":0},"","",null,4,null,0,4,147]
[null,null,{"$f":"IFERROR(VLOOKUP(D1761,'1_Causas_Levantadas'!C:D,2,0),\"\")","v":0},"","",null,5,null,0,5,147]
[null,null,{"$f":"IFERROR(VLOOKUP(D1762,'1_Causas_Levantadas'!C:D,2,0),\"\")","v":0},"","",null,6,null,0,6,147]
[null,null,{"$f":"IFERROR(VLOOKUP(D1763,'1_Causas_Levantadas'!C:D,2,0),\"\")","v":0},"","",null,7,null,0,7,147]
[null,null,{"$f":"IFERROR(VLOOKUP(D1764,'1_Causas_Levantadas'!C:D,2,0),\"\")","v":0},"","",null,8,null,0,8,147]
[null,null,{"$f":"IFERROR(VLOOKUP(D1765,'1_Causas_Levantadas'!C:D,2,0),\"\")","v":0},"","",null,9,null,0,9,147]
[null,null,{"$f":"IFERROR(VLOOKUP(D1766,'1_Causas_Levantadas'!C:D,2,0),\"\")","v":0},"","",null,10,null,0,10,147]
[null,null,{"$f":"IFERROR(VLOOKUP(D1767,'1_Causas_Levantadas'!C:D,2,0),\"\")","v":0},"","",null,11,null,0,11,147]
[null,null,{"$f":"IFERROR(VLOOKUP(D1768,'1_Causas_Levantadas'!C:D,2,0),\"\")","v":0},"","",null,12,null,0,12,147]
[null,null,{"$f":"IFERROR(VLOOKUP(D1769,'1_Causas_Levantadas'!C:D,2,0),\"\")","v":0},"","",null,1,null,1,1,148]
[null,null,{"$f":"IFERROR(VLOOKUP(D1770,'1_Causas_Levantadas'!C:D,2,0),\"\")","v":0},"","",null,2,null,0,2,148]
[null,null,{"$f":"IFERROR(VLOOKUP(D1771,'1_Causas_Levantadas'!C:D,2,0),\"\")","v":0},"","",null,3,null,0,3,148]
[null,null,{"$f":"IFERROR(VLOOKUP(D1772,'1_Causas_Levantadas'!C:D,2,0),\"\")","v":0},"","",null,4,null,0,4,148]
[null,null,{"$f":"IFERROR(VLOOKUP(D1773,'1_Causas_Levantadas'!C:D,2,0),\"\")","v":0},"","",null,5,null,0,5,148]
[null,null,{"$f":"IFERROR(VLOOKUP(D1774,'1_Causas_Levantadas'!C:D,2,0),\"\")","v":0},"","",null,6,null,0,6,148]
[null,null,{"$f":"IFERROR(VLOOKUP(D1775,'1_Causas_Levantadas'!C:D,2,0),\"\")","v":0},"","",null,7,null,0,7,148]
[null,null,{"$f":"IFERROR(VLOOKUP(D1776,'1_Causas_Levantadas'!C:D,2,0),\"\")","v":0},"","",null,8,null,0,8,148]
[null,null,{"$f":"IFERROR(VLOOKUP(D1777,'1_Causas_Levantadas'!C:D,2,0),\"\")","v":0},"","",null,9,null,0,9,148]
[null,null,{"$f":"IFERROR(VLOOKUP(D1778,'1_Causas_Levantadas'!C:D,2,0),\"\")","v":0},"","",null,10,null,0,10,148]
[null,null,{"$f":"IFERROR(VLOOKUP(D1779,'1_Causas_Levantadas'!C:D,2,0),\"\")","v":0},"","",null,11,null,0,11,148]
[null,null,{"$f":"IFERROR(VLOOKUP(D1780,'1_Causas_Levantadas'!C:D,2,0),\"\")","v":0},"","",null,12,null,0,12,148]
[null,null,{"$f":"IFERROR(VLOOKUP(D1781,'1_Causas_Levantadas'!C:D,2,0),\"\")","v":0},"","",null,1,null,1,1,149]
[null,null,{"$f":"IFERROR(VLOOKUP(D1782,'1_Causas_Levantadas'!C:D,2,0),\"\")","v":0},"","",null,2,null,0,2,149]
[null,null,{"$f":"IFERROR(VLOOKUP(D1783,'1_Causas_Levantadas'!C:D,2,0),\"\")","v":0},"","",null,3,null,0,3,149]
[null,null,{"$f":"IFERROR(VLOOKUP(D1784,'1_Causas_Levantadas'!C:D,2,0),\"\")","v":0},"","",null,4,null,0,4,149]
[null,null,{"$f":"IFERROR(VLOOKUP(D1785,'1_Causas_Levantadas'!C:D,2,0),\"\")","v":0},"","",null,5,null,0,5,149]
[null,null,{"$f":"IFERROR(VLOOKUP(D1786,'1_Causas_Levantadas'!C:D,2,0),\"\")","v":0},"","",null,6,null,0,6,149]
[null,null,{"$f":"IFERROR(VLOOKUP(D1787,'1_Causas_Levantadas'!C:D,2,0),\"\")","v":0},"","",null,7,null,0,7,149]
[null,null,{"$f":"IFERROR(VLOOKUP(D1788,'1_Causas_Levantadas'!C:D,2,0),\"\")","v":0},"","",null,8,null,0,8,149]
[null,null,{"$f":"IFERROR(VLOOKUP(D1789,'1_Causas_Levantadas'!C:D,2,0),\"\")","v":0},"","",null,9,null,0,9,149]
[null,null,{"$f":"IFERROR(VLOOKUP(D1790,'1_Causas_Levantadas'!C:D,2,0),\"\")","v":0},"","",null,10,null,0,10,149]
[null,null,{"$f":"IFERROR(VLOOKUP(D1791,'1_Causas_Levantadas'!C:D,2,0),\"\")","v":0},"","",null,11,null,0,11,149]
[null,null,{"$f":"IFERROR(VLOOKUP(D1792,'1_Causas_Levantadas'!C:D,2,0),\"\")","v":0},"","",null,12,null,0,12,149]
[null,null,{"$f":"IFERROR(VLOOKUP(D1793,'1_Causas_Levantadas'!C:D,2,0),\"\")","v":0},"","",null,1,null,1,1,150]
[null,null,{"$f":"IFERROR(VLOOKUP(D1794,'1_Causas_Levantadas'!C:D,2,0),\"\")","v":0},"","",null,2,null,0,2,150]
[null,null,{"$f":"IFERROR(VLOOKUP(D1795,'1_Causas_Levantadas'!C:D,2,0),\"\")","v":0},"","",null,3,null,0,3,150]
[null,null,{"$f":"IFERROR(VLOOKUP(D1796,'1_Causas_Levantadas'!C:D,2,0),\"\")","v":0},"","",null,4,null,0,4,150]
[null,null,{"$f":"IFERROR(VLOOKUP(D1797,'1_Causas_Levantadas'!C:D,2,0),\"\")","v":0},"","",null,5,null,0,5,150]
[null,null,{"$f":"IFERROR(VLOOKUP(D1798,'1_Causas_Levantadas'!C:D,2,0),\"\")","v":0},{"$f":"IF(K1798<=$H$4,(IF(G1797>0,G1798,$G$5)),\"\")","v":""},{"$f":"IF(D1798<>\"\",\"Participante \"&K1798,\"\")","v":""},null,{"$f":"J1798","v":6},null,{"$f":"IF(G1798=$G$5,1,0)","v":0},6,{"$f":"I1798+K1797","v":150}]
[null,null,{"$f":"IFERROR(VLOOKUP(D1799,'1_Causas_Levantadas'!C:D,2,0),\"\")","v":0},"","",null,7,null,0,{"$f":"IF(G1798<$G$4,J1798+1,1)","v":7},150]
[null,null,{"$f":"IFERROR(VLOOKUP(D1800,'1_Causas_Levantadas'!C:D,2,0),\"\")","v":0},"","",null,8,null,0,8,150]
[null,null,{"$f":"IFERROR(VLOOKUP(D1801,'1_Causas_Levantadas'!C:D,2,0),\"\")","v":0},"","",null,9,null,0,9,150]
[null,null,{"$f":"IFERROR(VLOOKUP(D1802,'1_Causas_Levantadas'!C:D,2,0),\"\")","v":0},"","",null,10,null,0,10,150]
[null,null,{"$f":"IFERROR(VLOOKUP(D1803,'1_Causas_Levantadas'!C:D,2,0),\"\")","v":0},"","",null,11,null,0,11,150]
[null,null,{"$f":"IFERROR(VLOOKUP(D1804,'1_Causas_Levantadas'!C:D,2,0),\"\")","v":0},"","",null,12,null,0,12,150]
[null,null,{"$f":"IFERROR(VLOOKUP(D1805,'1_Causas_Levantadas'!C:D,2,0),\"\")","v":0},"","",null,1,null,1,1,151]
[null,null,{"$f":"IFERROR(VLOOKUP(D1806,'1_Causas_Levantadas'!C:D,2,0),\"\")","v":0},"","",null,2,null,0,2,151]
[null,null,{"$f":"IFERROR(VLOOKUP(D1807,'1_Causas_Levantadas'!C:D,2,0),\"\")","v":0},"","",null,3,null,0,3,151]
[null,null,{"$f":"IFERROR(VLOOKUP(D1808,'1_Causas_Levantadas'!C:D,2,0),\"\")","v":0},"","",null,4,null,0,4,151]
[null,null,{"$f":"IFERROR(VLOOKUP(D1809,'1_Causas_Levantadas'!C:D,2,0),\"\")","v":0},"","",null,5,null,0,5,151]
[null,null,{"$f":"IFERROR(VLOOKUP(D1810,'1_Causas_Levantadas'!C:D,2,0),\"\")","v":0},"","",null,6,null,0,6,151]
[null,null,{"$f":"IFERROR(VLOOKUP(D1811,'1_Causas_Levantadas'!C:D,2,0),\"\")","v":0},"","",null,7,null,0,7,151]
[null,null,{"$f":"IFERROR(VLOOKUP(D1812,'1_Causas_Levantadas'!C:D,2,0),\"\")","v":0},"","",null,8,null,0,8,151]
[null,null,{"$f":"IFERROR(VLOOKUP(D1813,'1_Causas_Levantadas'!C:D,2,0),\"\")","v":0},"","",null,9,null,0,9,151]
[null,null,{"$f":"IFERROR(VLOOKUP(D1814,'1_Causas_Levantadas'!C:D,2,0),\"\")","v":0},"","",null,10,null,0,10,151]
[null,null,{"$f":"IFERROR(VLOOKUP(D1815,'1_Causas_Levantadas'!C:D,2,0),\"\")","v":0},"","",null,11,null,0,11,151]
[null,null,{"$f":"IFERROR(VLOOKUP(D1816,'1_Causas_Levantadas'!C:D,2,0),\"\")","v":0},"","",null,12,null,0,12,151]
[null,null,{"$f":"IFERROR(VLOOKUP(D1817,'1_Causas_Levantadas'!C:D,2,0),\"\")","v":0},"","",null,1,null,1,1,152]
[null,null,{"$f":"IFERROR(VLOOKUP(D1818,'1_Causas_Levantadas'!C:D,2,0),\"\")","v":0},"","",null,2,null,0,2,152]
[null,null,{"$f":"IFERROR(VLOOKUP(D1819,'1_Causas_Levantadas'!C:D,2,0),\"\")","v":0},"","",null,3,null,0,3,152]
[null,null,{"$f":"IFERROR(VLOOKUP(D1820,'1_Causas_Levantadas'!C:D,2,0),\"\")","v":0},"","",null,4,null,0,4,152]
[null,null,{"$f":"IFERROR(VLOOKUP(D1821,'1_Causas_Levantadas'!C:D,2,0),\"\")","v":0},"","",null,5,null,0,5,152]
[null,null,{"$f":"IFERROR(VLOOKUP(D1822,'1_Causas_Levantadas'!C:D,2,0),\"\")","v":0},"","",null,6,null,0,6,152]
[null,null,{"$f":"IFERROR(VLOOKUP(D1823,'1_Causas_Levantadas'!C:D,2,0),\"\")","v":0},"","",null,7,null,0,7,152]
[null,null,{"$f":"IFERROR(VLOOKUP(D1824,'1_Causas_Levantadas'!C:D,2,0),\"\")","v":0},"","",null,8,null,0,8,152]
[null,null,{"$f":"IFERROR(VLOOKUP(D1825,'1_Causas_Levantadas'!C:D,2,0),\"\")","v":0},"","",null,9,null,0,9,152]
[null,null,{"$f":"IFERROR(VLOOKUP(D1826,'1_Causas_Levantadas'!C:D,2,0),\"\")","v":0},"","",null,10,null,0,10,152]
[null,null,{"$f":"IFERROR(VLOOKUP(D1827,'1_Causas_Levantadas'!C:D,2,0),\"\")","v":0},"","",null,11,null,0,11,152]
[null,null,{"$f":"IFERROR(VLOOKUP(D1828,'1_Causas_Levantadas'!C:D,2,0),\"\")","v":0},"","",null,12,null,0,12,152]
[null,null,{"$f":"IFERROR(VLOOKUP(D1829,'1_Causas_Levantadas'!C:D,2,0),\"\")","v":0},"","",null,1,null,1,1,153]
[null,null,{"$f":"IFERROR(VLOOKUP(D1830,'1_Causas_Levantadas'!C:D,2,0),\"\")","v":0},"","",null,2,null,0,2,153]
[null,null,{"$f":"IFERROR(VLOOKUP(D1831,'1_Causas_Levantadas'!C:D,2,0),\"\")","v":0},"","",null,3,null,0,3,153]
[null,null,{"$f":"IFERROR(VLOOKUP(D1832,'1_Causas_Levantadas'!C:D,2,0),\"\")","v":0},"","",null,4,null,0,4,153]
[null,null,{"$f":"IFERROR(VLOOKUP(D1833,'1_Causas_Levantadas'!C:D,2,0),\"\")","v":0},"","",null,5,null,0,5,153]
[null,null,{"$f":"IFERROR(VLOOKUP(D1834,'1_Causas_Levantadas'!C:D,2,0),\"\")","v":0},"","",null,6,null,0,6,153]
[null,null,{"$f":"IFERROR(VLOOKUP(D1835,'1_Causas_Levantadas'!C:D,2,0),\"\")","v":0},"","",null,7,null,0,7,153]
[null,null,{"$f":"IFERROR(VLOOKUP(D1836,'1_Causas_Levantadas'!C:D,2,0),\"\")","v":0},"","",null,8,null,0,8,153]
[null,null,{"$f":"IFERROR(VLOOKUP(D1837,'1_Causas_Levantadas'!C:D,2,0),\"\")","v":0},"","",null,9,null,0,9,153]
[null,null,{"$f":"IFERROR(VLOOKUP(D1838,'1_Causas_Levantadas'!C:D,2,0),\"\")","v":0},"","",null,10,null,0,10,153]
[null,null,{"$f":"IFERROR(VLOOKUP(D1839,'1_Causas_Levantadas'!C:D,2,0),\"\")","v":0},"","",null,11,null,0,11,153]
[null,null,{"$f":"IFERROR(VLOOKUP(D1840,'1_Causas_Levantadas'!C:D,2,0),\"\")","v":0},"","",null,12,null,0,12,153]
[null,null,{"$f":"IFERROR(VLOOKUP(D1841,'1_Causas_Levantadas'!C:D,2,0),\"\")","v":0},"","",null,1,null,1,1,154]
[null,null,{"$f":"IFERROR(VLOOKUP(D1842,'1_Causas_Levantadas'!C:D,2,0),\"\")","v":0},"","",null,2,null,0,2,154]
[null,null,{"$f":"IFERROR(VLOOKUP(D1843,'1_Causas_Levantadas'!C:D,2,0),\"\")","v":0},"","",null,3,null,0,3,154]
[null,null,{"$f":"IFERROR(VLOOKUP(D1844,'1_Causas_Levantadas'!C:D,2,0),\"\")","v":0},"","",null,4,null,0,4,154]
[null,null,{"$f":"IFERROR(VLOOKUP(D1845,'1_Causas_Levantadas'!C:D,2,0),\"\")","v":0},"","",null,5,null,0,5,154]
[null,null,{"$f":"IFERROR(VLOOKUP(D1846,'1_Causas_Levantadas'!C:D,2,0),\"\")","v":0},"","",null,6,null,0,6,154]
[null,null,{"$f":"IFERROR(VLOOKUP(D1847,'1_Causas_Levantadas'!C:D,2,0),\"\")","v":0},"","",null,7,null,0,7,154]
[null,null,{"$f":"IFERROR(VLOOKUP(D1848,'1_Causas_Levantadas'!C:D,2,0),\"\")","v":0},"","",null,8,null,0,8,154]
[null,null,{"$f":"IFERROR(VLOOKUP(D1849,'1_Causas_Levantadas'!C:D,2,0),\"\")","v":0},"","",null,9,null,0,9,154]
[null,null,{"$f":"IFERROR(VLOOKUP(D1850,'1_Causas_Levantadas'!C:D,2,0),\"\")","v":0},"","",null,10,null,0,10,154]
[null,null,{"$f":"IFERROR(VLOOKUP(D1851,'1_Causas_Levantadas'!C:D,2,0),\"\")","v":0},"","",null,11,null,0,11,154]
[null,null,{"$f":"IFERROR(VLOOKUP(D1852,'1_Causas_Levantadas'!C:D,2,0),\"\")","v":0},"","",null,12,null,0,12,154]
[null,null,{"$f":"IFERROR(VLOOKUP(D1853,'1_Causas_Levantadas'!C:D,2,0),\"\")","v":0},"","",null,1,null,1,1,155]
[null,null,{"$f":"IFERROR(VLOOKUP(D1854,'1_Causas_Levantadas'!C:D,2,0),\"\")","v":0},"","",null,2,null,0,2,155]
[null,null,{"$f":"IFERROR(VLOOKUP(D1855,'1_Causas_Levantadas'!C:D,2,0),\"\")","v":0},"","",null,3,null,0,3,155]
[null,null,{"$f":"IFERROR(VLOOKUP(D1856,'1_Causas_Levantadas'!C:D,2,0),\"\")","v":0},"","",null,4,null,0,4,155]
[null,null,{"$f":"IFERROR(VLOOKUP(D1857,'1_Causas_Levantadas'!C:D,2,0),\"\")","v":0},"","",null,5,null,0,5,155]
[null,null,{"$f":"IFERROR(VLOOKUP(D1858,'1_Causas_Levantadas'!C:D,2,0),\"\")","v":0},"","",null,6,null,0,6,155]
[null,null,{"$f":"IFERROR(VLOOKUP(D1859,'1_Causas_Levantadas'!C:D,2,0),\"\")","v":0},"","",null,7,null,0,7,155]
[null,null,{"$f":"IFERROR(VLOOKUP(D1860,'1_Causas_Levantadas'!C:D,2,0),\"\")","v":0},"","",null,8,null,0,8,155]
[null,null,{"$f":"IFERROR(VLOOKUP(D1861,'1_Causas_Levantadas'!C:D,2,0),\"\")","v":0},"","",null,9,null,0,9,155]
[null,null,{"$f":"IFERROR(VLOOKUP(D1862,'1_Causas_Levantadas'!C:D,2,0),\"\")","v":0},{"$f":"IF(K1862<=$H$4,(IF(G1861>0,G1862,$G$5)),\"\")","v":""},{"$f":"IF(D1862<>\"\",\"Participante \"&K1862,\"\")","v":""},null,{"$f":"J1862","v":10},null,{"$f":"IF(G1862=$G$5,1,0)","v":0},10,{"$f":"I1862+K1861","v":155}]
[null,null,{"$f":"IFERROR(VLOOKUP(D1863,'1_Causas_Levantadas'!C:D,2,0),\"\")","v":0},"","",null,11,null,0,{"$f":"IF(G1862<$G$4,J1862+1,1)","v":11},155]
[null,null,{"$f":"IFERROR(VLOOKUP(D1864,'1_Causas_Levantadas'!C:D,2,0),\"\")","v":0},"","",null,12,null,0,12,155]
[null,null,{"$f":"IFERROR(VLOOKUP(D1865,'1_Causas_Levantadas'!C:D,2,0),\"\")","v":0},"","",null,1,null,1,1,156]
[null,null,{"$f":"IFERROR(VLOOKUP(D1866,'1_Causas_Levantadas'!C:D,2,0),\"\")","v":0},"","",null,2,null,0,2,156]
[null,null,{"$f":"IFERROR(VLOOKUP(D1867,'1_Causas_Levantadas'!C:D,2,0),\"\")","v":0},"","",null,3,null,0,3,156]
[null,null,{"$f":"IFERROR(VLOOKUP(D1868,'1_Causas_Levantadas'!C:D,2,0),\"\")","v":0},"","",null,4,null,0,4,156]
[null,null,{"$f":"IFERROR(VLOOKUP(D1869,'1_Causas_Levantadas'!C:D,2,0),\"\")","v":0},"","",null,5,null,0,5,156]
[null,null,{"$f":"IFERROR(VLOOKUP(D1870,'1_Causas_Levantadas'!C:D,2,0),\"\")","v":0},"","",null,6,null,0,6,156]
[null,null,{"$f":"IFERROR(VLOOKUP(D1871,'1_Causas_Levantadas'!C:D,2,0),\"\")","v":0},"","",null,7,null,0,7,156]
[null,null,{"$f":"IFERROR(VLOOKUP(D1872,'1_Causas_Levantadas'!C:D,2,0),\"\")","v":0},"","",null,8,null,0,8,156]
[null,null,{"$f":"IFERROR(VLOOKUP(D1873,'1_Causas_Levantadas'!C:D,2,0),\"\")","v":0},"","",null,9,null,0,9,156]
[null,null,{"$f":"IFERROR(VLOOKUP(D1874,'1_Causas_Levantadas'!C:D,2,0),\"\")","v":0},"","",null,10,null,0,10,156]
[null,null,{"$f":"IFERROR(VLOOKUP(D1875,'1_Causas_Levantadas'!C:D,2,0),\"\")","v":0},"","",null,11,null,0,11,156]
[null,null,{"$f":"IFERROR(VLOOKUP(D1876,'1_Causas_Levantadas'!C:D,2,0),\"\")","v":0},"","",null,12,null,0,12,156]
[null,null,{"$f":"IFERROR(VLOOKUP(D1877,'1_Causas_Levantadas'!C:D,2,0),\"\")","v":0},"","",null,1,null,1,1,157]
[null,null,{"$f":"IFERROR(VLOOKUP(D1878,'1_Causas_Levantadas'!C:D,2,0),\"\")","v":0},"","",null,2,null,0,2,157]
[null,null,{"$f":"IFERROR(VLOOKUP(D1879,'1_Causas_Levantadas'!C:D,2,0),\"\")","v":0},"","",null,3,null,0,3,157]
[null,null,{"$f":"IFERROR(VLOOKUP(D1880,'1_Causas_Levantadas'!C:D,2,0),\"\")","v":0},"","",null,4,null,0,4,157]
[null,null,{"$f":"IFERROR(VLOOKUP(D1881,'1_Causas_Levantadas'!C:D,2,0),\"\")","v":0},"","",null,5,null,0,5,157]
[null,null,{"$f":"IFERROR(VLOOKUP(D1882,'1_Causas_Levantadas'!C:D,2,0),\"\")","v":0},"","",null,6,null,0,6,157]
[null,null,{"$f":"IFERROR(VLOOKUP(D1883,'1_Causas_Levantadas'!C:D,2,0),\"\")","v":0},"","",null,7,null,0,7,157]
[null,null,{"$f":"IFERROR(VLOOKUP(D1884,'1_Causas_Levantadas'!C:D,2,0),\"\")","v":0},"","",null,8,null,0,8,157]
[null,null,{"$f":"IFERROR(VLOOKUP(D1885,'1_Causas_Levantadas'!C:D,2,0),\"\")","v":0},"","",null,9,null,0,9,157]
[null,null,{"$f":"IFERROR(VLOOKUP(D1886,'1_Causas_Levantadas'!C:D,2,0),\"\")","v":0},"","",null,10,null,0,10,157]
[null,null,{"$f":"IFERROR(VLOOKUP(D1887,'1_Causas_Levantadas'!C:D,2,0),\"\")","v":0},"","",null,11,null,0,11,157]
[null,null,{"$f":"IFERROR(VLOOKUP(D1888,'1_Causas_Levantadas'!C:D,2,0),\"\")","v":0},"","",null,12,null,0,12,157]
[null,null,{"$f":"IFERROR(VLOOKUP(D1889,'1_Causas_Levantadas'!C:D,2,0),\"\")","v":0},"","",null,1,null,1,1,158]
[null,null,{"$f":"IFERROR(VLOOKUP(D1890,'1_Causas_Levantadas'!C:D,2,0),\"\")","v":0},"","",null,2,null,0,2,158]
[null,null,{"$f":"IFERROR(VLOOKUP(D1891,'1_Causas_Levantadas'!C:D,2,0),\"\")","v":0},"","",null,3,null,0,3,158]
[null,null,{"$f":"IFERROR(VLOOKUP(D1892,'1_Causas_Levantadas'!C:D,2,0),\"\")","v":0},"","",null,4,null,0,4,158]
[null,null,{"$f":"IFERROR(VLOOKUP(D1893,'1_Causas_Levantadas'!C:D,2,0),\"\")","v":0},"","",null,5,null,0,5,158]
[null,null,{"$f":"IFERROR(VLOOKUP(D1894,'1_Causas_Levantadas'!C:D,2,0),\"\")","v":0},"","",null,6,null,0,6,158]
[null,null,{"$f":"IFERROR(VLOOKUP(D1895,'1_Causas_Levantadas'!C:D,2,0),\"\")","v":0},"","",null,7,null,0,7,158]
[null,null,{"$f":"IFERROR(VLOOKUP(D1896,'1_Causas_Levantadas'!C:D,2,0),\"\")","v":0},"","",null,8,null,0,8,158]
[null,null,{"$f":"IFERROR(VLOOKUP(D1897,'1_Causas_Levantadas'!C:D,2,0),\"\")","v":0},"","",null,9,null,0,9,158]
[null,null,{"$f":"IFERROR(VLOOKUP(D1898,'1_Causas_Levantadas'!C:D,2,0),\"\")","v":0},"","",null,10,null,0,10,158]
[null,null,{"$f":"IFERROR(VLOOKUP(D1899,'1_Causas_Levantadas'!C:D,2,0),\"\")","v":0},"","",null,11,null,0,11,158]
[null,null,{"$f":"IFERROR(VLOOKUP(D1900,'1_Causas_Levantadas'!C:D,2,0),\"\")","v":0},"","",null,12,null,0,12,158]
[null,null,{"$f":"IFERROR(VLOOKUP(D1901,'1_Causas_Levantadas'!C:D,2,0),\"\")","v":0},"","",null,1,null,1,1,159]
[null,null,{"$f":"IFERROR(VLOOKUP(D1902,'1_Causas_Levantadas'!C:D,2,0),\"\")","v":0},"","",null,2,null,0,2,159]
[null,null,{"$f":"IFERROR(VLOOKUP(D1903,'1_Causas_Levantadas'!C:D,2,0),\"\")","v":0},"","",null,3,null,0,3,159]
[null,null,{"$f":"IFERROR(VLOOKUP(D1904,'1_Causas_Levantadas'!C:D,2,0),\"\")","v":0},"","",null,4,null,0,4,159]
[null,null,{"$f":"IFERROR(VLOOKUP(D1905,'1_Causas_Levantadas'!C:D,2,0),\"\")","v":0},"","",null,5,null,0,5,159]
[null,null,{"$f":"IFERROR(VLOOKUP(D1906,'1_Causas_Levantadas'!C:D,2,0),\"\")","v":0},"","",null,6,null,0,6,159]
[null,null,{"$f":"IFERROR(VLOOKUP(D1907,'1_Causas_Levantadas'!C:D,2,0),\"\")","v":0},"","",null,7,null,0,7,159]
[null,null,{"$f":"IFERROR(VLOOKUP(D1908,'1_Causas_Levantadas'!C:D,2,0),\"\")","v":0},"","",null,8,null,0,8,159]
[null,null,{"$f":"IFERROR(VLOOKUP(D1909,'1_Causas_Levantadas'!C:D,2,0),\"\")","v":0},"","",null,9,null,0,9,159]
[null,null,{"$f":"IFERROR(VLOOKUP(D1910,'1_Causas_Levantadas'!C:D,2,0),\"\")","v":0},"","",null,10,null,0,10,159]
[null,null,{"$f":"IFERROR(VLOOKUP(D1911,'1_Causas_Levantadas'!C:D,2,0),\"\")","v":0},"","",null,11,null,0,11,159]
[null,null,{"$f":"IFERROR(VLOOKUP(D1912,'1_Causas_Levantadas'!C:D,2,0),\"\")","v":0},"","",null,12,null,0,12,159]
[null,null,{"$f":"IFERROR(VLOOKUP(D1913,'1_Causas_Levantadas'!C:D,2,0),\"\")","v":0},"","",null,1,null,1,1,160]
[null,null,{"$f":"IFERROR(VLOOKUP(D1914,'1_Causas_Levantadas'!C:D,2,0),\"\")","v":0},"","",null,2,null,0,2,160]
[null,null,{"$f":"IFERROR(VLOOKUP(D1915,'1_Causas_Levantadas'!C:D,2,0),\"\")","v":0},"","",null,3,null,0,3,160]
[null,null,{"$f":"IFERROR(VLOOKUP(D1916,'1_Causas_Levantadas'!C:D,2,0),\"\")","v":0},"","",null,4,null,0,4,160]
[null,null,{"$f":"IFERROR(VLOOKUP(D1917,'1_Causas_Levantadas'!C:D,2,0),\"\")","v":0},"","",null,5,null,0,5,160]
[null,null,{"$f":"IFERROR(VLOOKUP(D1918,'1_Causas_Levantadas'!C:D,2,0),\"\")","v":0},"","",null,6,null,0,6,160]
[null,null,{"$f":"IFERROR(VLOOKUP(D1919,'1_Causas_Levantadas'!C:D,2,0),\"\")","v":0},"","",null,7,null,0,7,160]
[null,null,{"$f":"IFERROR(VLOOKUP(D1920,'1_Causas_Levantadas'!C:D,2,0),\"\")","v":0},"","",null,8,null,0,8,160]
[null,null,{"$f":"IFERROR(VLOOKUP(D1921,'1_Causas_Levantadas'!C:D,2,0),\"\")","v":0},"","",null,9,null,0,9,160]
[null,null,{"$f":"IFERROR(VLOOKUP(D1922,'1_Causas_Levantadas'!C:D,2,0),\"\")","v":0},"","",null,10,null,0,10,160]
[null,null,{"$f":"IFERROR(VLOOKUP(D1923,'1_Causas_Levantadas'!C:D,2,0),\"\")","v":0},"","",null,11,null,0,11,160]
[null,null,{"$f":"IFERROR(VLOOKUP(D1924,'1_Causas_Levantadas'!C:D,2,0),\"\")","v":0},"","",null,12,null,0,12,160]
[null,null,{"$f":"IFERROR(VLOOKUP(D1925,'1_Causas_Levantadas'!C:D,2,0),\"\")","v":0},"","",null,1,null,1,1,161]
[null,null,{"$f":"IFERROR(VLOOKUP(D1926,'1_Causas_Levantadas'!C:D,2,0),\"\")","v":0},{"$f":"IF(K1926<=$H$4,(IF(G1925>0,G1926,$G$5)),\"\")","v":""},{"$f":"IF(D1926<>\"\",\"Participante \"&K1926,\"\")","v":""},null,{"$f":"J1926","v":2},null,{"$f":"IF(G1926=$G$5,1,0)","v":0},2,{"$f":"I1926+K1925","v":161}]
[null,null,{"$f":"IFERROR(VLOOKUP(D1927,'1_Causas_Levantadas'!C:D,2,0),\"\")","v":0},"","",null,3,null,0,{"$f":"IF(G1926<$G$4,J1926+1,1)","v":3},161]
[null,null,{"$f":"IFERROR(VLOOKUP(D1928,'1_Causas_Levantadas'!C:D,2,0),\"\")","v":0},"","",null,4,null,0,4,161]
[null,null,{"$f":"IFERROR(VLOOKUP(D1929,'1_Causas_Levantadas'!C:D,2,0),\"\")","v":0},"","",null,5,null,0,5,161]
[null,null,{"$f":"IFERROR(VLOOKUP(D1930,'1_Causas_Levantadas'!C:D,2,0),\"\")","v":0},"","",null,6,null,0,6,161]
[null,null,{"$f":"IFERROR(VLOOKUP(D1931,'1_Causas_Levantadas'!C:D,2,0),\"\")","v":0},"","",null,7,null,0,7,161]
[null,null,{"$f":"IFERROR(VLOOKUP(D1932,'1_Causas_Levantadas'!C:D,2,0),\"\")","v":0},"","",null,8,null,0,8,161]
[null,null,{"$f":"IFERROR(VLOOKUP(D1933,'1_Causas_Levantadas'!C:D,2,0),\"\")","v":0},"","",null,9,null,0,9,161]
[null,null,{"$f":"IFERROR(VLOOKUP(D1934,'1_Causas_Levantadas'!C:D,2,0),\"\")","v":0},"","",null,10,null,0,10,161]
[null,null,{"$f":"IFERROR(VLOOKUP(D1935,'1_Causas_Levantadas'!C:D,2,0),\"\")","v":0},"","",null,11,null,0,11,161]
[null,null,{"$f":"IFERROR(VLOOKUP(D1936,'1_Causas_Levantadas'!C:D,2,0),\"\")","v":0},"","",null,12,null,0,12,161]
[null,null,{"$f":"IFERROR(VLOOKUP(D1937,'1_Causas_Levantadas'!C:D,2,0),\"\")","v":0},"","",null,1,null,1,1,162]
[null,null,{"$f":"IFERROR(VLOOKUP(D1938,'1_Causas_Levantadas'!C:D,2,0),\"\")","v":0},"","",null,2,null,0,2,162]
[null,null,{"$f":"IFERROR(VLOOKUP(D1939,'1_Causas_Levantadas'!C:D,2,0),\"\")","v":0},"","",null,3,null,0,3,162]
[null,null,{"$f":"IFERROR(VLOOKUP(D1940,'1_Causas_Levantadas'!C:D,2,0),\"\")","v":0},"","",null,4,null,0,4,162]
[null,null,{"$f":"IFERROR(VLOOKUP(D1941,'1_Causas_Levantadas'!C:D,2,0),\"\")","v":0},"","",null,5,null,0,5,162]
[null,null,{"$f":"IFERROR(VLOOKUP(D1942,'1_Causas_Levantadas'!C:D,2,0),\"\")","v":0},"","",null,6,null,0,6,162]
[null,null,{"$f":"IFERROR(VLOOKUP(D1943,'1_Causas_Levantadas'!C:D,2,0),\"\")","v":0},"","",null,7,null,0,7,162]
[null,null,{"$f":"IFERROR(VLOOKUP(D1944,'1_Causas_Levantadas'!C:D,2,0),\"\")","v":0},"","",null,8,null,0,8,162]
[null,null,{"$f":"IFERROR(VLOOKUP(D1945,'1_Causas_Levantadas'!C:D,2,0),\"\")","v":0},"","",null,9,null,0,9,162]
[null,null,{"$f":"IFERROR(VLOOKUP(D1946,'1_Causas_Levantadas'!C:D,2,0),\"\")","v":0},"","",null,10,null,0,10,162]
[null,null,{"$f":"IFERROR(VLOOKUP(D1947,'1_Causas_Levantadas'!C:D,2,0),\"\")","v":0},"","",null,11,null,0,11,162]
[null,null,{"$f":"IFERROR(VLOOKUP(D1948,'1_Causas_Levantadas'!C:D,2,0),\"\")","v":0},"","",null,12,null,0,12,162]
[null,null,{"$f":"IFERROR(VLOOKUP(D1949,'1_Causas_Levantadas'!C:D,2,0),\"\")","v":0},"","",null,1,null,1,1,163]
[null,null,{"$f":"IFERROR(VLOOKUP(D1950,'1_Causas_Levantadas'!C:D,2,0),\"\")","v":0},"","",null,2,null,0,2,163]
[null,null,{"$f":"IFERROR(VLOOKUP(D1951,'1_Causas_Levantadas'!C:D,2,0),\"\")","v":0},"","",null,3,null,0,3,163]
[null,null,{"$f":"IFERROR(VLOOKUP(D1952,'1_Causas_Levantadas'!C:D,2,0),\"\")","v":0},"","",null,4,null,0,4,163]
[null,null,{"$f":"IFERROR(VLOOKUP(D1953,'1_Causas_Levantadas'!C:D,2,0),\"\")","v":0},"","",null,5,null,0,5,163]
[null,null,{"$f":"IFERROR(VLOOKUP(D1954,'1_Causas_Levantadas'!C:D,2,0),\"\")","v":0},"","",null,6,null,0,6,163]
[null,null,{"$f":"IFERROR(VLOOKUP(D1955,'1_Causas_Levantadas'!C:D,2,0),\"\")","v":0},"","",null,7,null,0,7,163]
[null,null,{"$f":"IFERROR(VLOOKUP(D1956,'1_Causas_Levantadas'!C:D,2,0),\"\")","v":0},"","",null,8,null,0,8,163]
[null,null,{"$f":"IFERROR(VLOOKUP(D1957,'1_Causas_Levantadas'!C:D,2,0),\"\")","v":0},"","",null,9,null,0,9,163]
[null,null,{"$f":"IFERROR(VLOOKUP(D1958,'1_Causas_Levantadas'!C:D,2,0),\"\")","v":0},"","",null,10,null,0,10,163]
[null,null,{"$f":"IFERROR(VLOOKUP(D1959,'1_Causas_Levantadas'!C:D,2,0),\"\")","v":0},"","",null,11,null,0,11,163]
[null,null,{"$f":"IFERROR(VLOOKUP(D1960,'1_Causas_Levantadas'!C:D,2,0),\"\")","v":0},"","",null,12,null,0,12,163]
[null,null,{"$f":"IFERROR(VLOOKUP(D1961,'1_Causas_Levantadas'!C:D,2,0),\"\")","v":0},"","",null,1,null,1,1,164]
[null,null,{"$f":"IFERROR(VLOOKUP(D1962,'1_Causas_Levantadas'!C:D,2,0),\"\")","v":0},"","",null,2,null,0,2,164]
[null,null,{"$f":"IFERROR(VLOOKUP(D1963,'1_Causas_Levantadas'!C:D,2,0),\"\")","v":0},"","",null,3,null,0,3,164]
[null,null,{"$f":"IFERROR(VLOOKUP(D1964,'1_Causas_Levantadas'!C:D,2,0),\"\")","v":0},"","",null,4,null,0,4,164]
[null,null,{"$f":"IFERROR(VLOOKUP(D1965,'1_Causas_Levantadas'!C:D,2,0),\"\")","v":0},"","",null,5,null,0,5,164]
[null,null,{"$f":"IFERROR(VLOOKUP(D1966,'1_Causas_Levantadas'!C:D,2,0),\"\")","v":0},"","",null,6,null,0,6,164]
[null,null,{"$f":"IFERROR(VLOOKUP(D1967,'1_Causas_Levantadas'!C:D,2,0),\"\")","v":0},"","",null,7,null,0,7,164]
[null,null,{"$f":"IFERROR(VLOOKUP(D1968,'1_Causas_Levantadas'!C:D,2,0),\"\")","v":0},"","",null,8,null,0,8,164]
[null,null,{"$f":"IFERROR(VLOOKUP(D1969,'1_Causas_Levantadas'!C:D,2,0),\"\")","v":0},"","",null,9,null,0,9,164]
[null,null,{"$f":"IFERROR(VLOOKUP(D1970,'1_Causas_Levantadas'!C:D,2,0),\"\")","v":0},"","",null,10,null,0,10,164]
[null,null,{"$f":"IFERROR(VLOOKUP(D1971,'1_Causas_Levantadas'!C:D,2,0),\"\")","v":0},"","",null,11,null,0,11,164]
[null,null,{"$f":"IFERROR(VLOOKUP(D1972,'1_Causas_Levantadas'!C:D,2,0),\"\")","v":0},"","",null,12,null,0,12,164]
[null,null,{"$f":"IFERROR(VLOOKUP(D1973,'1_Causas_Levantadas'!C:D,2,0),\"\")","v":0},"","",null,1,null,1,1,165]
[null,null,{"$f":"IFERROR(VLOOKUP(D1974,'1_Causas_Levantadas'!C:D,2,0),\"\")","v":0},"","",null,2,null,0,2,165]
[null,null,{"$f":"IFERROR(VLOOKUP(D1975,'1_Causas_Levantadas'!C:D,2,0),\"\")","v":0},"","",null,3,null,0,3,165]
[null,null,{"$f":"IFERROR(VLOOKUP(D1976,'1_Causas_Levantadas'!C:D,2,0),\"\")","v":0},"","",null,4,null,0,4,165]
[null,null,{"$f":"IFERROR(VLOOKUP(D1977,'1_Causas_Levantadas'!C:D,2,0),\"\")","v":0},"","",null,5,null,0,5,165]
[null,null,{"$f":"IFERROR(VLOOKUP(D1978,'1_Causas_Levantadas'!C:D,2,0),\"\")","v":0},"","",null,6,null,0,6,165]
[null,null,{"$f":"IFERROR(VLOOKUP(D1979,'1_Causas_Levantadas'!C:D,2,0),\"\")","v":0},"","",null,7,null,0,7,165]
[null,null,{"$f":"IFERROR(VLOOKUP(D1980,'1_Causas_Levantadas'!C:D,2,0),\"\")","v":0},"","",null,8,null,0,8,165]
[null,null,{"$f":"IFERROR(VLOOKUP(D1981,'1_Causas_Levantadas'!C:D,2,0),\"\")","v":0},"","",null,9,null,0,9,165]
[null,null,{"$f":"IFERROR(VLOOKUP(D1982,'1_Causas_Levantadas'!C:D,2,0),\"\")","v":0},"","",null,10,null,0,10,165]
[null,null,{"$f":"IFERROR(VLOOKUP(D1983,'1_Causas_Levantadas'!C:D,2,0),\"\")","v":0},"","",null,11,null,0,11,165]
[null,null,{"$f":"IFERROR(VLOOKUP(D1984,'1_Causas_Levantadas'!C:D,2,0),\"\")","v":0},"","",null,12,null,0,12,165]
[null,null,{"$f":"IFERROR(VLOOKUP(D1985,'1_Causas_Levantadas'!C:D,2,0),\"\")","v":0},"","",null,1,null,1,1,166]
[null,null,{"$f":"IFERROR(VLOOKUP(D1986,'1_Causas_Levantadas'!C:D,2,0),\"\")","v":0},"","",null,2,null,0,2,166]
[null,null,{"$f":"IFERROR(VLOOKUP(D1987,'1_Causas_Levantadas'!C:D,2,0),\"\")","v":0},"","",null,3,null,0,3,166]
[null,null,{"$f":"IFERROR(VLOOKUP(D1988,'1_Causas_Levantadas'!C:D,2,0),\"\")","v":0},"","",null,4,null,0,4,166]
[null,null,{"$f":"IFERROR(VLOOKUP(D1989,'1_Causas_Levantadas'!C:D,2,0),\"\")","v":0},"","",null,5,null,0,5,166]
[null,null,{"$f":"IFERROR(VLOOKUP(D1990,'1_Causas_Levantadas'!C:D,2,0),\"\")","v":0},{"$f":"IF(K1990<=$H$4,(IF(G1989>0,G1990,$G$5)),\"\")","v":""},{"$f":"IF(D1990<>\"\",\"Participante \"&K1990,\"\")","v":""},null,{"$f":"J1990","v":6},null,{"$f":"IF(G1990=$G$5,1,0)","v":0},6,{"$f":"I1990+K1989","v":166}]
[null,null,{"$f":"IFERROR(VLOOKUP(D1991,'1_Causas_Levantadas'!C:D,2,0),\"\")","v":0},"","",null,7,null,0,{"$f":"IF(G1990<$G$4,J1990+1,1)","v":7},166]
[null,null,{"$f":"IFERROR(VLOOKUP(D1992,'1_Causas_Levantadas'!C:D,2,0),\"\")","v":0},"","",null,8,null,0,8,166]
[null,null,{"$f":"IFERROR(VLOOKUP(D1993,'1_Causas_Levantadas'!C:D,2,0),\"\")","v":0},"","",null,9,null,0,9,166]
[null,null,{"$f":"IFERROR(VLOOKUP(D1994,'1_Causas_Levantadas'!C:D,2,0),\"\")","v":0},"","",null,10,null,0,10,166]
[null,null,{"$f":"IFERROR(VLOOKUP(D1995,'1_Causas_Levantadas'!C:D,2,0),\"\")","v":0},"","",null,11,null,0,11,166]
[null,null,{"$f":"IFERROR(VLOOKUP(D1996,'1_Causas_Levantadas'!C:D,2,0),\"\")","v":0},"","",null,12,null,0,12,166]
[null,null,{"$f":"IFERROR(VLOOKUP(D1997,'1_Causas_Levantadas'!C:D,2,0),\"\")","v":0},"","",null,1,null,1,1,167]
[null,null,{"$f":"IFERROR(VLOOKUP(D1998,'1_Causas_Levantadas'!C:D,2,0),\"\")","v":0},"","",null,2,null,0,2,167]
[null,null,{"$f":"IFERROR(VLOOKUP(D1999,'1_Causas_Levantadas'!C:D,2,0),\"\")","v":0},"","",null,3,null,0,3,167]
[null,null,{"$f":"IFERROR(VLOOKUP(D2000,'1_Causas_Levantadas'!C:D,2,0),\"\")","v":0},"","",null,4,null,0,4,167]
[null,null,{"$f":"IFERROR(VLOOKUP(D2001,'1_Causas_Levantadas'!C:D,2,0),\"\")","v":0},"","",null,5,null,0,5,167]
[null,null,{"$f":"IFERROR(VLOOKUP(D2002,'1_Causas_Levantadas'!C:D,2,0),\"\")","v":0},"","",null,6,null,0,6,167]
[null,null,{"$f":"IFERROR(VLOOKUP(D2003,'1_Causas_Levantadas'!C:D,2,0),\"\")","v":0},"","",null,7,null,0,7,167]
[null,null,{"$f":"IFERROR(VLOOKUP(D2004,'1_Causas_Levantadas'!C:D,2,0),\"\")","v":0},"","",null,8,null,0,8,167]
[null,null,{"$f":"IFERROR(VLOOKUP(D2005,'1_Causas_Levantadas'!C:D,2,0),\"\")","v":0},"","",null,9,null,0,9,167]
[null,null,{"$f":"IFERROR(VLOOKUP(D2006,'1_Causas_Levantadas'!C:D,2,0),\"\")","v":0},"","",null,10,null,0,10,167]
[null,null,{"$f":"IFERROR(VLOOKUP(D2007,'1_Causas_Levantadas'!C:D,2,0),\"\")","v":0},"","",null,11,null,0,11,167]
[null,null,{"$f":"IFERROR(VLOOKUP(D2008,'1_Causas_Levantadas'!C:D,2,0),\"\")","v":0},"","",null,12,null,0,12,167]
[null,null,{"$f":"IFERROR(VLOOKUP(D2009,'1_Causas_Levantadas'!C:D,2,0),\"\")","v":0},"","",null,1,null,1,1,168]
[null,null,{"$f":"IFERROR(VLOOKUP(D2010,'1_Causas_Levantadas'!C:D,2,0),\"\")","v":0},"","",null,2,null,0,2,168]
[null,null,{"$f":"IFERROR(VLOOKUP(D2011,'1_Causas_Levantadas'!C:D,2,0),\"\")","v":0},"","",null,3,null,0,3,168]
[null,null,{"$f":"IFERROR(VLOOKUP(D2012,'1_Causas_Levantadas'!C:D,2,0),\"\")","v":0},"","",null,4,null,0,4,168]
[null,null,{"$f":"IFERROR(VLOOKUP(D2013,'1_Causas_Levantadas'!C:D,2,0),\"\")","v":0},"","",null,5,null,0,5,168]
[null,null,{"$f":"IFERROR(VLOOKUP(D2014,'1_Causas_Levantadas'!C:D,2,0),\"\")","v":0},"","",null,6,null,0,6,168]
[null,null,{"$f":"IFERROR(VLOOKUP(D2015,'1_Causas_Levantadas'!C:D,2,0),\"\")","v":0},"","",null,7,null,0,7,168]
[null,null,{"$f":"IFERROR(VLOOKUP(D2016,'1_Causas_Levantadas'!C:D,2,0),\"\")","v":0},"","",null,8,null,0,8,168]
[null,null,{"$f":"IFERROR(VLOOKUP(D2017,'1_Causas_Levantadas'!C:D,2,0),\"\")","v":0},"","",null,9,null,0,9,168]
[null,null,{"$f":"IFERROR(VLOOKUP(D2018,'1_Causas_Levantadas'!C:D,2,0),\"\")","v":0},"","",null,10,null,0,10,168]
[null,null,{"$f":"IFERROR(VLOOKUP(D2019,'1_Causas_Levantadas'!C:D,2,0),\"\")","v":0},"","",null,11,null,0,11,168]
[null,null,{"$f":"IFERROR(VLOOKUP(D2020,'1_Causas_Levantadas'!C:D,2,0),\"\")","v":0},"","",null,12,null,0,12,168]
[null,null,{"$f":"IFERROR(VLOOKUP(D2021,'1_Causas_Levantadas'!C:D,2,0),\"\")","v":0},"","",null,1,null,1,1,169]
[null,null,{"$f":"IFERROR(VLOOKUP(D2022,'1_Causas_Levantadas'!C:D,2,0),\"\")","v":0},"","",null,2,null,0,2,169]
[null,null,{"$f":"IFERROR(VLOOKUP(D2023,'1_Causas_Levantadas'!C:D,2,0),\"\")","v":0},"","",null,3,null,0,3,169]
[null,null,{"$f":"IFERROR(VLOOKUP(D2024,'1_Causas_Levantadas'!C:D,2,0),\"\")","v":0},"","",null,4,null,0,4,169]
[null,null,{"$f":"IFERROR(VLOOKUP(D2025,'1_Causas_Levantadas'!C:D,2,0),\"\")","v":0},"","",null,5,null,0,5,169]
[null,null,{"$f":"IFERROR(VLOOKUP(D2026,'1_Causas_Levantadas'!C:D,2,0),\"\")","v":0},"","",null,6,null,0,6,169]
[null,null,{"$f":"IFERROR(VLOOKUP(D2027,'1_Causas_Levantadas'!C:D,2,0),\"\")","v":0},"","",null,7,null,0,7,169]
[null,null,{"$f":"IFERROR(VLOOKUP(D2028,'1_Causas_Levantadas'!C:D,2,0),\"\")","v":0},"","",null,8,null,0,8,169]
[null,null,{"$f":"IFERROR(VLOOKUP(D2029,'1_Causas_Levantadas'!C:D,2,0),\"\")","v":0},"","",null,9,null,0,9,169]
[null,null,{"$f":"IFERROR(VLOOKUP(D2030,'1_Causas_Levantadas'!C:D,2,0),\"\")","v":0},"","",null,10,null,0,10,169]
[null,null,{"$f":"IFERROR(VLOOKUP(D2031,'1_Causas_Levantadas'!C:D,2,0),\"\")","v":0},"","",null,11,null,0,11,169]
[null,null,{"$f":"IFERROR(VLOOKUP(D2032,'1_Causas_Levantadas'!C:D,2,0),\"\")","v":0},"","",null,12,null,0,12,169]
[null,null,{"$f":"IFERROR(VLOOKUP(D2033,'1_Causas_Levantadas'!C:D,2,0),\"\")","v":0},"","",null,1,null,1,1,170]
[null,null,{"$f":"IFERROR(VLOOKUP(D2034,'1_Causas_Levantadas'!C:D,2,0),\"\")","v":0},"","",null,2,null,0,2,170]
[null,null,{"$f":"IFERROR(VLOOKUP(D2035,'1_Causas_Levantadas'!C:D,2,0),\"\")","v":0},"","",null,3,null,0,3,170]
[null,null,{"$f":"IFERROR(VLOOKUP(D2036,'1_Causas_Levantadas'!C:D,2,0),\"\")","v":0},"","",null,4,null,0,4,170]
[null,null,{"$f":"IFERROR(VLOOKUP(D2037,'1_Causas_Levantadas'!C:D,2,0),\"\")","v":0},"","",null,5,null,0,5,170]
[null,null,{"$f":"IFERROR(VLOOKUP(D2038,'1_Causas_Levantadas'!C:D,2,0),\"\")","v":0},"","",null,6,null,0,6,170]
[null,null,{"$f":"IFERROR(VLOOKUP(D2039,'1_Causas_Levantadas'!C:D,2,0),\"\")","v":0},"","",null,7,null,0,7,170]
[null,null,{"$f":"IFERROR(VLOOKUP(D2040,'1_Causas_Levantadas'!C:D,2,0),\"\")","v":0},"","",null,8,null,0,8,170]
[null,null,{"$f":"IFERROR(VLOOKUP(D2041,'1_Causas_Levantadas'!C:D,2,0),\"\")","v":0},"","",null,9,null,0,9,170]
[null,null,{"$f":"IFERROR(VLOOKUP(D2042,'1_Causas_Levantadas'!C:D,2,0),\"\")","v":0},"","",null,10,null,0,10,170]
[null,null,{"$f":"IFERROR(VLOOKUP(D2043,'1_Causas_Levantadas'!C:D,2,0),\"\")","v":0},"","",null,11,null,0,11,170]
[null,null,{"$f":"IFERROR(VLOOKUP(D2044,'1_Causas_Levantadas'!C:D,2,0),\"\")","v":0},"","",null,12,null,0,12,170]
[null,null,{"$f":"IFERROR(VLOOKUP(D2045,'1_Causas_Levantadas'!C:D,2,0),\"\")","v":0},"","",null,1,null,1,1,171]
[null,null,{"$f":"IFERROR(VLOOKUP(D2046,'1_Causas_Levantadas'!C:D,2,0),\"\")","v":0},"","",null,2,null,0,2,171]
[null,null,{"$f":"IFERROR(VLOOKUP(D2047,'1_Causas_Levantadas'!C:D,2,0),\"\")","v":0},"","",null,3,null,0,3,171]
[null,null,{"$f":"IFERROR(VLOOKUP(D2048,'1_Causas_Levantadas'!C:D,2,0),\"\")","v":0},"","",null,4,null,0,4,171]
[null,null,{"$f":"IFERROR(VLOOKUP(D2049,'1_Causas_Levantadas'!C:D,2,0),\"\")","v":0},"","",null,5,null,0,5,171]
[null,null,{"$f":"IFERROR(VLOOKUP(D2050,'1_Causas_Levantadas'!C:D,2,0),\"\")","v":0},"","",null,6,null,0,6,171]
[null,null,{"$f":"IFERROR(VLOOKUP(D2051,'1_Causas_Levantadas'!C:D,2,0),\"\")","v":0},"","",null,7,null,0,7,171]
[null,null,{"$f":"IFERROR(VLOOKUP(D2052,'1_Causas_Levantadas'!C:D,2,0),\"\")","v":0},"","",null,8,null,0,8,171]
[null,null,{"$f":"IFERROR(VLOOKUP(D2053,'1_Causas_Levantadas'!C:D,2,0),\"\")","v":0},"","",null,9,null,0,9,171]
[null,null,{"$f":"IFERROR(VLOOKUP(D2054,'1_Causas_Levantadas'!C:D,2,0),\"\")","v":0},{"$f":"IF(K2054<=$H$4,(IF(G2053>0,G2054,$G$5)),\"\")","v":""},{"$f":"IF(D2054<>\"\",\"Participante \"&K2054,\"\")","v":""},null,{"$f":"J2054","v":10},null,{"$f":"IF(G2054=$G$5,1,0)","v":0},10,{"$f":"I2054+K2053","v":171}]
[null,null,{"$f":"IFERROR(VLOOKUP(D2055,'1_Causas_Levantadas'!C:D,2,0),\"\")","v":0},"","",null,11,null,0,{"$f":"IF(G2054<$G$4,J2054+1,1)","v":11},171]
[null,null,{"$f":"IFERROR(VLOOKUP(D2056,'1_Causas_Levantadas'!C:D,2,0),\"\")","v":0},"","",null,12,null,0,12,171]
[null,null,{"$f":"IFERROR(VLOOKUP(D2057,'1_Causas_Levantadas'!C:D,2,0),\"\")","v":0},"","",null,1,null,1,1,172]
[null,null,{"$f":"IFERROR(VLOOKUP(D2058,'1_Causas_Levantadas'!C:D,2,0),\"\")","v":0},"","",null,2,null,0,2,172]
[null,null,{"$f":"IFERROR(VLOOKUP(D2059,'1_Causas_Levantadas'!C:D,2,0),\"\")","v":0},"","",null,3,null,0,3,172]
[null,null,{"$f":"IFERROR(VLOOKUP(D2060,'1_Causas_Levantadas'!C:D,2,0),\"\")","v":0},"","",null,4,null,0,4,172]
[null,null,{"$f":"IFERROR(VLOOKUP(D2061,'1_Causas_Levantadas'!C:D,2,0),\"\")","v":0},"","",null,5,null,0,5,172]
[null,null,{"$f":"IFERROR(VLOOKUP(D2062,'1_Causas_Levantadas'!C:D,2,0),\"\")","v":0},"","",null,6,null,0,6,172]
[null,null,{"$f":"IFERROR(VLOOKUP(D2063,'1_Causas_Levantadas'!C:D,2,0),\"\")","v":0},"","",null,7,null,0,7,172]
[null,null,{"$f":"IFERROR(VLOOKUP(D2064,'1_Causas_Levantadas'!C:D,2,0),\"\")","v":0},"","",null,8,null,0,8,172]
[null,null,{"$f":"IFERROR(VLOOKUP(D2065,'1_Causas_Levantadas'!C:D,2,0),\"\")","v":0},"","",null,9,null,0,9,172]
[null,null,{"$f":"IFERROR(VLOOKUP(D2066,'1_Causas_Levantadas'!C:D,2,0),\"\")","v":0},"","",null,10,null,0,10,172]
[null,null,{"$f":"IFERROR(VLOOKUP(D2067,'1_Causas_Levantadas'!C:D,2,0),\"\")","v":0},"","",null,11,null,0,11,172]
[null,null,{"$f":"IFERROR(VLOOKUP(D2068,'1_Causas_Levantadas'!C:D,2,0),\"\")","v":0},"","",null,12,null,0,12,172]
[null,null,{"$f":"IFERROR(VLOOKUP(D2069,'1_Causas_Levantadas'!C:D,2,0),\"\")","v":0},"","",null,1,null,1,1,173]
[null,null,{"$f":"IFERROR(VLOOKUP(D2070,'1_Causas_Levantadas'!C:D,2,0),\"\")","v":0},"","",null,2,null,0,2,173]
[null,null,{"$f":"IFERROR(VLOOKUP(D2071,'1_Causas_Levantadas'!C:D,2,0),\"\")","v":0},"","",null,3,null,0,3,173]
[null,null,{"$f":"IFERROR(VLOOKUP(D2072,'1_Causas_Levantadas'!C:D,2,0),\"\")","v":0},"","",null,4,null,0,4,173]
[null,null,{"$f":"IFERROR(VLOOKUP(D2073,'1_Causas_Levantadas'!C:D,2,0),\"\")","v":0},"","",null,5,null,0,5,173]
[null,null,{"$f":"IFERROR(VLOOKUP(D2074,'1_Causas_Levantadas'!C:D,2,0),\"\")","v":0},"","",null,6,null,0,6,173]
[null,null,{"$f":"IFERROR(VLOOKUP(D2075,'1_Causas_Levantadas'!C:D,2,0),\"\")","v":0},"","",null,7,null,0,7,173]
[null,null,{"$f":"IFERROR(VLOOKUP(D2076,'1_Causas_Levantadas'!C:D,2,0),\"\")","v":0},"","",null,8,null,0,8,173]
[null,null,{"$f":"IFERROR(VLOOKUP(D2077,'1_Causas_Levantadas'!C:D,2,0),\"\")","v":0},"","",null,9,null,0,9,173]
[null,null,{"$f":"IFERROR(VLOOKUP(D2078,'1_Causas_Levantadas'!C:D,2,0),\"\")","v":0},"","",null,10,null,0,10,173]
[null,null,{"$f":"IFERROR(VLOOKUP(D2079,'1_Causas_Levantadas'!C:D,2,0),\"\")","v":0},"","",null,11,null,0,11,173]
[null,null,{"$f":"IFERROR(VLOOKUP(D2080,'1_Causas_Levantadas'!C:D,2,0),\"\")","v":0},"","",null,12,null,0,12,173]
[null,null,{"$f":"IFERROR(VLOOKUP(D2081,'1_Causas_Levantadas'!C:D,2,0),\"\")","v":0},"","",null,1,null,1,1,174]
[null,null,{"$f":"IFERROR(VLOOKUP(D2082,'1_Causas_Levantadas'!C:D,2,0),\"\")","v":0},"","",null,2,null,0,2,174]
[null,null,{"$f":"IFERROR(VLOOKUP(D2083,'1_Causas_Levantadas'!C:D,2,0),\"\")","v":0},"","",null,3,null,0,3,174]
[null,null,{"$f":"IFERROR(VLOOKUP(D2084,'1_Causas_Levantadas'!C:D,2,0),\"\")","v":0},"","",null,4,null,0,4,174]
[null,null,{"$f":"IFERROR(VLOOKUP(D2085,'1_Causas_Levantadas'!C:D,2,0),\"\")","v":0},"","",null,5,null,0,5,174]
[null,null,{"$f":"IFERROR(VLOOKUP(D2086,'1_Causas_Levantadas'!C:D,2,0),\"\")","v":0},"","",null,6,null,0,6,174]
[null,null,{"$f":"IFERROR(VLOOKUP(D2087,'1_Causas_Levantadas'!C:D,2,0),\"\")","v":0},"","",null,7,null,0,7,174]
[null,null,{"$f":"IFERROR(VLOOKUP(D2088,'1_Causas_Levantadas'!C:D,2,0),\"\")","v":0},"","",null,8,null,0,8,174]
[null,null,{"$f":"IFERROR(VLOOKUP(D2089,'1_Causas_Levantadas'!C:D,2,0),\"\")","v":0},"","",null,9,null,0,9,174]
[null,null,{"$f":"IFERROR(VLOOKUP(D2090,'1_Causas_Levantadas'!C:D,2,0),\"\")","v":0},"","",null,10,null,0,10,174]
[null,null,{"$f":"IFERROR(VLOOKUP(D2091,'1_Causas_Levantadas'!C:D,2,0),\"\")","v":0},"","",null,11,null,0,11,174]
[null,null,{"$f":"IFERROR(VLOOKUP(D2092,'1_Causas_Levantadas'!C:D,2,0),\"\")","v":0},"","",null,12,null,0,12,174]
[null,null,{"$f":"IFERROR(VLOOKUP(D2093,'1_Causas_Levantadas'!C:D,2,0),\"\")","v":0},"","",null,1,null,1,1,175]
[null,null,{"$f":"IFERROR(VLOOKUP(D2094,'1_Causas_Levantadas'!C:D,2,0),\"\")","v":0},"","",null,2,null,0,2,175]
[null,null,{"$f":"IFERROR(VLOOKUP(D2095,'1_Causas_Levantadas'!C:D,2,0),\"\")","v":0},"","",null,3,null,0,3,175]
[null,null,{"$f":"IFERROR(VLOOKUP(D2096,'1_Causas_Levantadas'!C:D,2,0),\"\")","v":0},"","",null,4,null,0,4,175]
[null,null,{"$f":"IFERROR(VLOOKUP(D2097,'1_Causas_Levantadas'!C:D,2,0),\"\")","v":0},"","",null,5,null,0,5,175]
[null,null,{"$f":"IFERROR(VLOOKUP(D2098,'1_Causas_Levantadas'!C:D,2,0),\"\")","v":0},"","",null,6,null,0,6,175]
[null,null,{"$f":"IFERROR(VLOOKUP(D2099,'1_Causas_Levantadas'!C:D,2,0),\"\")","v":0},"","",null,7,null,0,7,175]
[null,null,{"$f":"IFERROR(VLOOKUP(D2100,'1_Causas_Levantadas'!C:D,2,0),\"\")","v":0},"","",null,8,null,0,8,175]
[null,null,{"$f":"IFERROR(VLOOKUP(D2101,'1_Causas_Levantadas'!C:D,2,0),\"\")","v":0},"","",null,9,null,0,9,175]
[null,null,{"$f":"IFERROR(VLOOKUP(D2102,'1_Causas_Levantadas'!C:D,2,0),\"\")","v":0},"","",null,10,null,0,10,175]
[null,null,{"$f":"IFERROR(VLOOKUP(D2103,'1_Causas_Levantadas'!C:D,2,0),\"\")","v":0},"","",null,11,null,0,11,175]
[null,null,{"$f":"IFERROR(VLOOKUP(D2104,'1_Causas_Levantadas'!C:D,2,0),\"\")","v":0},"","",null,12,null,0,12,175]
[null,null,{"$f":"IFERROR(VLOOKUP(D2105,'1_Causas_Levantadas'!C:D,2,0),\"\")","v":0},"","",null,1,null,1,1,176]
[null,null,{"$f":"IFERROR(VLOOKUP(D2106,'1_Causas_Levantadas'!C:D,2,0),\"\")","v":0},"","",null,2,null,0,2,176]
[null,null,{"$f":"IFERROR(VLOOKUP(D2107,'1_Causas_Levantadas'!C:D,2,0),\"\")","v":0},"","",null,3,null,0,3,176]
[null,null,{"$f":"IFERROR(VLOOKUP(D2108,'1_Causas_Levantadas'!C:D,2,0),\"\")","v":0},"","",null,4,null,0,4,176]
[null,null,{"$f":"IFERROR(VLOOKUP(D2109,'1_Causas_Levantadas'!C:D,2,0),\"\")","v":0},"","",null,5,null,0,5,176]
[null,null,{"$f":"IFERROR(VLOOKUP(D2110,'1_Causas_Levantadas'!C:D,2,0),\"\")","v":0},"","",null,6,null,0,6,176]
[null,null,{"$f":"IFERROR(VLOOKUP(D2111,'1_Causas_Levantadas'!C:D,2,0),\"\")","v":0},"","",null,7,null,0,7,176]
[null,null,{"$f":"IFERROR(VLOOKUP(D2112,'1_Causas_Levantadas'!C:D,2,0),\"\")","v":0},"","",null,8,null,0,8,176]
[null,null,{"$f":"IFERROR(VLOOKUP(D2113,'1_Causas_Levantadas'!C:D,2,0),\"\")","v":0},"","",null,9,null,0,9,176]
[null,null,{"$f":"IFERROR(VLOOKUP(D2114,'1_Causas_Levantadas'!C:D,2,0),\"\")","v":0},"","",null,10,null,0,10,176]
[null,null,{"$f":"IFERROR(VLOOKUP(D2115,'1_Causas_Levantadas'!C:D,2,0),\"\")","v":0},"","",null,11,null,0,11,176]
[null,null,{"$f":"IFERROR(VLOOKUP(D2116,'1_Causas_Levantadas'!C:D,2,0),\"\")","v":0},"","",null,12,null,0,12,176]
[null,null,{"$f":"IFERROR(VLOOKUP(D2117,'1_Causas_Levantadas'!C:D,2,0),\"\")","v":0},"","",null,1,null,1,1,177]
[null,null,{"$f":"IFERROR(VLOOKUP(D2118,'1_Causas_Levantadas'!C:D,2,0),\"\")","v":0},{"$f":"IF(K2118<=$H$4,(IF(G2117>0,G2118,$G$5)),\"\")","v":""},{"$f":"IF(D2118<>\"\",\"Participante \"&K2118,\"\")","v":""},null,{"$f":"J2118","v":2},null,{"$f":"IF(G2118=$G$5,1,0)","v":0},2,{"$f":"I2118+K2117","v":177}]
[null,null,{"$f":"IFERROR(VLOOKUP(D2119,'1_Causas_Levantadas'!C:D,2,0),\"\")","v":0},"","",null,3,null,0,{"$f":"IF(G2118<$G$4,J2118+1,1)","v":3},177]
[null,null,{"$f":"IFERROR(VLOOKUP(D2120,'1_Causas_Levantadas'!C:D,2,0),\"\")","v":0},"","",null,4,null,0,4,177]
[null,null,{"$f":"IFERROR(VLOOKUP(D2121,'1_Causas_Levantadas'!C:D,2,0),\"\")","v":0},"","",null,5,null,0,5,177]
[null,null,{"$f":"IFERROR(VLOOKUP(D2122,'1_Causas_Levantadas'!C:D,2,0),\"\")","v":0},"","",null,6,null,0,6,177]
[null,null,{"$f":"IFERROR(VLOOKUP(D2123,'1_Causas_Levantadas'!C:D,2,0),\"\")","v":0},"","",null,7,null,0,7,177]
[null,null,{"$f":"IFERROR(VLOOKUP(D2124,'1_Causas_Levantadas'!C:D,2,0),\"\")","v":0},"","",null,8,null,0,8,177]
[null,null,{"$f":"IFERROR(VLOOKUP(D2125,'1_Causas_Levantadas'!C:D,2,0),\"\")","v":0},"","",null,9,null,0,9,177]
[null,null,{"$f":"IFERROR(VLOOKUP(D2126,'1_Causas_Levantadas'!C:D,2,0),\"\")","v":0},"","",null,10,null,0,10,177]
[null,null,{"$f":"IFERROR(VLOOKUP(D2127,'1_Causas_Levantadas'!C:D,2,0),\"\")","v":0},"","",null,11,null,0,11,177]
[null,null,{"$f":"IFERROR(VLOOKUP(D2128,'1_Causas_Levantadas'!C:D,2,0),\"\")","v":0},"","",null,12,null,0,12,177]
[null,null,{"$f":"IFERROR(VLOOKUP(D2129,'1_Causas_Levantadas'!C:D,2,0),\"\")","v":0},"","",null,1,null,1,1,178]
[null,null,{"$f":"IFERROR(VLOOKUP(D2130,'1_Causas_Levantadas'!C:D,2,0),\"\")","v":0},"","",null,2,null,0,2,178]
[null,null,{"$f":"IFERROR(VLOOKUP(D2131,'1_Causas_Levantadas'!C:D,2,0),\"\")","v":0},"","",null,3,null,0,3,178]
[null,null,{"$f":"IFERROR(VLOOKUP(D2132,'1_Causas_Levantadas'!C:D,2,0),\"\")","v":0},"","",null,4,null,0,4,178]
[null,null,{"$f":"IFERROR(VLOOKUP(D2133,'1_Causas_Levantadas'!C:D,2,0),\"\")","v":0},"","",null,5,null,0,5,178]
[null,null,{"$f":"IFERROR(VLOOKUP(D2134,'1_Causas_Levantadas'!C:D,2,0),\"\")","v":0},"","",null,6,null,0,6,178]
[null,null,{"$f":"IFERROR(VLOOKUP(D2135,'1_Causas_Levantadas'!C:D,2,0),\"\")","v":0},"","",null,7,null,0,7,178]
[null,null,{"$f":"IFERROR(VLOOKUP(D2136,'1_Causas_Levantadas'!C:D,2,0),\"\")","v":0},"","",null,8,null,0,8,178]
[null,null,{"$f":"IFERROR(VLOOKUP(D2137,'1_Causas_Levantadas'!C:D,2,0),\"\")","v":0},"","",null,9,null,0,9,178]
[null,null,{"$f":"IFERROR(VLOOKUP(D2138,'1_Causas_Levantadas'!C:D,2,0),\"\")","v":0},"","",null,10,null,0,10,178]
[null,null,{"$f":"IFERROR(VLOOKUP(D2139,'1_Causas_Levantadas'!C:D,2,0),\"\")","v":0},"","",null,11,null,0,11,178]
[null,null,{"$f":"IFERROR(VLOOKUP(D2140,'1_Causas_Levantadas'!C:D,2,0),\"\")","v":0},"","",null,12,null,0,12,178]
[null,null,{"$f":"IFERROR(VLOOKUP(D2141,'1_Causas_Levantadas'!C:D,2,0),\"\")","v":0},"","",null,1,null,1,1,179]
[null,null,{"$f":"IFERROR(VLOOKUP(D2142,'1_Causas_Levantadas'!C:D,2,0),\"\")","v":0},"","",null,2,null,0,2,179]
[null,null,{"$f":"IFERROR(VLOOKUP(D2143,'1_Causas_Levantadas'!C:D,2,0),\"\")","v":0},"","",null,3,null,0,3,179]
[null,null,{"$f":"IFERROR(VLOOKUP(D2144,'1_Causas_Levantadas'!C:D,2,0),\"\")","v":0},"","",null,4,null,0,4,179]
[null,null,{"$f":"IFERROR(VLOOKUP(D2145,'1_Causas_Levantadas'!C:D,2,0),\"\")","v":0},"","",null,5,null,0,5,179]
[null,null,{"$f":"IFERROR(VLOOKUP(D2146,'1_Causas_Levantadas'!C:D,2,0),\"\")","v":0},"","",null,6,null,0,6,179]
[null,null,{"$f":"IFERROR(VLOOKUP(D2147,'1_Causas_Levantadas'!C:D,2,0),\"\")","v":0},"","",null,7,null,0,7,179]
[null,null,{"$f":"IFERROR(VLOOKUP(D2148,'1_Causas_Levantadas'!C:D,2,0),\"\")","v":0},"","",null,8,null,0,8,179]
[null,null,{"$f":"IFERROR(VLOOKUP(D2149,'1_Causas_Levantadas'!C:D,2,0),\"\")","v":0},"","",null,9,null,0,9,179]
[null,null,{"$f":"IFERROR(VLOOKUP(D2150,'1_Causas_Levantadas'!C:D,2,0),\"\")","v":0},"","",null,10,null,0,10,179]
[null,null,{"$f":"IFERROR(VLOOKUP(D2151,'1_Causas_Levantadas'!C:D,2,0),\"\")","v":0},"","",null,11,null,0,11,179]
[null,null,{"$f":"IFERROR(VLOOKUP(D2152,'1_Causas_Levantadas'!C:D,2,0),\"\")","v":0},"","",null,12,null,0,12,179]
[null,null,{"$f":"IFERROR(VLOOKUP(D2153,'1_Causas_Levantadas'!C:D,2,0),\"\")","v":0},"","",null,1,null,1,1,180]
[null,null,{"$f":"IFERROR(VLOOKUP(D2154,'1_Causas_Levantadas'!C:D,2,0),\"\")","v":0},"","",null,2,null,0,2,180]
[null,null,{"$f":"IFERROR(VLOOKUP(D2155,'1_Causas_Levantadas'!C:D,2,0),\"\")","v":0},"","",null,3,null,0,3,180]
[null,null,{"$f":"IFERROR(VLOOKUP(D2156,'1_Causas_Levantadas'!C:D,2,0),\"\")","v":0},"","",null,4,null,0,4,180]
[null,null,{"$f":"IFERROR(VLOOKUP(D2157,'1_Causas_Levantadas'!C:D,2,0),\"\")","v":0},"","",null,5,null,0,5,180]
[null,null,{"$f":"IFERROR(VLOOKUP(D2158,'1_Causas_Levantadas'!C:D,2,0),\"\")","v":0},"","",null,6,null,0,6,180]
[null,null,{"$f":"IFERROR(VLOOKUP(D2159,'1_Causas_Levantadas'!C:D,2,0),\"\")","v":0},"","",null,7,null,0,7,180]
[null,null,{"$f":"IFERROR(VLOOKUP(D2160,'1_Causas_Levantadas'!C:D,2,0),\"\")","v":0},"","",null,8,null,0,8,180]
[null,null,{"$f":"IFERROR(VLOOKUP(D2161,'1_Causas_Levantadas'!C:D,2,0),\"\")","v":0},"","",null,9,null,0,9,180]
[null,null,{"$f":"IFERROR(VLOOKUP(D2162,'1_Causas_Levantadas'!C:D,2,0),\"\")","v":0},"","",null,10,null,0,10,180]
[null,null,{"$f":"IFERROR(VLOOKUP(D2163,'1_Causas_Levantadas'!C:D,2,0),\"\")","v":0},"","",null,11,null,0,11,180]
[null,null,{"$f":"IFERROR(VLOOKUP(D2164,'1_Causas_Levantadas'!C:D,2,0),\"\")","v":0},"","",null,12,null,0,12,180]
[null,null,{"$f":"IFERROR(VLOOKUP(D2165,'1_Causas_Levantadas'!C:D,2,0),\"\")","v":0},"","",null,1,null,1,1,181]
[null,null,{"$f":"IFERROR(VLOOKUP(D2166,'1_Causas_Levantadas'!C:D,2,0),\"\")","v":0},"","",null,2,null,0,2,181]
[null,null,{"$f":"IFERROR(VLOOKUP(D2167,'1_Causas_Levantadas'!C:D,2,0),\"\")","v":0},"","",null,3,null,0,3,181]
[null,null,{"$f":"IFERROR(VLOOKUP(D2168,'1_Causas_Levantadas'!C:D,2,0),\"\")","v":0},"","",null,4,null,0,4,181]
[null,null,{"$f":"IFERROR(VLOOKUP(D2169,'1_Causas_Levantadas'!C:D,2,0),\"\")","v":0},"","",null,5,null,0,5,181]
[null,null,{"$f":"IFERROR(VLOOKUP(D2170,'1_Causas_Levantadas'!C:D,2,0),\"\")","v":0},"","",null,6,null,0,6,181]
[null,null,{"$f":"IFERROR(VLOOKUP(D2171,'1_Causas_Levantadas'!C:D,2,0),\"\")","v":0},"","",null,7,null,0,7,181]
[null,null,{"$f":"IFERROR(VLOOKUP(D2172,'1_Causas_Levantadas'!C:D,2,0),\"\")","v":0},"","",null,8,null,0,8,181]
[null,null,{"$f":"IFERROR(VLOOKUP(D2173,'1_Causas_Levantadas'!C:D,2,0),\"\")","v":0},"","",null,9,null,0,9,181]
[null,null,{"$f":"IFERROR(VLOOKUP(D2174,'1_Causas_Levantadas'!C:D,2,0),\"\")","v":0},"","",null,10,null,0,10,181]
[null,null,{"$f":"IFERROR(VLOOKUP(D2175,'1_Causas_Levantadas'!C:D,2,0),\"\")","v":0},"","",null,11,null,0,11,181]
[null,null,{"$f":"IFERROR(VLOOKUP(D2176,'1_Causas_Levantadas'!C:D,2,0),\"\")","v":0},"","",null,12,null,0,12,181]
[null,null,{"$f":"IFERROR(VLOOKUP(D2177,'1_Causas_Levantadas'!C:D,2,0),\"\")","v":0},"","",null,1,null,1,1,182]
[null,null,{"$f":"IFERROR(VLOOKUP(D2178,'1_Causas_Levantadas'!C:D,2,0),\"\")","v":0},"","",null,2,null,0,2,182]
[null,null,{"$f":"IFERROR(VLOOKUP(D2179,'1_Causas_Levantadas'!C:D,2,0),\"\")","v":0},"","",null,3,null,0,3,182]
[null,null,{"$f":"IFERROR(VLOOKUP(D2180,'1_Causas_Levantadas'!C:D,2,0),\"\")","v":0},"","",null,4,null,0,4,182]
[null,null,{"$f":"IFERROR(VLOOKUP(D2181,'1_Causas_Levantadas'!C:D,2,0),\"\")","v":0},"","",null,5,null,0,5,182]
[null,null,{"$f":"IFERROR(VLOOKUP(D2182,'1_Causas_Levantadas'!C:D,2,0),\"\")","v":0},{"$f":"IF(K2182<=$H$4,(IF(G2181>0,G2182,$G$5)),\"\")","v":""},{"$f":"IF(D2182<>\"\",\"Participante \"&K2182,\"\")","v":""},null,{"$f":"J2182","v":6},null,{"$f":"IF(G2182=$G$5,1,0)","v":0},6,{"$f":"I2182+K2181","v":182}]
[null,null,{"$f":"IFERROR(VLOOKUP(D2183,'1_Causas_Levantadas'!C:D,2,0),\"\")","v":0},"","",null,7,null,0,{"$f":"IF(G2182<$G$4,J2182+1,1)","v":7},182]
[null,null,{"$f":"IFERROR(VLOOKUP(D2184,'1_Causas_Levantadas'!C:D,2,0),\"\")","v":0},"","",null,8,null,0,8,182]
[null,null,{"$f":"IFERROR(VLOOKUP(D2185,'1_Causas_Levantadas'!C:D,2,0),\"\")","v":0},"","",null,9,null,0,9,182]
[null,null,{"$f":"IFERROR(VLOOKUP(D2186,'1_Causas_Levantadas'!C:D,2,0),\"\")","v":0},"","",null,10,null,0,10,182]
[null,null,{"$f":"IFERROR(VLOOKUP(D2187,'1_Causas_Levantadas'!C:D,2,0),\"\")","v":0},"","",null,11,null,0,11,182]
[null,null,{"$f":"IFERROR(VLOOKUP(D2188,'1_Causas_Levantadas'!C:D,2,0),\"\")","v":0},"","",null,12,null,0,12,182]
[null,null,{"$f":"IFERROR(VLOOKUP(D2189,'1_Causas_Levantadas'!C:D,2,0),\"\")","v":0},"","",null,1,null,1,1,183]
[null,null,{"$f":"IFERROR(VLOOKUP(D2190,'1_Causas_Levantadas'!C:D,2,0),\"\")","v":0},"","",null,2,null,0,2,183]
[null,null,{"$f":"IFERROR(VLOOKUP(D2191,'1_Causas_Levantadas'!C:D,2,0),\"\")","v":0},"","",null,3,null,0,3,183]
[null,null,{"$f":"IFERROR(VLOOKUP(D2192,'1_Causas_Levantadas'!C:D,2,0),\"\")","v":0},"","",null,4,null,0,4,183]
[null,null,{"$f":"IFERROR(VLOOKUP(D2193,'1_Causas_Levantadas'!C:D,2,0),\"\")","v":0},"","",null,5,null,0,5,183]
[null,null,{"$f":"IFERROR(VLOOKUP(D2194,'1_Causas_Levantadas'!C:D,2,0),\"\")","v":0},"","",null,6,null,0,6,183]
[null,null,{"$f":"IFERROR(VLOOKUP(D2195,'1_Causas_Levantadas'!C:D,2,0),\"\")","v":0},"","",null,7,null,0,7,183]
[null,null,{"$f":"IFERROR(VLOOKUP(D2196,'1_Causas_Levantadas'!C:D,2,0),\"\")","v":0},"","",null,8,null,0,8,183]
[null,null,{"$f":"IFERROR(VLOOKUP(D2197,'1_Causas_Levantadas'!C:D,2,0),\"\")","v":0},"","",null,9,null,0,9,183]
[null,null,{"$f":"IFERROR(VLOOKUP(D2198,'1_Causas_Levantadas'!C:D,2,0),\"\")","v":0},"","",null,10,null,0,10,183]
[null,null,{"$f":"IFERROR(VLOOKUP(D2199,'1_Causas_Levantadas'!C:D,2,0),\"\")","v":0},"","",null,11,null,0,11,183]
[null,null,{"$f":"IFERROR(VLOOKUP(D2200,'1_Causas_Levantadas'!C:D,2,0),\"\")","v":0},"","",null,12,null,0,12,183]
[null,null,{"$f":"IFERROR(VLOOKUP(D2201,'1_Causas_Levantadas'!C:D,2,0),\"\")","v":0},"","",null,1,null,1,1,184]
[null,null,{"$f":"IFERROR(VLOOKUP(D2202,'1_Causas_Levantadas'!C:D,2,0),\"\")","v":0},"","",null,2,null,0,2,184]
[null,null,{"$f":"IFERROR(VLOOKUP(D2203,'1_Causas_Levantadas'!C:D,2,0),\"\")","v":0},"","",null,3,null,0,3,184]
[null,null,{"$f":"IFERROR(VLOOKUP(D2204,'1_Causas_Levantadas'!C:D,2,0),\"\")","v":0},"","",null,4,null,0,4,184]
[null,null,{"$f":"IFERROR(VLOOKUP(D2205,'1_Causas_Levantadas'!C:D,2,0),\"\")","v":0},"","",null,5,null,0,5,184]
[null,null,{"$f":"IFERROR(VLOOKUP(D2206,'1_Causas_Levantadas'!C:D,2,0),\"\")","v":0},"","",null,6,null,0,6,184]
[null,null,{"$f":"IFERROR(VLOOKUP(D2207,'1_Causas_Levantadas'!C:D,2,0),\"\")","v":0},"","",null,7,null,0,7,184]
[null,null,{"$f":"IFERROR(VLOOKUP(D2208,'1_Causas_Levantadas'!C:D,2,0),\"\")","v":0},"","",null,8,null,0,8,184]
[null,null,{"$f":"IFERROR(VLOOKUP(D2209,'1_Causas_Levantadas'!C:D,2,0),\"\")","v":0},"","",null,9,null,0,9,184]
[null,null,{"$f":"IFERROR(VLOOKUP(D2210,'1_Causas_Levantadas'!C:D,2,0),\"\")","v":0},"","",null,10,null,0,10,184]
[null,null,{"$f":"IFERROR(VLOOKUP(D2211,'1_Causas_Levantadas'!C:D,2,0),\"\")","v":0},"","",null,11,null,0,11,184]
[null,null,{"$f":"IFERROR(VLOOKUP(D2212,'1_Causas_Levantadas'!C:D,2,0),\"\")","v":0},"","",null,12,null,0,12,184]
[null,null,{"$f":"IFERROR(VLOOKUP(D2213,'1_Causas_Levantadas'!C:D,2,0),\"\")","v":0},"","",null,1,null,1,1,185]
[null,null,{"$f":"IFERROR(VLOOKUP(D2214,'1_Causas_Levantadas'!C:D,2,0),\"\")","v":0},"","",null,2,null,0,2,185]
[null,null,{"$f":"IFERROR(VLOOKUP(D2215,'1_Causas_Levantadas'!C:D,2,0),\"\")","v":0},"","",null,3,null,0,3,185]
[null,null,{"$f":"IFERROR(VLOOKUP(D2216,'1_Causas_Levantadas'!C:D,2,0),\"\")","v":0},"","",null,4,null,0,4,185]
[null,null,{"$f":"IFERROR(VLOOKUP(D2217,'1_Causas_Levantadas'!C:D,2,0),\"\")","v":0},"","",null,5,null,0,5,185]
[null,null,{"$f":"IFERROR(VLOOKUP(D2218,'1_Causas_Levantadas'!C:D,2,0),\"\")","v":0},"","",null,6,null,0,6,185]
[null,null,{"$f":"IFERROR(VLOOKUP(D2219,'1_Causas_Levantadas'!C:D,2,0),\"\")","v":0},"","",null,7,null,0,7,185]
[null,null,{"$f":"IFERROR(VLOOKUP(D2220,'1_Causas_Levantadas'!C:D,2,0),\"\")","v":0},"","",null,8,null,0,8,185]
[null,null,{"$f":"IFERROR(VLOOKUP(D2221,'1_Causas_Levantadas'!C:D,2,0),\"\")","v":0},"","",null,9,null,0,9,185]
[null,null,{"$f":"IFERROR(VLOOKUP(D2222,'1_Causas_Levantadas'!C:D,2,0),\"\")","v":0},"","",null,10,null,0,10,185]
[null,null,{"$f":"IFERROR(VLOOKUP(D2223,'1_Causas_Levantadas'!C:D,2,0),\"\")","v":0},"","",null,11,null,0,11,185]
[null,null,{"$f":"IFERROR(VLOOKUP(D2224,'1_Causas_Levantadas'!C:D,2,0),\"\")","v":0},"","",null,12,null,0,12,185]
[null,null,{"$f":"IFERROR(VLOOKUP(D2225,'1_Causas_Levantadas'!C:D,2,0),\"\")","v":0},"","",null,1,null,1,1,186]
[null,null,{"$f":"IFERROR(VLOOKUP(D2226,'1_Causas_Levantadas'!C:D,2,0),\"\")","v":0},"","",null,2,null,0,2,186]
[null,null,{"$f":"IFERROR(VLOOKUP(D2227,'1_Causas_Levantadas'!C:D,2,0),\"\")","v":0},"","",null,3,null,0,3,186]
[null,null,{"$f":"IFERROR(VLOOKUP(D2228,'1_Causas_Levantadas'!C:D,2,0),\"\")","v":0},"","",null,4,null,0,4,186]
[null,null,{"$f":"IFERROR(VLOOKUP(D2229,'1_Causas_Levantadas'!C:D,2,0),\"\")","v":0},"","",null,5,null,0,5,186]
[null,null,{"$f":"IFERROR(VLOOKUP(D2230,'1_Causas_Levantadas'!C:D,2,0),\"\")","v":0},"","",null,6,null,0,6,186]
[null,null,{"$f":"IFERROR(VLOOKUP(D2231,'1_Causas_Levantadas'!C:D,2,0),\"\")","v":0},"","",null,7,null,0,7,186]
[null,null,{"$f":"IFERROR(VLOOKUP(D2232,'1_Causas_Levantadas'!C:D,2,0),\"\")","v":0},"","",null,8,null,0,8,186]
[null,null,{"$f":"IFERROR(VLOOKUP(D2233,'1_Causas_Levantadas'!C:D,2,0),\"\")","v":0},"","",null,9,null,0,9,186]
[null,null,{"$f":"IFERROR(VLOOKUP(D2234,'1_Causas_Levantadas'!C:D,2,0),\"\")","v":0},"","",null,10,null,0,10,186]
[null,null,{"$f":"IFERROR(VLOOKUP(D2235,'1_Causas_Levantadas'!C:D,2,0),\"\")","v":0},"","",null,11,null,0,11,186]
[null,null,{"$f":"IFERROR(VLOOKUP(D2236,'1_Causas_Levantadas'!C:D,2,0),\"\")","v":0},"","",null,12,null,0,12,186]
[null,null,{"$f":"IFERROR(VLOOKUP(D2237,'1_Causas_Levantadas'!C:D,2,0),\"\")","v":0},"","",null,1,null,1,1,187]
[null,null,{"$f":"IFERROR(VLOOKUP(D2238,'1_Causas_Levantadas'!C:D,2,0),\"\")","v":0},"","",null,2,null,0,2,187]
[null,null,{"$f":"IFERROR(VLOOKUP(D2239,'1_Causas_Levantadas'!C:D,2,0),\"\")","v":0},"","",null,3,null,0,3,187]
[null,null,{"$f":"IFERROR(VLOOKUP(D2240,'1_Causas_Levantadas'!C:D,2,0),\"\")","v":0},"","",null,4,null,0,4,187]
[null,null,{"$f":"IFERROR(VLOOKUP(D2241,'1_Causas_Levantadas'!C:D,2,0),\"\")","v":0},"","",null,5,null,0,5,187]
[null,null,{"$f":"IFERROR(VLOOKUP(D2242,'1_Causas_Levantadas'!C:D,2,0),\"\")","v":0},"","",null,6,null,0,6,187]
[null,null,{"$f":"IFERROR(VLOOKUP(D2243,'1_Causas_Levantadas'!C:D,2,0),\"\")","v":0},"","",null,7,null,0,7,187]
[null,null,{"$f":"IFERROR(VLOOKUP(D2244,'1_Causas_Levantadas'!C:D,2,0),\"\")","v":0},"","",null,8,null,0,8,187]
[null,null,{"$f":"IFERROR(VLOOKUP(D2245,'1_Causas_Levantadas'!C:D,2,0),\"\")","v":0},"","",null,9,null,0,9,187]
[null,null,{"$f":"IFERROR(VLOOKUP(D2246,'1_Causas_Levantadas'!C:D,2,0),\"\")","v":0},{"$f":"IF(K2246<=$H$4,(IF(G2245>0,G2246,$G$5)),\"\")","v":""},{"$f":"IF(D2246<>\"\",\"Participante \"&K2246,\"\")","v":""},null,{"$f":"J2246","v":10},null,{"$f":"IF(G2246=$G$5,1,0)","v":0},10,{"$f":"I2246+K2245","v":187}]
[null,null,{"$f":"IFERROR(VLOOKUP(D2247,'1_Causas_Levantadas'!C:D,2,0),\"\")","v":0},"","",null,11,null,0,{"$f":"IF(G2246<$G$4,J2246+1,1)","v":11},187]
[null,null,{"$f":"IFERROR(VLOOKUP(D2248,'1_Causas_Levantadas'!C:D,2,0),\"\")","v":0},"","",null,12,null,0,12,187]
[null,null,{"$f":"IFERROR(VLOOKUP(D2249,'1_Causas_Levantadas'!C:D,2,0),\"\")","v":0},"","",null,1,null,1,1,188]
[null,null,{"$f":"IFERROR(VLOOKUP(D2250,'1_Causas_Levantadas'!C:D,2,0),\"\")","v":0},"","",null,2,null,0,2,188]
[null,null,{"$f":"IFERROR(VLOOKUP(D2251,'1_Causas_Levantadas'!C:D,2,0),\"\")","v":0},"","",null,3,null,0,3,188]
[null,null,{"$f":"IFERROR(VLOOKUP(D2252,'1_Causas_Levantadas'!C:D,2,0),\"\")","v":0},"","",null,4,null,0,4,188]
[null,null,{"$f":"IFERROR(VLOOKUP(D2253,'1_Causas_Levantadas'!C:D,2,0),\"\")","v":0},"","",null,5,null,0,5,188]
[null,null,{"$f":"IFERROR(VLOOKUP(D2254,'1_Causas_Levantadas'!C:D,2,0),\"\")","v":0},"","",null,6,null,0,6,188]
[null,null,{"$f":"IFERROR(VLOOKUP(D2255,'1_Causas_Levantadas'!C:D,2,0),\"\")","v":0},"","",null,7,null,0,7,188]
[null,null,{"$f":"IFERROR(VLOOKUP(D2256,'1_Causas_Levantadas'!C:D,2,0),\"\")","v":0},"","",null,8,null,0,8,188]
[null,null,{"$f":"IFERROR(VLOOKUP(D2257,'1_Causas_Levantadas'!C:D,2,0),\"\")","v":0},"","",null,9,null,0,9,188]
[null,null,{"$f":"IFERROR(VLOOKUP(D2258,'1_Causas_Levantadas'!C:D,2,0),\"\")","v":0},"","",null,10,null,0,10,188]
[null,null,{"$f":"IFERROR(VLOOKUP(D2259,'1_Causas_Levantadas'!C:D,2,0),\"\")","v":0},"","",null,11,null,0,11,188]
[null,null,{"$f":"IFERROR(VLOOKUP(D2260,'1_Causas_Levantadas'!C:D,2,0),\"\")","v":0},"","",null,12,null,0,12,188]
[null,null,{"$f":"IFERROR(VLOOKUP(D2261,'1_Causas_Levantadas'!C:D,2,0),\"\")","v":0},"","",null,1,null,1,1,189]
[null,null,{"$f":"IFERROR(VLOOKUP(D2262,'1_Causas_Levantadas'!C:D,2,0),\"\")","v":0},"","",null,2,null,0,2,189]
[null,null,{"$f":"IFERROR(VLOOKUP(D2263,'1_Causas_Levantadas'!C:D,2,0),\"\")","v":0},"","",null,3,null,0,3,189]
[null,null,{"$f":"IFERROR(VLOOKUP(D2264,'1_Causas_Levantadas'!C:D,2,0),\"\")","v":0},"","",null,4,null,0,4,189]
[null,null,{"$f":"IFERROR(VLOOKUP(D2265,'1_Causas_Levantadas'!C:D,2,0),\"\")","v":0},"","",null,5,null,0,5,189]
[null,null,{"$f":"IFERROR(VLOOKUP(D2266,'1_Causas_Levantadas'!C:D,2,0),\"\")","v":0},"","",null,6,null,0,6,189]
[null,null,{"$f":"IFERROR(VLOOKUP(D2267,'1_Causas_Levantadas'!C:D,2,0),\"\")","v":0},"","",null,7,null,0,7,189]
[null,null,{"$f":"IFERROR(VLOOKUP(D2268,'1_Causas_Levantadas'!C:D,2,0),\"\")","v":0},"","",null,8,null,0,8,189]
[null,null,{"$f":"IFERROR(VLOOKUP(D2269,'1_Causas_Levantadas'!C:D,2,0),\"\")","v":0},"","",null,9,null,0,9,189]
[null,null,{"$f":"IFERROR(VLOOKUP(D2270,'1_Causas_Levantadas'!C:D,2,0),\"\")","v":0},"","",null,10,null,0,10,189]
[null,null,{"$f":"IFERROR(VLOOKUP(D2271,'1_Causas_Levantadas'!C:D,2,0),\"\")","v":0},"","",null,11,null,0,11,189]
[null,null,{"$f":"IFERROR(VLOOKUP(D2272,'1_Causas_Levantadas'!C:D,2,0),\"\")","v":0},"","",null,12,null,0,12,189]
[null,null,{"$f":"IFERROR(VLOOKUP(D2273,'1_Causas_Levantadas'!C:D,2,0),\"\")","v":0},"","",null,1,null,1,1,190]
[null,null,{"$f":"IFERROR(VLOOKUP(D2274,'1_Causas_Levantadas'!C:D,2,0),\"\")","v":0},"","",null,2,null,0,2,190]
[null,null,{"$f":"IFERROR(VLOOKUP(D2275,'1_Causas_Levantadas'!C:D,2,0),\"\")","v":0},"","",null,3,null,0,3,190]
[null,null,{"$f":"IFERROR(VLOOKUP(D2276,'1_Causas_Levantadas'!C:D,2,0),\"\")","v":0},"","",null,4,null,0,4,190]
[null,null,{"$f":"IFERROR(VLOOKUP(D2277,'1_Causas_Levantadas'!C:D,2,0),\"\")","v":0},"","",null,5,null,0,5,190]
[null,null,{"$f":"IFERROR(VLOOKUP(D2278,'1_Causas_Levantadas'!C:D,2,0),\"\")","v":0},"","",null,6,null,0,6,190]
[null,null,{"$f":"IFERROR(VLOOKUP(D2279,'1_Causas_Levantadas'!C:D,2,0),\"\")","v":0},"","",null,7,null,0,7,190]
[null,null,{"$f":"IFERROR(VLOOKUP(D2280,'1_Causas_Levantadas'!C:D,2,0),\"\")","v":0},"","",null,8,null,0,8,190]
[null,null,{"$f":"IFERROR(VLOOKUP(D2281,'1_Causas_Levantadas'!C:D,2,0),\"\")","v":0},"","",null,9,null,0,9,190]
[null,null,{"$f":"IFERROR(VLOOKUP(D2282,'1_Causas_Levantadas'!C:D,2,0),\"\")","v":0},"","",null,10,null,0,10,190]
[null,null,{"$f":"IFERROR(VLOOKUP(D2283,'1_Causas_Levantadas'!C:D,2,0),\"\")","v":0},"","",null,11,null,0,11,190]
[null,null,{"$f":"IFERROR(VLOOKUP(D2284,'1_Causas_Levantadas'!C:D,2,0),\"\")","v":0},"","",null,12,null,0,12,190]
[null,null,{"$f":"IFERROR(VLOOKUP(D2285,'1_Causas_Levantadas'!C:D,2,0),\"\")","v":0},"","",null,1,null,1,1,191]
[null,null,{"$f":"IFERROR(VLOOKUP(D2286,'1_Causas_Levantadas'!C:D,2,0),\"\")","v":0},"","",null,2,null,0,2,191]
[null,null,{"$f":"IFERROR(VLOOKUP(D2287,'1_Causas_Levantadas'!C:D,2,0),\"\")","v":0},"","",null,3,null,0,3,191]
[null,null,{"$f":"IFERROR(VLOOKUP(D2288,'1_Causas_Levantadas'!C:D,2,0),\"\")","v":0},"","",null,4,null,0,4,191]
[null,null,{"$f":"IFERROR(VLOOKUP(D2289,'1_Causas_Levantadas'!C:D,2,0),\"\")","v":0},"","",null,5,null,0,5,191]
[null,null,{"$f":"IFERROR(VLOOKUP(D2290,'1_Causas_Levantadas'!C:D,2,0),\"\")","v":0},"","",null,6,null,0,6,191]
[null,null,{"$f":"IFERROR(VLOOKUP(D2291,'1_Causas_Levantadas'!C:D,2,0),\"\")","v":0},"","",null,7,null,0,7,191]
[null,null,{"$f":"IFERROR(VLOOKUP(D2292,'1_Causas_Levantadas'!C:D,2,0),\"\")","v":0},"","",null,8,null,0,8,191]
[null,null,{"$f":"IFERROR(VLOOKUP(D2293,'1_Causas_Levantadas'!C:D,2,0),\"\")","v":0},"","",null,9,null,0,9,191]
[null,null,{"$f":"IFERROR(VLOOKUP(D2294,'1_Causas_Levantadas'!C:D,2,0),\"\")","v":0},"","",null,10,null,0,10,191]
[null,null,{"$f":"IFERROR(VLOOKUP(D2295,'1_Causas_Levantadas'!C:D,2,0),\"\")","v":0},"","",null,11,null,0,11,191]
[null,null,{"$f":"IFERROR(VLOOKUP(D2296,'1_Causas_Levantadas'!C:D,2,0),\"\")","v":0},"","",null,12,null,0,12,191]
[null,null,{"$f":"IFERROR(VLOOKUP(D2297,'1_Causas_Levantadas'!C:D,2,0),\"\")","v":0},"","",null,1,null,1,1,192]
[null,null,{"$f":"IFERROR(VLOOKUP(D2298,'1_Causas_Levantadas'!C:D,2,0),\"\")","v":0},"","",null,2,null,0,2,192]
[null,null,{"$f":"IFERROR(VLOOKUP(D2299,'1_Causas_Levantadas'!C:D,2,0),\"\")","v":0},"","",null,3,null,0,3,192]
[null,null,{"$f":"IFERROR(VLOOKUP(D2300,'1_Causas_Levantadas'!C:D,2,0),\"\")","v":0},"","",null,4,null,0,4,192]
[null,null,{"$f":"IFERROR(VLOOKUP(D2301,'1_Causas_Levantadas'!C:D,2,0),\"\")","v":0},"","",null,5,null,0,5,192]
[null,null,{"$f":"IFERROR(VLOOKUP(D2302,'1_Causas_Levantadas'!C:D,2,0),\"\")","v":0},"","",null,6,null,0,6,192]
[null,null,{"$f":"IFERROR(VLOOKUP(D2303,'1_Causas_Levantadas'!C:D,2,0),\"\")","v":0},"","",null,7,null,0,7,192]
[null,null,{"$f":"IFERROR(VLOOKUP(D2304,'1_Causas_Levantadas'!C:D,2,0),\"\")","v":0},"","",null,8,null,0,8,192]
[null,null,{"$f":"IFERROR(VLOOKUP(D2305,'1_Causas_Levantadas'!C:D,2,0),\"\")","v":0},"","",null,9,null,0,9,192]
[null,null,{"$f":"IFERROR(VLOOKUP(D2306,'1_Causas_Levantadas'!C:D,2,0),\"\")","v":0},"","",null,10,null,0,10,192]
[null,null,{"$f":"IFERROR(VLOOKUP(D2307,'1_Causas_Levantadas'!C:D,2,0),\"\")","v":0},"","",null,11,null,0,11,192]
[null,null,{"$f":"IFERROR(VLOOKUP(D2308,'1_Causas_Levantadas'!C:D,2,0),\"\")","v":0},"","",null,12,null,0,12,192]
[null,null,{"$f":"IFERROR(VLOOKUP(D2309,'1_Causas_Levantadas'!C:D,2,0),\"\")","v":0},"","",null,1,null,1,1,193]
[null,null,{"$f":"IFERROR(VLOOKUP(D2310,'1_Causas_Levantadas'!C:D,2,0),\"\")","v":0},{"$f":"IF(K2310<=$H$4,(IF(G2309>0,G2310,$G$5)),\"\")","v":""},{"$f":"IF(D2310<>\"\",\"Participante \"&K2310,\"\")","v":""},null,{"$f":"J2310","v":2},null,{"$f":"IF(G2310=$G$5,1,0)","v":0},2,{"$f":"I2310+K2309","v":193}]
[null,null,{"$f":"IFERROR(VLOOKUP(D2311,'1_Causas_Levantadas'!C:D,2,0),\"\")","v":0},"","",null,3,null,0,{"$f":"IF(G2310<$G$4,J2310+1,1)","v":3},193]
[null,null,{"$f":"IFERROR(VLOOKUP(D2312,'1_Causas_Levantadas'!C:D,2,0),\"\")","v":0},"","",null,4,null,0,4,193]
[null,null,{"$f":"IFERROR(VLOOKUP(D2313,'1_Causas_Levantadas'!C:D,2,0),\"\")","v":0},"","",null,5,null,0,5,193]
[null,null,{"$f":"IFERROR(VLOOKUP(D2314,'1_Causas_Levantadas'!C:D,2,0),\"\")","v":0},"","",null,6,null,0,6,193]
[null,null,{"$f":"IFERROR(VLOOKUP(D2315,'1_Causas_Levantadas'!C:D,2,0),\"\")","v":0},"","",null,7,null,0,7,193]
[null,null,{"$f":"IFERROR(VLOOKUP(D2316,'1_Causas_Levantadas'!C:D,2,0),\"\")","v":0},"","",null,8,null,0,8,193]
[null,null,{"$f":"IFERROR(VLOOKUP(D2317,'1_Causas_Levantadas'!C:D,2,0),\"\")","v":0},"","",null,9,null,0,9,193]
[null,null,{"$f":"IFERROR(VLOOKUP(D2318,'1_Causas_Levantadas'!C:D,2,0),\"\")","v":0},"","",null,10,null,0,10,193]
[null,null,{"$f":"IFERROR(VLOOKUP(D2319,'1_Causas_Levantadas'!C:D,2,0),\"\")","v":0},"","",null,11,null,0,11,193]
[null,null,{"$f":"IFERROR(VLOOKUP(D2320,'1_Causas_Levantadas'!C:D,2,0),\"\")","v":0},"","",null,12,null,0,12,193]
[null,null,{"$f":"IFERROR(VLOOKUP(D2321,'1_Causas_Levantadas'!C:D,2,0),\"\")","v":0},"","",null,1,null,1,1,194]
[null,null,{"$f":"IFERROR(VLOOKUP(D2322,'1_Causas_Levantadas'!C:D,2,0),\"\")","v":0},"","",null,2,null,0,2,194]
[null,null,{"$f":"IFERROR(VLOOKUP(D2323,'1_Causas_Levantadas'!C:D,2,0),\"\")","v":0},"","",null,3,null,0,3,194]
[null,null,{"$f":"IFERROR(VLOOKUP(D2324,'1_Causas_Levantadas'!C:D,2,0),\"\")","v":0},"","",null,4,null,0,4,194]
[null,null,{"$f":"IFERROR(VLOOKUP(D2325,'1_Causas_Levantadas'!C:D,2,0),\"\")","v":0},"","",null,5,null,0,5,194]
[null,null,{"$f":"IFERROR(VLOOKUP(D2326,'1_Causas_Levantadas'!C:D,2,0),\"\")","v":0},"","",null,6,null,0,6,194]
[null,null,{"$f":"IFERROR(VLOOKUP(D2327,'1_Causas_Levantadas'!C:D,2,0),\"\")","v":0},"","",null,7,null,0,7,194]
[null,null,{"$f":"IFERROR(VLOOKUP(D2328,'1_Causas_Levantadas'!C:D,2,0),\"\")","v":0},"","",null,8,null,0,8,194]
[null,null,{"$f":"IFERROR(VLOOKUP(D2329,'1_Causas_Levantadas'!C:D,2,0),\"\")","v":0},"","",null,9,null,0,9,194]
[null,null,{"$f":"IFERROR(VLOOKUP(D2330,'1_Causas_Levantadas'!C:D,2,0),\"\")","v":0},"","",null,10,null,0,10,194]
[null,null,{"$f":"IFERROR(VLOOKUP(D2331,'1_Causas_Levantadas'!C:D,2,0),\"\")","v":0},"","",null,11,null,0,11,194]
[null,null,{"$f":"IFERROR(VLOOKUP(D2332,'1_Causas_Levantadas'!C:D,2,0),\"\")","v":0},"","",null,12,null,0,12,194]
[null,null,{"$f":"IFERROR(VLOOKUP(D2333,'1_Causas_Levantadas'!C:D,2,0),\"\")","v":0},"","",null,1,null,1,1,195]
[null,null,{"$f":"IFERROR(VLOOKUP(D2334,'1_Causas_Levantadas'!C:D,2,0),\"\")","v":0},"","",null,2,null,0,2,195]
[null,null,{"$f":"IFERROR(VLOOKUP(D2335,'1_Causas_Levantadas'!C:D,2,0),\"\")","v":0},"","",null,3,null,0,3,195]
[null,null,{"$f":"IFERROR(VLOOKUP(D2336,'1_Causas_Levantadas'!C:D,2,0),\"\")","v":0},"","",null,4,null,0,4,195]
[null,null,{"$f":"IFERROR(VLOOKUP(D2337,'1_Causas_Levantadas'!C:D,2,0),\"\")","v":0},"","",null,5,null,0,5,195]
[null,null,{"$f":"IFERROR(VLOOKUP(D2338,'1_Causas_Levantadas'!C:D,2,0),\"\")","v":0},"","",null,6,null,0,6,195]
[null,null,{"$f":"IFERROR(VLOOKUP(D2339,'1_Causas_Levantadas'!C:D,2,0),\"\")","v":0},"","",null,7,null,0,7,195]
[null,null,{"$f":"IFERROR(VLOOKUP(D2340,'1_Causas_Levantadas'!C:D,2,0),\"\")","v":0},"","",null,8,null,0,8,195]
[null,null,{"$f":"IFERROR(VLOOKUP(D2341,'1_Causas_Levantadas'!C:D,2,0),\"\")","v":0},"","",null,9,null,0,9,195]
[null,null,{"$f":"IFERROR(VLOOKUP(D2342,'1_Causas_Levantadas'!C:D,2,0),\"\")","v":0},"","",null,10,null,0,10,195]
[null,null,{"$f":"IFERROR(VLOOKUP(D2343,'1_Causas_Levantadas'!C:D,2,0),\"\")","v":0},"","",null,11,null,0,11,195]
[null,null,{"$f":"IFERROR(VLOOKUP(D2344,'1_Causas_Levantadas'!C:D,2,0),\"\")","v":0},"","",null,12,null,0,12,195]
[null,null,{"$f":"IFERROR(VLOOKUP(D2345,'1_Causas_Levantadas'!C:D,2,0),\"\")","v":0},"","",null,1,null,1,1,196]
[null,null,{"$f":"IFERROR(VLOOKUP(D2346,'1_Causas_Levantadas'!C:D,2,0),\"\")","v":0},"","",null,2,null,0,2,196]
[null,null,{"$f":"IFERROR(VLOOKUP(D2347,'1_Causas_Levantadas'!C:D,2,0),\"\")","v":0},"","",null,3,null,0,3,196]
[null,null,{"$f":"IFERROR(VLOOKUP(D2348,'1_Causas_Levantadas'!C:D,2,0),\"\")","v":0},"","",null,4,null,0,4,196]
[null,null,{"$f":"IFERROR(VLOOKUP(D2349,'1_Causas_Levantadas'!C:D,2,0),\"\")","v":0},"","",null,5,null,0,5,196]
[null,null,{"$f":"IFERROR(VLOOKUP(D2350,'1_Causas_Levantadas'!C:D,2,0),\"\")","v":0},"","",null,6,null,0,6,196]
[null,null,{"$f":"IFERROR(VLOOKUP(D2351,'1_Causas_Levantadas'!C:D,2,0),\"\")","v":0},"","",null,7,null,0,7,196]
[null,null,{"$f":"IFERROR(VLOOKUP(D2352,'1_Causas_Levantadas'!C:D,2,0),\"\")","v":0},"","",null,8,null,0,8,196]
[null,null,{"$f":"IFERROR(VLOOKUP(D2353,'1_Causas_Levantadas'!C:D,2,0),\"\")","v":0},"","",null,9,null,0,9,196]
[null,null,{"$f":"IFERROR(VLOOKUP(D2354,'1_Causas_Levantadas'!C:D,2,0),\"\")","v":0},"","",null,10,null,0,10,196]
[null,null,{"$f":"IFERROR(VLOOKUP(D2355,'1_Causas_Levantadas'!C:D,2,0),\"\")","v":0},"","",null,11,null,0,11,196]
[null,null,{"$f":"IFERROR(VLOOKUP(D2356,'1_Causas_Levantadas'!C:D,2,0),\"\")","v":0},"","",null,12,null,0,12,196]
[null,null,{"$f":"IFERROR(VLOOKUP(D2357,'1_Causas_Levantadas'!C:D,2,0),\"\")","v":0},"","",null,1,null,1,1,197]
[null,null,{"$f":"IFERROR(VLOOKUP(D2358,'1_Causas_Levantadas'!C:D,2,0),\"\")","v":0},"","",null,2,null,0,2,197]
[null,null,{"$f":"IFERROR(VLOOKUP(D2359,'1_Causas_Levantadas'!C:D,2,0),\"\")","v":0},"","",null,3,null,0,3,197]
[null,null,{"$f":"IFERROR(VLOOKUP(D2360,'1_Causas_Levantadas'!C:D,2,0),\"\")","v":0},"","",null,4,null,0,4,197]
[null,null,{"$f":"IFERROR(VLOOKUP(D2361,'1_Causas_Levantadas'!C:D,2,0),\"\")","v":0},"","",null,5,null,0,5,197]
[null,null,{"$f":"IFERROR(VLOOKUP(D2362,'1_Causas_Levantadas'!C:D,2,0),\"\")","v":0},"","",null,6,null,0,6,197]
[null,null,{"$f":"IFERROR(VLOOKUP(D2363,'1_Causas_Levantadas'!C:D,2,0),\"\")","v":0},"","",null,7,null,0,7,197]
[null,null,{"$f":"IFERROR(VLOOKUP(D2364,'1_Causas_Levantadas'!C:D,2,0),\"\")","v":0},"","",null,8,null,0,8,197]
[null,null,{"$f":"IFERROR(VLOOKUP(D2365,'1_Causas_Levantadas'!C:D,2,0),\"\")","v":0},"","",null,9,null,0,9,197]
[null,null,{"$f":"IFERROR(VLOOKUP(D2366,'1_Causas_Levantadas'!C:D,2,0),\"\")","v":0},"","",null,10,null,0,10,197]
[null,null,{"$f":"IFERROR(VLOOKUP(D2367,'1_Causas_Levantadas'!C:D,2,0),\"\")","v":0},"","",null,11,null,0,11,197]
[null,null,{"$f":"IFERROR(VLOOKUP(D2368,'1_Causas_Levantadas'!C:D,2,0),\"\")","v":0},"","",null,12,null,0,12,197]
[null,null,{"$f":"IFERROR(VLOOKUP(D2369,'1_Causas_Levantadas'!C:D,2,0),\"\")","v":0},"","",null,1,null,1,1,198]
[null,null,{"$f":"IFERROR(VLOOKUP(D2370,'1_Causas_Levantadas'!C:D,2,0),\"\")","v":0},"","",null,2,null,0,2,198]
[null,null,{"$f":"IFERROR(VLOOKUP(D2371,'1_Causas_Levantadas'!C:D,2,0),\"\")","v":0},"","",null,3,null,0,3,198]
[null,null,{"$f":"IFERROR(VLOOKUP(D2372,'1_Causas_Levantadas'!C:D,2,0),\"\")","v":0},"","",null,4,null,0,4,198]
[null,null,{"$f":"IFERROR(VLOOKUP(D2373,'1_Causas_Levantadas'!C:D,2,0),\"\")","v":0},"","",null,5,null,0,5,198]
[null,null,{"$f":"IFERROR(VLOOKUP(D2374,'1_Causas_Levantadas'!C:D,2,0),\"\")","v":0},{"$f":"IF(K2374<=$H$4,(IF(G2373>0,G2374,$G$5)),\"\")","v":""},{"$f":"IF(D2374<>\"\",\"Participante \"&K2374,\"\")","v":""},null,{"$f":"J2374","v":6},null,{"$f":"IF(G2374=$G$5,1,0)","v":0},6,{"$f":"I2374+K2373","v":198}]
[null,null,{"$f":"IFERROR(VLOOKUP(D2375,'1_Causas_Levantadas'!C:D,2,0),\"\")","v":0},"","",null,7,null,0,{"$f":"IF(G2374<$G$4,J2374+1,1)","v":7},198]
[null,null,{"$f":"IFERROR(VLOOKUP(D2376,'1_Causas_Levantadas'!C:D,2,0),\"\")","v":0},"","",null,8,null,0,8,198]
[null,null,{"$f":"IFERROR(VLOOKUP(D2377,'1_Causas_Levantadas'!C:D,2,0),\"\")","v":0},"","",null,9,null,0,9,198]
[null,null,{"$f":"IFERROR(VLOOKUP(D2378,'1_Causas_Levantadas'!C:D,2,0),\"\")","v":0},"","",null,10,null,0,10,198]
[null,null,{"$f":"IFERROR(VLOOKUP(D2379,'1_Causas_Levantadas'!C:D,2,0),\"\")","v":0},"","",null,11,null,0,11,198]
[null,null,{"$f":"IFERROR(VLOOKUP(D2380,'1_Causas_Levantadas'!C:D,2,0),\"\")","v":0},"","",null,12,null,0,12,198]
[null,null,{"$f":"IFERROR(VLOOKUP(D2381,'1_Causas_Levantadas'!C:D,2,0),\"\")","v":0},"","",null,1,null,1,1,199]
[null,null,{"$f":"IFERROR(VLOOKUP(D2382,'1_Causas_Levantadas'!C:D,2,0),\"\")","v":0},"","",null,2,null,0,2,199]
[null,null,{"$f":"IFERROR(VLOOKUP(D2383,'1_Causas_Levantadas'!C:D,2,0),\"\")","v":0},"","",null,3,null,0,3,199]
[null,null,{"$f":"IFERROR(VLOOKUP(D2384,'1_Causas_Levantadas'!C:D,2,0),\"\")","v":0},"","",null,4,null,0,4,199]
[null,null,{"$f":"IFERROR(VLOOKUP(D2385,'1_Causas_Levantadas'!C:D,2,0),\"\")","v":0},"","",null,5,null,0,5,199]
[null,null,{"$f":"IFERROR(VLOOKUP(D2386,'1_Causas_Levantadas'!C:D,2,0),\"\")","v":0},"","",null,6,null,0,6,199]
[null,null,{"$f":"IFERROR(VLOOKUP(D2387,'1_Causas_Levantadas'!C:D,2,0),\"\")","v":0},"","",null,7,null,0,7,199]
[null,null,{"$f":"IFERROR(VLOOKUP(D2388,'1_Causas_Levantadas'!C:D,2,0),\"\")","v":0},"","",null,8,null,0,8,199]
[null,null,{"$f":"IFERROR(VLOOKUP(D2389,'1_Causas_Levantadas'!C:D,2,0),\"\")","v":0},"","",null,9,null,0,9,199]
[null,null,{"$f":"IFERROR(VLOOKUP(D2390,'1_Causas_Levantadas'!C:D,2,0),\"\")","v":0},"","",null,10,null,0,10,199]
[null,null,{"$f":"IFERROR(VLOOKUP(D2391,'1_Causas_Levantadas'!C:D,2,0),\"\")","v":0},"","",null,11,null,0,11,199]
[null,null,{"$f":"IFERROR(VLOOKUP(D2392,'1_Causas_Levantadas'!C:D,2,0),\"\")","v":0},"","",null,12,null,0,12,199]
[null,null,{"$f":"IFERROR(VLOOKUP(D2393,'1_Causas_Levantadas'!C:D,2,0),\"\")","v":0},"","",null,1,null,1,1,200]
[null,null,{"$f":"IFERROR(VLOOKUP(D2394,'1_Causas_Levantadas'!C:D,2,0),\"\")","v":0},"","",null,2,null,0,2,200]
[null,null,{"$f":"IFERROR(VLOOKUP(D2395,'1_Causas_Levantadas'!C:D,2,0),\"\")","v":0},"","",null,3,null,0,3,200]
[null,null,{"$f":"IFERROR(VLOOKUP(D2396,'1_Causas_Levantadas'!C:D,2,0),\"\")","v":0},"","",null,4,null,0,4,200]
[null,null,{"$f":"IFERROR(VLOOKUP(D2397,'1_Causas_Levantadas'!C:D,2,0),\"\")","v":0},"","",null,5,null,0,5,200]
[null,null,{"$f":"IFERROR(VLOOKUP(D2398,'1_Causas_Levantadas'!C:D,2,0),\"\")","v":0},"","",null,6,null,0,6,200]
[null,null,{"$f":"IFERROR(VLOOKUP(D2399,'1_Causas_Levantadas'!C:D,2,0),\"\")","v":0},"","",null,7,null,0,7,200]
[null,null,{"$f":"IFERROR(VLOOKUP(D2400,'1_Causas_Levantadas'!C:D,2,0),\"\")","v":0},"","",null,8,null,0,8,200]
[null,null,{"$f":"IFERROR(VLOOKUP(D2401,'1_Causas_Levantadas'!C:D,2,0),\"\")","v":0},"","",null,9,null,0,9,200]
[null,null,{"$f":"IFERROR(VLOOKUP(D2402,'1_Causas_Levantadas'!C:D,2,0),\"\")","v":0},"","",null,10,null,0,10,200]
[null,null,{"$f":"IFERROR(VLOOKUP(D2403,'1_Causas_Levantadas'!C:D,2,0),\"\")","v":0},"","",null,11,null,0,11,200]
[null,null,{"$f":"IFERROR(VLOOKUP(D2404,'1_Causas_Levantadas'!C:D,2,0),\"\")","v":0},"","",null,12,null,0,12,200]
[null,null,{"$f":"IFERROR(VLOOKUP(D2405,'1_Causas_Levantadas'!C:D,2,0),\"\")","v":0},"","",null,1,null,1,1,201]
[null,null,{"$f":"IFERROR(VLOOKUP(D2406,'1_Causas_Levantadas'!C:D,2,0),\"\")","v":0},"","",null,2,null,0,2,201]
[null,null,{"$f":"IFERROR(VLOOKUP(D2407,'1_Causas_Levantadas'!C:D,2,0),\"\")","v":0},"","",null,3,null,0,3,201]
[null,null,{"$f":"IFERROR(VLOOKUP(D2408,'1_Causas_Levantadas'!C:D,2,0),\"\")","v":0},"","",null,4,null,0,4,201]
[null,null,{"$f":"IFERROR(VLOOKUP(D2409,'1_Causas_Levantadas'!C:D,2,0),\"\")","v":0},"","",null,5,null,0,5,201]
[null,null,{"$f":"IFERROR(VLOOKUP(D2410,'1_Causas_Levantadas'!C:D,2,0),\"\")","v":0},"","",null,6,null,0,6,201]
[null,null,{"$f":"IFERROR(VLOOKUP(D2411,'1_Causas_Levantadas'!C:D,2,0),\"\")","v":0},"","",null,7,null,0,7,201]
[null,null,{"$f":"IFERROR(VLOOKUP(D2412,'1_Causas_Levantadas'!C:D,2,0),\"\")","v":0},"","",null,8,null,0,8,201]
[null,null,{"$f":"IFERROR(VLOOKUP(D2413,'1_Causas_Levantadas'!C:D,2,0),\"\")","v":0},"","",null,9,null,0,9,201]
[null,null,{"$f":"IFERROR(VLOOKUP(D2414,'1_Causas_Levantadas'!C:D,2,0),\"\")","v":0},"","",null,10,null,0,10,201]
[null,null,{"$f":"IFERROR(VLOOKUP(D2415,'1_Causas_Levantadas'!C:D,2,0),\"\")","v":0},"","",null,11,null,0,11,201]
[null,null,{"$f":"IFERROR(VLOOKUP(D2416,'1_Causas_Levantadas'!C:D,2,0),\"\")","v":0},"","",null,12,null,0,12,201]
[null,null,{"$f":"IFERROR(VLOOKUP(D2417,'1_Causas_Levantadas'!C:D,2,0),\"\")","v":0},"","",null,1,null,1,1,202]
[null,null,{"$f":"IFERROR(VLOOKUP(D2418,'1_Causas_Levantadas'!C:D,2,0),\"\")","v":0},"","",null,2,null,0,2,202]
[null,null,{"$f":"IFERROR(VLOOKUP(D2419,'1_Causas_Levantadas'!C:D,2,0),\"\")","v":0},"","",null,3,null,0,3,202]
[null,null,{"$f":"IFERROR(VLOOKUP(D2420,'1_Causas_Levantadas'!C:D,2,0),\"\")","v":0},"","",null,4,null,0,4,202]
[null,null,{"$f":"IFERROR(VLOOKUP(D2421,'1_Causas_Levantadas'!C:D,2,0),\"\")","v":0},"","",null,5,null,0,5,202]
[null,null,{"$f":"IFERROR(VLOOKUP(D2422,'1_Causas_Levantadas'!C:D,2,0),\"\")","v":0},"","",null,6,null,0,6,202]
[null,null,{"$f":"IFERROR(VLOOKUP(D2423,'1_Causas_Levantadas'!C:D,2,0),\"\")","v":0},"","",null,7,null,0,7,202]
[null,null,{"$f":"IFERROR(VLOOKUP(D2424,'1_Causas_Levantadas'!C:D,2,0),\"\")","v":0},"","",null,8,null,0,8,202]
[null,null,{"$f":"IFERROR(VLOOKUP(D2425,'1_Causas_Levantadas'!C:D,2,0),\"\")","v":0},"","",null,9,null,0,9,202]
[null,null,{"$f":"IFERROR(VLOOKUP(D2426,'1_Causas_Levantadas'!C:D,2,0),\"\")","v":0},"","",null,10,null,0,10,202]
[null,null,{"$f":"IFERROR(VLOOKUP(D2427,'1_Causas_Levantadas'!C:D,2,0),\"\")","v":0},"","",null,11,null,0,11,202]
[null,null,{"$f":"IFERROR(VLOOKUP(D2428,'1_Causas_Levantadas'!C:D,2,0),\"\")","v":0},"","",null,12,null,0,12,202]
[null,null,{"$f":"IFERROR(VLOOKUP(D2429,'1_Causas_Levantadas'!C:D,2,0),\"\")","v":0},"","",null,1,null,1,1,203]
[null,null,{"$f":"IFERROR(VLOOKUP(D2430,'1_Causas_Levantadas'!C:D,2,0),\"\")","v":0},"","",null,2,null,0,2,203]
[null,null,{"$f":"IFERROR(VLOOKUP(D2431,'1_Causas_Levantadas'!C:D,2,0),\"\")","v":0},"","",null,3,null,0,3,203]
[null,null,{"$f":"IFERROR(VLOOKUP(D2432,'1_Causas_Levantadas'!C:D,2,0),\"\")","v":0},"","",null,4,null,0,4,203]
[null,null,{"$f":"IFERROR(VLOOKUP(D2433,'1_Causas_Levantadas'!C:D,2,0),\"\")","v":0},"","",null,5,null,0,5,203]
[null,null,{"$f":"IFERROR(VLOOKUP(D2434,'1_Causas_Levantadas'!C:D,2,0),\"\")","v":0},"","",null,6,null,0,6,203]
[null,null,{"$f":"IFERROR(VLOOKUP(D2435,'1_Causas_Levantadas'!C:D,2,0),\"\")","v":0},"","",null,7,null,0,7,203]
[null,null,{"$f":"IFERROR(VLOOKUP(D2436,'1_Causas_Levantadas'!C:D,2,0),\"\")","v":0},"","",null,8,null,0,8,203]
[null,null,{"$f":"IFERROR(VLOOKUP(D2437,'1_Causas_Levantadas'!C:D,2,0),\"\")","v":0},"","",null,9,null,0,9,203]
[null,null,{"$f":"IFERROR(VLOOKUP(D2438,'1_Causas_Levantadas'!C:D,2,0),\"\")","v":0},{"$f":"IF(K2438<=$H$4,(IF(G2437>0,G2438,$G$5)),\"\")","v":""},{"$f":"IF(D2438<>\"\",\"Participante \"&K2438,\"\")","v":""},null,{"$f":"J2438","v":10},null,{"$f":"IF(G2438=$G$5,1,0)","v":0},10,{"$f":"I2438+K2437","v":203}]
[null,null,{"$f":"IFERROR(VLOOKUP(D2439,'1_Causas_Levantadas'!C:D,2,0),\"\")","v":0},"","",null,11,null,0,{"$f":"IF(G2438<$G$4,J2438+1,1)","v":11},203]
[null,null,{"$f":"IFERROR(VLOOKUP(D2440,'1_Causas_Levantadas'!C:D,2,0),\"\")","v":0},"","",null,12,null,0,12,203]
[null,null,{"$f":"IFERROR(VLOOKUP(D2441,'1_Causas_Levantadas'!C:D,2,0),\"\")","v":0},"","",null,1,null,1,1,204]
[null,null,{"$f":"IFERROR(VLOOKUP(D2442,'1_Causas_Levantadas'!C:D,2,0),\"\")","v":0},"","",null,2,null,0,2,204]
[null,null,{"$f":"IFERROR(VLOOKUP(D2443,'1_Causas_Levantadas'!C:D,2,0),\"\")","v":0},"","",null,3,null,0,3,204]
[null,null,{"$f":"IFERROR(VLOOKUP(D2444,'1_Causas_Levantadas'!C:D,2,0),\"\")","v":0},"","",null,4,null,0,4,204]
[null,null,{"$f":"IFERROR(VLOOKUP(D2445,'1_Causas_Levantadas'!C:D,2,0),\"\")","v":0},"","",null,5,null,0,5,204]
[null,null,{"$f":"IFERROR(VLOOKUP(D2446,'1_Causas_Levantadas'!C:D,2,0),\"\")","v":0},"","",null,6,null,0,6,204]
[null,null,{"$f":"IFERROR(VLOOKUP(D2447,'1_Causas_Levantadas'!C:D,2,0),\"\")","v":0},"","",null,7,null,0,7,204]
[null,null,{"$f":"IFERROR(VLOOKUP(D2448,'1_Causas_Levantadas'!C:D,2,0),\"\")","v":0},"","",null,8,null,0,8,204]
[null,null,{"$f":"IFERROR(VLOOKUP(D2449,'1_Causas_Levantadas'!C:D,2,0),\"\")","v":0},"","",null,9,null,0,9,204]
[null,null,{"$f":"IFERROR(VLOOKUP(D2450,'1_Causas_Levantadas'!C:D,2,0),\"\")","v":0},"","",null,10,null,0,10,204]
[null,null,{"$f":"IFERROR(VLOOKUP(D2451,'1_Causas_Levantadas'!C:D,2,0),\"\")","v":0},"","",null,11,null,0,11,204]
[null,null,{"$f":"IFERROR(VLOOKUP(D2452,'1_Causas_Levantadas'!C:D,2,0),\"\")","v":0},"","",null,12,null,0,12,204]
[null,null,{"$f":"IFERROR(VLOOKUP(D2453,'1_Causas_Levantadas'!C:D,2,0),\"\")","v":0},"","",null,1,null,1,1,205]
[null,null,{"$f":"IFERROR(VLOOKUP(D2454,'1_Causas_Levantadas'!C:D,2,0),\"\")","v":0},"","",null,2,null,0,2,205]
[null,null,{"$f":"IFERROR(VLOOKUP(D2455,'1_Causas_Levantadas'!C:D,2,0),\"\")","v":0},"","",null,3,null,0,3,205]
[null,null,{"$f":"IFERROR(VLOOKUP(D2456,'1_Causas_Levantadas'!C:D,2,0),\"\")","v":0},"","",null,4,null,0,4,205]
[null,null,{"$f":"IFERROR(VLOOKUP(D2457,'1_Causas_Levantadas'!C:D,2,0),\"\")","v":0},"","",null,5,null,0,5,205]
[null,null,{"$f":"IFERROR(VLOOKUP(D2458,'1_Causas_Levantadas'!C:D,2,0),\"\")","v":0},"","",null,6,null,0,6,205]
[null,null,{"$f":"IFERROR(VLOOKUP(D2459,'1_Causas_Levantadas'!C:D,2,0),\"\")","v":0},"","",null,7,null,0,7,205]
[null,null,{"$f":"IFERROR(VLOOKUP(D2460,'1_Causas_Levantadas'!C:D,2,0),\"\")","v":0},"","",null,8,null,0,8,205]
[null,null,{"$f":"IFERROR(VLOOKUP(D2461,'1_Causas_Levantadas'!C:D,2,0),\"\")","v":0},"","",null,9,null,0,9,205]
[null,null,{"$f":"IFERROR(VLOOKUP(D2462,'1_Causas_Levantadas'!C:D,2,0),\"\")","v":0},"","",null,10,null,0,10,205]
[null,null,{"$f":"IFERROR(VLOOKUP(D2463,'1_Causas_Levantadas'!C:D,2,0),\"\")","v":0},"","",null,11,null,0,11,205]
[null,null,{"$f":"IFERROR(VLOOKUP(D2464,'1_Causas_Levantadas'!C:D,2,0),\"\")","v":0},"","",null,12,null,0,12,205]
[null,null,{"$f":"IFERROR(VLOOKUP(D2465,'1_Causas_Levantadas'!C:D,2,0),\"\")","v":0},"","",null,1,null,1,1,206]
[null,null,{"$f":"IFERROR(VLOOKUP(D2466,'1_Causas_Levantadas'!C:D,2,0),\"\")","v":0},"","",null,2,null,0,2,206]
[null,null,{"$f":"IFERROR(VLOOKUP(D2467,'1_Causas_Levantadas'!C:D,2,0),\"\")","v":0},"","",null,3,null,0,3,206]
[null,null,{"$f":"IFERROR(VLOOKUP(D2468,'1_Causas_Levantadas'!C:D,2,0),\"\")","v":0},"","",null,4,null,0,4,206]
[null,null,{"$f":"IFERROR(VLOOKUP(D2469,'1_Causas_Levantadas'!C:D,2,0),\"\")","v":0},"","",null,5,null,0,5,206]
[null,null,{"$f":"IFERROR(VLOOKUP(D2470,'1_Causas_Levantadas'!C:D,2,0),\"\")","v":0},"","",null,6,null,0,6,206]
[null,null,{"$f":"IFERROR(VLOOKUP(D2471,'1_Causas_Levantadas'!C:D,2,0),\"\")","v":0},"","",null,7,null,0,7,206]
[null,null,{"$f":"IFERROR(VLOOKUP(D2472,'1_Causas_Levantadas'!C:D,2,0),\"\")","v":0},"","",null,8,null,0,8,206]
[null,null,{"$f":"IFERROR(VLOOKUP(D2473,'1_Causas_Levantadas'!C:D,2,0),\"\")","v":0},"","",null,9,null,0,9,206]
[null,null,{"$f":"IFERROR(VLOOKUP(D2474,'1_Causas_Levantadas'!C:D,2,0),\"\")","v":0},"","",null,10,null,0,10,206]
[null,null,{"$f":"IFERROR(VLOOKUP(D2475,'1_Causas_Levantadas'!C:D,2,0),\"\")","v":0},"","",null,11,null,0,11,206]
[null,null,{"$f":"IFERROR(VLOOKUP(D2476,'1_Causas_Levantadas'!C:D,2,0),\"\")","v":0},"","",null,12,null,0,12,206]
[null,null,{"$f":"IFERROR(VLOOKUP(D2477,'1_Causas_Levantadas'!C:D,2,0),\"\")","v":0},"","",null,1,null,1,1,207]
[null,null,{"$f":"IFERROR(VLOOKUP(D2478,'1_Causas_Levantadas'!C:D,2,0),\"\")","v":0},"","",null,2,null,0,2,207]
[null,null,{"$f":"IFERROR(VLOOKUP(D2479,'1_Causas_Levantadas'!C:D,2,0),\"\")","v":0},"","",null,3,null,0,3,207]
[null,null,{"$f":"IFERROR(VLOOKUP(D2480,'1_Causas_Levantadas'!C:D,2,0),\"\")","v":0},"","",null,4,null,0,4,207]
[null,null,{"$f":"IFERROR(VLOOKUP(D2481,'1_Causas_Levantadas'!C:D,2,0),\"\")","v":0},"","",null,5,null,0,5,207]
[null,null,{"$f":"IFERROR(VLOOKUP(D2482,'1_Causas_Levantadas'!C:D,2,0),\"\")","v":0},"","",null,6,null,0,6,207]
[null,null,{"$f":"IFERROR(VLOOKUP(D2483,'1_Causas_Levantadas'!C:D,2,0),\"\")","v":0},"","",null,7,null,0,7,207]
[null,null,{"$f":"IFERROR(VLOOKUP(D2484,'1_Causas_Levantadas'!C:D,2,0),\"\")","v":0},"","",null,8,null,0,8,207]
[null,null,{"$f":"IFERROR(VLOOKUP(D2485,'1_Causas_Levantadas'!C:D,2,0),\"\")","v":0},"","",null,9,null,0,9,207]
[null,null,{"$f":"IFERROR(VLOOKUP(D2486,'1_Causas_Levantadas'!C:D,2,0),\"\")","v":0},"","",null,10,null,0,10,207]
[null,null,{"$f":"IFERROR(VLOOKUP(D2487,'1_Causas_Levantadas'!C:D,2,0),\"\")","v":0},"","",null,11,null,0,11,207]
[null,null,{"$f":"IFERROR(VLOOKUP(D2488,'1_Causas_Levantadas'!C:D,2,0),\"\")","v":0},"","",null,12,null,0,12,207]
[null,null,{"$f":"IFERROR(VLOOKUP(D2489,'1_Causas_Levantadas'!C:D,2,0),\"\")","v":0},"","",null,1,null,1,1,208]
[null,null,{"$f":"IFERROR(VLOOKUP(D2490,'1_Causas_Levantadas'!C:D,2,0),\"\")","v":0},"","",null,2,null,0,2,208]
[null,null,{"$f":"IFERROR(VLOOKUP(D2491,'1_Causas_Levantadas'!C:D,2,0),\"\")","v":0},"","",null,3,null,0,3,208]
[null,null,{"$f":"IFERROR(VLOOKUP(D2492,'1_Causas_Levantadas'!C:D,2,0),\"\")","v":0},"","",null,4,null,0,4,208]
[null,null,{"$f":"IFERROR(VLOOKUP(D2493,'1_Causas_Levantadas'!C:D,2,0),\"\")","v":0},"","",null,5,null,0,5,208]
[null,null,{"$f":"IFERROR(VLOOKUP(D2494,'1_Causas_Levantadas'!C:D,2,0),\"\")","v":0},"","",null,6,null,0,6,208]
[null,null,{"$f":"IFERROR(VLOOKUP(D2495,'1_Causas_Levantadas'!C:D,2,0),\"\")","v":0},"","",null,7,null,0,7,208]
[null,null,{"$f":"IFERROR(VLOOKUP(D2496,'1_Causas_Levantadas'!C:D,2,0),\"\")","v":0},"","",null,8,null,0,8,208]
[null,null,{"$f":"IFERROR(VLOOKUP(D2497,'1_Causas_Levantadas'!C:D,2,0),\"\")","v":0},"","",null,9,null,0,9,208]
[null,null,{"$f":"IFERROR(VLOOKUP(D2498,'1_Causas_Levantadas'!C:D,2,0),\"\")","v":0},"","",null,10,null,0,10,208]
[null,null,{"$f":"IFERROR(VLOOKUP(D2499,'1_Causas_Levantadas'!C:D,2,0),\"\")","v":0},"","",null,11,null,0,11,208]
[null,null,{"$f":"IFERROR(VLOOKUP(D2500,'1_Causas_Levantadas'!C:D,2,0),\"\")","v":0},"","",null,12,null,0,12,208]
[null,null,{"$f":"IFERROR(VLOOKUP(D2501,'1_Causas_Levantadas'!C:D,2,0),\"\")","v":0},"","",null,1,null,1,1,209]
[null,null,{"$f":"IFERROR(VLOOKUP(D2502,'1_Causas_Levantadas'!C:D,2,0),\"\")","v":0},{"$f":"IF(K2502<=$H$4,(IF(G2501>0,G2502,$G$5)),\"\")","v":""},{"$f":"IF(D2502<>\"\",\"Participante \"&K2502,\"\")","v":""},null,{"$f":"J2502","v":2},null,{"$f":"IF(G2502=$G$5,1,0)","v":0},2,{"$f":"I2502+K2501","v":209}]
[null,null,{"$f":"IFERROR(VLOOKUP(D2503,'1_Causas_Levantadas'!C:D,2,0),\"\")","v":0},"","",null,3,null,0,{"$f":"IF(G2502<$G$4,J2502+1,1)","v":3},209]
[null,null,{"$f":"IFERROR(VLOOKUP(D2504,'1_Causas_Levantadas'!C:D,2,0),\"\")","v":0},"","",null,4,null,0,4,209]
[null,null,{"$f":"IFERROR(VLOOKUP(D2505,'1_Causas_Levantadas'!C:D,2,0),\"\")","v":0},"","",null,5,null,0,5,209]
[null,null,{"$f":"IFERROR(VLOOKUP(D2506,'1_Causas_Levantadas'!C:D,2,0),\"\")","v":0},"","",null,6,null,0,6,209]
[null,null,{"$f":"IFERROR(VLOOKUP(D2507,'1_Causas_Levantadas'!C:D,2,0),\"\")","v":0},"","",null,7,null,0,7,209]
[null,null,{"$f":"IFERROR(VLOOKUP(D2508,'1_Causas_Levantadas'!C:D,2,0),\"\")","v":0},"","",null,8,null,0,8,209]
[null,null,{"$f":"IFERROR(VLOOKUP(D2509,'1_Causas_Levantadas'!C:D,2,0),\"\")","v":0},"","",null,9,null,0,9,209]
[null,null,{"$f":"IFERROR(VLOOKUP(D2510,'1_Causas_Levantadas'!C:D,2,0),\"\")","v":0},"","",null,10,null,0,10,209]
[null,null,{"$f":"IFERROR(VLOOKUP(D2511,'1_Causas_Levantadas'!C:D,2,0),\"\")","v":0},"","",null,11,null,0,11,209]
[null,null,{"$f":"IFERROR(VLOOKUP(D2512,'1_Causas_Levantadas'!C:D,2,0),\"\")","v":0},"","",null,12,null,0,12,209]
[null,null,{"$f":"IFERROR(VLOOKUP(D2513,'1_Causas_Levantadas'!C:D,2,0),\"\")","v":0},"","",null,1,null,1,1,210]
[null,null,{"$f":"IFERROR(VLOOKUP(D2514,'1_Causas_Levantadas'!C:D,2,0),\"\")","v":0},"","",null,2,null,0,2,210]
[null,null,{"$f":"IFERROR(VLOOKUP(D2515,'1_Causas_Levantadas'!C:D,2,0),\"\")","v":0},"","",null,3,null,0,3,210]
[null,null,{"$f":"IFERROR(VLOOKUP(D2516,'1_Causas_Levantadas'!C:D,2,0),\"\")","v":0},"","",null,4,null,0,4,210]
[null,null,{"$f":"IFERROR(VLOOKUP(D2517,'1_Causas_Levantadas'!C:D,2,0),\"\")","v":0},"","",null,5,null,0,5,210]
[null,null,{"$f":"IFERROR(VLOOKUP(D2518,'1_Causas_Levantadas'!C:D,2,0),\"\")","v":0},"","",null,6,null,0,6,210]
[null,null,{"$f":"IFERROR(VLOOKUP(D2519,'1_Causas_Levantadas'!C:D,2,0),\"\")","v":0},"","",null,7,null,0,7,210]
[null,null,{"$f":"IFERROR(VLOOKUP(D2520,'1_Causas_Levantadas'!C:D,2,0),\"\")","v":0},"","",null,8,null,0,8,210]
[null,null,{"$f":"IFERROR(VLOOKUP(D2521,'1_Causas_Levantadas'!C:D,2,0),\"\")","v":0},"","",null,9,null,0,9,210]
[null,null,{"$f":"IFERROR(VLOOKUP(D2522,'1_Causas_Levantadas'!C:D,2,0),\"\")","v":0},"","",null,10,null,0,10,210]
[null,null,{"$f":"IFERROR(VLOOKUP(D2523,'1_Causas_Levantadas'!C:D,2,0),\"\")","v":0},"","",null,11,null,0,11,210]
[null,null,{"$f":"IFERROR(VLOOKUP(D2524,'1_Causas_Levantadas'!C:D,2,0),\"\")","v":0},"","",null,12,null,0,12,210]
[null,null,{"$f":"IFERROR(VLOOKUP(D2525,'1_Causas_Levantadas'!C:D,2,0),\"\")","v":0},"","",null,1,null,1,1,211]
[null,null,{"$f":"IFERROR(VLOOKUP(D2526,'1_Causas_Levantadas'!C:D,2,0),\"\")","v":0},"","",null,2,null,0,2,211]
[null,null,{"$f":"IFERROR(VLOOKUP(D2527,'1_Causas_Levantadas'!C:D,2,0),\"\")","v":0},"","",null,3,null,0,3,211]
[null,null,{"$f":"IFERROR(VLOOKUP(D2528,'1_Causas_Levantadas'!C:D,2,0),\"\")","v":0},"","",null,4,null,0,4,211]
[null,null,{"$f":"IFERROR(VLOOKUP(D2529,'1_Causas_Levantadas'!C:D,2,0),\"\")","v":0},"","",null,5,null,0,5,211]
[null,null,{"$f":"IFERROR(VLOOKUP(D2530,'1_Causas_Levantadas'!C:D,2,0),\"\")","v":0},"","",null,6,null,0,6,211]
[null,null,{"$f":"IFERROR(VLOOKUP(D2531,'1_Causas_Levantadas'!C:D,2,0),\"\")","v":0},"","",null,7,null,0,7,211]
[null,null,{"$f":"IFERROR(VLOOKUP(D2532,'1_Causas_Levantadas'!C:D,2,0),\"\")","v":0},"","",null,8,null,0,8,211]
[null,null,{"$f":"IFERROR(VLOOKUP(D2533,'1_Causas_Levantadas'!C:D,2,0),\"\")","v":0},"","",null,9,null,0,9,211]
[null,null,{"$f":"IFERROR(VLOOKUP(D2534,'1_Causas_Levantadas'!C:D,2,0),\"\")","v":0},"","",null,10,null,0,10,211]
[null,null,{"$f":"IFERROR(VLOOKUP(D2535,'1_Causas_Levantadas'!C:D,2,0),\"\")","v":0},"","",null,11,null,0,11,211]
[null,null,{"$f":"IFERROR(VLOOKUP(D2536,'1_Causas_Levantadas'!C:D,2,0),\"\")","v":0},"","",null,12,null,0,12,211]
[null,null,{"$f":"IFERROR(VLOOKUP(D2537,'1_Causas_Levantadas'!C:D,2,0),\"\")","v":0},"","",null,1,null,1,1,212]
[null,null,{"$f":"IFERROR(VLOOKUP(D2538,'1_Causas_Levantadas'!C:D,2,0),\"\")","v":0},"","",null,2,null,0,2,212]
[null,null,{"$f":"IFERROR(VLOOKUP(D2539,'1_Causas_Levantadas'!C:D,2,0),\"\")","v":0},"","",null,3,null,0,3,212]
[null,null,{"$f":"IFERROR(VLOOKUP(D2540,'1_Causas_Levantadas'!C:D,2,0),\"\")","v":0},"","",null,4,null,0,4,212]
[null,null,{"$f":"IFERROR(VLOOKUP(D2541,'1_Causas_Levantadas'!C:D,2,0),\"\")","v":0},"","",null,5,null,0,5,212]
[null,null,{"$f":"IFERROR(VLOOKUP(D2542,'1_Causas_Levantadas'!C:D,2,0),\"\")","v":0},"","",null,6,null,0,6,212]
[null,null,{"$f":"IFERROR(VLOOKUP(D2543,'1_Causas_Levantadas'!C:D,2,0),\"\")","v":0},"","",null,7,null,0,7,212]
[null,null,{"$f":"IFERROR(VLOOKUP(D2544,'1_Causas_Levantadas'!C:D,2,0),\"\")","v":0},"","",null,8,null,0,8,212]
[null,null,{"$f":"IFERROR(VLOOKUP(D2545,'1_Causas_Levantadas'!C:D,2,0),\"\")","v":0},"","",null,9,null,0,9,212]
[null,null,{"$f":"IFERROR(VLOOKUP(D2546,'1_Causas_Levantadas'!C:D,2,0),\"\")","v":0},"","",null,10,null,0,10,212]
[null,null,{"$f":"IFERROR(VLOOKUP(D2547,'1_Causas_Levantadas'!C:D,2,0),\"\")","v":0},"","",null,11,null,0,11,212]
[null,null,{"$f":"IFERROR(VLOOKUP(D2548,'1_Causas_Levantadas'!C:D,2,0),\"\")","v":0},"","",null,12,null,0,12,212]
[null,null,{"$f":"IFERROR(VLOOKUP(D2549,'1_Causas_Levantadas'!C:D,2,0),\"\")","v":0},"","",null,1,null,1,1,213]
[null,null,{"$f":"IFERROR(VLOOKUP(D2550,'1_Causas_Levantadas'!C:D,2,0),\"\")","v":0},"","",null,2,null,0,2,213]
[null,null,{"$f":"IFERROR(VLOOKUP(D2551,'1_Causas_Levantadas'!C:D,2,0),\"\")","v":0},"","",null,3,null,0,3,213]
[null,null,{"$f":"IFERROR(VLOOKUP(D2552,'1_Causas_Levantadas'!C:D,2,0),\"\")","v":0},"","",null,4,null,0,4,213]
[null,null,{"$f":"IFERROR(VLOOKUP(D2553,'1_Causas_Levantadas'!C:D,2,0),\"\")","v":0},"","",null,5,null,0,5,213]
[null,null,{"$f":"IFERROR(VLOOKUP(D2554,'1_Causas_Levantadas'!C:D,2,0),\"\")","v":0},"","",null,6,null,0,6,213]
[null,null,{"$f":"IFERROR(VLOOKUP(D2555,'1_Causas_Levantadas'!C:D,2,0),\"\")","v":0},"","",null,7,null,0,7,213]
[null,null,{"$f":"IFERROR(VLOOKUP(D2556,'1_Causas_Levantadas'!C:D,2,0),\"\")","v":0},"","",null,8,null,0,8,213]
[null,null,{"$f":"IFERROR(VLOOKUP(D2557,'1_Causas_Levantadas'!C:D,2,0),\"\")","v":0},"","",null,9,null,0,9,213]
[null,null,{"$f":"IFERROR(VLOOKUP(D2558,'1_Causas_Levantadas'!C:D,2,0),\"\")","v":0},"","",null,10,null,0,10,213]
[null,null,{"$f":"IFERROR(VLOOKUP(D2559,'1_Causas_Levantadas'!C:D,2,0),\"\")","v":0},"","",null,11,null,0,11,213]
[null,null,{"$f":"IFERROR(VLOOKUP(D2560,'1_Causas_Levantadas'!C:D,2,0),\"\")","v":0},"","",null,12,null,0,12,213]
[null,null,{"$f":"IFERROR(VLOOKUP(D2561,'1_Causas_Levantadas'!C:D,2,0),\"\")","v":0},"","",null,1,null,1,1,214]
[null,null,{"$f":"IFERROR(VLOOKUP(D2562,'1_Causas_Levantadas'!C:D,2,0),\"\")","v":0},"","",null,2,null,0,2,214]
[null,null,{"$f":"IFERROR(VLOOKUP(D2563,'1_Causas_Levantadas'!C:D,2,0),\"\")","v":0},"","",null,3,null,0,3,214]
[null,null,{"$f":"IFERROR(VLOOKUP(D2564,'1_Causas_Levantadas'!C:D,2,0),\"\")","v":0},"","",null,4,null,0,4,214]
[null,null,{"$f":"IFERROR(VLOOKUP(D2565,'1_Causas_Levantadas'!C:D,2,0),\"\")","v":0},"","",null,5,null,0,5,214]
[null,null,{"$f":"IFERROR(VLOOKUP(D2566,'1_Causas_Levantadas'!C:D,2,0),\"\")","v":0},{"$f":"IF(K2566<=$H$4,(IF(G2565>0,G2566,$G$5)),\"\")","v":""},{"$f":"IF(D2566<>\"\",\"Participante \"&K2566,\"\")","v":""},null,{"$f":"J2566","v":6},null,{"$f":"IF(G2566=$G$5,1,0)","v":0},6,{"$f":"I2566+K2565","v":214}]
[null,null,{"$f":"IFERROR(VLOOKUP(D2567,'1_Causas_Levantadas'!C:D,2,0),\"\")","v":0},"","",null,7,null,0,{"$f":"IF(G2566<$G$4,J2566+1,1)","v":7},214]
[null,null,{"$f":"IFERROR(VLOOKUP(D2568,'1_Causas_Levantadas'!C:D,2,0),\"\")","v":0},"","",null,8,null,0,8,214]
[null,null,{"$f":"IFERROR(VLOOKUP(D2569,'1_Causas_Levantadas'!C:D,2,0),\"\")","v":0},"","",null,9,null,0,9,214]
[null,null,{"$f":"IFERROR(VLOOKUP(D2570,'1_Causas_Levantadas'!C:D,2,0),\"\")","v":0},"","",null,10,null,0,10,214]
[null,null,{"$f":"IFERROR(VLOOKUP(D2571,'1_Causas_Levantadas'!C:D,2,0),\"\")","v":0},"","",null,11,null,0,11,214]
[null,null,{"$f":"IFERROR(VLOOKUP(D2572,'1_Causas_Levantadas'!C:D,2,0),\"\")","v":0},"","",null,12,null,0,12,214]
[null,null,{"$f":"IFERROR(VLOOKUP(D2573,'1_Causas_Levantadas'!C:D,2,0),\"\")","v":0},"","",null,1,null,1,1,215]
[null,null,{"$f":"IFERROR(VLOOKUP(D2574,'1_Causas_Levantadas'!C:D,2,0),\"\")","v":0},"","",null,2,null,0,2,215]
[null,null,{"$f":"IFERROR(VLOOKUP(D2575,'1_Causas_Levantadas'!C:D,2,0),\"\")","v":0},"","",null,3,null,0,3,215]
[null,null,{"$f":"IFERROR(VLOOKUP(D2576,'1_Causas_Levantadas'!C:D,2,0),\"\")","v":0},"","",null,4,null,0,4,215]
[null,null,{"$f":"IFERROR(VLOOKUP(D2577,'1_Causas_Levantadas'!C:D,2,0),\"\")","v":0},"","",null,5,null,0,5,215]
[null,null,{"$f":"IFERROR(VLOOKUP(D2578,'1_Causas_Levantadas'!C:D,2,0),\"\")","v":0},"","",null,6,null,0,6,215]
[null,null,{"$f":"IFERROR(VLOOKUP(D2579,'1_Causas_Levantadas'!C:D,2,0),\"\")","v":0},"","",null,7,null,0,7,215]
[null,null,{"$f":"IFERROR(VLOOKUP(D2580,'1_Causas_Levantadas'!C:D,2,0),\"\")","v":0},"","",null,8,null,0,8,215]
[null,null,{"$f":"IFERROR(VLOOKUP(D2581,'1_Causas_Levantadas'!C:D,2,0),\"\")","v":0},"","",null,9,null,0,9,215]
[null,null,{"$f":"IFERROR(VLOOKUP(D2582,'1_Causas_Levantadas'!C:D,2,0),\"\")","v":0},"","",null,10,null,0,10,215]
[null,null,{"$f":"IFERROR(VLOOKUP(D2583,'1_Causas_Levantadas'!C:D,2,0),\"\")","v":0},"","",null,11,null,0,11,215]
[null,null,{"$f":"IFERROR(VLOOKUP(D2584,'1_Causas_Levantadas'!C:D,2,0),\"\")","v":0},"","",null,12,null,0,12,215]
[null,null,{"$f":"IFERROR(VLOOKUP(D2585,'1_Causas_Levantadas'!C:D,2,0),\"\")","v":0},"","",null,1,null,1,1,216]
[null,null,{"$f":"IFERROR(VLOOKUP(D2586,'1_Causas_Levantadas'!C:D,2,0),\"\")","v":0},"","",null,2,null,0,2,216]
[null,null,{"$f":"IFERROR(VLOOKUP(D2587,'1_Causas_Levantadas'!C:D,2,0),\"\")","v":0},"","",null,3,null,0,3,216]
[null,null,{"$f":"IFERROR(VLOOKUP(D2588,'1_Causas_Levantadas'!C:D,2,0),\"\")","v":0},"","",null,4,null,0,4,216]
[null,null,{"$f":"IFERROR(VLOOKUP(D2589,'1_Causas_Levantadas'!C:D,2,0),\"\")","v":0},"","",null,5,null,0,5,216]
[null,null,{"$f":"IFERROR(VLOOKUP(D2590,'1_Causas_Levantadas'!C:D,2,0),\"\")","v":0},"","",null,6,null,0,6,216]
[null,null,{"$f":"IFERROR(VLOOKUP(D2591,'1_Causas_Levantadas'!C:D,2,0),\"\")","v":0},"","",null,7,null,0,7,216]
[null,null,{"$f":"IFERROR(VLOOKUP(D2592,'1_Causas_Levantadas'!C:D,2,0),\"\")","v":0},"","",null,8,null,0,8,216]
[null,null,{"$f":"IFERROR(VLOOKUP(D2593,'1_Causas_Levantadas'!C:D,2,0),\"\")","v":0},"","",null,9,null,0,9,216]
[null,null,{"$f":"IFERROR(VLOOKUP(D2594,'1_Causas_Levantadas'!C:D,2,0),\"\")","v":0},"","",null,10,null,0,10,216]
[null,null,{"$f":"IFERROR(VLOOKUP(D2595,'1_Causas_Levantadas'!C:D,2,0),\"\")","v":0},"","",null,11,null,0,11,216]
[null,null,{"$f":"IFERROR(VLOOKUP(D2596,'1_Causas_Levantadas'!C:D,2,0),\"\")","v":0},"","",null,12,null,0,12,216]
[null,null,{"$f":"IFERROR(VLOOKUP(D2597,'1_Causas_Levantadas'!C:D,2,0),\"\")","v":0},"","",null,1,null,1,1,217]
[null,null,{"$f":"IFERROR(VLOOKUP(D2598,'1_Causas_Levantadas'!C:D,2,0),\"\")","v":0},"","",null,2,null,0,2,217]
[null,null,{"$f":"IFERROR(VLOOKUP(D2599,'1_Causas_Levantadas'!C:D,2,0),\"\")","v":0},"","",null,3,null,0,3,217]
[null,null,{"$f":"IFERROR(VLOOKUP(D2600,'1_Causas_Levantadas'!C:D,2,0),\"\")","v":0},"","",null,4,null,0,4,217]
[null,null,{"$f":"IFERROR(VLOOKUP(D2601,'1_Causas_Levantadas'!C:D,2,0),\"\")","v":0},"","",null,5,null,0,5,217]
[null,null,{"$f":"IFERROR(VLOOKUP(D2602,'1_Causas_Levantadas'!C:D,2,0),\"\")","v":0},"","",null,6,null,0,6,217]
[null,null,{"$f":"IFERROR(VLOOKUP(D2603,'1_Causas_Levantadas'!C:D,2,0),\"\")","v":0},"","",null,7,null,0,7,217]
[null,null,{"$f":"IFERROR(VLOOKUP(D2604,'1_Causas_Levantadas'!C:D,2,0),\"\")","v":0},"","",null,8,null,0,8,217]
[null,null,{"$f":"IFERROR(VLOOKUP(D2605,'1_Causas_Levantadas'!C:D,2,0),\"\")","v":0},"","",null,9,null,0,9,217]
[null,null,{"$f":"IFERROR(VLOOKUP(D2606,'1_Causas_Levantadas'!C:D,2,0),\"\")","v":0},"","",null,10,null,0,10,217]
[null,null,{"$f":"IFERROR(VLOOKUP(D2607,'1_Causas_Levantadas'!C:D,2,0),\"\")","v":0},"","",null,11,null,0,11,217]
[null,null,{"$f":"IFERROR(VLOOKUP(D2608,'1_Causas_Levantadas'!C:D,2,0),\"\")","v":0},"","",null,12,null,0,12,217]
[null,null,{"$f":"IFERROR(VLOOKUP(D2609,'1_Causas_Levantadas'!C:D,2,0),\"\")","v":0},"","",null,1,null,1,1,218]
[null,null,{"$f":"IFERROR(VLOOKUP(D2610,'1_Causas_Levantadas'!C:D,2,0),\"\")","v":0},"","",null,2,null,0,2,218]
[null,null,{"$f":"IFERROR(VLOOKUP(D2611,'1_Causas_Levantadas'!C:D,2,0),\"\")","v":0},"","",null,3,null,0,3,218]
[null,null,{"$f":"IFERROR(VLOOKUP(D2612,'1_Causas_Levantadas'!C:D,2,0),\"\")","v":0},"","",null,4,null,0,4,218]
[null,null,{"$f":"IFERROR(VLOOKUP(D2613,'1_Causas_Levantadas'!C:D,2,0),\"\")","v":0},"","",null,5,null,0,5,218]
[null,null,{"$f":"IFERROR(VLOOKUP(D2614,'1_Causas_Levantadas'!C:D,2,0),\"\")","v":0},"","",null,6,null,0,6,218]
[null,null,{"$f":"IFERROR(VLOOKUP(D2615,'1_Causas_Levantadas'!C:D,2,0),\"\")","v":0},"","",null,7,null,0,7,218]
[null,null,{"$f":"IFERROR(VLOOKUP(D2616,'1_Causas_Levantadas'!C:D,2,0),\"\")","v":0},"","",null,8,null,0,8,218]
[null,null,{"$f":"IFERROR(VLOOKUP(D2617,'1_Causas_Levantadas'!C:D,2,0),\"\")","v":0},"","",null,9,null,0,9,218]
[null,null,{"$f":"IFERROR(VLOOKUP(D2618,'1_Causas_Levantadas'!C:D,2,0),\"\")","v":0},"","",null,10,null,0,10,218]
[null,null,{"$f":"IFERROR(VLOOKUP(D2619,'1_Causas_Levantadas'!C:D,2,0),\"\")","v":0},"","",null,11,null,0,11,218]
[null,null,{"$f":"IFERROR(VLOOKUP(D2620,'1_Causas_Levantadas'!C:D,2,0),\"\")","v":0},"","",null,12,null,0,12,218]
[null,null,{"$f":"IFERROR(VLOOKUP(D2621,'1_Causas_Levantadas'!C:D,2,0),\"\")","v":0},"","",null,1,null,1,1,219]
[null,null,{"$f":"IFERROR(VLOOKUP(D2622,'1_Causas_Levantadas'!C:D,2,0),\"\")","v":0},"","",null,2,null,0,2,219]
[null,null,{"$f":"IFERROR(VLOOKUP(D2623,'1_Causas_Levantadas'!C:D,2,0),\"\")","v":0},"","",null,3,null,0,3,219]
[null,null,{"$f":"IFERROR(VLOOKUP(D2624,'1_Causas_Levantadas'!C:D,2,0),\"\")","v":0},"","",null,4,null,0,4,219]
[null,null,{"$f":"IFERROR(VLOOKUP(D2625,'1_Causas_Levantadas'!C:D,2,0),\"\")","v":0},"","",null,5,null,0,5,219]
[null,null,{"$f":"IFERROR(VLOOKUP(D2626,'1_Causas_Levantadas'!C:D,2,0),\"\")","v":0},"","",null,6,null,0,6,219]
[null,null,{"$f":"IFERROR(VLOOKUP(D2627,'1_Causas_Levantadas'!C:D,2,0),\"\")","v":0},"","",null,7,null,0,7,219]
[null,null,{"$f":"IFERROR(VLOOKUP(D2628,'1_Causas_Levantadas'!C:D,2,0),\"\")","v":0},"","",null,8,null,0,8,219]
[null,null,{"$f":"IFERROR(VLOOKUP(D2629,'1_Causas_Levantadas'!C:D,2,0),\"\")","v":0},"","",null,9,null,0,9,219]
[null,null,{"$f":"IFERROR(VLOOKUP(D2630,'1_Causas_Levantadas'!C:D,2,0),\"\")","v":0},{"$f":"IF(K2630<=$H$4,(IF(G2629>0,G2630,$G$5)),\"\")","v":""},{"$f":"IF(D2630<>\"\",\"Participante \"&K2630,\"\")","v":""},null,{"$f":"J2630","v":10},null,{"$f":"IF(G2630=$G$5,1,0)","v":0},10,{"$f":"I2630+K2629","v":219}]
[null,null,{"$f":"IFERROR(VLOOKUP(D2631,'1_Causas_Levantadas'!C:D,2,0),\"\")","v":0},"","",null,11,null,0,{"$f":"IF(G2630<$G$4,J2630+1,1)","v":11},219]
[null,null,{"$f":"IFERROR(VLOOKUP(D2632,'1_Causas_Levantadas'!C:D,2,0),\"\")","v":0},"","",null,12,null,0,12,219]
[null,null,{"$f":"IFERROR(VLOOKUP(D2633,'1_Causas_Levantadas'!C:D,2,0),\"\")","v":0},"","",null,1,null,1,1,220]
[null,null,{"$f":"IFERROR(VLOOKUP(D2634,'1_Causas_Levantadas'!C:D,2,0),\"\")","v":0},"","",null,2,null,0,2,220]
[null,null,{"$f":"IFERROR(VLOOKUP(D2635,'1_Causas_Levantadas'!C:D,2,0),\"\")","v":0},"","",null,3,null,0,3,220]
[null,null,{"$f":"IFERROR(VLOOKUP(D2636,'1_Causas_Levantadas'!C:D,2,0),\"\")","v":0},"","",null,4,null,0,4,220]
[null,null,{"$f":"IFERROR(VLOOKUP(D2637,'1_Causas_Levantadas'!C:D,2,0),\"\")","v":0},"","",null,5,null,0,5,220]
[null,null,{"$f":"IFERROR(VLOOKUP(D2638,'1_Causas_Levantadas'!C:D,2,0),\"\")","v":0},"","",null,6,null,0,6,220]
[null,null,{"$f":"IFERROR(VLOOKUP(D2639,'1_Causas_Levantadas'!C:D,2,0),\"\")","v":0},"","",null,7,null,0,7,220]
[null,null,{"$f":"IFERROR(VLOOKUP(D2640,'1_Causas_Levantadas'!C:D,2,0),\"\")","v":0},"","",null,8,null,0,8,220]
[null,null,{"$f":"IFERROR(VLOOKUP(D2641,'1_Causas_Levantadas'!C:D,2,0),\"\")","v":0},"","",null,9,null,0,9,220]
[null,null,{"$f":"IFERROR(VLOOKUP(D2642,'1_Causas_Levantadas'!C:D,2,0),\"\")","v":0},"","",null,10,null,0,10,220]
[null,null,{"$f":"IFERROR(VLOOKUP(D2643,'1_Causas_Levantadas'!C:D,2,0),\"\")","v":0},"","",null,11,null,0,11,220]
[null,null,{"$f":"IFERROR(VLOOKUP(D2644,'1_Causas_Levantadas'!C:D,2,0),\"\")","v":0},"","",null,12,null,0,12,220]
[null,null,{"$f":"IFERROR(VLOOKUP(D2645,'1_Causas_Levantadas'!C:D,2,0),\"\")","v":0},"","",null,1,null,1,1,221]
[null,null,{"$f":"IFERROR(VLOOKUP(D2646,'1_Causas_Levantadas'!C:D,2,0),\"\")","v":0},"","",null,2,null,0,2,221]
[null,null,{"$f":"IFERROR(VLOOKUP(D2647,'1_Causas_Levantadas'!C:D,2,0),\"\")","v":0},"","",null,3,null,0,3,221]
[null,null,{"$f":"IFERROR(VLOOKUP(D2648,'1_Causas_Levantadas'!C:D,2,0),\"\")","v":0},"","",null,4,null,0,4,221]
[null,null,{"$f":"IFERROR(VLOOKUP(D2649,'1_Causas_Levantadas'!C:D,2,0),\"\")","v":0},"","",null,5,null,0,5,221]
[null,null,{"$f":"IFERROR(VLOOKUP(D2650,'1_Causas_Levantadas'!C:D,2,0),\"\")","v":0},"","",null,6,null,0,6,221]
[null,null,{"$f":"IFERROR(VLOOKUP(D2651,'1_Causas_Levantadas'!C:D,2,0),\"\")","v":0},"","",null,7,null,0,7,221]
[null,null,{"$f":"IFERROR(VLOOKUP(D2652,'1_Causas_Levantadas'!C:D,2,0),\"\")","v":0},"","",null,8,null,0,8,221]
[null,null,{"$f":"IFERROR(VLOOKUP(D2653,'1_Causas_Levantadas'!C:D,2,0),\"\")","v":0},"","",null,9,null,0,9,221]
[null,null,{"$f":"IFERROR(VLOOKUP(D2654,'1_Causas_Levantadas'!C:D,2,0),\"\")","v":0},"","",null,10,null,0,10,221]
[null,null,{"$f":"IFERROR(VLOOKUP(D2655,'1_Causas_Levantadas'!C:D,2,0),\"\")","v":0},"","",null,11,null,0,11,221]
[null,null,{"$f":"IFERROR(VLOOKUP(D2656,'1_Causas_Levantadas'!C:D,2,0),\"\")","v":0},"","",null,12,null,0,12,221]
[null,null,{"$f":"IFERROR(VLOOKUP(D2657,'1_Causas_Levantadas'!C:D,2,0),\"\")","v":0},"","",null,1,null,1,1,222]
[null,null,{"$f":"IFERROR(VLOOKUP(D2658,'1_Causas_Levantadas'!C:D,2,0),\"\")","v":0},"","",null,2,null,0,2,222]
[null,null,{"$f":"IFERROR(VLOOKUP(D2659,'1_Causas_Levantadas'!C:D,2,0),\"\")","v":0},"","",null,3,null,0,3,222]
[null,null,{"$f":"IFERROR(VLOOKUP(D2660,'1_Causas_Levantadas'!C:D,2,0),\"\")","v":0},"","",null,4,null,0,4,222]
[null,null,{"$f":"IFERROR(VLOOKUP(D2661,'1_Causas_Levantadas'!C:D,2,0),\"\")","v":0},"","",null,5,null,0,5,222]
[null,null,{"$f":"IFERROR(VLOOKUP(D2662,'1_Causas_Levantadas'!C:D,2,0),\"\")","v":0},"","",null,6,null,0,6,222]
[null,null,{"$f":"IFERROR(VLOOKUP(D2663,'1_Causas_Levantadas'!C:D,2,0),\"\")","v":0},"","",null,7,null,0,7,222]
[null,null,{"$f":"IFERROR(VLOOKUP(D2664,'1_Causas_Levantadas'!C:D,2,0),\"\")","v":0},"","",null,8,null,0,8,222]
[null,null,{"$f":"IFERROR(VLOOKUP(D2665,'1_Causas_Levantadas'!C:D,2,0),\"\")","v":0},"","",null,9,null,0,9,222]
[null,null,{"$f":"IFERROR(VLOOKUP(D2666,'1_Causas_Levantadas'!C:D,2,0),\"\")","v":0},"","",null,10,null,0,10,222]
[null,null,{"$f":"IFERROR(VLOOKUP(D2667,'1_Causas_Levantadas'!C:D,2,0),\"\")","v":0},"","",null,11,null,0,11,222]
[null,null,{"$f":"IFERROR(VLOOKUP(D2668,'1_Causas_Levantadas'!C:D,2,0),\"\")","v":0},"","",null,12,null,0,12,222]
[null,null,{"$f":"IFERROR(VLOOKUP(D2669,'1_Causas_Levantadas'!C:D,2,0),\"\")","v":0},"","",null,1,null,1,1,223]
[null,null,{"$f":"IFERROR(VLOOKUP(D2670,'1_Causas_Levantadas'!C:D,2,0),\"\")","v":0},"","",null,2,null,0,2,223]
[null,null,{"$f":"IFERROR(VLOOKUP(D2671,'1_Causas_Levantadas'!C:D,2,0),\"\")","v":0},"","",null,3,null,0,3,223]
[null,null,{"$f":"IFERROR(VLOOKUP(D2672,'1_Causas_Levantadas'!C:D,2,0),\"\")","v":0},"","",null,4,null,0,4,223]
[null,null,{"$f":"IFERROR(VLOOKUP(D2673,'1_Causas_Levantadas'!C:D,2,0),\"\")","v":0},"","",null,5,null,0,5,223]
[null,null,{"$f":"IFERROR(VLOOKUP(D2674,'1_Causas_Levantadas'!C:D,2,0),\"\")","v":0},"","",null,6,null,0,6,223]
[null,null,{"$f":"IFERROR(VLOOKUP(D2675,'1_Causas_Levantadas'!C:D,2,0),\"\")","v":0},"","",null,7,null,0,7,223]
[null,null,{"$f":"IFERROR(VLOOKUP(D2676,'1_Causas_Levantadas'!C:D,2,0),\"\")","v":0},"","",null,8,null,0,8,223]
[null,null,{"$f":"IFERROR(VLOOKUP(D2677,'1_Causas_Levantadas'!C:D,2,0),\"\")","v":0},"","",null,9,null,0,9,223]
[null,null,{"$f":"IFERROR(VLOOKUP(D2678,'1_Causas_Levantadas'!C:D,2,0),\"\")","v":0},"","",null,10,null,0,10,223]
[null,null,{"$f":"IFERROR(VLOOKUP(D2679,'1_Causas_Levantadas'!C:D,2,0),\"\")","v":0},"","",null,11,null,0,11,223]
[null,null,{"$f":"IFERROR(VLOOKUP(D2680,'1_Causas_Levantadas'!C:D,2,0),\"\")","v":0},"","",null,12,null,0,12,223]
[null,null,{"$f":"IFERROR(VLOOKUP(D2681,'1_Causas_Levantadas'!C:D,2,0),\"\")","v":0},"","",null,1,null,1,1,224]
[null,null,{"$f":"IFERROR(VLOOKUP(D2682,'1_Causas_Levantadas'!C:D,2,0),\"\")","v":0},"","",null,2,null,0,2,224]
[null,null,{"$f":"IFERROR(VLOOKUP(D2683,'1_Causas_Levantadas'!C:D,2,0),\"\")","v":0},"","",null,3,null,0,3,224]
[null,null,{"$f":"IFERROR(VLOOKUP(D2684,'1_Causas_Levantadas'!C:D,2,0),\"\")","v":0},"","",null,4,null,0,4,224]
[null,null,{"$f":"IFERROR(VLOOKUP(D2685,'1_Causas_Levantadas'!C:D,2,0),\"\")","v":0},"","",null,5,null,0,5,224]
[null,null,{"$f":"IFERROR(VLOOKUP(D2686,'1_Causas_Levantadas'!C:D,2,0),\"\")","v":0},"","",null,6,null,0,6,224]
[null,null,{"$f":"IFERROR(VLOOKUP(D2687,'1_Causas_Levantadas'!C:D,2,0),\"\")","v":0},"","",null,7,null,0,7,224]
[null,null,{"$f":"IFERROR(VLOOKUP(D2688,'1_Causas_Levantadas'!C:D,2,0),\"\")","v":0},"","",null,8,null,0,8,224]
[null,null,{"$f":"IFERROR(VLOOKUP(D2689,'1_Causas_Levantadas'!C:D,2,0),\"\")","v":0},"","",null,9,null,0,9,224]
[null,null,{"$f":"IFERROR(VLOOKUP(D2690,'1_Causas_Levantadas'!C:D,2,0),\"\")","v":0},"","",null,10,null,0,10,224]
[null,null,{"$f":"IFERROR(VLOOKUP(D2691,'1_Causas_Levantadas'!C:D,2,0),\"\")","v":0},"","",null,11,null,0,11,224]
[null,null,{"$f":"IFERROR(VLOOKUP(D2692,'1_Causas_Levantadas'!C:D,2,0),\"\")","v":0},"","",null,12,null,0,12,224]
[null,null,{"$f":"IFERROR(VLOOKUP(D2693,'1_Causas_Levantadas'!C:D,2,0),\"\")","v":0},"","",null,1,null,1,1,225]
[null,null,{"$f":"IFERROR(VLOOKUP(D2694,'1_Causas_Levantadas'!C:D,2,0),\"\")","v":0},{"$f":"IF(K2694<=$H$4,(IF(G2693>0,G2694,$G$5)),\"\")","v":""},{"$f":"IF(D2694<>\"\",\"Participante \"&K2694,\"\")","v":""},null,{"$f":"J2694","v":2},null,{"$f":"IF(G2694=$G$5,1,0)","v":0},2,{"$f":"I2694+K2693","v":225}]
[null,null,{"$f":"IFERROR(VLOOKUP(D2695,'1_Causas_Levantadas'!C:D,2,0),\"\")","v":0},"","",null,3,null,0,{"$f":"IF(G2694<$G$4,J2694+1,1)","v":3},225]
[null,null,{"$f":"IFERROR(VLOOKUP(D2696,'1_Causas_Levantadas'!C:D,2,0),\"\")","v":0},"","",null,4,null,0,4,225]
[null,null,{"$f":"IFERROR(VLOOKUP(D2697,'1_Causas_Levantadas'!C:D,2,0),\"\")","v":0},"","",null,5,null,0,5,225]
[null,null,{"$f":"IFERROR(VLOOKUP(D2698,'1_Causas_Levantadas'!C:D,2,0),\"\")","v":0},"","",null,6,null,0,6,225]
[null,null,{"$f":"IFERROR(VLOOKUP(D2699,'1_Causas_Levantadas'!C:D,2,0),\"\")","v":0},"","",null,7,null,0,7,225]
[null,null,{"$f":"IFERROR(VLOOKUP(D2700,'1_Causas_Levantadas'!C:D,2,0),\"\")","v":0},"","",null,8,null,0,8,225]
[null,null,{"$f":"IFERROR(VLOOKUP(D2701,'1_Causas_Levantadas'!C:D,2,0),\"\")","v":0},"","",null,9,null,0,9,225]
[null,null,{"$f":"IFERROR(VLOOKUP(D2702,'1_Causas_Levantadas'!C:D,2,0),\"\")","v":0},"","",null,10,null,0,10,225]
[null,null,{"$f":"IFERROR(VLOOKUP(D2703,'1_Causas_Levantadas'!C:D,2,0),\"\")","v":0},"","",null,11,null,0,11,225]
[null,null,{"$f":"IFERROR(VLOOKUP(D2704,'1_Causas_Levantadas'!C:D,2,0),\"\")","v":0},"","",null,12,null,0,12,225]
[null,null,{"$f":"IFERROR(VLOOKUP(D2705,'1_Causas_Levantadas'!C:D,2,0),\"\")","v":0},"","",null,1,null,1,1,226]
[null,null,{"$f":"IFERROR(VLOOKUP(D2706,'1_Causas_Levantadas'!C:D,2,0),\"\")","v":0},"","",null,2,null,0,2,226]
[null,null,{"$f":"IFERROR(VLOOKUP(D2707,'1_Causas_Levantadas'!C:D,2,0),\"\")","v":0},"","",null,3,null,0,3,226]
[null,null,{"$f":"IFERROR(VLOOKUP(D2708,'1_Causas_Levantadas'!C:D,2,0),\"\")","v":0},"","",null,4,null,0,4,226]
[null,null,{"$f":"IFERROR(VLOOKUP(D2709,'1_Causas_Levantadas'!C:D,2,0),\"\")","v":0},"","",null,5,null,0,5,226]
[null,null,{"$f":"IFERROR(VLOOKUP(D2710,'1_Causas_Levantadas'!C:D,2,0),\"\")","v":0},"","",null,6,null,0,6,226]
[null,null,{"$f":"IFERROR(VLOOKUP(D2711,'1_Causas_Levantadas'!C:D,2,0),\"\")","v":0},"","",null,7,null,0,7,226]
[null,null,{"$f":"IFERROR(VLOOKUP(D2712,'1_Causas_Levantadas'!C:D,2,0),\"\")","v":0},"","",null,8,null,0,8,226]
[null,null,{"$f":"IFERROR(VLOOKUP(D2713,'1_Causas_Levantadas'!C:D,2,0),\"\")","v":0},"","",null,9,null,0,9,226]
[null,null,{"$f":"IFERROR(VLOOKUP(D2714,'1_Causas_Levantadas'!C:D,2,0),\"\")","v":0},"","",null,10,null,0,10,226]
[null,null,{"$f":"IFERROR(VLOOKUP(D2715,'1_Causas_Levantadas'!C:D,2,0),\"\")","v":0},"","",null,11,null,0,11,226]
[null,null,{"$f":"IFERROR(VLOOKUP(D2716,'1_Causas_Levantadas'!C:D,2,0),\"\")","v":0},"","",null,12,null,0,12,226]
[null,null,{"$f":"IFERROR(VLOOKUP(D2717,'1_Causas_Levantadas'!C:D,2,0),\"\")","v":0},"","",null,1,null,1,1,227]
[null,null,{"$f":"IFERROR(VLOOKUP(D2718,'1_Causas_Levantadas'!C:D,2,0),\"\")","v":0},"","",null,2,null,0,2,227]
[null,null,{"$f":"IFERROR(VLOOKUP(D2719,'1_Causas_Levantadas'!C:D,2,0),\"\")","v":0},"","",null,3,null,0,3,227]
[null,null,{"$f":"IFERROR(VLOOKUP(D2720,'1_Causas_Levantadas'!C:D,2,0),\"\")","v":0},"","",null,4,null,0,4,227]
[null,null,{"$f":"IFERROR(VLOOKUP(D2721,'1_Causas_Levantadas'!C:D,2,0),\"\")","v":0},"","",null,5,null,0,5,227]
[null,null,{"$f":"IFERROR(VLOOKUP(D2722,'1_Causas_Levantadas'!C:D,2,0),\"\")","v":0},"","",null,6,null,0,6,227]
[null,null,{"$f":"IFERROR(VLOOKUP(D2723,'1_Causas_Levantadas'!C:D,2,0),\"\")","v":0},"","",null,7,null,0,7,227]
[null,null,{"$f":"IFERROR(VLOOKUP(D2724,'1_Causas_Levantadas'!C:D,2,0),\"\")","v":0},"","",null,8,null,0,8,227]
[null,null,{"$f":"IFERROR(VLOOKUP(D2725,'1_Causas_Levantadas'!C:D,2,0),\"\")","v":0},"","",null,9,null,0,9,227]
[null,null,{"$f":"IFERROR(VLOOKUP(D2726,'1_Causas_Levantadas'!C:D,2,0),\"\")","v":0},"","",null,10,null,0,10,227]
[null,null,{"$f":"IFERROR(VLOOKUP(D2727,'1_Causas_Levantadas'!C:D,2,0),\"\")","v":0},"","",null,11,null,0,11,227]
[null,null,{"$f":"IFERROR(VLOOKUP(D2728,'1_Causas_Levantadas'!C:D,2,0),\"\")","v":0},"","",null,12,null,0,12,227]
[null,null,{"$f":"IFERROR(VLOOKUP(D2729,'1_Causas_Levantadas'!C:D,2,0),\"\")","v":0},"","",null,1,null,1,1,228]
[null,null,{"$f":"IFERROR(VLOOKUP(D2730,'1_Causas_Levantadas'!C:D,2,0),\"\")","v":0},"","",null,2,null,0,2,228]
[null,null,{"$f":"IFERROR(VLOOKUP(D2731,'1_Causas_Levantadas'!C:D,2,0),\"\")","v":0},"","",null,3,null,0,3,228]
[null,null,{"$f":"IFERROR(VLOOKUP(D2732,'1_Causas_Levantadas'!C:D,2,0),\"\")","v":0},"","",null,4,null,0,4,228]
[null,null,{"$f":"IFERROR(VLOOKUP(D2733,'1_Causas_Levantadas'!C:D,2,0),\"\")","v":0},"","",null,5,null,0,5,228]
[null,null,{"$f":"IFERROR(VLOOKUP(D2734,'1_Causas_Levantadas'!C:D,2,0),\"\")","v":0},"","",null,6,null,0,6,228]
[null,null,{"$f":"IFERROR(VLOOKUP(D2735,'1_Causas_Levantadas'!C:D,2,0),\"\")","v":0},"","",null,7,null,0,7,228]
[null,null,{"$f":"IFERROR(VLOOKUP(D2736,'1_Causas_Levantadas'!C:D,2,0),\"\")","v":0},"","",null,8,null,0,8,228]
[null,null,{"$f":"IFERROR(VLOOKUP(D2737,'1_Causas_Levantadas'!C:D,2,0),\"\")","v":0},"","",null,9,null,0,9,228]
[null,null,{"$f":"IFERROR(VLOOKUP(D2738,'1_Causas_Levantadas'!C:D,2,0),\"\")","v":0},"","",null,10,null,0,10,228]
[null,null,{"$f":"IFERROR(VLOOKUP(D2739,'1_Causas_Levantadas'!C:D,2,0),\"\")","v":0},"","",null,11,null,0,11,228]
[null,null,{"$f":"IFERROR(VLOOKUP(D2740,'1_Causas_Levantadas'!C:D,2,0),\"\")","v":0},"","",null,12,null,0,12,228]
[null,null,{"$f":"IFERROR(VLOOKUP(D2741,'1_Causas_Levantadas'!C:D,2,0),\"\")","v":0},"","",null,1,null,1,1,229]
[null,null,{"$f":"IFERROR(VLOOKUP(D2742,'1_Causas_Levantadas'!C:D,2,0),\"\")","v":0},"","",null,2,null,0,2,229]
[null,null,{"$f":"IFERROR(VLOOKUP(D2743,'1_Causas_Levantadas'!C:D,2,0),\"\")","v":0},"","",null,3,null,0,3,229]
[null,null,{"$f":"IFERROR(VLOOKUP(D2744,'1_Causas_Levantadas'!C:D,2,0),\"\")","v":0},"","",null,4,null,0,4,229]
[null,null,{"$f":"IFERROR(VLOOKUP(D2745,'1_Causas_Levantadas'!C:D,2,0),\"\")","v":0},"","",null,5,null,0,5,229]
[null,null,{"$f":"IFERROR(VLOOKUP(D2746,'1_Causas_Levantadas'!C:D,2,0),\"\")","v":0},"","",null,6,null,0,6,229]
[null,null,{"$f":"IFERROR(VLOOKUP(D2747,'1_Causas_Levantadas'!C:D,2,0),\"\")","v":0},"","",null,7,null,0,7,229]
[null,null,{"$f":"IFERROR(VLOOKUP(D2748,'1_Causas_Levantadas'!C:D,2,0),\"\")","v":0},"","",null,8,null,0,8,229]
[null,null,{"$f":"IFERROR(VLOOKUP(D2749,'1_Causas_Levantadas'!C:D,2,0),\"\")","v":0},"","",null,9,null,0,9,229]
[null,null,{"$f":"IFERROR(VLOOKUP(D2750,'1_Causas_Levantadas'!C:D,2,0),\"\")","v":0},"","",null,10,null,0,10,229]
[null,null,{"$f":"IFERROR(VLOOKUP(D2751,'1_Causas_Levantadas'!C:D,2,0),\"\")","v":0},"","",null,11,null,0,11,229]
[null,null,{"$f":"IFERROR(VLOOKUP(D2752,'1_Causas_Levantadas'!C:D,2,0),\"\")","v":0},"","",null,12,null,0,12,229]
[null,null,{"$f":"IFERROR(VLOOKUP(D2753,'1_Causas_Levantadas'!C:D,2,0),\"\")","v":0},"","",null,1,null,1,1,230]
[null,null,{"$f":"IFERROR(VLOOKUP(D2754,'1_Causas_Levantadas'!C:D,2,0),\"\")","v":0},"","",null,2,null,0,2,230]
[null,null,{"$f":"IFERROR(VLOOKUP(D2755,'1_Causas_Levantadas'!C:D,2,0),\"\")","v":0},"","",null,3,null,0,3,230]
[null,null,{"$f":"IFERROR(VLOOKUP(D2756,'1_Causas_Levantadas'!C:D,2,0),\"\")","v":0},"","",null,4,null,0,4,230]
[null,null,{"$f":"IFERROR(VLOOKUP(D2757,'1_Causas_Levantadas'!C:D,2,0),\"\")","v":0},"","",null,5,null,0,5,230]
[null,null,{"$f":"IFERROR(VLOOKUP(D2758,'1_Causas_Levantadas'!C:D,2,0),\"\")","v":0},{"$f":"IF(K2758<=$H$4,(IF(G2757>0,G2758,$G$5)),\"\")","v":""},{"$f":"IF(D2758<>\"\",\"Participante \"&K2758,\"\")","v":""},null,{"$f":"J2758","v":6},null,{"$f":"IF(G2758=$G$5,1,0)","v":0},6,{"$f":"I2758+K2757","v":230}]
[null,null,{"$f":"IFERROR(VLOOKUP(D2759,'1_Causas_Levantadas'!C:D,2,0),\"\")","v":0},"","",null,7,null,0,{"$f":"IF(G2758<$G$4,J2758+1,1)","v":7},230]
[null,null,{"$f":"IFERROR(VLOOKUP(D2760,'1_Causas_Levantadas'!C:D,2,0),\"\")","v":0},"","",null,8,null,0,8,230]
[null,null,{"$f":"IFERROR(VLOOKUP(D2761,'1_Causas_Levantadas'!C:D,2,0),\"\")","v":0},"","",null,9,null,0,9,230]
[null,null,{"$f":"IFERROR(VLOOKUP(D2762,'1_Causas_Levantadas'!C:D,2,0),\"\")","v":0},"","",null,10,null,0,10,230]
[null,null,{"$f":"IFERROR(VLOOKUP(D2763,'1_Causas_Levantadas'!C:D,2,0),\"\")","v":0},"","",null,11,null,0,11,230]
[null,null,{"$f":"IFERROR(VLOOKUP(D2764,'1_Causas_Levantadas'!C:D,2,0),\"\")","v":0},"","",null,12,null,0,12,230]
[null,null,{"$f":"IFERROR(VLOOKUP(D2765,'1_Causas_Levantadas'!C:D,2,0),\"\")","v":0},"","",null,1,null,1,1,231]
[null,null,{"$f":"IFERROR(VLOOKUP(D2766,'1_Causas_Levantadas'!C:D,2,0),\"\")","v":0},"","",null,2,null,0,2,231]
[null,null,{"$f":"IFERROR(VLOOKUP(D2767,'1_Causas_Levantadas'!C:D,2,0),\"\")","v":0},"","",null,3,null,0,3,231]
[null,null,{"$f":"IFERROR(VLOOKUP(D2768,'1_Causas_Levantadas'!C:D,2,0),\"\")","v":0},"","",null,4,null,0,4,231]
[null,null,{"$f":"IFERROR(VLOOKUP(D2769,'1_Causas_Levantadas'!C:D,2,0),\"\")","v":0},"","",null,5,null,0,5,231]
[null,null,{"$f":"IFERROR(VLOOKUP(D2770,'1_Causas_Levantadas'!C:D,2,0),\"\")","v":0},"","",null,6,null,0,6,231]
[null,null,{"$f":"IFERROR(VLOOKUP(D2771,'1_Causas_Levantadas'!C:D,2,0),\"\")","v":0},"","",null,7,null,0,7,231]
[null,null,{"$f":"IFERROR(VLOOKUP(D2772,'1_Causas_Levantadas'!C:D,2,0),\"\")","v":0},"","",null,8,null,0,8,231]
[null,null,{"$f":"IFERROR(VLOOKUP(D2773,'1_Causas_Levantadas'!C:D,2,0),\"\")","v":0},"","",null,9,null,0,9,231]
[null,null,{"$f":"IFERROR(VLOOKUP(D2774,'1_Causas_Levantadas'!C:D,2,0),\"\")","v":0},"","",null,10,null,0,10,231]
[null,null,{"$f":"IFERROR(VLOOKUP(D2775,'1_Causas_Levantadas'!C:D,2,0),\"\")","v":0},"","",null,11,null,0,11,231]
[null,null,{"$f":"IFERROR(VLOOKUP(D2776,'1_Causas_Levantadas'!C:D,2,0),\"\")","v":0},"","",null,12,null,0,12,231]
[null,null,{"$f":"IFERROR(VLOOKUP(D2777,'1_Causas_Levantadas'!C:D,2,0),\"\")","v":0},"","",null,1,null,1,1,232]
[null,null,{"$f":"IFERROR(VLOOKUP(D2778,'1_Causas_Levantadas'!C:D,2,0),\"\")","v":0},"","",null,2,null,0,2,232]
[null,null,{"$f":"IFERROR(VLOOKUP(D2779,'1_Causas_Levantadas'!C:D,2,0),\"\")","v":0},"","",null,3,null,0,3,232]
[null,null,{"$f":"IFERROR(VLOOKUP(D2780,'1_Causas_Levantadas'!C:D,2,0),\"\")","v":0},"","",null,4,null,0,4,232]
[null,null,{"$f":"IFERROR(VLOOKUP(D2781,'1_Causas_Levantadas'!C:D,2,0),\"\")","v":0},"","",null,5,null,0,5,232]
[null,null,{"$f":"IFERROR(VLOOKUP(D2782,'1_Causas_Levantadas'!C:D,2,0),\"\")","v":0},"","",null,6,null,0,6,232]
[null,null,{"$f":"IFERROR(VLOOKUP(D2783,'1_Causas_Levantadas'!C:D,2,0),\"\")","v":0},"","",null,7,null,0,7,232]
[null,null,{"$f":"IFERROR(VLOOKUP(D2784,'1_Causas_Levantadas'!C:D,2,0),\"\")","v":0},"","",null,8,null,0,8,232]
[null,null,{"$f":"IFERROR(VLOOKUP(D2785,'1_Causas_Levantadas'!C:D,2,0),\"\")","v":0},"","",null,9,null,0,9,232]
[null,null,{"$f":"IFERROR(VLOOKUP(D2786,'1_Causas_Levantadas'!C:D,2,0),\"\")","v":0},"","",null,10,null,0,10,232]
[null,null,{"$f":"IFERROR(VLOOKUP(D2787,'1_Causas_Levantadas'!C:D,2,0),\"\")","v":0},"","",null,11,null,0,11,232]
[null,null,{"$f":"IFERROR(VLOOKUP(D2788,'1_Causas_Levantadas'!C:D,2,0),\"\")","v":0},"","",null,12,null,0,12,232]
[null,null,{"$f":"IFERROR(VLOOKUP(D2789,'1_Causas_Levantadas'!C:D,2,0),\"\")","v":0},"","",null,1,null,1,1,233]
[null,null,{"$f":"IFERROR(VLOOKUP(D2790,'1_Causas_Levantadas'!C:D,2,0),\"\")","v":0},"","",null,2,null,0,2,233]
[null,null,{"$f":"IFERROR(VLOOKUP(D2791,'1_Causas_Levantadas'!C:D,2,0),\"\")","v":0},"","",null,3,null,0,3,233]
[null,null,{"$f":"IFERROR(VLOOKUP(D2792,'1_Causas_Levantadas'!C:D,2,0),\"\")","v":0},"","",null,4,null,0,4,233]
[null,null,{"$f":"IFERROR(VLOOKUP(D2793,'1_Causas_Levantadas'!C:D,2,0),\"\")","v":0},"","",null,5,null,0,5,233]
[null,null,{"$f":"IFERROR(VLOOKUP(D2794,'1_Causas_Levantadas'!C:D,2,0),\"\")","v":0},"","",null,6,null,0,6,233]
[null,null,{"$f":"IFERROR(VLOOKUP(D2795,'1_Causas_Levantadas'!C:D,2,0),\"\")","v":0},"","",null,7,null,0,7,233]
[null,null,{"$f":"IFERROR(VLOOKUP(D2796,'1_Causas_Levantadas'!C:D,2,0),\"\")","v":0},"","",null,8,null,0,8,233]
[null,null,{"$f":"IFERROR(VLOOKUP(D2797,'1_Causas_Levantadas'!C:D,2,0),\"\")","v":0},"","",null,9,null,0,9,233]
[null,null,{"$f":"IFERROR(VLOOKUP(D2798,'1_Causas_Levantadas'!C:D,2,0),\"\")","v":0},"","",null,10,null,0,10,233]
[null,null,{"$f":"IFERROR(VLOOKUP(D2799,'1_Causas_Levantadas'!C:D,2,0),\"\")","v":0},"","",null,11,null,0,11,233]
[null,null,{"$f":"IFERROR(VLOOKUP(D2800,'1_Causas_Levantadas'!C:D,2,0),\"\")","v":0},"","",null,12,null,0,12,233]
[null,null,{"$f":"IFERROR(VLOOKUP(D2801,'1_Causas_Levantadas'!C:D,2,0),\"\")","v":0},"","",null,1,null,1,1,234]
[null,null,{"$f":"IFERROR(VLOOKUP(D2802,'1_Causas_Levantadas'!C:D,2,0),\"\")","v":0},"","",null,2,null,0,2,234]
[null,null,{"$f":"IFERROR(VLOOKUP(D2803,'1_Causas_Levantadas'!C:D,2,0),\"\")","v":0},"","",null,3,null,0,3,234]
[null,null,{"$f":"IFERROR(VLOOKUP(D2804,'1_Causas_Levantadas'!C:D,2,0),\"\")","v":0},"","",null,4,null,0,4,234]
[null,null,{"$f":"IFERROR(VLOOKUP(D2805,'1_Causas_Levantadas'!C:D,2,0),\"\")","v":0},"","",null,5,null,0,5,234]
[null,null,{"$f":"IFERROR(VLOOKUP(D2806,'1_Causas_Levantadas'!C:D,2,0),\"\")","v":0},"","",null,6,null,0,6,234]
[null,null,{"$f":"IFERROR(VLOOKUP(D2807,'1_Causas_Levantadas'!C:D,2,0),\"\")","v":0},"","",null,7,null,0,7,234]
[null,null,{"$f":"IFERROR(VLOOKUP(D2808,'1_Causas_Levantadas'!C:D,2,0),\"\")","v":0},"","",null,8,null,0,8,234]
[null,null,{"$f":"IFERROR(VLOOKUP(D2809,'1_Causas_Levantadas'!C:D,2,0),\"\")","v":0},"","",null,9,null,0,9,234]
[null,null,{"$f":"IFERROR(VLOOKUP(D2810,'1_Causas_Levantadas'!C:D,2,0),\"\")","v":0},"","",null,10,null,0,10,234]
[null,null,{"$f":"IFERROR(VLOOKUP(D2811,'1_Causas_Levantadas'!C:D,2,0),\"\")","v":0},"","",null,11,null,0,11,234]
[null,null,{"$f":"IFERROR(VLOOKUP(D2812,'1_Causas_Levantadas'!C:D,2,0),\"\")","v":0},"","",null,12,null,0,12,234]
[null,null,{"$f":"IFERROR(VLOOKUP(D2813,'1_Causas_Levantadas'!C:D,2,0),\"\")","v":0},"","",null,1,null,1,1,235]
[null,null,{"$f":"IFERROR(VLOOKUP(D2814,'1_Causas_Levantadas'!C:D,2,0),\"\")","v":0},"","",null,2,null,0,2,235]
[null,null,{"$f":"IFERROR(VLOOKUP(D2815,'1_Causas_Levantadas'!C:D,2,0),\"\")","v":0},"","",null,3,null,0,3,235]
[null,null,{"$f":"IFERROR(VLOOKUP(D2816,'1_Causas_Levantadas'!C:D,2,0),\"\")","v":0},"","",null,4,null,0,4,235]
[null,null,{"$f":"IFERROR(VLOOKUP(D2817,'1_Causas_Levantadas'!C:D,2,0),\"\")","v":0},"","",null,5,null,0,5,235]
[null,null,{"$f":"IFERROR(VLOOKUP(D2818,'1_Causas_Levantadas'!C:D,2,0),\"\")","v":0},"","",null,6,null,0,6,235]
[null,null,{"$f":"IFERROR(VLOOKUP(D2819,'1_Causas_Levantadas'!C:D,2,0),\"\")","v":0},"","",null,7,null,0,7,235]
[null,null,{"$f":"IFERROR(VLOOKUP(D2820,'1_Causas_Levantadas'!C:D,2,0),\"\")","v":0},"","",null,8,null,0,8,235]
[null,null,{"$f":"IFERROR(VLOOKUP(D2821,'1_Causas_Levantadas'!C:D,2,0),\"\")","v":0},"","",null,9,null,0,9,235]
[null,null,{"$f":"IFERROR(VLOOKUP(D2822,'1_Causas_Levantadas'!C:D,2,0),\"\")","v":0},{"$f":"IF(K2822<=$H$4,(IF(G2821>0,G2822,$G$5)),\"\")","v":""},{"$f":"IF(D2822<>\"\",\"Participante \"&K2822,\"\")","v":""},null,{"$f":"J2822","v":10},null,{"$f":"IF(G2822=$G$5,1,0)","v":0},10,{"$f":"I2822+K2821","v":235}]
[null,null,{"$f":"IFERROR(VLOOKUP(D2823,'1_Causas_Levantadas'!C:D,2,0),\"\")","v":0},"","",null,11,null,0,{"$f":"IF(G2822<$G$4,J2822+1,1)","v":11},235]
[null,null,{"$f":"IFERROR(VLOOKUP(D2824,'1_Causas_Levantadas'!C:D,2,0),\"\")","v":0},"","",null,12,null,0,12,235]
[null,null,{"$f":"IFERROR(VLOOKUP(D2825,'1_Causas_Levantadas'!C:D,2,0),\"\")","v":0},"","",null,1,null,1,1,236]
[null,null,{"$f":"IFERROR(VLOOKUP(D2826,'1_Causas_Levantadas'!C:D,2,0),\"\")","v":0},"","",null,2,null,0,2,236]
[null,null,{"$f":"IFERROR(VLOOKUP(D2827,'1_Causas_Levantadas'!C:D,2,0),\"\")","v":0},"","",null,3,null,0,3,236]
[null,null,{"$f":"IFERROR(VLOOKUP(D2828,'1_Causas_Levantadas'!C:D,2,0),\"\")","v":0},"","",null,4,null,0,4,236]
[null,null,{"$f":"IFERROR(VLOOKUP(D2829,'1_Causas_Levantadas'!C:D,2,0),\"\")","v":0},"","",null,5,null,0,5,236]
[null,null,{"$f":"IFERROR(VLOOKUP(D2830,'1_Causas_Levantadas'!C:D,2,0),\"\")","v":0},"","",null,6,null,0,6,236]
[null,null,{"$f":"IFERROR(VLOOKUP(D2831,'1_Causas_Levantadas'!C:D,2,0),\"\")","v":0},"","",null,7,null,0,7,236]
[null,null,{"$f":"IFERROR(VLOOKUP(D2832,'1_Causas_Levantadas'!C:D,2,0),\"\")","v":0},"","",null,8,null,0,8,236]
[null,null,{"$f":"IFERROR(VLOOKUP(D2833,'1_Causas_Levantadas'!C:D,2,0),\"\")","v":0},"","",null,9,null,0,9,236]
[null,null,{"$f":"IFERROR(VLOOKUP(D2834,'1_Causas_Levantadas'!C:D,2,0),\"\")","v":0},"","",null,10,null,0,10,236]
[null,null,{"$f":"IFERROR(VLOOKUP(D2835,'1_Causas_Levantadas'!C:D,2,0),\"\")","v":0},"","",null,11,null,0,11,236]
[null,null,{"$f":"IFERROR(VLOOKUP(D2836,'1_Causas_Levantadas'!C:D,2,0),\"\")","v":0},"","",null,12,null,0,12,236]
[null,null,{"$f":"IFERROR(VLOOKUP(D2837,'1_Causas_Levantadas'!C:D,2,0),\"\")","v":0},"","",null,1,null,1,1,237]
[null,null,{"$f":"IFERROR(VLOOKUP(D2838,'1_Causas_Levantadas'!C:D,2,0),\"\")","v":0},"","",null,2,null,0,2,237]
[null,null,{"$f":"IFERROR(VLOOKUP(D2839,'1_Causas_Levantadas'!C:D,2,0),\"\")","v":0},"","",null,3,null,0,3,237]
[null,null,{"$f":"IFERROR(VLOOKUP(D2840,'1_Causas_Levantadas'!C:D,2,0),\"\")","v":0},"","",null,4,null,0,4,237]
[null,null,{"$f":"IFERROR(VLOOKUP(D2841,'1_Causas_Levantadas'!C:D,2,0),\"\")","v":0},"","",null,5,null,0,5,237]
[null,null,{"$f":"IFERROR(VLOOKUP(D2842,'1_Causas_Levantadas'!C:D,2,0),\"\")","v":0},"","",null,6,null,0,6,237]
[null,null,{"$f":"IFERROR(VLOOKUP(D2843,'1_Causas_Levantadas'!C:D,2,0),\"\")","v":0},"","",null,7,null,0,7,237]
[null,null,{"$f":"IFERROR(VLOOKUP(D2844,'1_Causas_Levantadas'!C:D,2,0),\"\")","v":0},"","",null,8,null,0,8,237]
[null,null,{"$f":"IFERROR(VLOOKUP(D2845,'1_Causas_Levantadas'!C:D,2,0),\"\")","v":0},"","",null,9,null,0,9,237]
[null,null,{"$f":"IFERROR(VLOOKUP(D2846,'1_Causas_Levantadas'!C:D,2,0),\"\")","v":0},"","",null,10,null,0,10,237]
[null,null,{"$f":"IFERROR(VLOOKUP(D2847,'1_Causas_Levantadas'!C:D,2,0),\"\")","v":0},"","",null,11,null,0,11,237]
[null,null,{"$f":"IFERROR(VLOOKUP(D2848,'1_Causas_Levantadas'!C:D,2,0),\"\")","v":0},"","",null,12,null,0,12,237]
[null,null,{"$f":"IFERROR(VLOOKUP(D2849,'1_Causas_Levantadas'!C:D,2,0),\"\")","v":0},"","",null,1,null,1,1,238]
[null,null,{"$f":"IFERROR(VLOOKUP(D2850,'1_Causas_Levantadas'!C:D,2,0),\"\")","v":0},"","",null,2,null,0,2,238]
[null,null,{"$f":"IFERROR(VLOOKUP(D2851,'1_Causas_Levantadas'!C:D,2,0),\"\")","v":0},"","",null,3,null,0,3,238]
[null,null,{"$f":"IFERROR(VLOOKUP(D2852,'1_Causas_Levantadas'!C:D,2,0),\"\")","v":0},"","",null,4,null,0,4,238]
[null,null,{"$f":"IFERROR(VLOOKUP(D2853,'1_Causas_Levantadas'!C:D,2,0),\"\")","v":0},"","",null,5,null,0,5,238]
[null,null,{"$f":"IFERROR(VLOOKUP(D2854,'1_Causas_Levantadas'!C:D,2,0),\"\")","v":0},"","",null,6,null,0,6,238]
[null,null,{"$f":"IFERROR(VLOOKUP(D2855,'1_Causas_Levantadas'!C:D,2,0),\"\")","v":0},"","",null,7,null,0,7,238]
[null,null,{"$f":"IFERROR(VLOOKUP(D2856,'1_Causas_Levantadas'!C:D,2,0),\"\")","v":0},"","",null,8,null,0,8,238]
[null,null,{"$f":"IFERROR(VLOOKUP(D2857,'1_Causas_Levantadas'!C:D,2,0),\"\")","v":0},"","",null,9,null,0,9,238]
[null,null,{"$f":"IFERROR(VLOOKUP(D2858,'1_Causas_Levantadas'!C:D,2,0),\"\")","v":0},"","",null,10,null,0,10,238]
[null,null,{"$f":"IFERROR(VLOOKUP(D2859,'1_Causas_Levantadas'!C:D,2,0),\"\")","v":0},"","",null,11,null,0,11,238]
[null,null,{"$f":"IFERROR(VLOOKUP(D2860,'1_Causas_Levantadas'!C:D,2,0),\"\")","v":0},"","",null,12,null,0,12,238]
[null,null,{"$f":"IFERROR(VLOOKUP(D2861,'1_Causas_Levantadas'!C:D,2,0),\"\")","v":0},"","",null,1,null,1,1,239]
[null,null,{"$f":"IFERROR(VLOOKUP(D2862,'1_Causas_Levantadas'!C:D,2,0),\"\")","v":0},"","",null,2,null,0,2,239]
[null,null,{"$f":"IFERROR(VLOOKUP(D2863,'1_Causas_Levantadas'!C:D,2,0),\"\")","v":0},"","",null,3,null,0,3,239]
[null,null,{"$f":"IFERROR(VLOOKUP(D2864,'1_Causas_Levantadas'!C:D,2,0),\"\")","v":0},"","",null,4,null,0,4,239]
[null,null,{"$f":"IFERROR(VLOOKUP(D2865,'1_Causas_Levantadas'!C:D,2,0),\"\")","v":0},"","",null,5,null,0,5,239]
[null,null,{"$f":"IFERROR(VLOOKUP(D2866,'1_Causas_Levantadas'!C:D,2,0),\"\")","v":0},"","",null,6,null,0,6,239]
[null,null,{"$f":"IFERROR(VLOOKUP(D2867,'1_Causas_Levantadas'!C:D,2,0),\"\")","v":0},"","",null,7,null,0,7,239]
[null,null,{"$f":"IFERROR(VLOOKUP(D2868,'1_Causas_Levantadas'!C:D,2,0),\"\")","v":0},"","",null,8,null,0,8,239]
[null,null,{"$f":"IFERROR(VLOOKUP(D2869,'1_Causas_Levantadas'!C:D,2,0),\"\")","v":0},"","",null,9,null,0,9,239]
[null,null,{"$f":"IFERROR(VLOOKUP(D2870,'1_Causas_Levantadas'!C:D,2,0),\"\")","v":0},"","",null,10,null,0,10,239]
[null,null,{"$f":"IFERROR(VLOOKUP(D2871,'1_Causas_Levantadas'!C:D,2,0),\"\")","v":0},"","",null,11,null,0,11,239]
[null,null,{"$f":"IFERROR(VLOOKUP(D2872,'1_Causas_Levantadas'!C:D,2,0),\"\")","v":0},"","",null,12,null,0,12,239]
[null,null,{"$f":"IFERROR(VLOOKUP(D2873,'1_Causas_Levantadas'!C:D,2,0),\"\")","v":0},"","",null,1,null,1,1,240]
[null,null,{"$f":"IFERROR(VLOOKUP(D2874,'1_Causas_Levantadas'!C:D,2,0),\"\")","v":0},"","",null,2,null,0,2,240]
[null,null,{"$f":"IFERROR(VLOOKUP(D2875,'1_Causas_Levantadas'!C:D,2,0),\"\")","v":0},"","",null,3,null,0,3,240]
[null,null,{"$f":"IFERROR(VLOOKUP(D2876,'1_Causas_Levantadas'!C:D,2,0),\"\")","v":0},"","",null,4,null,0,4,240]
[null,null,{"$f":"IFERROR(VLOOKUP(D2877,'1_Causas_Levantadas'!C:D,2,0),\"\")","v":0},"","",null,5,null,0,5,240]
[null,null,{"$f":"IFERROR(VLOOKUP(D2878,'1_Causas_Levantadas'!C:D,2,0),\"\")","v":0},"","",null,6,null,0,6,240]
[null,null,{"$f":"IFERROR(VLOOKUP(D2879,'1_Causas_Levantadas'!C:D,2,0),\"\")","v":0},"","",null,7,null,0,7,240]
[null,null,{"$f":"IFERROR(VLOOKUP(D2880,'1_Causas_Levantadas'!C:D,2,0),\"\")","v":0},"","",null,8,null,0,8,240]
[null,null,{"$f":"IFERROR(VLOOKUP(D2881,'1_Causas_Levantadas'!C:D,2,0),\"\")","v":0},"","",null,9,null,0,9,240]
[null,null,{"$f":"IFERROR(VLOOKUP(D2882,'1_Causas_Levantadas'!C:D,2,0),\"\")","v":0},"","",null,10,null,0,10,240]
[null,null,{"$f":"IFERROR(VLOOKUP(D2883,'1_Causas_Levantadas'!C:D,2,0),\"\")","v":0},"","",null,11,null,0,11,240]
[null,null,{"$f":"IFERROR(VLOOKUP(D2884,'1_Causas_Levantadas'!C:D,2,0),\"\")","v":0},"","",null,12,null,0,12,240]
[null,null,{"$f":"IFERROR(VLOOKUP(D2885,'1_Causas_Levantadas'!C:D,2,0),\"\")","v":0},"","",null,1,null,1,1,241]
[null,null,{"$f":"IFERROR(VLOOKUP(D2886,'1_Causas_Levantadas'!C:D,2,0),\"\")","v":0},{"$f":"IF(K2886<=$H$4,(IF(G2885>0,G2886,$G$5)),\"\")","v":""},{"$f":"IF(D2886<>\"\",\"Participante \"&K2886,\"\")","v":""},null,{"$f":"J2886","v":2},null,{"$f":"IF(G2886=$G$5,1,0)","v":0},2,{"$f":"I2886+K2885","v":241}]
[null,null,{"$f":"IFERROR(VLOOKUP(D2887,'1_Causas_Levantadas'!C:D,2,0),\"\")","v":0},"","",null,3,null,0,{"$f":"IF(G2886<$G$4,J2886+1,1)","v":3},241]
[null,null,{"$f":"IFERROR(VLOOKUP(D2888,'1_Causas_Levantadas'!C:D,2,0),\"\")","v":0},"","",null,4,null,0,4,241]
[null,null,{"$f":"IFERROR(VLOOKUP(D2889,'1_Causas_Levantadas'!C:D,2,0),\"\")","v":0},"","",null,5,null,0,5,241]
[null,null,{"$f":"IFERROR(VLOOKUP(D2890,'1_Causas_Levantadas'!C:D,2,0),\"\")","v":0},"","",null,6,null,0,6,241]
[null,null,{"$f":"IFERROR(VLOOKUP(D2891,'1_Causas_Levantadas'!C:D,2,0),\"\")","v":0},"","",null,7,null,0,7,241]
[null,null,{"$f":"IFERROR(VLOOKUP(D2892,'1_Causas_Levantadas'!C:D,2,0),\"\")","v":0},"","",null,8,null,0,8,241]
[null,null,{"$f":"IFERROR(VLOOKUP(D2893,'1_Causas_Levantadas'!C:D,2,0),\"\")","v":0},"","",null,9,null,0,9,241]
[null,null,{"$f":"IFERROR(VLOOKUP(D2894,'1_Causas_Levantadas'!C:D,2,0),\"\")","v":0},"","",null,10,null,0,10,241]
[null,null,{"$f":"IFERROR(VLOOKUP(D2895,'1_Causas_Levantadas'!C:D,2,0),\"\")","v":0},"","",null,11,null,0,11,241]
[null,null,{"$f":"IFERROR(VLOOKUP(D2896,'1_Causas_Levantadas'!C:D,2,0),\"\")","v":0},"","",null,12,null,0,12,241]
[null,null,{"$f":"IFERROR(VLOOKUP(D2897,'1_Causas_Levantadas'!C:D,2,0),\"\")","v":0},"","",null,1,null,1,1,242]
[null,null,{"$f":"IFERROR(VLOOKUP(D2898,'1_Causas_Levantadas'!C:D,2,0),\"\")","v":0},"","",null,2,null,0,2,242]
[null,null,{"$f":"IFERROR(VLOOKUP(D2899,'1_Causas_Levantadas'!C:D,2,0),\"\")","v":0},"","",null,3,null,0,3,242]
[null,null,{"$f":"IFERROR(VLOOKUP(D2900,'1_Causas_Levantadas'!C:D,2,0),\"\")","v":0},"","",null,4,null,0,4,242]
[null,null,{"$f":"IFERROR(VLOOKUP(D2901,'1_Causas_Levantadas'!C:D,2,0),\"\")","v":0},"","",null,5,null,0,5,242]
[null,null,{"$f":"IFERROR(VLOOKUP(D2902,'1_Causas_Levantadas'!C:D,2,0),\"\")","v":0},"","",null,6,null,0,6,242]
[null,null,{"$f":"IFERROR(VLOOKUP(D2903,'1_Causas_Levantadas'!C:D,2,0),\"\")","v":0},"","",null,7,null,0,7,242]
[null,null,{"$f":"IFERROR(VLOOKUP(D2904,'1_Causas_Levantadas'!C:D,2,0),\"\")","v":0},"","",null,8,null,0,8,242]
[null,null,{"$f":"IFERROR(VLOOKUP(D2905,'1_Causas_Levantadas'!C:D,2,0),\"\")","v":0},"","",null,9,null,0,9,242]
[null,null,{"$f":"IFERROR(VLOOKUP(D2906,'1_Causas_Levantadas'!C:D,2,0),\"\")","v":0},"","",null,10,null,0,10,242]
[null,null,{"$f":"IFERROR(VLOOKUP(D2907,'1_Causas_Levantadas'!C:D,2,0),\"\")","v":0},"","",null,11,null,0,11,242]
[null,null,{"$f":"IFERROR(VLOOKUP(D2908,'1_Causas_Levantadas'!C:D,2,0),\"\")","v":0},"","",null,12,null,0,12,242]
[null,null,{"$f":"IFERROR(VLOOKUP(D2909,'1_Causas_Levantadas'!C:D,2,0),\"\")","v":0},"","",null,1,null,1,1,243]
[null,null,{"$f":"IFERROR(VLOOKUP(D2910,'1_Causas_Levantadas'!C:D,2,0),\"\")","v":0},"","",null,2,null,0,2,243]
[null,null,{"$f":"IFERROR(VLOOKUP(D2911,'1_Causas_Levantadas'!C:D,2,0),\"\")","v":0},"","",null,3,null,0,3,243]
[null,null,{"$f":"IFERROR(VLOOKUP(D2912,'1_Causas_Levantadas'!C:D,2,0),\"\")","v":0},"","",null,4,null,0,4,243]
[null,null,{"$f":"IFERROR(VLOOKUP(D2913,'1_Causas_Levantadas'!C:D,2,0),\"\")","v":0},"","",null,5,null,0,5,243]
[null,null,{"$f":"IFERROR(VLOOKUP(D2914,'1_Causas_Levantadas'!C:D,2,0),\"\")","v":0},"","",null,6,null,0,6,243]
[null,null,{"$f":"IFERROR(VLOOKUP(D2915,'1_Causas_Levantadas'!C:D,2,0),\"\")","v":0},"","",null,7,null,0,7,243]
[null,null,{"$f":"IFERROR(VLOOKUP(D2916,'1_Causas_Levantadas'!C:D,2,0),\"\")","v":0},"","",null,8,null,0,8,243]
[null,null,{"$f":"IFERROR(VLOOKUP(D2917,'1_Causas_Levantadas'!C:D,2,0),\"\")","v":0},"","",null,9,null,0,9,243]
[null,null,{"$f":"IFERROR(VLOOKUP(D2918,'1_Causas_Levantadas'!C:D,2,0),\"\")","v":0},"","",null,10,null,0,10,243]
[null,null,{"$f":"IFERROR(VLOOKUP(D2919,'1_Causas_Levantadas'!C:D,2,0),\"\")","v":0},"","",null,11,null,0,11,243]
[null,null,{"$f":"IFERROR(VLOOKUP(D2920,'1_Causas_Levantadas'!C:D,2,0),\"\")","v":0},"","",null,12,null,0,12,243]
[null,null,{"$f":"IFERROR(VLOOKUP(D2921,'1_Causas_Levantadas'!C:D,2,0),\"\")","v":0},"","",null,1,null,1,1,244]
[null,null,{"$f":"IFERROR(VLOOKUP(D2922,'1_Causas_Levantadas'!C:D,2,0),\"\")","v":0},"","",null,2,null,0,2,244]
[null,null,{"$f":"IFERROR(VLOOKUP(D2923,'1_Causas_Levantadas'!C:D,2,0),\"\")","v":0},"","",null,3,null,0,3,244]
[null,null,{"$f":"IFERROR(VLOOKUP(D2924,'1_Causas_Levantadas'!C:D,2,0),\"\")","v":0},"","",null,4,null,0,4,244]
[null,null,{"$f":"IFERROR(VLOOKUP(D2925,'1_Causas_Levantadas'!C:D,2,0),\"\")","v":0},"","",null,5,null,0,5,244]
[null,null,{"$f":"IFERROR(VLOOKUP(D2926,'1_Causas_Levantadas'!C:D,2,0),\"\")","v":0},"","",null,6,null,0,6,244]
[null,null,{"$f":"IFERROR(VLOOKUP(D2927,'1_Causas_Levantadas'!C:D,2,0),\"\")","v":0},"","",null,7,null,0,7,244]
[null,null,{"$f":"IFERROR(VLOOKUP(D2928,'1_Causas_Levantadas'!C:D,2,0),\"\")","v":0},"","",null,8,null,0,8,244]
[null,null,{"$f":"IFERROR(VLOOKUP(D2929,'1_Causas_Levantadas'!C:D,2,0),\"\")","v":0},"","",null,9,null,0,9,244]
[null,null,{"$f":"IFERROR(VLOOKUP(D2930,'1_Causas_Levantadas'!C:D,2,0),\"\")","v":0},"","",null,10,null,0,10,244]
[null,null,{"$f":"IFERROR(VLOOKUP(D2931,'1_Causas_Levantadas'!C:D,2,0),\"\")","v":0},"","",null,11,null,0,11,244]
[null,null,{"$f":"IFERROR(VLOOKUP(D2932,'1_Causas_Levantadas'!C:D,2,0),\"\")","v":0},"","",null,12,null,0,12,244]
[null,null,{"$f":"IFERROR(VLOOKUP(D2933,'1_Causas_Levantadas'!C:D,2,0),\"\")","v":0},"","",null,1,null,1,1,245]
[null,null,{"$f":"IFERROR(VLOOKUP(D2934,'1_Causas_Levantadas'!C:D,2,0),\"\")","v":0},"","",null,2,null,0,2,245]
[null,null,{"$f":"IFERROR(VLOOKUP(D2935,'1_Causas_Levantadas'!C:D,2,0),\"\")","v":0},"","",null,3,null,0,3,245]
[null,null,{"$f":"IFERROR(VLOOKUP(D2936,'1_Causas_Levantadas'!C:D,2,0),\"\")","v":0},"","",null,4,null,0,4,245]
[null,null,{"$f":"IFERROR(VLOOKUP(D2937,'1_Causas_Levantadas'!C:D,2,0),\"\")","v":0},"","",null,5,null,0,5,245]
[null,null,{"$f":"IFERROR(VLOOKUP(D2938,'1_Causas_Levantadas'!C:D,2,0),\"\")","v":0},"","",null,6,null,0,6,245]
[null,null,{"$f":"IFERROR(VLOOKUP(D2939,'1_Causas_Levantadas'!C:D,2,0),\"\")","v":0},"","",null,7,null,0,7,245]
[null,null,{"$f":"IFERROR(VLOOKUP(D2940,'1_Causas_Levantadas'!C:D,2,0),\"\")","v":0},"","",null,8,null,0,8,245]
[null,null,{"$f":"IFERROR(VLOOKUP(D2941,'1_Causas_Levantadas'!C:D,2,0),\"\")","v":0},"","",null,9,null,0,9,245]
[null,null,{"$f":"IFERROR(VLOOKUP(D2942,'1_Causas_Levantadas'!C:D,2,0),\"\")","v":0},"","",null,10,null,0,10,245]
[null,null,{"$f":"IFERROR(VLOOKUP(D2943,'1_Causas_Levantadas'!C:D,2,0),\"\")","v":0},"","",null,11,null,0,11,245]
[null,null,{"$f":"IFERROR(VLOOKUP(D2944,'1_Causas_Levantadas'!C:D,2,0),\"\")","v":0},"","",null,12,null,0,12,245]
[null,null,{"$f":"IFERROR(VLOOKUP(D2945,'1_Causas_Levantadas'!C:D,2,0),\"\")","v":0},"","",null,1,null,1,1,246]
[null,null,{"$f":"IFERROR(VLOOKUP(D2946,'1_Causas_Levantadas'!C:D,2,0),\"\")","v":0},"","",null,2,null,0,2,246]
[null,null,{"$f":"IFERROR(VLOOKUP(D2947,'1_Causas_Levantadas'!C:D,2,0),\"\")","v":0},"","",null,3,null,0,3,246]
[null,null,{"$f":"IFERROR(VLOOKUP(D2948,'1_Causas_Levantadas'!C:D,2,0),\"\")","v":0},"","",null,4,null,0,4,246]
[null,null,{"$f":"IFERROR(VLOOKUP(D2949,'1_Causas_Levantadas'!C:D,2,0),\"\")","v":0},"","",null,5,null,0,5,246]
[null,null,{"$f":"IFERROR(VLOOKUP(D2950,'1_Causas_Levantadas'!C:D,2,0),\"\")","v":0},{"$f":"IF(K2950<=$H$4,(IF(G2949>0,G2950,$G$5)),\"\")","v":""},{"$f":"IF(D2950<>\"\",\"Participante \"&K2950,\"\")","v":""},null,{"$f":"J2950","v":6},null,{"$f":"IF(G2950=$G$5,1,0)","v":0},6,{"$f":"I2950+K2949","v":246}]
[null,null,{"$f":"IFERROR(VLOOKUP(D2951,'1_Causas_Levantadas'!C:D,2,0),\"\")","v":0},"","",null,7,null,0,{"$f":"IF(G2950<$G$4,J2950+1,1)","v":7},246]
[null,null,{"$f":"IFERROR(VLOOKUP(D2952,'1_Causas_Levantadas'!C:D,2,0),\"\")","v":0},"","",null,8,null,0,8,246]
[null,null,{"$f":"IFERROR(VLOOKUP(D2953,'1_Causas_Levantadas'!C:D,2,0),\"\")","v":0},"","",null,9,null,0,9,246]
[null,null,{"$f":"IFERROR(VLOOKUP(D2954,'1_Causas_Levantadas'!C:D,2,0),\"\")","v":0},"","",null,10,null,0,10,246]
[null,null,{"$f":"IFERROR(VLOOKUP(D2955,'1_Causas_Levantadas'!C:D,2,0),\"\")","v":0},"","",null,11,null,0,11,246]
[null,null,{"$f":"IFERROR(VLOOKUP(D2956,'1_Causas_Levantadas'!C:D,2,0),\"\")","v":0},"","",null,12,null,0,12,246]
[null,null,{"$f":"IFERROR(VLOOKUP(D2957,'1_Causas_Levantadas'!C:D,2,0),\"\")","v":0},"","",null,1,null,1,1,247]
[null,null,{"$f":"IFERROR(VLOOKUP(D2958,'1_Causas_Levantadas'!C:D,2,0),\"\")","v":0},"","",null,2,null,0,2,247]
[null,null,{"$f":"IFERROR(VLOOKUP(D2959,'1_Causas_Levantadas'!C:D,2,0),\"\")","v":0},"","",null,3,null,0,3,247]
[null,null,{"$f":"IFERROR(VLOOKUP(D2960,'1_Causas_Levantadas'!C:D,2,0),\"\")","v":0},"","",null,4,null,0,4,247]
[null,null,{"$f":"IFERROR(VLOOKUP(D2961,'1_Causas_Levantadas'!C:D,2,0),\"\")","v":0},"","",null,5,null,0,5,247]
[null,null,{"$f":"IFERROR(VLOOKUP(D2962,'1_Causas_Levantadas'!C:D,2,0),\"\")","v":0},"","",null,6,null,0,6,247]
[null,null,{"$f":"IFERROR(VLOOKUP(D2963,'1_Causas_Levantadas'!C:D,2,0),\"\")","v":0},"","",null,7,null,0,7,247]
[null,null,{"$f":"IFERROR(VLOOKUP(D2964,'1_Causas_Levantadas'!C:D,2,0),\"\")","v":0},"","",null,8,null,0,8,247]
[null,null,{"$f":"IFERROR(VLOOKUP(D2965,'1_Causas_Levantadas'!C:D,2,0),\"\")","v":0},"","",null,9,null,0,9,247]
[null,null,{"$f":"IFERROR(VLOOKUP(D2966,'1_Causas_Levantadas'!C:D,2,0),\"\")","v":0},"","",null,10,null,0,10,247]
[null,null,{"$f":"IFERROR(VLOOKUP(D2967,'1_Causas_Levantadas'!C:D,2,0),\"\")","v":0},"","",null,11,null,0,11,247]
[null,null,{"$f":"IFERROR(VLOOKUP(D2968,'1_Causas_Levantadas'!C:D,2,0),\"\")","v":0},"","",null,12,null,0,12,247]
[null,null,{"$f":"IFERROR(VLOOKUP(D2969,'1_Causas_Levantadas'!C:D,2,0),\"\")","v":0},"","",null,1,null,1,1,248]
[null,null,{"$f":"IFERROR(VLOOKUP(D2970,'1_Causas_Levantadas'!C:D,2,0),\"\")","v":0},"","",null,2,null,0,2,248]
[null,null,{"$f":"IFERROR(VLOOKUP(D2971,'1_Causas_Levantadas'!C:D,2,0),\"\")","v":0},"","",null,3,null,0,3,248]
[null,null,{"$f":"IFERROR(VLOOKUP(D2972,'1_Causas_Levantadas'!C:D,2,0),\"\")","v":0},"","",null,4,null,0,4,248]
[null,null,{"$f":"IFERROR(VLOOKUP(D2973,'1_Causas_Levantadas'!C:D,2,0),\"\")","v":0},"","",null,5,null,0,5,248]
[null,null,{"$f":"IFERROR(VLOOKUP(D2974,'1_Causas_Levantadas'!C:D,2,0),\"\")","v":0},"","",null,6,null,0,6,248]
[null,null,{"$f":"IFERROR(VLOOKUP(D2975,'1_Causas_Levantadas'!C:D,2,0),\"\")","v":0},"","",null,7,null,0,7,248]
[null,null,{"$f":"IFERROR(VLOOKUP(D2976,'1_Causas_Levantadas'!C:D,2,0),\"\")","v":0},"","",null,8,null,0,8,248]
[null,null,{"$f":"IFERROR(VLOOKUP(D2977,'1_Causas_Levantadas'!C:D,2,0),\"\")","v":0},"","",null,9,null,0,9,248]
[null,null,{"$f":"IFERROR(VLOOKUP(D2978,'1_Causas_Levantadas'!C:D,2,0),\"\")","v":0},"","",null,10,null,0,10,248]
[null,null,{"$f":"IFERROR(VLOOKUP(D2979,'1_Causas_Levantadas'!C:D,2,0),\"\")","v":0},"","",null,11,null,0,11,248]
[null,null,{"$f":"IFERROR(VLOOKUP(D2980,'1_Causas_Levantadas'!C:D,2,0),\"\")","v":0},"","",null,12,null,0,12,248]
[null,null,{"$f":"IFERROR(VLOOKUP(D2981,'1_Causas_Levantadas'!C:D,2,0),\"\")","v":0},"","",null,1,null,1,1,249]
[null,null,{"$f":"IFERROR(VLOOKUP(D2982,'1_Causas_Levantadas'!C:D,2,0),\"\")","v":0},"","",null,2,null,0,2,249]
[null,null,{"$f":"IFERROR(VLOOKUP(D2983,'1_Causas_Levantadas'!C:D,2,0),\"\")","v":0},"","",null,3,null,0,3,249]
[null,null,{"$f":"IFERROR(VLOOKUP(D2984,'1_Causas_Levantadas'!C:D,2,0),\"\")","v":0},"","",null,4,null,0,4,249]
[null,null,{"$f":"IFERROR(VLOOKUP(D2985,'1_Causas_Levantadas'!C:D,2,0),\"\")","v":0},"","",null,5,null,0,5,249]
[null,null,{"$f":"IFERROR(VLOOKUP(D2986,'1_Causas_Levantadas'!C:D,2,0),\"\")","v":0},"","",null,6,null,0,6,249]
[null,null,{"$f":"IFERROR(VLOOKUP(D2987,'1_Causas_Levantadas'!C:D,2,0),\"\")","v":0},"","",null,7,null,0,7,249]
[null,null,{"$f":"IFERROR(VLOOKUP(D2988,'1_Causas_Levantadas'!C:D,2,0),\"\")","v":0},"","",null,8,null,0,8,249]
[null,null,{"$f":"IFERROR(VLOOKUP(D2989,'1_Causas_Levantadas'!C:D,2,0),\"\")","v":0},"","",null,9,null,0,9,249]
[null,null,{"$f":"IFERROR(VLOOKUP(D2990,'1_Causas_Levantadas'!C:D,2,0),\"\")","v":0},"","",null,10,null,0,10,249]
[null,null,{"$f":"IFERROR(VLOOKUP(D2991,'1_Causas_Levantadas'!C:D,2,0),\"\")","v":0},"","",null,11,null,0,11,249]
[null,null,{"$f":"IFERROR(VLOOKUP(D2992,'1_Causas_Levantadas'!C:D,2,0),\"\")","v":0},"","",null,12,null,0,12,249]
[null,null,{"$f":"IFERROR(VLOOKUP(D2993,'1_Causas_Levantadas'!C:D,2,0),\"\")","v":0},"","",null,1,null,1,1,250]
[null,null,{"$f":"IFERROR(VLOOKUP(D2994,'1_Causas_Levantadas'!C:D,2,0),\"\")","v":0},"","",null,2,null,0,2,250]
[null,null,{"$f":"IFERROR(VLOOKUP(D2995,'1_Causas_Levantadas'!C:D,2,0),\"\")","v":0},"","",null,3,null,0,3,250]
[null,null,{"$f":"IFERROR(VLOOKUP(D2996,'1_Causas_Levantadas'!C:D,2,0),\"\")","v":0},"","",null,4,null,0,4,250]
[null,null,{"$f":"IFERROR(VLOOKUP(D2997,'1_Causas_Levantadas'!C:D,2,0),\"\")","v":0},"","",null,5,null,0,5,250]
[null,null,{"$f":"IFERROR(VLOOKUP(D2998,'1_Causas_Levantadas'!C:D,2,0),\"\")","v":0},"","",null,6,null,0,6,250]
[null,null,{"$f":"IFERROR(VLOOKUP(D2999,'1_Causas_Levantadas'!C:D,2,0),\"\")","v":0},"","",null,7,null,0,7,250]
[null,null,{"$f":"IFERROR(VLOOKUP(D3000,'1_Causas_Levantadas'!C:D,2,0),\"\")","v":0},"","",null,8,null,0,8,250]
[null,null,{"$f":"IFERROR(VLOOKUP(D3001,'1_Causas_Levantadas'!C:D,2,0),\"\")","v":0},"","",null,9,null,0,9,250]
[null,null,{"$f":"IFERROR(VLOOKUP(D3002,'1_Causas_Levantadas'!C:D,2,0),\"\")","v":0},"","",null,10,null,0,10,250]
[null,null,{"$f":"IFERROR(VLOOKUP(D3003,'1_Causas_Levantadas'!C:D,2,0),\"\")","v":0},"","",null,11,null,0,11,250]
[null,null,{"$f":"IFERROR(VLOOKUP(D3004,'1_Causas_Levantadas'!C:D,2,0),\"\")","v":0},"","",null,12,null,0,12,250]
[null,null,{"$f":"IFERROR(VLOOKUP(D3005,'1_Causas_Levantadas'!C:D,2,0),\"\")","v":0},"","",null,1,null,1,1,251]
[null,null,{"$f":"IFERROR(VLOOKUP(D3006,'1_Causas_Levantadas'!C:D,2,0),\"\")","v":0},"","",null,2,null,0,2,251]
[null,null,{"$f":"IFERROR(VLOOKUP(D3007,'1_Causas_Levantadas'!C:D,2,0),\"\")","v":0},"","",null,3,null,0,3,251]
[null,null,{"$f":"IFERROR(VLOOKUP(D3008,'1_Causas_Levantadas'!C:D,2,0),\"\")","v":0},"","",null,4,null,0,4,251]
[null,null,{"$f":"IFERROR(VLOOKUP(D3009,'1_Causas_Levantadas'!C:D,2,0),\"\")","v":0},"","",null,5,null,0,5,251]
[null,null,{"$f":"IFERROR(VLOOKUP(D3010,'1_Causas_Levantadas'!C:D,2,0),\"\")","v":0},"","",null,6,null,0,6,251]
[null,null,{"$f":"IFERROR(VLOOKUP(D3011,'1_Causas_Levantadas'!C:D,2,0),\"\")","v":0},"","",null,7,null,0,7,251]
[null,null,{"$f":"IFERROR(VLOOKUP(D3012,'1_Causas_Levantadas'!C:D,2,0),\"\")","v":0},"","",null,8,null,0,8,251]
[null,null,{"$f":"IFERROR(VLOOKUP(D3013,'1_Causas_Levantadas'!C:D,2,0),\"\")","v":0},"","",null,9,null,0,9,251]
[null,null,{"$f":"IFERROR(VLOOKUP(D3014,'1_Causas_Levantadas'!C:D,2,0),\"\")","v":0},{"$f":"IF(K3014<=$H$4,(IF(G3013>0,G3014,$G$5)),\"\")","v":""},{"$f":"IF(D3014<>\"\",\"Participante \"&K3014,\"\")","v":""},null,{"$f":"J3014","v":10},null,{"$f":"IF(G3014=$G$5,1,0)","v":0},10,{"$f":"I3014+K3013","v":251}]
[null,null,{"$f":"IFERROR(VLOOKUP(D3015,'1_Causas_Levantadas'!C:D,2,0),\"\")","v":0},"","",null,11,null,0,{"$f":"IF(G3014<$G$4,J3014+1,1)","v":11},251]
[null,null,{"$f":"IFERROR(VLOOKUP(D3016,'1_Causas_Levantadas'!C:D,2,0),\"\")","v":0},"","",null,12,null,0,12,251]
[null,null,{"$f":"IFERROR(VLOOKUP(D3017,'1_Causas_Levantadas'!C:D,2,0),\"\")","v":0},"","",null,1,null,1,1,252]
[null,null,{"$f":"IFERROR(VLOOKUP(D3018,'1_Causas_Levantadas'!C:D,2,0),\"\")","v":0},"","",null,2,null,0,2,252]
[null,null,{"$f":"IFERROR(VLOOKUP(D3019,'1_Causas_Levantadas'!C:D,2,0),\"\")","v":0},"","",null,3,null,0,3,252]
[null,null,{"$f":"IFERROR(VLOOKUP(D3020,'1_Causas_Levantadas'!C:D,2,0),\"\")","v":0},"","",null,4,null,0,4,252]
[null,null,{"$f":"IFERROR(VLOOKUP(D3021,'1_Causas_Levantadas'!C:D,2,0),\"\")","v":0},"","",null,5,null,0,5,252]
[null,null,{"$f":"IFERROR(VLOOKUP(D3022,'1_Causas_Levantadas'!C:D,2,0),\"\")","v":0},"","",null,6,null,0,6,252]
[null,null,{"$f":"IFERROR(VLOOKUP(D3023,'1_Causas_Levantadas'!C:D,2,0),\"\")","v":0},"","",null,7,null,0,7,252]
[null,null,{"$f":"IFERROR(VLOOKUP(D3024,'1_Causas_Levantadas'!C:D,2,0),\"\")","v":0},"","",null,8,null,0,8,252]
[null,null,{"$f":"IFERROR(VLOOKUP(D3025,'1_Causas_Levantadas'!C:D,2,0),\"\")","v":0},"","",null,9,null,0,9,252]
[null,null,{"$f":"IFERROR(VLOOKUP(D3026,'1_Causas_Levantadas'!C:D,2,0),\"\")","v":0},"","",null,10,null,0,10,252]
[null,null,{"$f":"IFERROR(VLOOKUP(D3027,'1_Causas_Levantadas'!C:D,2,0),\"\")","v":0},"","",null,11,null,0,11,252]
[null,null,{"$f":"IFERROR(VLOOKUP(D3028,'1_Causas_Levantadas'!C:D,2,0),\"\")","v":0},"","",null,12,null,0,12,252]
[null,null,{"$f":"IFERROR(VLOOKUP(D3029,'1_Causas_Levantadas'!C:D,2,0),\"\")","v":0},"","",null,1,null,1,1,253]
[null,null,{"$f":"IFERROR(VLOOKUP(D3030,'1_Causas_Levantadas'!C:D,2,0),\"\")","v":0},"","",null,2,null,0,2,253]
[null,null,{"$f":"IFERROR(VLOOKUP(D3031,'1_Causas_Levantadas'!C:D,2,0),\"\")","v":0},"","",null,3,null,0,3,253]
[null,null,{"$f":"IFERROR(VLOOKUP(D3032,'1_Causas_Levantadas'!C:D,2,0),\"\")","v":0},"","",null,4,null,0,4,253]
[null,null,{"$f":"IFERROR(VLOOKUP(D3033,'1_Causas_Levantadas'!C:D,2,0),\"\")","v":0},"","",null,5,null,0,5,253]
[null,null,{"$f":"IFERROR(VLOOKUP(D3034,'1_Causas_Levantadas'!C:D,2,0),\"\")","v":0},"","",null,6,null,0,6,253]
[null,null,{"$f":"IFERROR(VLOOKUP(D3035,'1_Causas_Levantadas'!C:D,2,0),\"\")","v":0},"","",null,7,null,0,7,253]
[null,null,{"$f":"IFERROR(VLOOKUP(D3036,'1_Causas_Levantadas'!C:D,2,0),\"\")","v":0},"","",null,8,null,0,8,253]
[null,null,{"$f":"IFERROR(VLOOKUP(D3037,'1_Causas_Levantadas'!C:D,2,0),\"\")","v":0},"","",null,9,null,0,9,253]
[null,null,{"$f":"IFERROR(VLOOKUP(D3038,'1_Causas_Levantadas'!C:D,2,0),\"\")","v":0},"","",null,10,null,0,10,253]
[null,null,{"$f":"IFERROR(VLOOKUP(D3039,'1_Causas_Levantadas'!C:D,2,0),\"\")","v":0},"","",null,11,null,0,11,253]
[null,null,{"$f":"IFERROR(VLOOKUP(D3040,'1_Causas_Levantadas'!C:D,2,0),\"\")","v":0},"","",null,12,null,0,12,253]
[null,null,{"$f":"IFERROR(VLOOKUP(D3041,'1_Causas_Levantadas'!C:D,2,0),\"\")","v":0},"","",null,1,null,1,1,254]
[null,null,{"$f":"IFERROR(VLOOKUP(D3042,'1_Causas_Levantadas'!C:D,2,0),\"\")","v":0},"","",null,2,null,0,2,254]
[null,null,{"$f":"IFERROR(VLOOKUP(D3043,'1_Causas_Levantadas'!C:D,2,0),\"\")","v":0},"","",null,3,null,0,3,254]
[null,null,{"$f":"IFERROR(VLOOKUP(D3044,'1_Causas_Levantadas'!C:D,2,0),\"\")","v":0},"","",null,4,null,0,4,254]
[null,null,{"$f":"IFERROR(VLOOKUP(D3045,'1_Causas_Levantadas'!C:D,2,0),\"\")","v":0},"","",null,5,null,0,5,254]
[null,null,{"$f":"IFERROR(VLOOKUP(D3046,'1_Causas_Levantadas'!C:D,2,0),\"\")","v":0},"","",null,6,null,0,6,254]
[null,null,{"$f":"IFERROR(VLOOKUP(D3047,'1_Causas_Levantadas'!C:D,2,0),\"\")","v":0},"","",null,7,null,0,7,254]
[null,null,{"$f":"IFERROR(VLOOKUP(D3048,'1_Causas_Levantadas'!C:D,2,0),\"\")","v":0},"","",null,8,null,0,8,254]
[null,null,{"$f":"IFERROR(VLOOKUP(D3049,'1_Causas_Levantadas'!C:D,2,0),\"\")","v":0},"","",null,9,null,0,9,254]
[null,null,{"$f":"IFERROR(VLOOKUP(D3050,'1_Causas_Levantadas'!C:D,2,0),\"\")","v":0},"","",null,10,null,0,10,254]
[null,null,{"$f":"IFERROR(VLOOKUP(D3051,'1_Causas_Levantadas'!C:D,2,0),\"\")","v":0},"","",null,11,null,0,11,254]
[null,null,{"$f":"IFERROR(VLOOKUP(D3052,'1_Causas_Levantadas'!C:D,2,0),\"\")","v":0},"","",null,12,null,0,12,254]
[null,null,{"$f":"IFERROR(VLOOKUP(D3053,'1_Causas_Levantadas'!C:D,2,0),\"\")","v":0},"","",null,1,null,1,1,255]
[null,null,{"$f":"IFERROR(VLOOKUP(D3054,'1_Causas_Levantadas'!C:D,2,0),\"\")","v":0},"","",null,2,null,0,2,255]
[null,null,{"$f":"IFERROR(VLOOKUP(D3055,'1_Causas_Levantadas'!C:D,2,0),\"\")","v":0},"","",null,3,null,0,3,255]
[null,null,{"$f":"IFERROR(VLOOKUP(D3056,'1_Causas_Levantadas'!C:D,2,0),\"\")","v":0},"","",null,4,null,0,4,255]
[null,null,{"$f":"IFERROR(VLOOKUP(D3057,'1_Causas_Levantadas'!C:D,2,0),\"\")","v":0},"","",null,5,null,0,5,255]
[null,null,{"$f":"IFERROR(VLOOKUP(D3058,'1_Causas_Levantadas'!C:D,2,0),\"\")","v":0},"","",null,6,null,0,6,255]
[null,null,{"$f":"IFERROR(VLOOKUP(D3059,'1_Causas_Levantadas'!C:D,2,0),\"\")","v":0},"","",null,7,null,0,7,255]
[null,null,{"$f":"IFERROR(VLOOKUP(D3060,'1_Causas_Levantadas'!C:D,2,0),\"\")","v":0},"","",null,8,null,0,8,255]
[null,null,{"$f":"IFERROR(VLOOKUP(D3061,'1_Causas_Levantadas'!C:D,2,0),\"\")","v":0},"","",null,9,null,0,9,255]
[null,null,{"$f":"IFERROR(VLOOKUP(D3062,'1_Causas_Levantadas'!C:D,2,0),\"\")","v":0},"","",null,10,null,0,10,255]
[null,null,{"$f":"IFERROR(VLOOKUP(D3063,'1_Causas_Levantadas'!C:D,2,0),\"\")","v":0},"","",null,11,null,0,11,255]
[null,null,{"$f":"IFERROR(VLOOKUP(D3064,'1_Causas_Levantadas'!C:D,2,0),\"\")","v":0},"","",null,12,null,0,12,255]
[null,null,{"$f":"IFERROR(VLOOKUP(D3065,'1_Causas_Levantadas'!C:D,2,0),\"\")","v":0},"","",null,1,null,1,1,256]
[null,null,{"$f":"IFERROR(VLOOKUP(D3066,'1_Causas_Levantadas'!C:D,2,0),\"\")","v":0},"","",null,2,null,0,2,256]
[null,null,{"$f":"IFERROR(VLOOKUP(D3067,'1_Causas_Levantadas'!C:D,2,0),\"\")","v":0},"","",null,3,null,0,3,256]
[null,null,{"$f":"IFERROR(VLOOKUP(D3068,'1_Causas_Levantadas'!C:D,2,0),\"\")","v":0},"","",null,4,null,0,4,256]
[null,null,{"$f":"IFERROR(VLOOKUP(D3069,'1_Causas_Levantadas'!C:D,2,0),\"\")","v":0},"","",null,5,null,0,5,256]
[null,null,{"$f":"IFERROR(VLOOKUP(D3070,'1_Causas_Levantadas'!C:D,2,0),\"\")","v":0},"","",null,6,null,0,6,256]
[null,null,{"$f":"IFERROR(VLOOKUP(D3071,'1_Causas_Levantadas'!C:D,2,0),\"\")","v":0},"","",null,7,null,0,7,256]
[null,null,{"$f":"IFERROR(VLOOKUP(D3072,'1_Causas_Levantadas'!C:D,2,0),\"\")","v":0},"","",null,8,null,0,8,256]
[null,null,{"$f":"IFERROR(VLOOKUP(D3073,'1_Causas_Levantadas'!C:D,2,0),\"\")","v":0},"","",null,9,null,0,9,256]
[null,null,{"$f":"IFERROR(VLOOKUP(D3074,'1_Causas_Levantadas'!C:D,2,0),\"\")","v":0},"","",null,10,null,0,10,256]
[null,null,{"$f":"IFERROR(VLOOKUP(D3075,'1_Causas_Levantadas'!C:D,2,0),\"\")","v":0},"","",null,11,null,0,11,256]
[null,null,{"$f":"IFERROR(VLOOKUP(D3076,'1_Causas_Levantadas'!C:D,2,0),\"\")","v":0},"","",null,12,null,0,12,256]
[null,null,{"$f":"IFERROR(VLOOKUP(D3077,'1_Causas_Levantadas'!C:D,2,0),\"\")","v":0},"","",null,1,null,1,1,257]
[null,null,{"$f":"IFERROR(VLOOKUP(D3078,'1_Causas_Levantadas'!C:D,2,0),\"\")","v":0},{"$f":"IF(K3078<=$H$4,(IF(G3077>0,G3078,$G$5)),\"\")","v":""},{"$f":"IF(D3078<>\"\",\"Participante \"&K3078,\"\")","v":""},null,{"$f":"J3078","v":2},null,{"$f":"IF(G3078=$G$5,1,0)","v":0},2,{"$f":"I3078+K3077","v":257}]
[null,null,{"$f":"IFERROR(VLOOKUP(D3079,'1_Causas_Levantadas'!C:D,2,0),\"\")","v":0},"","",null,3,null,0,{"$f":"IF(G3078<$G$4,J3078+1,1)","v":3},257]
[null,null,{"$f":"IFERROR(VLOOKUP(D3080,'1_Causas_Levantadas'!C:D,2,0),\"\")","v":0},"","",null,4,null,0,4,257]
[null,null,{"$f":"IFERROR(VLOOKUP(D3081,'1_Causas_Levantadas'!C:D,2,0),\"\")","v":0},"","",null,5,null,0,5,257]
[null,null,{"$f":"IFERROR(VLOOKUP(D3082,'1_Causas_Levantadas'!C:D,2,0),\"\")","v":0},"","",null,6,null,0,6,257]
[null,null,{"$f":"IFERROR(VLOOKUP(D3083,'1_Causas_Levantadas'!C:D,2,0),\"\")","v":0},"","",null,7,null,0,7,257]
[null,null,{"$f":"IFERROR(VLOOKUP(D3084,'1_Causas_Levantadas'!C:D,2,0),\"\")","v":0},"","",null,8,null,0,8,257]
[null,null,{"$f":"IFERROR(VLOOKUP(D3085,'1_Causas_Levantadas'!C:D,2,0),\"\")","v":0},"","",null,9,null,0,9,257]
[null,null,{"$f":"IFERROR(VLOOKUP(D3086,'1_Causas_Levantadas'!C:D,2,0),\"\")","v":0},"","",null,10,null,0,10,257]
[null,null,{"$f":"IFERROR(VLOOKUP(D3087,'1_Causas_Levantadas'!C:D,2,0),\"\")","v":0},"","",null,11,null,0,11,257]
[null,null,{"$f":"IFERROR(VLOOKUP(D3088,'1_Causas_Levantadas'!C:D,2,0),\"\")","v":0},"","",null,12,null,0,12,257]
[null,null,{"$f":"IFERROR(VLOOKUP(D3089,'1_Causas_Levantadas'!C:D,2,0),\"\")","v":0},"","",null,1,null,1,1,258]
[null,null,{"$f":"IFERROR(VLOOKUP(D3090,'1_Causas_Levantadas'!C:D,2,0),\"\")","v":0},"","",null,2,null,0,2,258]
[null,null,{"$f":"IFERROR(VLOOKUP(D3091,'1_Causas_Levantadas'!C:D,2,0),\"\")","v":0},"","",null,3,null,0,3,258]
[null,null,{"$f":"IFERROR(VLOOKUP(D3092,'1_Causas_Levantadas'!C:D,2,0),\"\")","v":0},"","",null,4,null,0,4,258]
[null,null,{"$f":"IFERROR(VLOOKUP(D3093,'1_Causas_Levantadas'!C:D,2,0),\"\")","v":0},"","",null,5,null,0,5,258]
[null,null,{"$f":"IFERROR(VLOOKUP(D3094,'1_Causas_Levantadas'!C:D,2,0),\"\")","v":0},"","",null,6,null,0,6,258]
[null,null,{"$f":"IFERROR(VLOOKUP(D3095,'1_Causas_Levantadas'!C:D,2,0),\"\")","v":0},"","",null,7,null,0,7,258]
[null,null,{"$f":"IFERROR(VLOOKUP(D3096,'1_Causas_Levantadas'!C:D,2,0),\"\")","v":0},"","",null,8,null,0,8,258]
[null,null,{"$f":"IFERROR(VLOOKUP(D3097,'1_Causas_Levantadas'!C:D,2,0),\"\")","v":0},"","",null,9,null,0,9,258]
[null,null,{"$f":"IFERROR(VLOOKUP(D3098,'1_Causas_Levantadas'!C:D,2,0),\"\")","v":0},"","",null,10,null,0,10,258]
[null,null,{"$f":"IFERROR(VLOOKUP(D3099,'1_Causas_Levantadas'!C:D,2,0),\"\")","v":0},"","",null,11,null,0,11,258]
[null,null,{"$f":"IFERROR(VLOOKUP(D3100,'1_Causas_Levantadas'!C:D,2,0),\"\")","v":0},"","",null,12,null,0,12,258]
[null,null,{"$f":"IFERROR(VLOOKUP(D3101,'1_Causas_Levantadas'!C:D,2,0),\"\")","v":0},"","",null,1,null,1,1,259]
[null,null,{"$f":"IFERROR(VLOOKUP(D3102,'1_Causas_Levantadas'!C:D,2,0),\"\")","v":0},"","",null,2,null,0,2,259]
[null,null,{"$f":"IFERROR(VLOOKUP(D3103,'1_Causas_Levantadas'!C:D,2,0),\"\")","v":0},"","",null,3,null,0,3,259]
[null,null,{"$f":"IFERROR(VLOOKUP(D3104,'1_Causas_Levantadas'!C:D,2,0),\"\")","v":0},"","",null,4,null,0,4,259]
[null,null,{"$f":"IFERROR(VLOOKUP(D3105,'1_Causas_Levantadas'!C:D,2,0),\"\")","v":0},"","",null,5,null,0,5,259]
[null,null,{"$f":"IFERROR(VLOOKUP(D3106,'1_Causas_Levantadas'!C:D,2,0),\"\")","v":0},"","",null,6,null,0,6,259]
[null,null,{"$f":"IFERROR(VLOOKUP(D3107,'1_Causas_Levantadas'!C:D,2,0),\"\")","v":0},"","",null,7,null,0,7,259]
[null,null,{"$f":"IFERROR(VLOOKUP(D3108,'1_Causas_Levantadas'!C:D,2,0),\"\")","v":0},"","",null,8,null,0,8,259]
[null,null,{"$f":"IFERROR(VLOOKUP(D3109,'1_Causas_Levantadas'!C:D,2,0),\"\")","v":0},"","",null,9,null,0,9,259]
[null,null,{"$f":"IFERROR(VLOOKUP(D3110,'1_Causas_Levantadas'!C:D,2,0),\"\")","v":0},"","",null,10,null,0,10,259]
[null,null,{"$f":"IFERROR(VLOOKUP(D3111,'1_Causas_Levantadas'!C:D,2,0),\"\")","v":0},"","",null,11,null,0,11,259]
[null,null,{"$f":"IFERROR(VLOOKUP(D3112,'1_Causas_Levantadas'!C:D,2,0),\"\")","v":0},"","",null,12,null,0,12,259]
[null,null,{"$f":"IFERROR(VLOOKUP(D3113,'1_Causas_Levantadas'!C:D,2,0),\"\")","v":0},"","",null,1,null,1,1,260]
[null,null,{"$f":"IFERROR(VLOOKUP(D3114,'1_Causas_Levantadas'!C:D,2,0),\"\")","v":0},"","",null,2,null,0,2,260]
[null,null,{"$f":"IFERROR(VLOOKUP(D3115,'1_Causas_Levantadas'!C:D,2,0),\"\")","v":0},"","",null,3,null,0,3,260]
[null,null,{"$f":"IFERROR(VLOOKUP(D3116,'1_Causas_Levantadas'!C:D,2,0),\"\")","v":0},"","",null,4,null,0,4,260]
[null,null,{"$f":"IFERROR(VLOOKUP(D3117,'1_Causas_Levantadas'!C:D,2,0),\"\")","v":0},"","",null,5,null,0,5,260]
[null,null,{"$f":"IFERROR(VLOOKUP(D3118,'1_Causas_Levantadas'!C:D,2,0),\"\")","v":0},"","",null,6,null,0,6,260]
[null,null,{"$f":"IFERROR(VLOOKUP(D3119,'1_Causas_Levantadas'!C:D,2,0),\"\")","v":0},"","",null,7,null,0,7,260]
[null,null,{"$f":"IFERROR(VLOOKUP(D3120,'1_Causas_Levantadas'!C:D,2,0),\"\")","v":0},"","",null,8,null,0,8,260]
[null,null,{"$f":"IFERROR(VLOOKUP(D3121,'1_Causas_Levantadas'!C:D,2,0),\"\")","v":0},"","",null,9,null,0,9,260]
[null,null,{"$f":"IFERROR(VLOOKUP(D3122,'1_Causas_Levantadas'!C:D,2,0),\"\")","v":0},"","",null,10,null,0,10,260]
[null,null,{"$f":"IFERROR(VLOOKUP(D3123,'1_Causas_Levantadas'!C:D,2,0),\"\")","v":0},"","",null,11,null,0,11,260]
[null,null,{"$f":"IFERROR(VLOOKUP(D3124,'1_Causas_Levantadas'!C:D,2,0),\"\")","v":0},"","",null,12,null,0,12,260]
[null,null,{"$f":"IFERROR(VLOOKUP(D3125,'1_Causas_Levantadas'!C:D,2,0),\"\")","v":0},"","",null,1,null,1,1,261]
[null,null,{"$f":"IFERROR(VLOOKUP(D3126,'1_Causas_Levantadas'!C:D,2,0),\"\")","v":0},"","",null,2,null,0,2,261]
[null,null,{"$f":"IFERROR(VLOOKUP(D3127,'1_Causas_Levantadas'!C:D,2,0),\"\")","v":0},"","",null,3,null,0,3,261]
[null,null,{"$f":"IFERROR(VLOOKUP(D3128,'1_Causas_Levantadas'!C:D,2,0),\"\")","v":0},"","",null,4,null,0,4,261]
[null,null,{"$f":"IFERROR(VLOOKUP(D3129,'1_Causas_Levantadas'!C:D,2,0),\"\")","v":0},"","",null,5,null,0,5,261]
[null,null,{"$f":"IFERROR(VLOOKUP(D3130,'1_Causas_Levantadas'!C:D,2,0),\"\")","v":0},"","",null,6,null,0,6,261]
[null,null,{"$f":"IFERROR(VLOOKUP(D3131,'1_Causas_Levantadas'!C:D,2,0),\"\")","v":0},"","",null,7,null,0,7,261]
[null,null,{"$f":"IFERROR(VLOOKUP(D3132,'1_Causas_Levantadas'!C:D,2,0),\"\")","v":0},"","",null,8,null,0,8,261]
[null,null,{"$f":"IFERROR(VLOOKUP(D3133,'1_Causas_Levantadas'!C:D,2,0),\"\")","v":0},"","",null,9,null,0,9,261]
[null,null,{"$f":"IFERROR(VLOOKUP(D3134,'1_Causas_Levantadas'!C:D,2,0),\"\")","v":0},"","",null,10,null,0,10,261]
[null,null,{"$f":"IFERROR(VLOOKUP(D3135,'1_Causas_Levantadas'!C:D,2,0),\"\")","v":0},"","",null,11,null,0,11,261]
[null,null,{"$f":"IFERROR(VLOOKUP(D3136,'1_Causas_Levantadas'!C:D,2,0),\"\")","v":0},"","",null,12,null,0,12,261]
[null,null,{"$f":"IFERROR(VLOOKUP(D3137,'1_Causas_Levantadas'!C:D,2,0),\"\")","v":0},"","",null,1,null,1,1,262]
[null,null,{"$f":"IFERROR(VLOOKUP(D3138,'1_Causas_Levantadas'!C:D,2,0),\"\")","v":0},"","",null,2,null,0,2,262]
[null,null,{"$f":"IFERROR(VLOOKUP(D3139,'1_Causas_Levantadas'!C:D,2,0),\"\")","v":0},"","",null,3,null,0,3,262]
[null,null,{"$f":"IFERROR(VLOOKUP(D3140,'1_Causas_Levantadas'!C:D,2,0),\"\")","v":0},"","",null,4,null,0,4,262]
[null,null,{"$f":"IFERROR(VLOOKUP(D3141,'1_Causas_Levantadas'!C:D,2,0),\"\")","v":0},"","",null,5,null,0,5,262]
[null,null,{"$f":"IFERROR(VLOOKUP(D3142,'1_Causas_Levantadas'!C:D,2,0),\"\")","v":0},{"$f":"IF(K3142<=$H$4,(IF(G3141>0,G3142,$G$5)),\"\")","v":""},{"$f":"IF(D3142<>\"\",\"Participante \"&K3142,\"\")","v":""},null,{"$f":"J3142","v":6},null,{"$f":"IF(G3142=$G$5,1,0)","v":0},6,{"$f":"I3142+K3141","v":262}]
[null,null,{"$f":"IFERROR(VLOOKUP(D3143,'1_Causas_Levantadas'!C:D,2,0),\"\")","v":0},"","",null,7,null,0,{"$f":"IF(G3142<$G$4,J3142+1,1)","v":7},262]
[null,null,{"$f":"IFERROR(VLOOKUP(D3144,'1_Causas_Levantadas'!C:D,2,0),\"\")","v":0},"","",null,8,null,0,8,262]
[null,null,{"$f":"IFERROR(VLOOKUP(D3145,'1_Causas_Levantadas'!C:D,2,0),\"\")","v":0},"","",null,9,null,0,9,262]
[null,null,{"$f":"IFERROR(VLOOKUP(D3146,'1_Causas_Levantadas'!C:D,2,0),\"\")","v":0},"","",null,10,null,0,10,262]
[null,null,{"$f":"IFERROR(VLOOKUP(D3147,'1_Causas_Levantadas'!C:D,2,0),\"\")","v":0},"","",null,11,null,0,11,262]
[null,null,{"$f":"IFERROR(VLOOKUP(D3148,'1_Causas_Levantadas'!C:D,2,0),\"\")","v":0},"","",null,12,null,0,12,262]
[null,null,{"$f":"IFERROR(VLOOKUP(D3149,'1_Causas_Levantadas'!C:D,2,0),\"\")","v":0},"","",null,1,null,1,1,263]
[null,null,{"$f":"IFERROR(VLOOKUP(D3150,'1_Causas_Levantadas'!C:D,2,0),\"\")","v":0},"","",null,2,null,0,2,263]
[null,null,{"$f":"IFERROR(VLOOKUP(D3151,'1_Causas_Levantadas'!C:D,2,0),\"\")","v":0},"","",null,3,null,0,3,263]
[null,null,{"$f":"IFERROR(VLOOKUP(D3152,'1_Causas_Levantadas'!C:D,2,0),\"\")","v":0},"","",null,4,null,0,4,263]
[null,null,{"$f":"IFERROR(VLOOKUP(D3153,'1_Causas_Levantadas'!C:D,2,0),\"\")","v":0},"","",null,5,null,0,5,263]
[null,null,{"$f":"IFERROR(VLOOKUP(D3154,'1_Causas_Levantadas'!C:D,2,0),\"\")","v":0},"","",null,6,null,0,6,263]
[null,null,{"$f":"IFERROR(VLOOKUP(D3155,'1_Causas_Levantadas'!C:D,2,0),\"\")","v":0},"","",null,7,null,0,7,263]
[null,null,{"$f":"IFERROR(VLOOKUP(D3156,'1_Causas_Levantadas'!C:D,2,0),\"\")","v":0},"","",null,8,null,0,8,263]
[null,null,{"$f":"IFERROR(VLOOKUP(D3157,'1_Causas_Levantadas'!C:D,2,0),\"\")","v":0},"","",null,9,null,0,9,263]
[null,null,{"$f":"IFERROR(VLOOKUP(D3158,'1_Causas_Levantadas'!C:D,2,0),\"\")","v":0},"","",null,10,null,0,10,263]
[null,null,{"$f":"IFERROR(VLOOKUP(D3159,'1_Causas_Levantadas'!C:D,2,0),\"\")","v":0},"","",null,11,null,0,11,263]
[null,null,{"$f":"IFERROR(VLOOKUP(D3160,'1_Causas_Levantadas'!C:D,2,0),\"\")","v":0},"","",null,12,null,0,12,263]
[null,null,{"$f":"IFERROR(VLOOKUP(D3161,'1_Causas_Levantadas'!C:D,2,0),\"\")","v":0},"","",null,1,null,1,1,264]
[null,null,{"$f":"IFERROR(VLOOKUP(D3162,'1_Causas_Levantadas'!C:D,2,0),\"\")","v":0},"","",null,2,null,0,2,264]
[null,null,{"$f":"IFERROR(VLOOKUP(D3163,'1_Causas_Levantadas'!C:D,2,0),\"\")","v":0},"","",null,3,null,0,3,264]
[null,null,{"$f":"IFERROR(VLOOKUP(D3164,'1_Causas_Levantadas'!C:D,2,0),\"\")","v":0},"","",null,4,null,0,4,264]
[null,null,{"$f":"IFERROR(VLOOKUP(D3165,'1_Causas_Levantadas'!C:D,2,0),\"\")","v":0},"","",null,5,null,0,5,264]
[null,null,{"$f":"IFERROR(VLOOKUP(D3166,'1_Causas_Levantadas'!C:D,2,0),\"\")","v":0},"","",null,6,null,0,6,264]
[null,null,{"$f":"IFERROR(VLOOKUP(D3167,'1_Causas_Levantadas'!C:D,2,0),\"\")","v":0},"","",null,7,null,0,7,264]
[null,null,{"$f":"IFERROR(VLOOKUP(D3168,'1_Causas_Levantadas'!C:D,2,0),\"\")","v":0},"","",null,8,null,0,8,264]
[null,null,{"$f":"IFERROR(VLOOKUP(D3169,'1_Causas_Levantadas'!C:D,2,0),\"\")","v":0},"","",null,9,null,0,9,264]
[null,null,{"$f":"IFERROR(VLOOKUP(D3170,'1_Causas_Levantadas'!C:D,2,0),\"\")","v":0},"","",null,10,null,0,10,264]
[null,null,{"$f":"IFERROR(VLOOKUP(D3171,'1_Causas_Levantadas'!C:D,2,0),\"\")","v":0},"","",null,11,null,0,11,264]
[null,null,{"$f":"IFERROR(VLOOKUP(D3172,'1_Causas_Levantadas'!C:D,2,0),\"\")","v":0},"","",null,12,null,0,12,264]
[null,null,{"$f":"IFERROR(VLOOKUP(D3173,'1_Causas_Levantadas'!C:D,2,0),\"\")","v":0},"","",null,1,null,1,1,265]
[null,null,{"$f":"IFERROR(VLOOKUP(D3174,'1_Causas_Levantadas'!C:D,2,0),\"\")","v":0},"","",null,2,null,0,2,265]
[null,null,{"$f":"IFERROR(VLOOKUP(D3175,'1_Causas_Levantadas'!C:D,2,0),\"\")","v":0},"","",null,3,null,0,3,265]
[null,null,{"$f":"IFERROR(VLOOKUP(D3176,'1_Causas_Levantadas'!C:D,2,0),\"\")","v":0},"","",null,4,null,0,4,265]
[null,null,{"$f":"IFERROR(VLOOKUP(D3177,'1_Causas_Levantadas'!C:D,2,0),\"\")","v":0},"","",null,5,null,0,5,265]
[null,null,{"$f":"IFERROR(VLOOKUP(D3178,'1_Causas_Levantadas'!C:D,2,0),\"\")","v":0},"","",null,6,null,0,6,265]
[null,null,{"$f":"IFERROR(VLOOKUP(D3179,'1_Causas_Levantadas'!C:D,2,0),\"\")","v":0},"","",null,7,null,0,7,265]
[null,null,{"$f":"IFERROR(VLOOKUP(D3180,'1_Causas_Levantadas'!C:D,2,0),\"\")","v":0},"","",null,8,null,0,8,265]
[null,null,{"$f":"IFERROR(VLOOKUP(D3181,'1_Causas_Levantadas'!C:D,2,0),\"\")","v":0},"","",null,9,null,0,9,265]
[null,null,{"$f":"IFERROR(VLOOKUP(D3182,'1_Causas_Levantadas'!C:D,2,0),\"\")","v":0},"","",null,10,null,0,10,265]
[null,null,{"$f":"IFERROR(VLOOKUP(D3183,'1_Causas_Levantadas'!C:D,2,0),\"\")","v":0},"","",null,11,null,0,11,265]
[null,null,{"$f":"IFERROR(VLOOKUP(D3184,'1_Causas_Levantadas'!C:D,2,0),\"\")","v":0},"","",null,12,null,0,12,265]
[null,null,{"$f":"IFERROR(VLOOKUP(D3185,'1_Causas_Levantadas'!C:D,2,0),\"\")","v":0},"","",null,1,null,1,1,266]
[null,null,{"$f":"IFERROR(VLOOKUP(D3186,'1_Causas_Levantadas'!C:D,2,0),\"\")","v":0},"","",null,2,null,0,2,266]
[null,null,{"$f":"IFERROR(VLOOKUP(D3187,'1_Causas_Levantadas'!C:D,2,0),\"\")","v":0},"","",null,3,null,0,3,266]
[null,null,{"$f":"IFERROR(VLOOKUP(D3188,'1_Causas_Levantadas'!C:D,2,0),\"\")","v":0},"","",null,4,null,0,4,266]
[null,null,{"$f":"IFERROR(VLOOKUP(D3189,'1_Causas_Levantadas'!C:D,2,0),\"\")","v":0},"","",null,5,null,0,5,266]
[null,null,{"$f":"IFERROR(VLOOKUP(D3190,'1_Causas_Levantadas'!C:D,2,0),\"\")","v":0},"","",null,6,null,0,6,266]
[null,null,{"$f":"IFERROR(VLOOKUP(D3191,'1_Causas_Levantadas'!C:D,2,0),\"\")","v":0},"","",null,7,null,0,7,266]
[null,null,{"$f":"IFERROR(VLOOKUP(D3192,'1_Causas_Levantadas'!C:D,2,0),\"\")","v":0},"","",null,8,null,0,8,266]
[null,null,{"$f":"IFERROR(VLOOKUP(D3193,'1_Causas_Levantadas'!C:D,2,0),\"\")","v":0},"","",null,9,null,0,9,266]
[null,null,{"$f":"IFERROR(VLOOKUP(D3194,'1_Causas_Levantadas'!C:D,2,0),\"\")","v":0},"","",null,10,null,0,10,266]
[null,null,{"$f":"IFERROR(VLOOKUP(D3195,'1_Causas_Levantadas'!C:D,2,0),\"\")","v":0},"","",null,11,null,0,11,266]
[null,null,{"$f":"IFERROR(VLOOKUP(D3196,'1_Causas_Levantadas'!C:D,2,0),\"\")","v":0},"","",null,12,null,0,12,266]
[null,null,{"$f":"IFERROR(VLOOKUP(D3197,'1_Causas_Levantadas'!C:D,2,0),\"\")","v":0},"","",null,1,null,1,1,267]
[null,null,{"$f":"IFERROR(VLOOKUP(D3198,'1_Causas_Levantadas'!C:D,2,0),\"\")","v":0},"","",null,2,null,0,2,267]
[null,null,{"$f":"IFERROR(VLOOKUP(D3199,'1_Causas_Levantadas'!C:D,2,0),\"\")","v":0},"","",null,3,null,0,3,267]
[null,null,{"$f":"IFERROR(VLOOKUP(D3200,'1_Causas_Levantadas'!C:D,2,0),\"\")","v":0},"","",null,4,null,0,4,267]
[null,null,{"$f":"IFERROR(VLOOKUP(D3201,'1_Causas_Levantadas'!C:D,2,0),\"\")","v":0},"","",null,5,null,0,5,267]
[null,null,{"$f":"IFERROR(VLOOKUP(D3202,'1_Causas_Levantadas'!C:D,2,0),\"\")","v":0},"","",null,6,null,0,6,267]
[null,null,{"$f":"IFERROR(VLOOKUP(D3203,'1_Causas_Levantadas'!C:D,2,0),\"\")","v":0},"","",null,7,null,0,7,267]
[null,null,{"$f":"IFERROR(VLOOKUP(D3204,'1_Causas_Levantadas'!C:D,2,0),\"\")","v":0},"","",null,8,null,0,8,267]
[null,null,{"$f":"IFERROR(VLOOKUP(D3205,'1_Causas_Levantadas'!C:D,2,0),\"\")","v":0},"","",null,9,null,0,9,267]
[null,null,{"$f":"IFERROR(VLOOKUP(D3206,'1_Causas_Levantadas'!C:D,2,0),\"\")","v":0},{"$f":"IF(K3206<=$H$4,(IF(G3205>0,G3206,$G$5)),\"\")","v":""},{"$f":"IF(D3206<>\"\",\"Participante \"&K3206,\"\")","v":""},null,{"$f":"J3206","v":10},null,{"$f":"IF(G3206=$G$5,1,0)","v":0},10,{"$f":"I3206+K3205","v":267}]
[null,null,{"$f":"IFERROR(VLOOKUP(D3207,'1_Causas_Levantadas'!C:D,2,0),\"\")","v":0},"","",null,11,null,0,{"$f":"IF(G3206<$G$4,J3206+1,1)","v":11},267]
[null,null,{"$f":"IFERROR(VLOOKUP(D3208,'1_Causas_Levantadas'!C:D,2,0),\"\")","v":0},"","",null,12,null,0,12,267]
[null,null,{"$f":"IFERROR(VLOOKUP(D3209,'1_Causas_Levantadas'!C:D,2,0),\"\")","v":0},"","",null,1,null,1,1,268]
[null,null,{"$f":"IFERROR(VLOOKUP(D3210,'1_Causas_Levantadas'!C:D,2,0),\"\")","v":0},"","",null,2,null,0,2,268]
[null,null,{"$f":"IFERROR(VLOOKUP(D3211,'1_Causas_Levantadas'!C:D,2,0),\"\")","v":0},"","",null,3,null,0,3,268]
[null,null,{"$f":"IFERROR(VLOOKUP(D3212,'1_Causas_Levantadas'!C:D,2,0),\"\")","v":0},"","",null,4,null,0,4,268]
[null,null,{"$f":"IFERROR(VLOOKUP(D3213,'1_Causas_Levantadas'!C:D,2,0),\"\")","v":0},"","",null,5,null,0,5,268]
[null,null,{"$f":"IFERROR(VLOOKUP(D3214,'1_Causas_Levantadas'!C:D,2,0),\"\")","v":0},"","",null,6,null,0,6,268]
[null,null,{"$f":"IFERROR(VLOOKUP(D3215,'1_Causas_Levantadas'!C:D,2,0),\"\")","v":0},"","",null,7,null,0,7,268]
[null,null,{"$f":"IFERROR(VLOOKUP(D3216,'1_Causas_Levantadas'!C:D,2,0),\"\")","v":0},"","",null,8,null,0,8,268]
[null,null,{"$f":"IFERROR(VLOOKUP(D3217,'1_Causas_Levantadas'!C:D,2,0),\"\")","v":0},"","",null,9,null,0,9,268]
[null,null,{"$f":"IFERROR(VLOOKUP(D3218,'1_Causas_Levantadas'!C:D,2,0),\"\")","v":0},"","",null,10,null,0,10,268]
[null,null,{"$f":"IFERROR(VLOOKUP(D3219,'1_Causas_Levantadas'!C:D,2,0),\"\")","v":0},"","",null,11,null,0,11,268]
[null,null,{"$f":"IFERROR(VLOOKUP(D3220,'1_Causas_Levantadas'!C:D,2,0),\"\")","v":0},"","",null,12,null,0,12,268]
[null,null,{"$f":"IFERROR(VLOOKUP(D3221,'1_Causas_Levantadas'!C:D,2,0),\"\")","v":0},"","",null,1,null,1,1,269]
[null,null,{"$f":"IFERROR(VLOOKUP(D3222,'1_Causas_Levantadas'!C:D,2,0),\"\")","v":0},"","",null,2,null,0,2,269]
[null,null,{"$f":"IFERROR(VLOOKUP(D3223,'1_Causas_Levantadas'!C:D,2,0),\"\")","v":0},"","",null,3,null,0,3,269]
[null,null,{"$f":"IFERROR(VLOOKUP(D3224,'1_Causas_Levantadas'!C:D,2,0),\"\")","v":0},"","",null,4,null,0,4,269]
[null,null,{"$f":"IFERROR(VLOOKUP(D3225,'1_Causas_Levantadas'!C:D,2,0),\"\")","v":0},"","",null,5,null,0,5,269]
[null,null,{"$f":"IFERROR(VLOOKUP(D3226,'1_Causas_Levantadas'!C:D,2,0),\"\")","v":0},"","",null,6,null,0,6,269]
[null,null,{"$f":"IFERROR(VLOOKUP(D3227,'1_Causas_Levantadas'!C:D,2,0),\"\")","v":0},"","",null,7,null,0,7,269]
[null,null,{"$f":"IFERROR(VLOOKUP(D3228,'1_Causas_Levantadas'!C:D,2,0),\"\")","v":0},"","",null,8,null,0,8,269]
[null,null,{"$f":"IFERROR(VLOOKUP(D3229,'1_Causas_Levantadas'!C:D,2,0),\"\")","v":0},"","",null,9,null,0,9,269]
[null,null,{"$f":"IFERROR(VLOOKUP(D3230,'1_Causas_Levantadas'!C:D,2,0),\"\")","v":0},"","",null,10,null,0,10,269]
[null,null,{"$f":"IFERROR(VLOOKUP(D3231,'1_Causas_Levantadas'!C:D,2,0),\"\")","v":0},"","",null,11,null,0,11,269]
[null,null,{"$f":"IFERROR(VLOOKUP(D3232,'1_Causas_Levantadas'!C:D,2,0),\"\")","v":0},"","",null,12,null,0,12,269]
[null,null,{"$f":"IFERROR(VLOOKUP(D3233,'1_Causas_Levantadas'!C:D,2,0),\"\")","v":0},"","",null,1,null,1,1,270]
[null,null,{"$f":"IFERROR(VLOOKUP(D3234,'1_Causas_Levantadas'!C:D,2,0),\"\")","v":0},"","",null,2,null,0,2,270]
[null,null,{"$f":"IFERROR(VLOOKUP(D3235,'1_Causas_Levantadas'!C:D,2,0),\"\")","v":0},"","",null,3,null,0,3,270]
[null,null,{"$f":"IFERROR(VLOOKUP(D3236,'1_Causas_Levantadas'!C:D,2,0),\"\")","v":0},"","",null,4,null,0,4,270]
[null,null,{"$f":"IFERROR(VLOOKUP(D3237,'1_Causas_Levantadas'!C:D,2,0),\"\")","v":0},"","",null,5,null,0,5,270]
[null,null,{"$f":"IFERROR(VLOOKUP(D3238,'1_Causas_Levantadas'!C:D,2,0),\"\")","v":0},"","",null,6,null,0,6,270]
[null,null,{"$f":"IFERROR(VLOOKUP(D3239,'1_Causas_Levantadas'!C:D,2,0),\"\")","v":0},"","",null,7,null,0,7,270]
[null,null,{"$f":"IFERROR(VLOOKUP(D3240,'1_Causas_Levantadas'!C:D,2,0),\"\")","v":0},"","",null,8,null,0,8,270]
[null,null,{"$f":"IFERROR(VLOOKUP(D3241,'1_Causas_Levantadas'!C:D,2,0),\"\")","v":0},"","",null,9,null,0,9,270]
[null,null,{"$f":"IFERROR(VLOOKUP(D3242,'1_Causas_Levantadas'!C:D,2,0),\"\")","v":0},"","",null,10,null,0,10,270]
[null,null,{"$f":"IFERROR(VLOOKUP(D3243,'1_Causas_Levantadas'!C:D,2,0),\"\")","v":0},"","",null,11,null,0,11,270]
[null,null,{"$f":"IFERROR(VLOOKUP(D3244,'1_Causas_Levantadas'!C:D,2,0),\"\")","v":0},"","",null,12,null,0,12,270]
[null,null,{"$f":"IFERROR(VLOOKUP(D3245,'1_Causas_Levantadas'!C:D,2,0),\"\")","v":0},"","",null,1,null,1,1,271]
[null,null,{"$f":"IFERROR(VLOOKUP(D3246,'1_Causas_Levantadas'!C:D,2,0),\"\")","v":0},"","",null,2,null,0,2,271]
[null,null,{"$f":"IFERROR(VLOOKUP(D3247,'1_Causas_Levantadas'!C:D,2,0),\"\")","v":0},"","",null,3,null,0,3,271]
[null,null,{"$f":"IFERROR(VLOOKUP(D3248,'1_Causas_Levantadas'!C:D,2,0),\"\")","v":0},"","",null,4,null,0,4,271]
[null,null,{"$f":"IFERROR(VLOOKUP(D3249,'1_Causas_Levantadas'!C:D,2,0),\"\")","v":0},"","",null,5,null,0,5,271]
[null,null,{"$f":"IFERROR(VLOOKUP(D3250,'1_Causas_Levantadas'!C:D,2,0),\"\")","v":0},"","",null,6,null,0,6,271]
[null,null,{"$f":"IFERROR(VLOOKUP(D3251,'1_Causas_Levantadas'!C:D,2,0),\"\")","v":0},"","",null,7,null,0,7,271]
[null,null,{"$f":"IFERROR(VLOOKUP(D3252,'1_Causas_Levantadas'!C:D,2,0),\"\")","v":0},"","",null,8,null,0,8,271]
[null,null,{"$f":"IFERROR(VLOOKUP(D3253,'1_Causas_Levantadas'!C:D,2,0),\"\")","v":0},"","",null,9,null,0,9,271]
[null,null,{"$f":"IFERROR(VLOOKUP(D3254,'1_Causas_Levantadas'!C:D,2,0),\"\")","v":0},"","",null,10,null,0,10,271]
[null,null,{"$f":"IFERROR(VLOOKUP(D3255,'1_Causas_Levantadas'!C:D,2,0),\"\")","v":0},"","",null,11,null,0,11,271]
[null,null,{"$f":"IFERROR(VLOOKUP(D3256,'1_Causas_Levantadas'!C:D,2,0),\"\")","v":0},"","",null,12,null,0,12,271]
[null,null,{"$f":"IFERROR(VLOOKUP(D3257,'1_Causas_Levantadas'!C:D,2,0),\"\")","v":0},"","",null,1,null,1,1,272]
[null,null,{"$f":"IFERROR(VLOOKUP(D3258,'1_Causas_Levantadas'!C:D,2,0),\"\")","v":0},"","",null,2,null,0,2,272]
[null,null,{"$f":"IFERROR(VLOOKUP(D3259,'1_Causas_Levantadas'!C:D,2,0),\"\")","v":0},"","",null,3,null,0,3,272]
[null,null,{"$f":"IFERROR(VLOOKUP(D3260,'1_Causas_Levantadas'!C:D,2,0),\"\")","v":0},"","",null,4,null,0,4,272]
[null,null,{"$f":"IFERROR(VLOOKUP(D3261,'1_Causas_Levantadas'!C:D,2,0),\"\")","v":0},"","",null,5,null,0,5,272]
[null,null,{"$f":"IFERROR(VLOOKUP(D3262,'1_Causas_Levantadas'!C:D,2,0),\"\")","v":0},"","",null,6,null,0,6,272]
[null,null,{"$f":"IFERROR(VLOOKUP(D3263,'1_Causas_Levantadas'!C:D,2,0),\"\")","v":0},"","",null,7,null,0,7,272]
[null,null,{"$f":"IFERROR(VLOOKUP(D3264,'1_Causas_Levantadas'!C:D,2,0),\"\")","v":0},"","",null,8,null,0,8,272]
[null,null,{"$f":"IFERROR(VLOOKUP(D3265,'1_Causas_Levantadas'!C:D,2,0),\"\")","v":0},"","",null,9,null,0,9,272]
[null,null,{"$f":"IFERROR(VLOOKUP(D3266,'1_Causas_Levantadas'!C:D,2,0),\"\")","v":0},"","",null,10,null,0,10,272]
[null,null,{"$f":"IFERROR(VLOOKUP(D3267,'1_Causas_Levantadas'!C:D,2,0),\"\")","v":0},"","",null,11,null,0,11,272]
[null,null,{"$f":"IFERROR(VLOOKUP(D3268,'1_Causas_Levantadas'!C:D,2,0),\"\")","v":0},"","",null,12,null,0,12,272]
[null,null,{"$f":"IFERROR(VLOOKUP(D3269,'1_Causas_Levantadas'!C:D,2,0),\"\")","v":0},"","",null,1,null,1,1,273]
[null,null,{"$f":"IFERROR(VLOOKUP(D3270,'1_Causas_Levantadas'!C:D,2,0),\"\")","v":0},{"$f":"IF(K3270<=$H$4,(IF(G3269>0,G3270,$G$5)),\"\")","v":""},{"$f":"IF(D3270<>\"\",\"Participante \"&K3270,\"\")","v":""},null,{"$f":"J3270","v":2},null,{"$f":"IF(G3270=$G$5,1,0)","v":0},2,{"$f":"I3270+K3269","v":273}]
[null,null,{"$f":"IFERROR(VLOOKUP(D3271,'1_Causas_Levantadas'!C:D,2,0),\"\")","v":0},"","",null,3,null,0,{"$f":"IF(G3270<$G$4,J3270+1,1)","v":3},273]
[null,null,{"$f":"IFERROR(VLOOKUP(D3272,'1_Causas_Levantadas'!C:D,2,0),\"\")","v":0},"","",null,4,null,0,4,273]
[null,null,{"$f":"IFERROR(VLOOKUP(D3273,'1_Causas_Levantadas'!C:D,2,0),\"\")","v":0},"","",null,5,null,0,5,273]
[null,null,{"$f":"IFERROR(VLOOKUP(D3274,'1_Causas_Levantadas'!C:D,2,0),\"\")","v":0},"","",null,6,null,0,6,273]
[null,null,{"$f":"IFERROR(VLOOKUP(D3275,'1_Causas_Levantadas'!C:D,2,0),\"\")","v":0},"","",null,7,null,0,7,273]
[null,null,{"$f":"IFERROR(VLOOKUP(D3276,'1_Causas_Levantadas'!C:D,2,0),\"\")","v":0},"","",null,8,null,0,8,273]
[null,null,{"$f":"IFERROR(VLOOKUP(D3277,'1_Causas_Levantadas'!C:D,2,0),\"\")","v":0},"","",null,9,null,0,9,273]
[null,null,{"$f":"IFERROR(VLOOKUP(D3278,'1_Causas_Levantadas'!C:D,2,0),\"\")","v":0},"","",null,10,null,0,10,273]
[null,null,{"$f":"IFERROR(VLOOKUP(D3279,'1_Causas_Levantadas'!C:D,2,0),\"\")","v":0},"","",null,11,null,0,11,273]
[null,null,{"$f":"IFERROR(VLOOKUP(D3280,'1_Causas_Levantadas'!C:D,2,0),\"\")","v":0},"","",null,12,null,0,12,273]
[null,null,{"$f":"IFERROR(VLOOKUP(D3281,'1_Causas_Levantadas'!C:D,2,0),\"\")","v":0},"","",null,1,null,1,1,274]
[null,null,{"$f":"IFERROR(VLOOKUP(D3282,'1_Causas_Levantadas'!C:D,2,0),\"\")","v":0},"","",null,2,null,0,2,274]
[null,null,{"$f":"IFERROR(VLOOKUP(D3283,'1_Causas_Levantadas'!C:D,2,0),\"\")","v":0},"","",null,3,null,0,3,274]
[null,null,{"$f":"IFERROR(VLOOKUP(D3284,'1_Causas_Levantadas'!C:D,2,0),\"\")","v":0},"","",null,4,null,0,4,274]
[null,null,{"$f":"IFERROR(VLOOKUP(D3285,'1_Causas_Levantadas'!C:D,2,0),\"\")","v":0},"","",null,5,null,0,5,274]
[null,null,{"$f":"IFERROR(VLOOKUP(D3286,'1_Causas_Levantadas'!C:D,2,0),\"\")","v":0},"","",null,6,null,0,6,274]
[null,null,{"$f":"IFERROR(VLOOKUP(D3287,'1_Causas_Levantadas'!C:D,2,0),\"\")","v":0},"","",null,7,null,0,7,274]
[null,null,{"$f":"IFERROR(VLOOKUP(D3288,'1_Causas_Levantadas'!C:D,2,0),\"\")","v":0},"","",null,8,null,0,8,274]
[null,null,{"$f":"IFERROR(VLOOKUP(D3289,'1_Causas_Levantadas'!C:D,2,0),\"\")","v":0},"","",null,9,null,0,9,274]
[null,null,{"$f":"IFERROR(VLOOKUP(D3290,'1_Causas_Levantadas'!C:D,2,0),\"\")","v":0},"","",null,10,null,0,10,274]
[null,null,{"$f":"IFERROR(VLOOKUP(D3291,'1_Causas_Levantadas'!C:D,2,0),\"\")","v":0},"","",null,11,null,0,11,274]
[null,null,{"$f":"IFERROR(VLOOKUP(D3292,'1_Causas_Levantadas'!C:D,2,0),\"\")","v":0},"","",null,12,null,0,12,274]
[null,null,{"$f":"IFERROR(VLOOKUP(D3293,'1_Causas_Levantadas'!C:D,2,0),\"\")","v":0},"","",null,1,null,1,1,275]
[null,null,{"$f":"IFERROR(VLOOKUP(D3294,'1_Causas_Levantadas'!C:D,2,0),\"\")","v":0},"","",null,2,null,0,2,275]
[null,null,{"$f":"IFERROR(VLOOKUP(D3295,'1_Causas_Levantadas'!C:D,2,0),\"\")","v":0},"","",null,3,null,0,3,275]
[null,null,{"$f":"IFERROR(VLOOKUP(D3296,'1_Causas_Levantadas'!C:D,2,0),\"\")","v":0},"","",null,4,null,0,4,275]
[null,null,{"$f":"IFERROR(VLOOKUP(D3297,'1_Causas_Levantadas'!C:D,2,0),\"\")","v":0},"","",null,5,null,0,5,275]
[null,null,{"$f":"IFERROR(VLOOKUP(D3298,'1_Causas_Levantadas'!C:D,2,0),\"\")","v":0},"","",null,6,null,0,6,275]
[null,null,{"$f":"IFERROR(VLOOKUP(D3299,'1_Causas_Levantadas'!C:D,2,0),\"\")","v":0},"","",null,7,null,0,7,275]
[null,null,{"$f":"IFERROR(VLOOKUP(D3300,'1_Causas_Levantadas'!C:D,2,0),\"\")","v":0},"","",null,8,null,0,8,275]
[null,null,{"$f":"IFERROR(VLOOKUP(D3301,'1_Causas_Levantadas'!C:D,2,0),\"\")","v":0},"","",null,9,null,0,9,275]
[null,null,{"$f":"IFERROR(VLOOKUP(D3302,'1_Causas_Levantadas'!C:D,2,0),\"\")","v":0},"","",null,10,null,0,10,275]
[null,null,{"$f":"IFERROR(VLOOKUP(D3303,'1_Causas_Levantadas'!C:D,2,0),\"\")","v":0},"","",null,11,null,0,11,275]
[null,null,{"$f":"IFERROR(VLOOKUP(D3304,'1_Causas_Levantadas'!C:D,2,0),\"\")","v":0},"","",null,12,null,0,12,275]
[null,null,{"$f":"IFERROR(VLOOKUP(D3305,'1_Causas_Levantadas'!C:D,2,0),\"\")","v":0},"","",null,1,null,1,1,276]
[null,null,{"$f":"IFERROR(VLOOKUP(D3306,'1_Causas_Levantadas'!C:D,2,0),\"\")","v":0},"","",null,2,null,0,2,276]
[null,null,{"$f":"IFERROR(VLOOKUP(D3307,'1_Causas_Levantadas'!C:D,2,0),\"\")","v":0},"","",null,3,null,0,3,276]
[null,null,{"$f":"IFERROR(VLOOKUP(D3308,'1_Causas_Levantadas'!C:D,2,0),\"\")","v":0},"","",null,4,null,0,4,276]
[null,null,{"$f":"IFERROR(VLOOKUP(D3309,'1_Causas_Levantadas'!C:D,2,0),\"\")","v":0},"","",null,5,null,0,5,276]
[null,null,{"$f":"IFERROR(VLOOKUP(D3310,'1_Causas_Levantadas'!C:D,2,0),\"\")","v":0},"","",null,6,null,0,6,276]
[null,null,{"$f":"IFERROR(VLOOKUP(D3311,'1_Causas_Levantadas'!C:D,2,0),\"\")","v":0},"","",null,7,null,0,7,276]
[null,null,{"$f":"IFERROR(VLOOKUP(D3312,'1_Causas_Levantadas'!C:D,2,0),\"\")","v":0},"","",null,8,null,0,8,276]
[null,null,{"$f":"IFERROR(VLOOKUP(D3313,'1_Causas_Levantadas'!C:D,2,0),\"\")","v":0},"","",null,9,null,0,9,276]
[null,null,{"$f":"IFERROR(VLOOKUP(D3314,'1_Causas_Levantadas'!C:D,2,0),\"\")","v":0},"","",null,10,null,0,10,276]
[null,null,{"$f":"IFERROR(VLOOKUP(D3315,'1_Causas_Levantadas'!C:D,2,0),\"\")","v":0},"","",null,11,null,0,11,276]
[null,null,{"$f":"IFERROR(VLOOKUP(D3316,'1_Causas_Levantadas'!C:D,2,0),\"\")","v":0},"","",null,12,null,0,12,276]
[null,null,{"$f":"IFERROR(VLOOKUP(D3317,'1_Causas_Levantadas'!C:D,2,0),\"\")","v":0},"","",null,1,null,1,1,277]
[null,null,{"$f":"IFERROR(VLOOKUP(D3318,'1_Causas_Levantadas'!C:D,2,0),\"\")","v":0},"","",null,2,null,0,2,277]
[null,null,{"$f":"IFERROR(VLOOKUP(D3319,'1_Causas_Levantadas'!C:D,2,0),\"\")","v":0},"","",null,3,null,0,3,277]
[null,null,{"$f":"IFERROR(VLOOKUP(D3320,'1_Causas_Levantadas'!C:D,2,0),\"\")","v":0},"","",null,4,null,0,4,277]
[null,null,{"$f":"IFERROR(VLOOKUP(D3321,'1_Causas_Levantadas'!C:D,2,0),\"\")","v":0},"","",null,5,null,0,5,277]
[null,null,{"$f":"IFERROR(VLOOKUP(D3322,'1_Causas_Levantadas'!C:D,2,0),\"\")","v":0},"","",null,6,null,0,6,277]
[null,null,{"$f":"IFERROR(VLOOKUP(D3323,'1_Causas_Levantadas'!C:D,2,0),\"\")","v":0},"","",null,7,null,0,7,277]
[null,null,{"$f":"IFERROR(VLOOKUP(D3324,'1_Causas_Levantadas'!C:D,2,0),\"\")","v":0},"","",null,8,null,0,8,277]
[null,null,{"$f":"IFERROR(VLOOKUP(D3325,'1_Causas_Levantadas'!C:D,2,0),\"\")","v":0},"","",null,9,null,0,9,277]
[null,null,{"$f":"IFERROR(VLOOKUP(D3326,'1_Causas_Levantadas'!C:D,2,0),\"\")","v":0},"","",null,10,null,0,10,277]
[null,null,{"$f":"IFERROR(VLOOKUP(D3327,'1_Causas_Levantadas'!C:D,2,0),\"\")","v":0},"","",null,11,null,0,11,277]
[null,null,{"$f":"IFERROR(VLOOKUP(D3328,'1_Causas_Levantadas'!C:D,2,0),\"\")","v":0},"","",null,12,null,0,12,277]
[null,null,{"$f":"IFERROR(VLOOKUP(D3329,'1_Causas_Levantadas'!C:D,2,0),\"\")","v":0},"","",null,1,null,1,1,278]
[null,null,{"$f":"IFERROR(VLOOKUP(D3330,'1_Causas_Levantadas'!C:D,2,0),\"\")","v":0},"","",null,2,null,0,2,278]
[null,null,{"$f":"IFERROR(VLOOKUP(D3331,'1_Causas_Levantadas'!C:D,2,0),\"\")","v":0},"","",null,3,null,0,3,278]
[null,null,{"$f":"IFERROR(VLOOKUP(D3332,'1_Causas_Levantadas'!C:D,2,0),\"\")","v":0},"","",null,4,null,0,4,278]
[null,null,{"$f":"IFERROR(VLOOKUP(D3333,'1_Causas_Levantadas'!C:D,2,0),\"\")","v":0},"","",null,5,null,0,5,278]
[null,null,{"$f":"IFERROR(VLOOKUP(D3334,'1_Causas_Levantadas'!C:D,2,0),\"\")","v":0},{"$f":"IF(K3334<=$H$4,(IF(G3333>0,G3334,$G$5)),\"\")","v":""},{"$f":"IF(D3334<>\"\",\"Participante \"&K3334,\"\")","v":""},null,{"$f":"J3334","v":6},null,{"$f":"IF(G3334=$G$5,1,0)","v":0},6,{"$f":"I3334+K3333","v":278}]
[null,null,{"$f":"IFERROR(VLOOKUP(D3335,'1_Causas_Levantadas'!C:D,2,0),\"\")","v":0},"","",null,7,null,0,{"$f":"IF(G3334<$G$4,J3334+1,1)","v":7},278]
[null,null,{"$f":"IFERROR(VLOOKUP(D3336,'1_Causas_Levantadas'!C:D,2,0),\"\")","v":0},"","",null,8,null,0,8,278]
[null,null,{"$f":"IFERROR(VLOOKUP(D3337,'1_Causas_Levantadas'!C:D,2,0),\"\")","v":0},"","",null,9,null,0,9,278]
[null,null,{"$f":"IFERROR(VLOOKUP(D3338,'1_Causas_Levantadas'!C:D,2,0),\"\")","v":0},"","",null,10,null,0,10,278]
[null,null,{"$f":"IFERROR(VLOOKUP(D3339,'1_Causas_Levantadas'!C:D,2,0),\"\")","v":0},"","",null,11,null,0,11,278]
[null,null,{"$f":"IFERROR(VLOOKUP(D3340,'1_Causas_Levantadas'!C:D,2,0),\"\")","v":0},"","",null,12,null,0,12,278]
[null,null,{"$f":"IFERROR(VLOOKUP(D3341,'1_Causas_Levantadas'!C:D,2,0),\"\")","v":0},"","",null,1,null,1,1,279]
[null,null,{"$f":"IFERROR(VLOOKUP(D3342,'1_Causas_Levantadas'!C:D,2,0),\"\")","v":0},"","",null,2,null,0,2,279]
[null,null,{"$f":"IFERROR(VLOOKUP(D3343,'1_Causas_Levantadas'!C:D,2,0),\"\")","v":0},"","",null,3,null,0,3,279]
[null,null,{"$f":"IFERROR(VLOOKUP(D3344,'1_Causas_Levantadas'!C:D,2,0),\"\")","v":0},"","",null,4,null,0,4,279]
[null,null,{"$f":"IFERROR(VLOOKUP(D3345,'1_Causas_Levantadas'!C:D,2,0),\"\")","v":0},"","",null,5,null,0,5,279]
[null,null,{"$f":"IFERROR(VLOOKUP(D3346,'1_Causas_Levantadas'!C:D,2,0),\"\")","v":0},"","",null,6,null,0,6,279]
[null,null,{"$f":"IFERROR(VLOOKUP(D3347,'1_Causas_Levantadas'!C:D,2,0),\"\")","v":0},"","",null,7,null,0,7,279]
[null,null,{"$f":"IFERROR(VLOOKUP(D3348,'1_Causas_Levantadas'!C:D,2,0),\"\")","v":0},"","",null,8,null,0,8,279]
[null,null,{"$f":"IFERROR(VLOOKUP(D3349,'1_Causas_Levantadas'!C:D,2,0),\"\")","v":0},"","",null,9,null,0,9,279]
[null,null,{"$f":"IFERROR(VLOOKUP(D3350,'1_Causas_Levantadas'!C:D,2,0),\"\")","v":0},"","",null,10,null,0,10,279]
[null,null,{"$f":"IFERROR(VLOOKUP(D3351,'1_Causas_Levantadas'!C:D,2,0),\"\")","v":0},"","",null,11,null,0,11,279]
[null,null,{"$f":"IFERROR(VLOOKUP(D3352,'1_Causas_Levantadas'!C:D,2,0),\"\")","v":0},"","",null,12,null,0,12,279]
[null,null,{"$f":"IFERROR(VLOOKUP(D3353,'1_Causas_Levantadas'!C:D,2,0),\"\")","v":0},"","",null,1,null,1,1,280]
[null,null,{"$f":"IFERROR(VLOOKUP(D3354,'1_Causas_Levantadas'!C:D,2,0),\"\")","v":0},"","",null,2,null,0,2,280]
[null,null,{"$f":"IFERROR(VLOOKUP(D3355,'1_Causas_Levantadas'!C:D,2,0),\"\")","v":0},"","",null,3,null,0,3,280]
[null,null,{"$f":"IFERROR(VLOOKUP(D3356,'1_Causas_Levantadas'!C:D,2,0),\"\")","v":0},"","",null,4,null,0,4,280]
[null,null,{"$f":"IFERROR(VLOOKUP(D3357,'1_Causas_Levantadas'!C:D,2,0),\"\")","v":0},"","",null,5,null,0,5,280]
[null,null,{"$f":"IFERROR(VLOOKUP(D3358,'1_Causas_Levantadas'!C:D,2,0),\"\")","v":0},"","",null,6,null,0,6,280]
[null,null,{"$f":"IFERROR(VLOOKUP(D3359,'1_Causas_Levantadas'!C:D,2,0),\"\")","v":0},"","",null,7,null,0,7,280]
[null,null,{"$f":"IFERROR(VLOOKUP(D3360,'1_Causas_Levantadas'!C:D,2,0),\"\")","v":0},"","",null,8,null,0,8,280]
[null,null,{"$f":"IFERROR(VLOOKUP(D3361,'1_Causas_Levantadas'!C:D,2,0),\"\")","v":0},"","",null,9,null,0,9,280]
[null,null,{"$f":"IFERROR(VLOOKUP(D3362,'1_Causas_Levantadas'!C:D,2,0),\"\")","v":0},"","",null,10,null,0,10,280]
[null,null,{"$f":"IFERROR(VLOOKUP(D3363,'1_Causas_Levantadas'!C:D,2,0),\"\")","v":0},"","",null,11,null,0,11,280]
[null,null,{"$f":"IFERROR(VLOOKUP(D3364,'1_Causas_Levantadas'!C:D,2,0),\"\")","v":0},"","",null,12,null,0,12,280]
[null,null,{"$f":"IFERROR(VLOOKUP(D3365,'1_Causas_Levantadas'!C:D,2,0),\"\")","v":0},"","",null,1,null,1,1,281]
[null,null,{"$f":"IFERROR(VLOOKUP(D3366,'1_Causas_Levantadas'!C:D,2,0),\"\")","v":0},"","",null,2,null,0,2,281]
[null,null,{"$f":"IFERROR(VLOOKUP(D3367,'1_Causas_Levantadas'!C:D,2,0),\"\")","v":0},"","",null,3,null,0,3,281]
[null,null,{"$f":"IFERROR(VLOOKUP(D3368,'1_Causas_Levantadas'!C:D,2,0),\"\")","v":0},"","",null,4,null,0,4,281]
[null,null,{"$f":"IFERROR(VLOOKUP(D3369,'1_Causas_Levantadas'!C:D,2,0),\"\")","v":0},"","",null,5,null,0,5,281]
[null,null,{"$f":"IFERROR(VLOOKUP(D3370,'1_Causas_Levantadas'!C:D,2,0),\"\")","v":0},"","",null,6,null,0,6,281]
[null,null,{"$f":"IFERROR(VLOOKUP(D3371,'1_Causas_Levantadas'!C:D,2,0),\"\")","v":0},"","",null,7,null,0,7,281]
[null,null,{"$f":"IFERROR(VLOOKUP(D3372,'1_Causas_Levantadas'!C:D,2,0),\"\")","v":0},"","",null,8,null,0,8,281]
[null,null,{"$f":"IFERROR(VLOOKUP(D3373,'1_Causas_Levantadas'!C:D,2,0),\"\")","v":0},"","",null,9,null,0,9,281]
[null,null,{"$f":"IFERROR(VLOOKUP(D3374,'1_Causas_Levantadas'!C:D,2,0),\"\")","v":0},"","",null,10,null,0,10,281]
[null,null,{"$f":"IFERROR(VLOOKUP(D3375,'1_Causas_Levantadas'!C:D,2,0),\"\")","v":0},"","",null,11,null,0,11,281]
[null,null,{"$f":"IFERROR(VLOOKUP(D3376,'1_Causas_Levantadas'!C:D,2,0),\"\")","v":0},"","",null,12,null,0,12,281]
[null,null,{"$f":"IFERROR(VLOOKUP(D3377,'1_Causas_Levantadas'!C:D,2,0),\"\")","v":0},"","",null,1,null,1,1,282]
[null,null,{"$f":"IFERROR(VLOOKUP(D3378,'1_Causas_Levantadas'!C:D,2,0),\"\")","v":0},"","",null,2,null,0,2,282]
[null,null,{"$f":"IFERROR(VLOOKUP(D3379,'1_Causas_Levantadas'!C:D,2,0),\"\")","v":0},"","",null,3,null,0,3,282]
[null,null,{"$f":"IFERROR(VLOOKUP(D3380,'1_Causas_Levantadas'!C:D,2,0),\"\")","v":0},"","",null,4,null,0,4,282]
[null,null,{"$f":"IFERROR(VLOOKUP(D3381,'1_Causas_Levantadas'!C:D,2,0),\"\")","v":0},"","",null,5,null,0,5,282]
[null,null,{"$f":"IFERROR(VLOOKUP(D3382,'1_Causas_Levantadas'!C:D,2,0),\"\")","v":0},"","",null,6,null,0,6,282]
[null,null,{"$f":"IFERROR(VLOOKUP(D3383,'1_Causas_Levantadas'!C:D,2,0),\"\")","v":0},"","",null,7,null,0,7,282]
[null,null,{"$f":"IFERROR(VLOOKUP(D3384,'1_Causas_Levantadas'!C:D,2,0),\"\")","v":0},"","",null,8,null,0,8,282]
[null,null,{"$f":"IFERROR(VLOOKUP(D3385,'1_Causas_Levantadas'!C:D,2,0),\"\")","v":0},"","",null,9,null,0,9,282]
[null,null,{"$f":"IFERROR(VLOOKUP(D3386,'1_Causas_Levantadas'!C:D,2,0),\"\")","v":0},"","",null,10,null,0,10,282]
[null,null,{"$f":"IFERROR(VLOOKUP(D3387,'1_Causas_Levantadas'!C:D,2,0),\"\")","v":0},"","",null,11,null,0,11,282]
[null,null,{"$f":"IFERROR(VLOOKUP(D3388,'1_Causas_Levantadas'!C:D,2,0),\"\")","v":0},"","",null,12,null,0,12,282]
[null,null,{"$f":"IFERROR(VLOOKUP(D3389,'1_Causas_Levantadas'!C:D,2,0),\"\")","v":0},"","",null,1,null,1,1,283]
[null,null,{"$f":"IFERROR(VLOOKUP(D3390,'1_Causas_Levantadas'!C:D,2,0),\"\")","v":0},"","",null,2,null,0,2,283]
[null,null,{"$f":"IFERROR(VLOOKUP(D3391,'1_Causas_Levantadas'!C:D,2,0),\"\")","v":0},"","",null,3,null,0,3,283]
[null,null,{"$f":"IFERROR(VLOOKUP(D3392,'1_Causas_Levantadas'!C:D,2,0),\"\")","v":0},"","",null,4,null,0,4,283]
[null,null,{"$f":"IFERROR(VLOOKUP(D3393,'1_Causas_Levantadas'!C:D,2,0),\"\")","v":0},"","",null,5,null,0,5,283]
[null,null,{"$f":"IFERROR(VLOOKUP(D3394,'1_Causas_Levantadas'!C:D,2,0),\"\")","v":0},"","",null,6,null,0,6,283]
[null,null,{"$f":"IFERROR(VLOOKUP(D3395,'1_Causas_Levantadas'!C:D,2,0),\"\")","v":0},"","",null,7,null,0,7,283]
[null,null,{"$f":"IFERROR(VLOOKUP(D3396,'1_Causas_Levantadas'!C:D,2,0),\"\")","v":0},"","",null,8,null,0,8,283]
[null,null,{"$f":"IFERROR(VLOOKUP(D3397,'1_Causas_Levantadas'!C:D,2,0),\"\")","v":0},"","",null,9,null,0,9,283]
[null,null,{"$f":"IFERROR(VLOOKUP(D3398,'1_Causas_Levantadas'!C:D,2,0),\"\")","v":0},{"$f":"IF(K3398<=$H$4,(IF(G3397>0,G3398,$G$5)),\"\")","v":""},{"$f":"IF(D3398<>\"\",\"Participante \"&K3398,\"\")","v":""},null,{"$f":"J3398","v":10},null,{"$f":"IF(G3398=$G$5,1,0)","v":0},10,{"$f":"I3398+K3397","v":283}]
[null,null,{"$f":"IFERROR(VLOOKUP(D3399,'1_Causas_Levantadas'!C:D,2,0),\"\")","v":0},"","",null,11,null,0,{"$f":"IF(G3398<$G$4,J3398+1,1)","v":11},283]
[null,null,{"$f":"IFERROR(VLOOKUP(D3400,'1_Causas_Levantadas'!C:D,2,0),\"\")","v":0},"","",null,12,null,0,12,283]
[null,null,{"$f":"IFERROR(VLOOKUP(D3401,'1_Causas_Levantadas'!C:D,2,0),\"\")","v":0},"","",null,1,null,1,1,284]
[null,null,{"$f":"IFERROR(VLOOKUP(D3402,'1_Causas_Levantadas'!C:D,2,0),\"\")","v":0},"","",null,2,null,0,2,284]
[null,null,{"$f":"IFERROR(VLOOKUP(D3403,'1_Causas_Levantadas'!C:D,2,0),\"\")","v":0},"","",null,3,null,0,3,284]
[null,null,{"$f":"IFERROR(VLOOKUP(D3404,'1_Causas_Levantadas'!C:D,2,0),\"\")","v":0},"","",null,4,null,0,4,284]
[null,null,{"$f":"IFERROR(VLOOKUP(D3405,'1_Causas_Levantadas'!C:D,2,0),\"\")","v":0},"","",null,5,null,0,5,284]
[null,null,{"$f":"IFERROR(VLOOKUP(D3406,'1_Causas_Levantadas'!C:D,2,0),\"\")","v":0},"","",null,6,null,0,6,284]
[null,null,{"$f":"IFERROR(VLOOKUP(D3407,'1_Causas_Levantadas'!C:D,2,0),\"\")","v":0},"","",null,7,null,0,7,284]
[null,null,{"$f":"IFERROR(VLOOKUP(D3408,'1_Causas_Levantadas'!C:D,2,0),\"\")","v":0},"","",null,8,null,0,8,284]
[null,null,{"$f":"IFERROR(VLOOKUP(D3409,'1_Causas_Levantadas'!C:D,2,0),\"\")","v":0},"","",null,9,null,0,9,284]
[null,null,{"$f":"IFERROR(VLOOKUP(D3410,'1_Causas_Levantadas'!C:D,2,0),\"\")","v":0},"","",null,10,null,0,10,284]
[null,null,{"$f":"IFERROR(VLOOKUP(D3411,'1_Causas_Levantadas'!C:D,2,0),\"\")","v":0},"","",null,11,null,0,11,284]
[null,null,{"$f":"IFERROR(VLOOKUP(D3412,'1_Causas_Levantadas'!C:D,2,0),\"\")","v":0},"","",null,12,null,0,12,284]
[null,null,{"$f":"IFERROR(VLOOKUP(D3413,'1_Causas_Levantadas'!C:D,2,0),\"\")","v":0},"","",null,1,null,1,1,285]
[null,null,{"$f":"IFERROR(VLOOKUP(D3414,'1_Causas_Levantadas'!C:D,2,0),\"\")","v":0},"","",null,2,null,0,2,285]
[null,null,{"$f":"IFERROR(VLOOKUP(D3415,'1_Causas_Levantadas'!C:D,2,0),\"\")","v":0},"","",null,3,null,0,3,285]
[null,null,{"$f":"IFERROR(VLOOKUP(D3416,'1_Causas_Levantadas'!C:D,2,0),\"\")","v":0},"","",null,4,null,0,4,285]
[null,null,{"$f":"IFERROR(VLOOKUP(D3417,'1_Causas_Levantadas'!C:D,2,0),\"\")","v":0},"","",null,5,null,0,5,285]
[null,null,{"$f":"IFERROR(VLOOKUP(D3418,'1_Causas_Levantadas'!C:D,2,0),\"\")","v":0},"","",null,6,null,0,6,285]
[null,null,{"$f":"IFERROR(VLOOKUP(D3419,'1_Causas_Levantadas'!C:D,2,0),\"\")","v":0},"","",null,7,null,0,7,285]
[null,null,{"$f":"IFERROR(VLOOKUP(D3420,'1_Causas_Levantadas'!C:D,2,0),\"\")","v":0},"","",null,8,null,0,8,285]
[null,null,{"$f":"IFERROR(VLOOKUP(D3421,'1_Causas_Levantadas'!C:D,2,0),\"\")","v":0},"","",null,9,null,0,9,285]
[null,null,{"$f":"IFERROR(VLOOKUP(D3422,'1_Causas_Levantadas'!C:D,2,0),\"\")","v":0},"","",null,10,null,0,10,285]
[null,null,{"$f":"IFERROR(VLOOKUP(D3423,'1_Causas_Levantadas'!C:D,2,0),\"\")","v":0},"","",null,11,null,0,11,285]
[null,null,{"$f":"IFERROR(VLOOKUP(D3424,'1_Causas_Levantadas'!C:D,2,0),\"\")","v":0},"","",null,12,null,0,12,285]
[null,null,{"$f":"IFERROR(VLOOKUP(D3425,'1_Causas_Levantadas'!C:D,2,0),\"\")","v":0},"","",null,1,null,1,1,286]
[null,null,{"$f":"IFERROR(VLOOKUP(D3426,'1_Causas_Levantadas'!C:D,2,0),\"\")","v":0},"","",null,2,null,0,2,286]
[null,null,{"$f":"IFERROR(VLOOKUP(D3427,'1_Causas_Levantadas'!C:D,2,0),\"\")","v":0},"","",null,3,null,0,3,286]
[null,null,{"$f":"IFERROR(VLOOKUP(D3428,'1_Causas_Levantadas'!C:D,2,0),\"\")","v":0},"","",null,4,null,0,4,286]
[null,null,{"$f":"IFERROR(VLOOKUP(D3429,'1_Causas_Levantadas'!C:D,2,0),\"\")","v":0},"","",null,5,null,0,5,286]
[null,null,{"$f":"IFERROR(VLOOKUP(D3430,'1_Causas_Levantadas'!C:D,2,0),\"\")","v":0},"","",null,6,null,0,6,286]
[null,null,{"$f":"IFERROR(VLOOKUP(D3431,'1_Causas_Levantadas'!C:D,2,0),\"\")","v":0},"","",null,7,null,0,7,286]
[null,null,{"$f":"IFERROR(VLOOKUP(D3432,'1_Causas_Levantadas'!C:D,2,0),\"\")","v":0},"","",null,8,null,0,8,286]
[null,null,{"$f":"IFERROR(VLOOKUP(D3433,'1_Causas_Levantadas'!C:D,2,0),\"\")","v":0},"","",null,9,null,0,9,286]
[null,null,{"$f":"IFERROR(VLOOKUP(D3434,'1_Causas_Levantadas'!C:D,2,0),\"\")","v":0},"","",null,10,null,0,10,286]
[null,null,{"$f":"IFERROR(VLOOKUP(D3435,'1_Causas_Levantadas'!C:D,2,0),\"\")","v":0},"","",null,11,null,0,11,286]
[null,null,{"$f":"IFERROR(VLOOKUP(D3436,'1_Causas_Levantadas'!C:D,2,0),\"\")","v":0},"","",null,12,null,0,12,286]
[null,null,{"$f":"IFERROR(VLOOKUP(D3437,'1_Causas_Levantadas'!C:D,2,0),\"\")","v":0},"","",null,1,null,1,1,287]
[null,null,{"$f":"IFERROR(VLOOKUP(D3438,'1_Causas_Levantadas'!C:D,2,0),\"\")","v":0},"","",null,2,null,0,2,287]
[null,null,{"$f":"IFERROR(VLOOKUP(D3439,'1_Causas_Levantadas'!C:D,2,0),\"\")","v":0},"","",null,3,null,0,3,287]
[null,null,{"$f":"IFERROR(VLOOKUP(D3440,'1_Causas_Levantadas'!C:D,2,0),\"\")","v":0},"","",null,4,null,0,4,287]
[null,null,{"$f":"IFERROR(VLOOKUP(D3441,'1_Causas_Levantadas'!C:D,2,0),\"\")","v":0},"","",null,5,null,0,5,287]
[null,null,{"$f":"IFERROR(VLOOKUP(D3442,'1_Causas_Levantadas'!C:D,2,0),\"\")","v":0},"","",null,6,null,0,6,287]
[null,null,{"$f":"IFERROR(VLOOKUP(D3443,'1_Causas_Levantadas'!C:D,2,0),\"\")","v":0},"","",null,7,null,0,7,287]
[null,null,{"$f":"IFERROR(VLOOKUP(D3444,'1_Causas_Levantadas'!C:D,2,0),\"\")","v":0},"","",null,8,null,0,8,287]
[null,null,{"$f":"IFERROR(VLOOKUP(D3445,'1_Causas_Levantadas'!C:D,2,0),\"\")","v":0},"","",null,9,null,0,9,287]
[null,null,{"$f":"IFERROR(VLOOKUP(D3446,'1_Causas_Levantadas'!C:D,2,0),\"\")","v":0},"","",null,10,null,0,10,287]
[null,null,{"$f":"IFERROR(VLOOKUP(D3447,'1_Causas_Levantadas'!C:D,2,0),\"\")","v":0},"","",null,11,null,0,11,287]
[null,null,{"$f":"IFERROR(VLOOKUP(D3448,'1_Causas_Levantadas'!C:D,2,0),\"\")","v":0},"","",null,12,null,0,12,287]
[null,null,{"$f":"IFERROR(VLOOKUP(D3449,'1_Causas_Levantadas'!C:D,2,0),\"\")","v":0},"","",null,1,null,1,1,288]
[null,null,{"$f":"IFERROR(VLOOKUP(D3450,'1_Causas_Levantadas'!C:D,2,0),\"\")","v":0},"","",null,2,null,0,2,288]
[null,null,{"$f":"IFERROR(VLOOKUP(D3451,'1_Causas_Levantadas'!C:D,2,0),\"\")","v":0},"","",null,3,null,0,3,288]
[null,null,{"$f":"IFERROR(VLOOKUP(D3452,'1_Causas_Levantadas'!C:D,2,0),\"\")","v":0},"","",null,4,null,0,4,288]
[null,null,{"$f":"IFERROR(VLOOKUP(D3453,'1_Causas_Levantadas'!C:D,2,0),\"\")","v":0},"","",null,5,null,0,5,288]
[null,null,{"$f":"IFERROR(VLOOKUP(D3454,'1_Causas_Levantadas'!C:D,2,0),\"\")","v":0},"","",null,6,null,0,6,288]
[null,null,{"$f":"IFERROR(VLOOKUP(D3455,'1_Causas_Levantadas'!C:D,2,0),\"\")","v":0},"","",null,7,null,0,7,288]
[null,null,{"$f":"IFERROR(VLOOKUP(D3456,'1_Causas_Levantadas'!C:D,2,0),\"\")","v":0},"","",null,8,null,0,8,288]
[null,null,{"$f":"IFERROR(VLOOKUP(D3457,'1_Causas_Levantadas'!C:D,2,0),\"\")","v":0},"","",null,9,null,0,9,288]
[null,null,{"$f":"IFERROR(VLOOKUP(D3458,'1_Causas_Levantadas'!C:D,2,0),\"\")","v":0},"","",null,10,null,0,10,288]
[null,null,{"$f":"IFERROR(VLOOKUP(D3459,'1_Causas_Levantadas'!C:D,2,0),\"\")","v":0},"","",null,11,null,0,11,288]
[null,null,{"$f":"IFERROR(VLOOKUP(D3460,'1_Causas_Levantadas'!C:D,2,0),\"\")","v":0},"","",null,12,null,0,12,288]
[null,null,{"$f":"IFERROR(VLOOKUP(D3461,'1_Causas_Levantadas'!C:D,2,0),\"\")","v":0},"","",null,1,null,1,1,289]
[null,null,{"$f":"IFERROR(VLOOKUP(D3462,'1_Causas_Levantadas'!C:D,2,0),\"\")","v":0},{"$f":"IF(K3462<=$H$4,(IF(G3461>0,G3462,$G$5)),\"\")","v":""},{"$f":"IF(D3462<>\"\",\"Participante \"&K3462,\"\")","v":""},null,{"$f":"J3462","v":2},null,{"$f":"IF(G3462=$G$5,1,0)","v":0},2,{"$f":"I3462+K3461","v":289}]
[null,null,{"$f":"IFERROR(VLOOKUP(D3463,'1_Causas_Levantadas'!C:D,2,0),\"\")","v":0},"","",null,3,null,0,{"$f":"IF(G3462<$G$4,J3462+1,1)","v":3},289]
[null,null,{"$f":"IFERROR(VLOOKUP(D3464,'1_Causas_Levantadas'!C:D,2,0),\"\")","v":0},"","",null,4,null,0,4,289]
[null,null,{"$f":"IFERROR(VLOOKUP(D3465,'1_Causas_Levantadas'!C:D,2,0),\"\")","v":0},"","",null,5,null,0,5,289]
[null,null,{"$f":"IFERROR(VLOOKUP(D3466,'1_Causas_Levantadas'!C:D,2,0),\"\")","v":0},"","",null,6,null,0,6,289]
[null,null,{"$f":"IFERROR(VLOOKUP(D3467,'1_Causas_Levantadas'!C:D,2,0),\"\")","v":0},"","",null,7,null,0,7,289]
[null,null,{"$f":"IFERROR(VLOOKUP(D3468,'1_Causas_Levantadas'!C:D,2,0),\"\")","v":0},"","",null,8,null,0,8,289]
[null,null,{"$f":"IFERROR(VLOOKUP(D3469,'1_Causas_Levantadas'!C:D,2,0),\"\")","v":0},"","",null,9,null,0,9,289]
[null,null,{"$f":"IFERROR(VLOOKUP(D3470,'1_Causas_Levantadas'!C:D,2,0),\"\")","v":0},"","",null,10,null,0,10,289]
[null,null,{"$f":"IFERROR(VLOOKUP(D3471,'1_Causas_Levantadas'!C:D,2,0),\"\")","v":0},"","",null,11,null,0,11,289]
[null,null,{"$f":"IFERROR(VLOOKUP(D3472,'1_Causas_Levantadas'!C:D,2,0),\"\")","v":0},"","",null,12,null,0,12,289]
[null,null,{"$f":"IFERROR(VLOOKUP(D3473,'1_Causas_Levantadas'!C:D,2,0),\"\")","v":0},"","",null,1,null,1,1,290]
[null,null,{"$f":"IFERROR(VLOOKUP(D3474,'1_Causas_Levantadas'!C:D,2,0),\"\")","v":0},"","",null,2,null,0,2,290]
[null,null,{"$f":"IFERROR(VLOOKUP(D3475,'1_Causas_Levantadas'!C:D,2,0),\"\")","v":0},"","",null,3,null,0,3,290]
[null,null,{"$f":"IFERROR(VLOOKUP(D3476,'1_Causas_Levantadas'!C:D,2,0),\"\")","v":0},"","",null,4,null,0,4,290]
[null,null,{"$f":"IFERROR(VLOOKUP(D3477,'1_Causas_Levantadas'!C:D,2,0),\"\")","v":0},"","",null,5,null,0,5,290]
[null,null,{"$f":"IFERROR(VLOOKUP(D3478,'1_Causas_Levantadas'!C:D,2,0),\"\")","v":0},"","",null,6,null,0,6,290]
[null,null,{"$f":"IFERROR(VLOOKUP(D3479,'1_Causas_Levantadas'!C:D,2,0),\"\")","v":0},"","",null,7,null,0,7,290]
[null,null,{"$f":"IFERROR(VLOOKUP(D3480,'1_Causas_Levantadas'!C:D,2,0),\"\")","v":0},"","",null,8,null,0,8,290]
[null,null,{"$f":"IFERROR(VLOOKUP(D3481,'1_Causas_Levantadas'!C:D,2,0),\"\")","v":0},"","",null,9,null,0,9,290]
[null,null,{"$f":"IFERROR(VLOOKUP(D3482,'1_Causas_Levantadas'!C:D,2,0),\"\")","v":0},"","",null,10,null,0,10,290]
[null,null,{"$f":"IFERROR(VLOOKUP(D3483,'1_Causas_Levantadas'!C:D,2,0),\"\")","v":0},"","",null,11,null,0,11,290]
[null,null,{"$f":"IFERROR(VLOOKUP(D3484,'1_Causas_Levantadas'!C:D,2,0),\"\")","v":0},"","",null,12,null,0,12,290]
[null,null,{"$f":"IFERROR(VLOOKUP(D3485,'1_Causas_Levantadas'!C:D,2,0),\"\")","v":0},"","",null,1,null,1,1,291]
[null,null,{"$f":"IFERROR(VLOOKUP(D3486,'1_Causas_Levantadas'!C:D,2,0),\"\")","v":0},"","",null,2,null,0,2,291]
[null,null,{"$f":"IFERROR(VLOOKUP(D3487,'1_Causas_Levantadas'!C:D,2,0),\"\")","v":0},"","",null,3,null,0,3,291]
[null,null,{"$f":"IFERROR(VLOOKUP(D3488,'1_Causas_Levantadas'!C:D,2,0),\"\")","v":0},"","",null,4,null,0,4,291]
[null,null,{"$f":"IFERROR(VLOOKUP(D3489,'1_Causas_Levantadas'!C:D,2,0),\"\")","v":0},"","",null,5,null,0,5,291]
[null,null,{"$f":"IFERROR(VLOOKUP(D3490,'1_Causas_Levantadas'!C:D,2,0),\"\")","v":0},"","",null,6,null,0,6,291]
[null,null,{"$f":"IFERROR(VLOOKUP(D3491,'1_Causas_Levantadas'!C:D,2,0),\"\")","v":0},"","",null,7,null,0,7,291]
[null,null,{"$f":"IFERROR(VLOOKUP(D3492,'1_Causas_Levantadas'!C:D,2,0),\"\")","v":0},"","",null,8,null,0,8,291]
[null,null,{"$f":"IFERROR(VLOOKUP(D3493,'1_Causas_Levantadas'!C:D,2,0),\"\")","v":0},"","",null,9,null,0,9,291]
[null,null,{"$f":"IFERROR(VLOOKUP(D3494,'1_Causas_Levantadas'!C:D,2,0),\"\")","v":0},"","",null,10,null,0,10,291]
[null,null,{"$f":"IFERROR(VLOOKUP(D3495,'1_Causas_Levantadas'!C:D,2,0),\"\")","v":0},"","",null,11,null,0,11,291]
[null,null,{"$f":"IFERROR(VLOOKUP(D3496,'1_Causas_Levantadas'!C:D,2,0),\"\")","v":0},"","",null,12,null,0,12,291]
[null,null,{"$f":"IFERROR(VLOOKUP(D3497,'1_Causas_Levantadas'!C:D,2,0),\"\")","v":0},"","",null,1,null,1,1,292]
[null,null,{"$f":"IFERROR(VLOOKUP(D3498,'1_Causas_Levantadas'!C:D,2,0),\"\")","v":0},"","",null,2,null,0,2,292]
[null,null,{"$f":"IFERROR(VLOOKUP(D3499,'1_Causas_Levantadas'!C:D,2,0),\"\")","v":0},"","",null,3,null,0,3,292]
[null,null,{"$f":"IFERROR(VLOOKUP(D3500,'1_Causas_Levantadas'!C:D,2,0),\"\")","v":0},"","",null,4,null,0,4,292]
[null,null,{"$f":"IFERROR(VLOOKUP(D3501,'1_Causas_Levantadas'!C:D,2,0),\"\")","v":0},"","",null,5,null,0,5,292]
[null,null,{"$f":"IFERROR(VLOOKUP(D3502,'1_Causas_Levantadas'!C:D,2,0),\"\")","v":0},"","",null,6,null,0,6,292]
[null,null,{"$f":"IFERROR(VLOOKUP(D3503,'1_Causas_Levantadas'!C:D,2,0),\"\")","v":0},"","",null,7,null,0,7,292]
[null,null,{"$f":"IFERROR(VLOOKUP(D3504,'1_Causas_Levantadas'!C:D,2,0),\"\")","v":0},"","",null,8,null,0,8,292]
[null,null,{"$f":"IFERROR(VLOOKUP(D3505,'1_Causas_Levantadas'!C:D,2,0),\"\")","v":0},"","",null,9,null,0,9,292]
[null,null,{"$f":"IFERROR(VLOOKUP(D3506,'1_Causas_Levantadas'!C:D,2,0),\"\")","v":0},"","",null,10,null,0,10,292]
[null,null,{"$f":"IFERROR(VLOOKUP(D3507,'1_Causas_Levantadas'!C:D,2,0),\"\")","v":0},"","",null,11,null,0,11,292]
[null,null,{"$f":"IFERROR(VLOOKUP(D3508,'1_Causas_Levantadas'!C:D,2,0),\"\")","v":0},"","",null,12,null,0,12,292]
[null,null,{"$f":"IFERROR(VLOOKUP(D3509,'1_Causas_Levantadas'!C:D,2,0),\"\")","v":0},"","",null,1,null,1,1,293]
[null,null,{"$f":"IFERROR(VLOOKUP(D3510,'1_Causas_Levantadas'!C:D,2,0),\"\")","v":0},"","",null,2,null,0,2,293]
[null,null,{"$f":"IFERROR(VLOOKUP(D3511,'1_Causas_Levantadas'!C:D,2,0),\"\")","v":0},"","",null,3,null,0,3,293]
[null,null,{"$f":"IFERROR(VLOOKUP(D3512,'1_Causas_Levantadas'!C:D,2,0),\"\")","v":0},"","",null,4,null,0,4,293]
[null,null,{"$f":"IFERROR(VLOOKUP(D3513,'1_Causas_Levantadas'!C:D,2,0),\"\")","v":0},"","",null,5,null,0,5,293]
[null,null,{"$f":"IFERROR(VLOOKUP(D3514,'1_Causas_Levantadas'!C:D,2,0),\"\")","v":0},"","",null,6,null,0,6,293]
[null,null,{"$f":"IFERROR(VLOOKUP(D3515,'1_Causas_Levantadas'!C:D,2,0),\"\")","v":0},"","",null,7,null,0,7,293]
[null,null,{"$f":"IFERROR(VLOOKUP(D3516,'1_Causas_Levantadas'!C:D,2,0),\"\")","v":0},"","",null,8,null,0,8,293]
[null,null,{"$f":"IFERROR(VLOOKUP(D3517,'1_Causas_Levantadas'!C:D,2,0),\"\")","v":0},"","",null,9,null,0,9,293]
[null,null,{"$f":"IFERROR(VLOOKUP(D3518,'1_Causas_Levantadas'!C:D,2,0),\"\")","v":0},"","",null,10,null,0,10,293]
[null,null,{"$f":"IFERROR(VLOOKUP(D3519,'1_Causas_Levantadas'!C:D,2,0),\"\")","v":0},"","",null,11,null,0,11,293]
[null,null,{"$f":"IFERROR(VLOOKUP(D3520,'1_Causas_Levantadas'!C:D,2,0),\"\")","v":0},"","",null,12,null,0,12,293]
[null,null,{"$f":"IFERROR(VLOOKUP(D3521,'1_Causas_Levantadas'!C:D,2,0),\"\")","v":0},"","",null,1,null,1,1,294]
[null,null,{"$f":"IFERROR(VLOOKUP(D3522,'1_Causas_Levantadas'!C:D,2,0),\"\")","v":0},"","",null,2,null,0,2,294]
[null,null,{"$f":"IFERROR(VLOOKUP(D3523,'1_Causas_Levantadas'!C:D,2,0),\"\")","v":0},"","",null,3,null,0,3,294]
[null,null,{"$f":"IFERROR(VLOOKUP(D3524,'1_Causas_Levantadas'!C:D,2,0),\"\")","v":0},"","",null,4,null,0,4,294]
[null,null,{"$f":"IFERROR(VLOOKUP(D3525,'1_Causas_Levantadas'!C:D,2,0),\"\")","v":0},"","",null,5,null,0,5,294]
[null,null,{"$f":"IFERROR(VLOOKUP(D3526,'1_Causas_Levantadas'!C:D,2,0),\"\")","v":0},{"$f":"IF(K3526<=$H$4,(IF(G3525>0,G3526,$G$5)),\"\")","v":""},{"$f":"IF(D3526<>\"\",\"Participante \"&K3526,\"\")","v":""},null,{"$f":"J3526","v":6},null,{"$f":"IF(G3526=$G$5,1,0)","v":0},6,{"$f":"I3526+K3525","v":294}]
[null,null,{"$f":"IFERROR(VLOOKUP(D3527,'1_Causas_Levantadas'!C:D,2,0),\"\")","v":0},"","",null,7,null,0,{"$f":"IF(G3526<$G$4,J3526+1,1)","v":7},294]
[null,null,{"$f":"IFERROR(VLOOKUP(D3528,'1_Causas_Levantadas'!C:D,2,0),\"\")","v":0},"","",null,8,null,0,8,294]
[null,null,{"$f":"IFERROR(VLOOKUP(D3529,'1_Causas_Levantadas'!C:D,2,0),\"\")","v":0},"","",null,9,null,0,9,294]
[null,null,{"$f":"IFERROR(VLOOKUP(D3530,'1_Causas_Levantadas'!C:D,2,0),\"\")","v":0},"","",null,10,null,0,10,294]
[null,null,{"$f":"IFERROR(VLOOKUP(D3531,'1_Causas_Levantadas'!C:D,2,0),\"\")","v":0},"","",null,11,null,0,11,294]
[null,null,{"$f":"IFERROR(VLOOKUP(D3532,'1_Causas_Levantadas'!C:D,2,0),\"\")","v":0},"","",null,12,null,0,12,294]
[null,null,{"$f":"IFERROR(VLOOKUP(D3533,'1_Causas_Levantadas'!C:D,2,0),\"\")","v":0},"","",null,1,null,1,1,295]
[null,null,{"$f":"IFERROR(VLOOKUP(D3534,'1_Causas_Levantadas'!C:D,2,0),\"\")","v":0},"","",null,2,null,0,2,295]
[null,null,{"$f":"IFERROR(VLOOKUP(D3535,'1_Causas_Levantadas'!C:D,2,0),\"\")","v":0},"","",null,3,null,0,3,295]
[null,null,{"$f":"IFERROR(VLOOKUP(D3536,'1_Causas_Levantadas'!C:D,2,0),\"\")","v":0},"","",null,4,null,0,4,295]
[null,null,{"$f":"IFERROR(VLOOKUP(D3537,'1_Causas_Levantadas'!C:D,2,0),\"\")","v":0},"","",null,5,null,0,5,295]
[null,null,{"$f":"IFERROR(VLOOKUP(D3538,'1_Causas_Levantadas'!C:D,2,0),\"\")","v":0},"","",null,6,null,0,6,295]
[null,null,{"$f":"IFERROR(VLOOKUP(D3539,'1_Causas_Levantadas'!C:D,2,0),\"\")","v":0},"","",null,7,null,0,7,295]
[null,null,{"$f":"IFERROR(VLOOKUP(D3540,'1_Causas_Levantadas'!C:D,2,0),\"\")","v":0},"","",null,8,null,0,8,295]
[null,null,{"$f":"IFERROR(VLOOKUP(D3541,'1_Causas_Levantadas'!C:D,2,0),\"\")","v":0},"","",null,9,null,0,9,295]
[null,null,{"$f":"IFERROR(VLOOKUP(D3542,'1_Causas_Levantadas'!C:D,2,0),\"\")","v":0},"","",null,10,null,0,10,295]
[null,null,{"$f":"IFERROR(VLOOKUP(D3543,'1_Causas_Levantadas'!C:D,2,0),\"\")","v":0},"","",null,11,null,0,11,295]
[null,null,{"$f":"IFERROR(VLOOKUP(D3544,'1_Causas_Levantadas'!C:D,2,0),\"\")","v":0},"","",null,12,null,0,12,295]
[null,null,{"$f":"IFERROR(VLOOKUP(D3545,'1_Causas_Levantadas'!C:D,2,0),\"\")","v":0},"","",null,1,null,1,1,296]
[null,null,{"$f":"IFERROR(VLOOKUP(D3546,'1_Causas_Levantadas'!C:D,2,0),\"\")","v":0},"","",null,2,null,0,2,296]
[null,null,{"$f":"IFERROR(VLOOKUP(D3547,'1_Causas_Levantadas'!C:D,2,0),\"\")","v":0},"","",null,3,null,0,3,296]
[null,null,{"$f":"IFERROR(VLOOKUP(D3548,'1_Causas_Levantadas'!C:D,2,0),\"\")","v":0},"","",null,4,null,0,4,296]
[null,null,{"$f":"IFERROR(VLOOKUP(D3549,'1_Causas_Levantadas'!C:D,2,0),\"\")","v":0},"","",null,5,null,0,5,296]
[null,null,{"$f":"IFERROR(VLOOKUP(D3550,'1_Causas_Levantadas'!C:D,2,0),\"\")","v":0},"","",null,6,null,0,6,296]
[null,null,{"$f":"IFERROR(VLOOKUP(D3551,'1_Causas_Levantadas'!C:D,2,0),\"\")","v":0},"","",null,7,null,0,7,296]
[null,null,{"$f":"IFERROR(VLOOKUP(D3552,'1_Causas_Levantadas'!C:D,2,0),\"\")","v":0},"","",null,8,null,0,8,296]
[null,null,{"$f":"IFERROR(VLOOKUP(D3553,'1_Causas_Levantadas'!C:D,2,0),\"\")","v":0},"","",null,9,null,0,9,296]
[null,null,{"$f":"IFERROR(VLOOKUP(D3554,'1_Causas_Levantadas'!C:D,2,0),\"\")","v":0},"","",null,10,null,0,10,296]
[null,null,{"$f":"IFERROR(VLOOKUP(D3555,'1_Causas_Levantadas'!C:D,2,0),\"\")","v":0},"","",null,11,null,0,11,296]
[null,null,{"$f":"IFERROR(VLOOKUP(D3556,'1_Causas_Levantadas'!C:D,2,0),\"\")","v":0},"","",null,12,null,0,12,296]
[null,null,{"$f":"IFERROR(VLOOKUP(D3557,'1_Causas_Levantadas'!C:D,2,0),\"\")","v":0},"","",null,1,null,1,1,297]
[null,null,{"$f":"IFERROR(VLOOKUP(D3558,'1_Causas_Levantadas'!C:D,2,0),\"\")","v":0},"","",null,2,null,0,2,297]
[null,null,{"$f":"IFERROR(VLOOKUP(D3559,'1_Causas_Levantadas'!C:D,2,0),\"\")","v":0},"","",null,3,null,0,3,297]
[null,null,{"$f":"IFERROR(VLOOKUP(D3560,'1_Causas_Levantadas'!C:D,2,0),\"\")","v":0},"","",null,4,null,0,4,297]
[null,null,{"$f":"IFERROR(VLOOKUP(D3561,'1_Causas_Levantadas'!C:D,2,0),\"\")","v":0},"","",null,5,null,0,5,297]
[null,null,{"$f":"IFERROR(VLOOKUP(D3562,'1_Causas_Levantadas'!C:D,2,0),\"\")","v":0},"","",null,6,null,0,6,297]
[null,null,{"$f":"IFERROR(VLOOKUP(D3563,'1_Causas_Levantadas'!C:D,2,0),\"\")","v":0},"","",null,7,null,0,7,297]
[null,null,{"$f":"IFERROR(VLOOKUP(D3564,'1_Causas_Levantadas'!C:D,2,0),\"\")","v":0},"","",null,8,null,0,8,297]
[null,null,{"$f":"IFERROR(VLOOKUP(D3565,'1_Causas_Levantadas'!C:D,2,0),\"\")","v":0},"","",null,9,null,0,9,297]
[null,null,{"$f":"IFERROR(VLOOKUP(D3566,'1_Causas_Levantadas'!C:D,2,0),\"\")","v":0},"","",null,10,null,0,10,297]
[null,null,{"$f":"IFERROR(VLOOKUP(D3567,'1_Causas_Levantadas'!C:D,2,0),\"\")","v":0},"","",null,11,null,0,11,297]
[null,null,{"$f":"IFERROR(VLOOKUP(D3568,'1_Causas_Levantadas'!C:D,2,0),\"\")","v":0},"","",null,12,null,0,12,297]
[null,null,{"$f":"IFERROR(VLOOKUP(D3569,'1_Causas_Levantadas'!C:D,2,0),\"\")","v":0},"","",null,1,null,1,1,298]
[null,null,{"$f":"IFERROR(VLOOKUP(D3570,'1_Causas_Levantadas'!C:D,2,0),\"\")","v":0},"","",null,2,null,0,2,298]
[null,null,{"$f":"IFERROR(VLOOKUP(D3571,'1_Causas_Levantadas'!C:D,2,0),\"\")","v":0},"","",null,3,null,0,3,298]
[null,null,{"$f":"IFERROR(VLOOKUP(D3572,'1_Causas_Levantadas'!C:D,2,0),\"\")","v":0},"","",null,4,null,0,4,298]
[null,null,{"$f":"IFERROR(VLOOKUP(D3573,'1_Causas_Levantadas'!C:D,2,0),\"\")","v":0},"","",null,5,null,0,5,298]
[null,null,{"$f":"IFERROR(VLOOKUP(D3574,'1_Causas_Levantadas'!C:D,2,0),\"\")","v":0},"","",null,6,null,0,6,298]
[null,null,{"$f":"IFERROR(VLOOKUP(D3575,'1_Causas_Levantadas'!C:D,2,0),\"\")","v":0},"","",null,7,null,0,7,298]
[null,null,{"$f":"IFERROR(VLOOKUP(D3576,'1_Causas_Levantadas'!C:D,2,0),\"\")","v":0},"","",null,8,null,0,8,298]
[null,null,{"$f":"IFERROR(VLOOKUP(D3577,'1_Causas_Levantadas'!C:D,2,0),\"\")","v":0},"","",null,9,null,0,9,298]
[null,null,{"$f":"IFERROR(VLOOKUP(D3578,'1_Causas_Levantadas'!C:D,2,0),\"\")","v":0},"","",null,10,null,0,10,298]
[null,null,{"$f":"IFERROR(VLOOKUP(D3579,'1_Causas_Levantadas'!C:D,2,0),\"\")","v":0},"","",null,11,null,0,11,298]
[null,null,{"$f":"IFERROR(VLOOKUP(D3580,'1_Causas_Levantadas'!C:D,2,0),\"\")","v":0},"","",null,12,null,0,12,298]
[null,null,{"$f":"IFERROR(VLOOKUP(D3581,'1_Causas_Levantadas'!C:D,2,0),\"\")","v":0},"","",null,1,null,1,1,299]
[null,null,{"$f":"IFERROR(VLOOKUP(D3582,'1_Causas_Levantadas'!C:D,2,0),\"\")","v":0},"","",null,2,null,0,2,299]
[null,null,{"$f":"IFERROR(VLOOKUP(D3583,'1_Causas_Levantadas'!C:D,2,0),\"\")","v":0},"","",null,3,null,0,3,299]
[null,null,{"$f":"IFERROR(VLOOKUP(D3584,'1_Causas_Levantadas'!C:D,2,0),\"\")","v":0},"","",null,4,null,0,4,299]
[null,null,{"$f":"IFERROR(VLOOKUP(D3585,'1_Causas_Levantadas'!C:D,2,0),\"\")","v":0},"","",null,5,null,0,5,299]
[null,null,{"$f":"IFERROR(VLOOKUP(D3586,'1_Causas_Levantadas'!C:D,2,0),\"\")","v":0},"","",null,6,null,0,6,299]
[null,null,{"$f":"IFERROR(VLOOKUP(D3587,'1_Causas_Levantadas'!C:D,2,0),\"\")","v":0},"","",null,7,null,0,7,299]
[null,null,{"$f":"IFERROR(VLOOKUP(D3588,'1_Causas_Levantadas'!C:D,2,0),\"\")","v":0},"","",null,8,null,0,8,299]
[null,null,{"$f":"IFERROR(VLOOKUP(D3589,'1_Causas_Levantadas'!C:D,2,0),\"\")","v":0},"","",null,9,null,0,9,299]
[null,null,{"$f":"IFERROR(VLOOKUP(D3590,'1_Causas_Levantadas'!C:D,2,0),\"\")","v":0},{"$f":"IF(K3590<=$H$4,(IF(G3589>0,G3590,$G$5)),\"\")","v":""},{"$f":"IF(D3590<>\"\",\"Participante \"&K3590,\"\")","v":""},null,{"$f":"J3590","v":10},null,{"$f":"IF(G3590=$G$5,1,0)","v":0},10,{"$f":"I3590+K3589","v":299}]
[null,null,{"$f":"IFERROR(VLOOKUP(D3591,'1_Causas_Levantadas'!C:D,2,0),\"\")","v":0},"","",null,11,null,0,{"$f":"IF(G3590<$G$4,J3590+1,1)","v":11},299]
[null,null,{"$f":"IFERROR(VLOOKUP(D3592,'1_Causas_Levantadas'!C:D,2,0),\"\")","v":0},"","",null,12,null,0,12,299]
[null,null,{"$f":"IFERROR(VLOOKUP(D3593,'1_Causas_Levantadas'!C:D,2,0),\"\")","v":0},"","",null,1,null,1,1,300]
[null,null,{"$f":"IFERROR(VLOOKUP(D3594,'1_Causas_Levantadas'!C:D,2,0),\"\")","v":0},"","",null,2,null,0,2,300]
[null,null,{"$f":"IFERROR(VLOOKUP(D3595,'1_Causas_Levantadas'!C:D,2,0),\"\")","v":0},"","",null,3,null,0,3,300]
[null,null,{"$f":"IFERROR(VLOOKUP(D3596,'1_Causas_Levantadas'!C:D,2,0),\"\")","v":0},"","",null,4,null,0,4,300]
[null,null,{"$f":"IFERROR(VLOOKUP(D3597,'1_Causas_Levantadas'!C:D,2,0),\"\")","v":0},"","",null,5,null,0,5,300]
[null,null,{"$f":"IFERROR(VLOOKUP(D3598,'1_Causas_Levantadas'!C:D,2,0),\"\")","v":0},"","",null,6,null,0,6,300]
[null,null,{"$f":"IFERROR(VLOOKUP(D3599,'1_Causas_Levantadas'!C:D,2,0),\"\")","v":0},"","",null,7,null,0,7,300]
[null,null,{"$f":"IFERROR(VLOOKUP(D3600,'1_Causas_Levantadas'!C:D,2,0),\"\")","v":0},"","",null,8,null,0,8,300]
[null,null,{"$f":"IFERROR(VLOOKUP(D3601,'1_Causas_Levantadas'!C:D,2,0),\"\")","v":0},"","",null,9,null,0,9,300]
[null,null,{"$f":"IFERROR(VLOOKUP(D3602,'1_Causas_Levantadas'!C:D,2,0),\"\")","v":0},"","",null,10,null,0,10,300]
[null,null,{"$f":"IFERROR(VLOOKUP(D3603,'1_Causas_Levantadas'!C:D,2,0),\"\")","v":0},"","",null,11,null,0,11,300]
[null,null,{"$f":"IFERROR(VLOOKUP(D3604,'1_Causas_Levantadas'!C:D,2,0),\"\")","v":0},"","",null,12,null,0,12,300]
[null,null,{"$f":"IFERROR(VLOOKUP(D3605,'1_Causas_Levantadas'!C:D,2,0),\"\")","v":0},"","",null,1,null,1,1,301]
[null,null,{"$f":"IFERROR(VLOOKUP(D3606,'1_Causas_Levantadas'!C:D,2,0),\"\")","v":0},"","",null,2,null,0,2,301]
[null,null,{"$f":"IFERROR(VLOOKUP(D3607,'1_Causas_Levantadas'!C:D,2,0),\"\")","v":0},"","",null,3,null,0,3,301]
[null,null,{"$f":"IFERROR(VLOOKUP(D3608,'1_Causas_Levantadas'!C:D,2,0),\"\")","v":0},"","",null,4,null,0,4,301]
[null,null,{"$f":"IFERROR(VLOOKUP(D3609,'1_Causas_Levantadas'!C:D,2,0),\"\")","v":0},"","",null,5,null,0,5,301]
[null,null,{"$f":"IFERROR(VLOOKUP(D3610,'1_Causas_Levantadas'!C:D,2,0),\"\")","v":0},"","",null,6,null,0,6,301]
[null,null,{"$f":"IFERROR(VLOOKUP(D3611,'1_Causas_Levantadas'!C:D,2,0),\"\")","v":0},"","",null,7,null,0,7,301]
[null,null,{"$f":"IFERROR(VLOOKUP(D3612,'1_Causas_Levantadas'!C:D,2,0),\"\")","v":0},"","",null,8,null,0,8,301]
[null,null,{"$f":"IFERROR(VLOOKUP(D3613,'1_Causas_Levantadas'!C:D,2,0),\"\")","v":0},"","",null,9,null,0,9,301]
[null,null,{"$f":"IFERROR(VLOOKUP(D3614,'1_Causas_Levantadas'!C:D,2,0),\"\")","v":0},"","",null,10,null,0,10,301]
[null,null,{"$f":"IFERROR(VLOOKUP(D3615,'1_Causas_Levantadas'!C:D,2,0),\"\")","v":0},"","",null,11,null,0,11,301]
[null,null,{"$f":"IFERROR(VLOOKUP(D3616,'1_Causas_Levantadas'!C:D,2,0),\"\")","v":0},"","",null,12,null,0,12,301]
[null,null,{"$f":"IFERROR(VLOOKUP(D3617,'1_Causas_Levantadas'!C:D,2,0),\"\")","v":0},"","",null,1,null,1,1,302]
[null,null,{"$f":"IFERROR(VLOOKUP(D3618,'1_Causas_Levantadas'!C:D,2,0),\"\")","v":0},"","",null,2,null,0,2,302]
[null,null,{"$f":"IFERROR(VLOOKUP(D3619,'1_Causas_Levantadas'!C:D,2,0),\"\")","v":0},"","",null,3,null,0,3,302]
[null,null,{"$f":"IFERROR(VLOOKUP(D3620,'1_Causas_Levantadas'!C:D,2,0),\"\")","v":0},"","",null,4,null,0,4,302]
[null,null,{"$f":"IFERROR(VLOOKUP(D3621,'1_Causas_Levantadas'!C:D,2,0),\"\")","v":0},"","",null,5,null,0,5,302]
[null,null,{"$f":"IFERROR(VLOOKUP(D3622,'1_Causas_Levantadas'!C:D,2,0),\"\")","v":0},"","",null,6,null,0,6,302]
[null,null,{"$f":"IFERROR(VLOOKUP(D3623,'1_Causas_Levantadas'!C:D,2,0),\"\")","v":0},"","",null,7,null,0,7,302]
[null,null,{"$f":"IFERROR(VLOOKUP(D3624,'1_Causas_Levantadas'!C:D,2,0),\"\")","v":0},"","",null,8,null,0,8,302]
[null,null,{"$f":"IFERROR(VLOOKUP(D3625,'1_Causas_Levantadas'!C:D,2,0),\"\")","v":0},"","",null,9,null,0,9,302]
[null,null,{"$f":"IFERROR(VLOOKUP(D3626,'1_Causas_Levantadas'!C:D,2,0),\"\")","v":0},"","",null,10,null,0,10,302]
[null,null,{"$f":"IFERROR(VLOOKUP(D3627,'1_Causas_Levantadas'!C:D,2,0),\"\")","v":0},"","",null,11,null,0,11,302]
[null,null,{"$f":"IFERROR(VLOOKUP(D3628,'1_Causas_Levantadas'!C:D,2,0),\"\")","v":0},"","",null,12,null,0,12,302]
[null,null,{"$f":"IFERROR(VLOOKUP(D3629,'1_Causas_Levantadas'!C:D,2,0),\"\")","v":0},"","",null,1,null,1,1,303]
[null,null,{"$f":"IFERROR(VLOOKUP(D3630,'1_Causas_Levantadas'!C:D,2,0),\"\")","v":0},"","",null,2,null,0,2,303]
[null,null,{"$f":"IFERROR(VLOOKUP(D3631,'1_Causas_Levantadas'!C:D,2,0),\"\")","v":0},"","",null,3,null,0,3,303]
[null,null,{"$f":"IFERROR(VLOOKUP(D3632,'1_Causas_Levantadas'!C:D,2,0),\"\")","v":0},"","",null,4,null,0,4,303]
[null,null,{"$f":"IFERROR(VLOOKUP(D3633,'1_Causas_Levantadas'!C:D,2,0),\"\")","v":0},"","",null,5,null,0,5,303]
[null,null,{"$f":"IFERROR(VLOOKUP(D3634,'1_Causas_Levantadas'!C:D,2,0),\"\")","v":0},"","",null,6,null,0,6,303]
[null,null,{"$f":"IFERROR(VLOOKUP(D3635,'1_Causas_Levantadas'!C:D,2,0),\"\")","v":0},"","",null,7,null,0,7,303]
[null,null,{"$f":"IFERROR(VLOOKUP(D3636,'1_Causas_Levantadas'!C:D,2,0),\"\")","v":0},"","",null,8,null,0,8,303]
[null,null,{"$f":"IFERROR(VLOOKUP(D3637,'1_Causas_Levantadas'!C:D,2,0),\"\")","v":0},"","",null,9,null,0,9,303]
[null,null,{"$f":"IFERROR(VLOOKUP(D3638,'1_Causas_Levantadas'!C:D,2,0),\"\")","v":0},"","",null,10,null,0,10,303]
[null,null,{"$f":"IFERROR(VLOOKUP(D3639,'1_Causas_Levantadas'!C:D,2,0),\"\")","v":0},"","",null,11,null,0,11,303]
[null,null,{"$f":"IFERROR(VLOOKUP(D3640,'1_Causas_Levantadas'!C:D,2,0),\"\")","v":0},"","",null,12,null,0,12,303]
[null,null,{"$f":"IFERROR(VLOOKUP(D3641,'1_Causas_Levantadas'!C:D,2,0),\"\")","v":0},"","",null,1,null,1,1,304]
[null,null,{"$f":"IFERROR(VLOOKUP(D3642,'1_Causas_Levantadas'!C:D,2,0),\"\")","v":0},"","",null,2,null,0,2,304]
[null,null,{"$f":"IFERROR(VLOOKUP(D3643,'1_Causas_Levantadas'!C:D,2,0),\"\")","v":0},"","",null,3,null,0,3,304]
[null,null,{"$f":"IFERROR(VLOOKUP(D3644,'1_Causas_Levantadas'!C:D,2,0),\"\")","v":0},"","",null,4,null,0,4,304]
[null,null,{"$f":"IFERROR(VLOOKUP(D3645,'1_Causas_Levantadas'!C:D,2,0),\"\")","v":0},"","",null,5,null,0,5,304]
[null,null,{"$f":"IFERROR(VLOOKUP(D3646,'1_Causas_Levantadas'!C:D,2,0),\"\")","v":0},"","",null,6,null,0,6,304]
[null,null,{"$f":"IFERROR(VLOOKUP(D3647,'1_Causas_Levantadas'!C:D,2,0),\"\")","v":0},"","",null,7,null,0,7,304]
[null,null,{"$f":"IFERROR(VLOOKUP(D3648,'1_Causas_Levantadas'!C:D,2,0),\"\")","v":0},"","",null,8,null,0,8,304]
[null,null,{"$f":"IFERROR(VLOOKUP(D3649,'1_Causas_Levantadas'!C:D,2,0),\"\")","v":0},"","",null,9,null,0,9,304]
[null,null,{"$f":"IFERROR(VLOOKUP(D3650,'1_Causas_Levantadas'!C:D,2,0),\"\")","v":0},"","",null,10,null,0,10,304]
[null,null,{"$f":"IFERROR(VLOOKUP(D3651,'1_Causas_Levantadas'!C:D,2,0),\"\")","v":0},"","",null,11,null,0,11,304]
[null,null,{"$f":"IFERROR(VLOOKUP(D3652,'1_Causas_Levantadas'!C:D,2,0),\"\")","v":0},"","",null,12,null,0,12,304]
[null,null,{"$f":"IFERROR(VLOOKUP(D3653,'1_Causas_Levantadas'!C:D,2,0),\"\")","v":0},"","",null,1,null,1,1,305]
[null,null,{"$f":"IFERROR(VLOOKUP(D3654,'1_Causas_Levantadas'!C:D,2,0),\"\")","v":0},{"$f":"IF(K3654<=$H$4,(IF(G3653>0,G3654,$G$5)),\"\")","v":""},{"$f":"IF(D3654<>\"\",\"Participante \"&K3654,\"\")","v":""},null,{"$f":"J3654","v":2},null,{"$f":"IF(G3654=$G$5,1,0)","v":0},2,{"$f":"I3654+K3653","v":305}]
[null,null,{"$f":"IFERROR(VLOOKUP(D3655,'1_Causas_Levantadas'!C:D,2,0),\"\")","v":0},"","",null,3,null,0,{"$f":"IF(G3654<$G$4,J3654+1,1)","v":3},305]
[null,null,{"$f":"IFERROR(VLOOKUP(D3656,'1_Causas_Levantadas'!C:D,2,0),\"\")","v":0},"","",null,4,null,0,4,305]
[null,null,{"$f":"IFERROR(VLOOKUP(D3657,'1_Causas_Levantadas'!C:D,2,0),\"\")","v":0},"","",null,5,null,0,5,305]
[null,null,{"$f":"IFERROR(VLOOKUP(D3658,'1_Causas_Levantadas'!C:D,2,0),\"\")","v":0},"","",null,6,null,0,6,305]
[null,null,{"$f":"IFERROR(VLOOKUP(D3659,'1_Causas_Levantadas'!C:D,2,0),\"\")","v":0},"","",null,7,null,0,7,305]
[null,null,{"$f":"IFERROR(VLOOKUP(D3660,'1_Causas_Levantadas'!C:D,2,0),\"\")","v":0},"","",null,8,null,0,8,305]
[null,null,{"$f":"IFERROR(VLOOKUP(D3661,'1_Causas_Levantadas'!C:D,2,0),\"\")","v":0},"","",null,9,null,0,9,305]
[null,null,{"$f":"IFERROR(VLOOKUP(D3662,'1_Causas_Levantadas'!C:D,2,0),\"\")","v":0},"","",null,10,null,0,10,305]
[null,null,{"$f":"IFERROR(VLOOKUP(D3663,'1_Causas_Levantadas'!C:D,2,0),\"\")","v":0},"","",null,11,null,0,11,305]
[null,null,{"$f":"IFERROR(VLOOKUP(D3664,'1_Causas_Levantadas'!C:D,2,0),\"\")","v":0},"","",null,12,null,0,12,305]
[null,null,{"$f":"IFERROR(VLOOKUP(D3665,'1_Causas_Levantadas'!C:D,2,0),\"\")","v":0},"","",null,1,null,1,1,306]
[null,null,{"$f":"IFERROR(VLOOKUP(D3666,'1_Causas_Levantadas'!C:D,2,0),\"\")","v":0},"","",null,2,null,0,2,306]
[null,null,{"$f":"IFERROR(VLOOKUP(D3667,'1_Causas_Levantadas'!C:D,2,0),\"\")","v":0},"","",null,3,null,0,3,306]
[null,null,{"$f":"IFERROR(VLOOKUP(D3668,'1_Causas_Levantadas'!C:D,2,0),\"\")","v":0},"","",null,4,null,0,4,306]
[null,null,{"$f":"IFERROR(VLOOKUP(D3669,'1_Causas_Levantadas'!C:D,2,0),\"\")","v":0},"","",null,5,null,0,5,306]
[null,null,{"$f":"IFERROR(VLOOKUP(D3670,'1_Causas_Levantadas'!C:D,2,0),\"\")","v":0},"","",null,6,null,0,6,306]
[null,null,{"$f":"IFERROR(VLOOKUP(D3671,'1_Causas_Levantadas'!C:D,2,0),\"\")","v":0},"","",null,7,null,0,7,306]
[null,null,{"$f":"IFERROR(VLOOKUP(D3672,'1_Causas_Levantadas'!C:D,2,0),\"\")","v":0},"","",null,8,null,0,8,306]
[null,null,{"$f":"IFERROR(VLOOKUP(D3673,'1_Causas_Levantadas'!C:D,2,0),\"\")","v":0},"","",null,9,null,0,9,306]
[null,null,{"$f":"IFERROR(VLOOKUP(D3674,'1_Causas_Levantadas'!C:D,2,0),\"\")","v":0},"","",null,10,null,0,10,306]
[null,null,{"$f":"IFERROR(VLOOKUP(D3675,'1_Causas_Levantadas'!C:D,2,0),\"\")","v":0},"","",null,11,null,0,11,306]
[null,null,{"$f":"IFERROR(VLOOKUP(D3676,'1_Causas_Levantadas'!C:D,2,0),\"\")","v":0},"","",null,12,null,0,12,306]
[null,null,{"$f":"IFERROR(VLOOKUP(D3677,'1_Causas_Levantadas'!C:D,2,0),\"\")","v":0},"","",null,1,null,1,1,307]
[null,null,{"$f":"IFERROR(VLOOKUP(D3678,'1_Causas_Levantadas'!C:D,2,0),\"\")","v":0},"","",null,2,null,0,2,307]
[null,null,{"$f":"IFERROR(VLOOKUP(D3679,'1_Causas_Levantadas'!C:D,2,0),\"\")","v":0},"","",null,3,null,0,3,307]
[null,null,{"$f":"IFERROR(VLOOKUP(D3680,'1_Causas_Levantadas'!C:D,2,0),\"\")","v":0},"","",null,4,null,0,4,307]
[null,null,{"$f":"IFERROR(VLOOKUP(D3681,'1_Causas_Levantadas'!C:D,2,0),\"\")","v":0},"","",null,5,null,0,5,307]
[null,null,{"$f":"IFERROR(VLOOKUP(D3682,'1_Causas_Levantadas'!C:D,2,0),\"\")","v":0},"","",null,6,null,0,6,307]
[null,null,{"$f":"IFERROR(VLOOKUP(D3683,'1_Causas_Levantadas'!C:D,2,0),\"\")","v":0},"","",null,7,null,0,7,307]
[null,null,{"$f":"IFERROR(VLOOKUP(D3684,'1_Causas_Levantadas'!C:D,2,0),\"\")","v":0},"","",null,8,null,0,8,307]
[null,null,{"$f":"IFERROR(VLOOKUP(D3685,'1_Causas_Levantadas'!C:D,2,0),\"\")","v":0},"","",null,9,null,0,9,307]
[null,null,{"$f":"IFERROR(VLOOKUP(D3686,'1_Causas_Levantadas'!C:D,2,0),\"\")","v":0},"","",null,10,null,0,10,307]
[null,null,{"$f":"IFERROR(VLOOKUP(D3687,'1_Causas_Levantadas'!C:D,2,0),\"\")","v":0},"","",null,11,null,0,11,307]
[null,null,{"$f":"IFERROR(VLOOKUP(D3688,'1_Causas_Levantadas'!C:D,2,0),\"\")","v":0},"","",null,12,null,0,12,307]
[null,null,{"$f":"IFERROR(VLOOKUP(D3689,'1_Causas_Levantadas'!C:D,2,0),\"\")","v":0},"","",null,1,null,1,1,308]
[null,null,{"$f":"IFERROR(VLOOKUP(D3690,'1_Causas_Levantadas'!C:D,2,0),\"\")","v":0},"","",null,2,null,0,2,308]
[null,null,{"$f":"IFERROR(VLOOKUP(D3691,'1_Causas_Levantadas'!C:D,2,0),\"\")","v":0},"","",null,3,null,0,3,308]
[null,null,{"$f":"IFERROR(VLOOKUP(D3692,'1_Causas_Levantadas'!C:D,2,0),\"\")","v":0},"","",null,4,null,0,4,308]
[null,null,{"$f":"IFERROR(VLOOKUP(D3693,'1_Causas_Levantadas'!C:D,2,0),\"\")","v":0},"","",null,5,null,0,5,308]
[null,null,{"$f":"IFERROR(VLOOKUP(D3694,'1_Causas_Levantadas'!C:D,2,0),\"\")","v":0},"","",null,6,null,0,6,308]
[null,null,{"$f":"IFERROR(VLOOKUP(D3695,'1_Causas_Levantadas'!C:D,2,0),\"\")","v":0},"","",null,7,null,0,7,308]
[null,null,{"$f":"IFERROR(VLOOKUP(D3696,'1_Causas_Levantadas'!C:D,2,0),\"\")","v":0},"","",null,8,null,0,8,308]
[null,null,{"$f":"IFERROR(VLOOKUP(D3697,'1_Causas_Levantadas'!C:D,2,0),\"\")","v":0},"","",null,9,null,0,9,308]
[null,null,{"$f":"IFERROR(VLOOKUP(D3698,'1_Causas_Levantadas'!C:D,2,0),\"\")","v":0},"","",null,10,null,0,10,308]
[null,null,{"$f":"IFERROR(VLOOKUP(D3699,'1_Causas_Levantadas'!C:D,2,0),\"\")","v":0},"","",null,11,null,0,11,308]
[null,null,{"$f":"IFERROR(VLOOKUP(D3700,'1_Causas_Levantadas'!C:D,2,0),\"\")","v":0},"","",null,12,null,0,12,308]
[null,null,{"$f":"IFERROR(VLOOKUP(D3701,'1_Causas_Levantadas'!C:D,2,0),\"\")","v":0},"","",null,1,null,1,1,309]
[null,null,{"$f":"IFERROR(VLOOKUP(D3702,'1_Causas_Levantadas'!C:D,2,0),\"\")","v":0},"","",null,2,null,0,2,309]
[null,null,{"$f":"IFERROR(VLOOKUP(D3703,'1_Causas_Levantadas'!C:D,2,0),\"\")","v":0},"","",null,3,null,0,3,309]
[null,null,{"$f":"IFERROR(VLOOKUP(D3704,'1_Causas_Levantadas'!C:D,2,0),\"\")","v":0},"","",null,4,null,0,4,309]
[null,null,{"$f":"IFERROR(VLOOKUP(D3705,'1_Causas_Levantadas'!C:D,2,0),\"\")","v":0},"","",null,5,null,0,5,309]
[null,null,{"$f":"IFERROR(VLOOKUP(D3706,'1_Causas_Levantadas'!C:D,2,0),\"\")","v":0},"","",null,6,null,0,6,309]
[null,null,{"$f":"IFERROR(VLOOKUP(D3707,'1_Causas_Levantadas'!C:D,2,0),\"\")","v":0},"","",null,7,null,0,7,309]
[null,null,{"$f":"IFERROR(VLOOKUP(D3708,'1_Causas_Levantadas'!C:D,2,0),\"\")","v":0},"","",null,8,null,0,8,309]
[null,null,{"$f":"IFERROR(VLOOKUP(D3709,'1_Causas_Levantadas'!C:D,2,0),\"\")","v":0},"","",null,9,null,0,9,309]
[null,null,{"$f":"IFERROR(VLOOKUP(D3710,'1_Causas_Levantadas'!C:D,2,0),\"\")","v":0},"","",null,10,null,0,10,309]
[null,null,{"$f":"IFERROR(VLOOKUP(D3711,'1_Causas_Levantadas'!C:D,2,0),\"\")","v":0},"","",null,11,null,0,11,309]
[null,null,{"$f":"IFERROR(VLOOKUP(D3712,'1_Causas_Levantadas'!C:D,2,0),\"\")","v":0},"","",null,12,null,0,12,309]
[null,null,{"$f":"IFERROR(VLOOKUP(D3713,'1_Causas_Levantadas'!C:D,2,0),\"\")","v":0},"","",null,1,null,1,1,310]
[null,null,{"$f":"IFERROR(VLOOKUP(D3714,'1_Causas_Levantadas'!C:D,2,0),\"\")","v":0},"","",null,2,null,0,2,310]
[null,null,{"$f":"IFERROR(VLOOKUP(D3715,'1_Causas_Levantadas'!C:D,2,0),\"\")","v":0},"","",null,3,null,0,3,310]
[null,null,{"$f":"IFERROR(VLOOKUP(D3716,'1_Causas_Levantadas'!C:D,2,0),\"\")","v":0},"","",null,4,null,0,4,310]
[null,null,{"$f":"IFERROR(VLOOKUP(D3717,'1_Causas_Levantadas'!C:D,2,0),\"\")","v":0},"","",null,5,null,0,5,310]
[null,null,{"$f":"IFERROR(VLOOKUP(D3718,'1_Causas_Levantadas'!C:D,2,0),\"\")","v":0},{"$f":"IF(K3718<=$H$4,(IF(G3717>0,G3718,$G$5)),\"\")","v":""},{"$f":"IF(D3718<>\"\",\"Participante \"&K3718,\"\")","v":""},null,{"$f":"J3718","v":6},null,{"$f":"IF(G3718=$G$5,1,0)","v":0},6,{"$f":"I3718+K3717","v":310}]
[null,null,{"$f":"IFERROR(VLOOKUP(D3719,'1_Causas_Levantadas'!C:D,2,0),\"\")","v":0},"","",null,7,null,0,{"$f":"IF(G3718<$G$4,J3718+1,1)","v":7},310]
[null,null,{"$f":"IFERROR(VLOOKUP(D3720,'1_Causas_Levantadas'!C:D,2,0),\"\")","v":0},"","",null,8,null,0,8,310]
[null,null,{"$f":"IFERROR(VLOOKUP(D3721,'1_Causas_Levantadas'!C:D,2,0),\"\")","v":0},"","",null,9,null,0,9,310]
[null,null,{"$f":"IFERROR(VLOOKUP(D3722,'1_Causas_Levantadas'!C:D,2,0),\"\")","v":0},"","",null,10,null,0,10,310]
[null,null,{"$f":"IFERROR(VLOOKUP(D3723,'1_Causas_Levantadas'!C:D,2,0),\"\")","v":0},"","",null,11,null,0,11,310]
[null,null,{"$f":"IFERROR(VLOOKUP(D3724,'1_Causas_Levantadas'!C:D,2,0),\"\")","v":0},"","",null,12,null,0,12,310]
[null,null,{"$f":"IFERROR(VLOOKUP(D3725,'1_Causas_Levantadas'!C:D,2,0),\"\")","v":0},"","",null,1,null,1,1,311]
[null,null,{"$f":"IFERROR(VLOOKUP(D3726,'1_Causas_Levantadas'!C:D,2,0),\"\")","v":0},"","",null,2,null,0,2,311]
[null,null,{"$f":"IFERROR(VLOOKUP(D3727,'1_Causas_Levantadas'!C:D,2,0),\"\")","v":0},"","",null,3,null,0,3,311]
[null,null,{"$f":"IFERROR(VLOOKUP(D3728,'1_Causas_Levantadas'!C:D,2,0),\"\")","v":0},"","",null,4,null,0,4,311]
[null,null,{"$f":"IFERROR(VLOOKUP(D3729,'1_Causas_Levantadas'!C:D,2,0),\"\")","v":0},"","",null,5,null,0,5,311]
[null,null,{"$f":"IFERROR(VLOOKUP(D3730,'1_Causas_Levantadas'!C:D,2,0),\"\")","v":0},"","",null,6,null,0,6,311]
[null,null,{"$f":"IFERROR(VLOOKUP(D3731,'1_Causas_Levantadas'!C:D,2,0),\"\")","v":0},"","",null,7,null,0,7,311]
[null,null,{"$f":"IFERROR(VLOOKUP(D3732,'1_Causas_Levantadas'!C:D,2,0),\"\")","v":0},"","",null,8,null,0,8,311]
[null,null,{"$f":"IFERROR(VLOOKUP(D3733,'1_Causas_Levantadas'!C:D,2,0),\"\")","v":0},"","",null,9,null,0,9,311]
[null,null,{"$f":"IFERROR(VLOOKUP(D3734,'1_Causas_Levantadas'!C:D,2,0),\"\")","v":0},"","",null,10,null,0,10,311]
[null,null,{"$f":"IFERROR(VLOOKUP(D3735,'1_Causas_Levantadas'!C:D,2,0),\"\")","v":0},"","",null,11,null,0,11,311]
[null,null,{"$f":"IFERROR(VLOOKUP(D3736,'1_Causas_Levantadas'!C:D,2,0),\"\")","v":0},"","",null,12,null,0,12,311]
[null,null,{"$f":"IFERROR(VLOOKUP(D3737,'1_Causas_Levantadas'!C:D,2,0),\"\")","v":0},"","",null,1,null,1,1,312]
[null,null,{"$f":"IFERROR(VLOOKUP(D3738,'1_Causas_Levantadas'!C:D,2,0),\"\")","v":0},"","",null,2,null,0,2,312]
[null,null,{"$f":"IFERROR(VLOOKUP(D3739,'1_Causas_Levantadas'!C:D,2,0),\"\")","v":0},"","",null,3,null,0,3,312]
[null,null,{"$f":"IFERROR(VLOOKUP(D3740,'1_Causas_Levantadas'!C:D,2,0),\"\")","v":0},"","",null,4,null,0,4,312]
[null,null,{"$f":"IFERROR(VLOOKUP(D3741,'1_Causas_Levantadas'!C:D,2,0),\"\")","v":0},"","",null,5,null,0,5,312]
[null,null,{"$f":"IFERROR(VLOOKUP(D3742,'1_Causas_Levantadas'!C:D,2,0),\"\")","v":0},"","",null,6,null,0,6,312]
[null,null,{"$f":"IFERROR(VLOOKUP(D3743,'1_Causas_Levantadas'!C:D,2,0),\"\")","v":0},"","",null,7,null,0,7,312]
[null,null,{"$f":"IFERROR(VLOOKUP(D3744,'1_Causas_Levantadas'!C:D,2,0),\"\")","v":0},"","",null,8,null,0,8,312]
[null,null,{"$f":"IFERROR(VLOOKUP(D3745,'1_Causas_Levantadas'!C:D,2,0),\"\")","v":0},"","",null,9,null,0,9,312]
[null,null,{"$f":"IFERROR(VLOOKUP(D3746,'1_Causas_Levantadas'!C:D,2,0),\"\")","v":0},"","",null,10,null,0,10,312]
[null,null,{"$f":"IFERROR(VLOOKUP(D3747,'1_Causas_Levantadas'!C:D,2,0),\"\")","v":0},"","",null,11,null,0,11,312]
[null,null,{"$f":"IFERROR(VLOOKUP(D3748,'1_Causas_Levantadas'!C:D,2,0),\"\")","v":0},"","",null,12,null,0,12,312]
[null,null,{"$f":"IFERROR(VLOOKUP(D3749,'1_Causas_Levantadas'!C:D,2,0),\"\")","v":0},"","",null,1,null,1,1,313]
[null,null,{"$f":"IFERROR(VLOOKUP(D3750,'1_Causas_Levantadas'!C:D,2,0),\"\")","v":0},"","",null,2,null,0,2,313]
[null,null,{"$f":"IFERROR(VLOOKUP(D3751,'1_Causas_Levantadas'!C:D,2,0),\"\")","v":0},"","",null,3,null,0,3,313]
[null,null,{"$f":"IFERROR(VLOOKUP(D3752,'1_Causas_Levantadas'!C:D,2,0),\"\")","v":0},"","",null,4,null,0,4,313]
[null,null,{"$f":"IFERROR(VLOOKUP(D3753,'1_Causas_Levantadas'!C:D,2,0),\"\")","v":0},"","",null,5,null,0,5,313]
[null,null,{"$f":"IFERROR(VLOOKUP(D3754,'1_Causas_Levantadas'!C:D,2,0),\"\")","v":0},"","",null,6,null,0,6,313]
[null,null,{"$f":"IFERROR(VLOOKUP(D3755,'1_Causas_Levantadas'!C:D,2,0),\"\")","v":0},"","",null,7,null,0,7,313]
[null,null,{"$f":"IFERROR(VLOOKUP(D3756,'1_Causas_Levantadas'!C:D,2,0),\"\")","v":0},"","",null,8,null,0,8,313]
[null,null,{"$f":"IFERROR(VLOOKUP(D3757,'1_Causas_Levantadas'!C:D,2,0),\"\")","v":0},"","",null,9,null,0,9,313]
[null,null,{"$f":"IFERROR(VLOOKUP(D3758,'1_Causas_Levantadas'!C:D,2,0),\"\")","v":0},"","",null,10,null,0,10,313]
[null,null,{"$f":"IFERROR(VLOOKUP(D3759,'1_Causas_Levantadas'!C:D,2,0),\"\")","v":0},"","",null,11,null,0,11,313]
[null,null,{"$f":"IFERROR(VLOOKUP(D3760,'1_Causas_Levantadas'!C:D,2,0),\"\")","v":0},"","",null,12,null,0,12,313]
[null,null,{"$f":"IFERROR(VLOOKUP(D3761,'1_Causas_Levantadas'!C:D,2,0),\"\")","v":0},"","",null,1,null,1,1,314]
[null,null,{"$f":"IFERROR(VLOOKUP(D3762,'1_Causas_Levantadas'!C:D,2,0),\"\")","v":0},"","",null,2,null,0,2,314]
[null,null,{"$f":"IFERROR(VLOOKUP(D3763,'1_Causas_Levantadas'!C:D,2,0),\"\")","v":0},"","",null,3,null,0,3,314]
[null,null,{"$f":"IFERROR(VLOOKUP(D3764,'1_Causas_Levantadas'!C:D,2,0),\"\")","v":0},"","",null,4,null,0,4,314]
[null,null,{"$f":"IFERROR(VLOOKUP(D3765,'1_Causas_Levantadas'!C:D,2,0),\"\")","v":0},"","",null,5,null,0,5,314]
[null,null,{"$f":"IFERROR(VLOOKUP(D3766,'1_Causas_Levantadas'!C:D,2,0),\"\")","v":0},"","",null,6,null,0,6,314]
[null,null,{"$f":"IFERROR(VLOOKUP(D3767,'1_Causas_Levantadas'!C:D,2,0),\"\")","v":0},"","",null,7,null,0,7,314]
[null,null,{"$f":"IFERROR(VLOOKUP(D3768,'1_Causas_Levantadas'!C:D,2,0),\"\")","v":0},"","",null,8,null,0,8,314]
[null,null,{"$f":"IFERROR(VLOOKUP(D3769,'1_Causas_Levantadas'!C:D,2,0),\"\")","v":0},"","",null,9,null,0,9,314]
[null,null,{"$f":"IFERROR(VLOOKUP(D3770,'1_Causas_Levantadas'!C:D,2,0),\"\")","v":0},"","",null,10,null,0,10,314]
[null,null,{"$f":"IFERROR(VLOOKUP(D3771,'1_Causas_Levantadas'!C:D,2,0),\"\")","v":0},"","",null,11,null,0,11,314]
[null,null,{"$f":"IFERROR(VLOOKUP(D3772,'1_Causas_Levantadas'!C:D,2,0),\"\")","v":0},"","",null,12,null,0,12,314]
[null,null,{"$f":"IFERROR(VLOOKUP(D3773,'1_Causas_Levantadas'!C:D,2,0),\"\")","v":0},"","",null,1,null,1,1,315]
[null,null,{"$f":"IFERROR(VLOOKUP(D3774,'1_Causas_Levantadas'!C:D,2,0),\"\")","v":0},"","",null,2,null,0,2,315]
[null,null,{"$f":"IFERROR(VLOOKUP(D3775,'1_Causas_Levantadas'!C:D,2,0),\"\")","v":0},"","",null,3,null,0,3,315]
[null,null,{"$f":"IFERROR(VLOOKUP(D3776,'1_Causas_Levantadas'!C:D,2,0),\"\")","v":0},"","",null,4,null,0,4,315]
[null,null,{"$f":"IFERROR(VLOOKUP(D3777,'1_Causas_Levantadas'!C:D,2,0),\"\")","v":0},"","",null,5,null,0,5,315]
[null,null,{"$f":"IFERROR(VLOOKUP(D3778,'1_Causas_Levantadas'!C:D,2,0),\"\")","v":0},"","",null,6,null,0,6,315]
[null,null,{"$f":"IFERROR(VLOOKUP(D3779,'1_Causas_Levantadas'!C:D,2,0),\"\")","v":0},"","",null,7,null,0,7,315]
[null,null,{"$f":"IFERROR(VLOOKUP(D3780,'1_Causas_Levantadas'!C:D,2,0),\"\")","v":0},"","",null,8,null,0,8,315]
[null,null,{"$f":"IFERROR(VLOOKUP(D3781,'1_Causas_Levantadas'!C:D,2,0),\"\")","v":0},"","",null,9,null,0,9,315]
[null,null,{"$f":"IFERROR(VLOOKUP(D3782,'1_Causas_Levantadas'!C:D,2,0),\"\")","v":0},{"$f":"IF(K3782<=$H$4,(IF(G3781>0,G3782,$G$5)),\"\")","v":""},{"$f":"IF(D3782<>\"\",\"Participante \"&K3782,\"\")","v":""},null,{"$f":"J3782","v":10},null,{"$f":"IF(G3782=$G$5,1,0)","v":0},10,{"$f":"I3782+K3781","v":315}]
[null,null,{"$f":"IFERROR(VLOOKUP(D3783,'1_Causas_Levantadas'!C:D,2,0),\"\")","v":0},"","",null,11,null,0,{"$f":"IF(G3782<$G$4,J3782+1,1)","v":11},315]
[null,null,{"$f":"IFERROR(VLOOKUP(D3784,'1_Causas_Levantadas'!C:D,2,0),\"\")","v":0},"","",null,12,null,0,12,315]
[null,null,{"$f":"IFERROR(VLOOKUP(D3785,'1_Causas_Levantadas'!C:D,2,0),\"\")","v":0},"","",null,1,null,1,1,316]
[null,null,{"$f":"IFERROR(VLOOKUP(D3786,'1_Causas_Levantadas'!C:D,2,0),\"\")","v":0},"","",null,2,null,0,2,316]
[null,null,{"$f":"IFERROR(VLOOKUP(D3787,'1_Causas_Levantadas'!C:D,2,0),\"\")","v":0},"","",null,3,null,0,3,316]
[null,null,{"$f":"IFERROR(VLOOKUP(D3788,'1_Causas_Levantadas'!C:D,2,0),\"\")","v":0},"","",null,4,null,0,4,316]
[null,null,{"$f":"IFERROR(VLOOKUP(D3789,'1_Causas_Levantadas'!C:D,2,0),\"\")","v":0},"","",null,5,null,0,5,316]
[null,null,{"$f":"IFERROR(VLOOKUP(D3790,'1_Causas_Levantadas'!C:D,2,0),\"\")","v":0},"","",null,6,null,0,6,316]
[null,null,{"$f":"IFERROR(VLOOKUP(D3791,'1_Causas_Levantadas'!C:D,2,0),\"\")","v":0},"","",null,7,null,0,7,316]
[null,null,{"$f":"IFERROR(VLOOKUP(D3792,'1_Causas_Levantadas'!C:D,2,0),\"\")","v":0},"","",null,8,null,0,8,316]
[null,null,{"$f":"IFERROR(VLOOKUP(D3793,'1_Causas_Levantadas'!C:D,2,0),\"\")","v":0},"","",null,9,null,0,9,316]
[null,null,{"$f":"IFERROR(VLOOKUP(D3794,'1_Causas_Levantadas'!C:D,2,0),\"\")","v":0},"","",null,10,null,0,10,316]
[null,null,{"$f":"IFERROR(VLOOKUP(D3795,'1_Causas_Levantadas'!C:D,2,0),\"\")","v":0},"","",null,11,null,0,11,316]
[null,null,{"$f":"IFERROR(VLOOKUP(D3796,'1_Causas_Levantadas'!C:D,2,0),\"\")","v":0},"","",null,12,null,0,12,316]
[null,null,{"$f":"IFERROR(VLOOKUP(D3797,'1_Causas_Levantadas'!C:D,2,0),\"\")","v":0},"","",null,1,null,1,1,317]
[null,null,{"$f":"IFERROR(VLOOKUP(D3798,'1_Causas_Levantadas'!C:D,2,0),\"\")","v":0},"","",null,2,null,0,2,317]
[null,null,{"$f":"IFERROR(VLOOKUP(D3799,'1_Causas_Levantadas'!C:D,2,0),\"\")","v":0},"","",null,3,null,0,3,317]
[null,null,{"$f":"IFERROR(VLOOKUP(D3800,'1_Causas_Levantadas'!C:D,2,0),\"\")","v":0},"","",null,4,null,0,4,317]
[null,null,{"$f":"IFERROR(VLOOKUP(D3801,'1_Causas_Levantadas'!C:D,2,0),\"\")","v":0},"","",null,5,null,0,5,317]
[null,null,{"$f":"IFERROR(VLOOKUP(D3802,'1_Causas_Levantadas'!C:D,2,0),\"\")","v":0},"","",null,6,null,0,6,317]
[null,null,{"$f":"IFERROR(VLOOKUP(D3803,'1_Causas_Levantadas'!C:D,2,0),\"\")","v":0},"","",null,7,null,0,7,317]
[null,null,{"$f":"IFERROR(VLOOKUP(D3804,'1_Causas_Levantadas'!C:D,2,0),\"\")","v":0},"","",null,8,null,0,8,317]
[null,null,{"$f":"IFERROR(VLOOKUP(D3805,'1_Causas_Levantadas'!C:D,2,0),\"\")","v":0},"","",null,9,null,0,9,317]
[null,null,{"$f":"IFERROR(VLOOKUP(D3806,'1_Causas_Levantadas'!C:D,2,0),\"\")","v":0},"","",null,10,null,0,10,317]
[null,null,{"$f":"IFERROR(VLOOKUP(D3807,'1_Causas_Levantadas'!C:D,2,0),\"\")","v":0},"","",null,11,null,0,11,317]
[null,null,{"$f":"IFERROR(VLOOKUP(D3808,'1_Causas_Levantadas'!C:D,2,0),\"\")","v":0},"","",null,12,null,0,12,317]
[null,null,{"$f":"IFERROR(VLOOKUP(D3809,'1_Causas_Levantadas'!C:D,2,0),\"\")","v":0},"","",null,1,null,1,1,318]
[null,null,{"$f":"IFERROR(VLOOKUP(D3810,'1_Causas_Levantadas'!C:D,2,0),\"\")","v":0},"","",null,2,null,0,2,318]
[null,null,{"$f":"IFERROR(VLOOKUP(D3811,'1_Causas_Levantadas'!C:D,2,0),\"\")","v":0},"","",null,3,null,0,3,318]
[null,null,{"$f":"IFERROR(VLOOKUP(D3812,'1_Causas_Levantadas'!C:D,2,0),\"\")","v":0},"","",null,4,null,0,4,318]
[null,null,{"$f":"IFERROR(VLOOKUP(D3813,'1_Causas_Levantadas'!C:D,2,0),\"\")","v":0},"","",null,5,null,0,5,318]
[null,null,{"$f":"IFERROR(VLOOKUP(D3814,'1_Causas_Levantadas'!C:D,2,0),\"\")","v":0},"","",null,6,null,0,6,318]
[null,null,{"$f":"IFERROR(VLOOKUP(D3815,'1_Causas_Levantadas'!C:D,2,0),\"\")","v":0},"","",null,7,null,0,7,318]
[null,null,{"$f":"IFERROR(VLOOKUP(D3816,'1_Causas_Levantadas'!C:D,2,0),\"\")","v":0},"","",null,8,null,0,8,318]
[null,null,{"$f":"IFERROR(VLOOKUP(D3817,'1_Causas_Levantadas'!C:D,2,0),\"\")","v":0},"","",null,9,null,0,9,318]
[null,null,{"$f":"IFERROR(VLOOKUP(D3818,'1_Causas_Levantadas'!C:D,2,0),\"\")","v":0},"","",null,10,null,0,10,318]
[null,null,{"$f":"IFERROR(VLOOKUP(D3819,'1_Causas_Levantadas'!C:D,2,0),\"\")","v":0},"","",null,11,null,0,11,318]
[null,null,{"$f":"IFERROR(VLOOKUP(D3820,'1_Causas_Levantadas'!C:D,2,0),\"\")","v":0},"","",null,12,null,0,12,318]
[null,null,{"$f":"IFERROR(VLOOKUP(D3821,'1_Causas_Levantadas'!C:D,2,0),\"\")","v":0},"","",null,1,null,1,1,319]
[null,null,{"$f":"IFERROR(VLOOKUP(D3822,'1_Causas_Levantadas'!C:D,2,0),\"\")","v":0},"","",null,2,null,0,2,319]
[null,null,{"$f":"IFERROR(VLOOKUP(D3823,'1_Causas_Levantadas'!C:D,2,0),\"\")","v":0},"","",null,3,null,0,3,319]
[null,null,{"$f":"IFERROR(VLOOKUP(D3824,'1_Causas_Levantadas'!C:D,2,0),\"\")","v":0},"","",null,4,null,0,4,319]
[null,null,{"$f":"IFERROR(VLOOKUP(D3825,'1_Causas_Levantadas'!C:D,2,0),\"\")","v":0},"","",null,5,null,0,5,319]
[null,null,{"$f":"IFERROR(VLOOKUP(D3826,'1_Causas_Levantadas'!C:D,2,0),\"\")","v":0},"","",null,6,null,0,6,319]
[null,null,{"$f":"IFERROR(VLOOKUP(D3827,'1_Causas_Levantadas'!C:D,2,0),\"\")","v":0},"","",null,7,null,0,7,319]
[null,null,{"$f":"IFERROR(VLOOKUP(D3828,'1_Causas_Levantadas'!C:D,2,0),\"\")","v":0},"","",null,8,null,0,8,319]
[null,null,{"$f":"IFERROR(VLOOKUP(D3829,'1_Causas_Levantadas'!C:D,2,0),\"\")","v":0},"","",null,9,null,0,9,319]
[null,null,{"$f":"IFERROR(VLOOKUP(D3830,'1_Causas_Levantadas'!C:D,2,0),\"\")","v":0},"","",null,10,null,0,10,319]
[null,null,{"$f":"IFERROR(VLOOKUP(D3831,'1_Causas_Levantadas'!C:D,2,0),\"\")","v":0},"","",null,11,null,0,11,319]
[null,null,{"$f":"IFERROR(VLOOKUP(D3832,'1_Causas_Levantadas'!C:D,2,0),\"\")","v":0},"","",null,12,null,0,12,319]
[null,null,{"$f":"IFERROR(VLOOKUP(D3833,'1_Causas_Levantadas'!C:D,2,0),\"\")","v":0},"","",null,1,null,1,1,320]
[null,null,{"$f":"IFERROR(VLOOKUP(D3834,'1_Causas_Levantadas'!C:D,2,0),\"\")","v":0},"","",null,2,null,0,2,320]
[null,null,{"$f":"IFERROR(VLOOKUP(D3835,'1_Causas_Levantadas'!C:D,2,0),\"\")","v":0},"","",null,3,null,0,3,320]
[null,null,{"$f":"IFERROR(VLOOKUP(D3836,'1_Causas_Levantadas'!C:D,2,0),\"\")","v":0},"","",null,4,null,0,4,320]
[null,null,{"$f":"IFERROR(VLOOKUP(D3837,'1_Causas_Levantadas'!C:D,2,0),\"\")","v":0},"","",null,5,null,0,5,320]
[null,null,{"$f":"IFERROR(VLOOKUP(D3838,'1_Causas_Levantadas'!C:D,2,0),\"\")","v":0},"","",null,6,null,0,6,320]
[null,null,{"$f":"IFERROR(VLOOKUP(D3839,'1_Causas_Levantadas'!C:D,2,0),\"\")","v":0},"","",null,7,null,0,7,320]
[null,null,{"$f":"IFERROR(VLOOKUP(D3840,'1_Causas_Levantadas'!C:D,2,0),\"\")","v":0},"","",null,8,null,0,8,320]
[null,null,{"$f":"IFERROR(VLOOKUP(D3841,'1_Causas_Levantadas'!C:D,2,0),\"\")","v":0},"","",null,9,null,0,9,320]
[null,null,{"$f":"IFERROR(VLOOKUP(D3842,'1_Causas_Levantadas'!C:D,2,0),\"\")","v":0},"","",null,10,null,0,10,320]
[null,null,{"$f":"IFERROR(VLOOKUP(D3843,'1_Causas_Levantadas'!C:D,2,0),\"\")","v":0},"","",null,11,null,0,11,320]
[null,null,{"$f":"IFERROR(VLOOKUP(D3844,'1_Causas_Levantadas'!C:D,2,0),\"\")","v":0},"","",null,12,null,0,12,320]
[null,null,{"$f":"IFERROR(VLOOKUP(D3845,'1_Causas_Levantadas'!C:D,2,0),\"\")","v":0},"","",null,1,null,1,1,321]
[null,null,{"$f":"IFERROR(VLOOKUP(D3846,'1_Causas_Levantadas'!C:D,2,0),\"\")","v":0},{"$f":"IF(K3846<=$H$4,(IF(G3845>0,G3846,$G$5)),\"\")","v":""},{"$f":"IF(D3846<>\"\",\"Participante \"&K3846,\"\")","v":""},null,{"$f":"J3846","v":2},null,{"$f":"IF(G3846=$G$5,1,0)","v":0},2,{"$f":"I3846+K3845","v":321}]
[null,null,{"$f":"IFERROR(VLOOKUP(D3847,'1_Causas_Levantadas'!C:D,2,0),\"\")","v":0},"","",null,3,null,0,{"$f":"IF(G3846<$G$4,J3846+1,1)","v":3},321]
[null,null,{"$f":"IFERROR(VLOOKUP(D3848,'1_Causas_Levantadas'!C:D,2,0),\"\")","v":0},"","",null,4,null,0,4,321]
[null,null,{"$f":"IFERROR(VLOOKUP(D3849,'1_Causas_Levantadas'!C:D,2,0),\"\")","v":0},"","",null,5,null,0,5,321]
[null,null,{"$f":"IFERROR(VLOOKUP(D3850,'1_Causas_Levantadas'!C:D,2,0),\"\")","v":0},"","",null,6,null,0,6,321]
[null,null,{"$f":"IFERROR(VLOOKUP(D3851,'1_Causas_Levantadas'!C:D,2,0),\"\")","v":0},"","",null,7,null,0,7,321]
[null,null,{"$f":"IFERROR(VLOOKUP(D3852,'1_Causas_Levantadas'!C:D,2,0),\"\")","v":0},"","",null,8,null,0,8,321]
[null,null,{"$f":"IFERROR(VLOOKUP(D3853,'1_Causas_Levantadas'!C:D,2,0),\"\")","v":0},"","",null,9,null,0,9,321]
[null,null,{"$f":"IFERROR(VLOOKUP(D3854,'1_Causas_Levantadas'!C:D,2,0),\"\")","v":0},"","",null,10,null,0,10,321]
[null,null,{"$f":"IFERROR(VLOOKUP(D3855,'1_Causas_Levantadas'!C:D,2,0),\"\")","v":0},"","",null,11,null,0,11,321]
[null,null,{"$f":"IFERROR(VLOOKUP(D3856,'1_Causas_Levantadas'!C:D,2,0),\"\")","v":0},"","",null,12,null,0,12,321]
[null,null,{"$f":"IFERROR(VLOOKUP(D3857,'1_Causas_Levantadas'!C:D,2,0),\"\")","v":0},"","",null,1,null,1,1,322]
[null,null,{"$f":"IFERROR(VLOOKUP(D3858,'1_Causas_Levantadas'!C:D,2,0),\"\")","v":0},"","",null,2,null,0,2,322]
[null,null,{"$f":"IFERROR(VLOOKUP(D3859,'1_Causas_Levantadas'!C:D,2,0),\"\")","v":0},"","",null,3,null,0,3,322]
[null,null,{"$f":"IFERROR(VLOOKUP(D3860,'1_Causas_Levantadas'!C:D,2,0),\"\")","v":0},"","",null,4,null,0,4,322]
[null,null,{"$f":"IFERROR(VLOOKUP(D3861,'1_Causas_Levantadas'!C:D,2,0),\"\")","v":0},"","",null,5,null,0,5,322]
[null,null,{"$f":"IFERROR(VLOOKUP(D3862,'1_Causas_Levantadas'!C:D,2,0),\"\")","v":0},"","",null,6,null,0,6,322]
[null,null,{"$f":"IFERROR(VLOOKUP(D3863,'1_Causas_Levantadas'!C:D,2,0),\"\")","v":0},"","",null,7,null,0,7,322]
[null,null,{"$f":"IFERROR(VLOOKUP(D3864,'1_Causas_Levantadas'!C:D,2,0),\"\")","v":0},"","",null,8,null,0,8,322]
[null,null,{"$f":"IFERROR(VLOOKUP(D3865,'1_Causas_Levantadas'!C:D,2,0),\"\")","v":0},"","",null,9,null,0,9,322]
[null,null,{"$f":"IFERROR(VLOOKUP(D3866,'1_Causas_Levantadas'!C:D,2,0),\"\")","v":0},"","",null,10,null,0,10,322]
[null,null,{"$f":"IFERROR(VLOOKUP(D3867,'1_Causas_Levantadas'!C:D,2,0),\"\")","v":0},"","",null,11,null,0,11,322]
[null,null,{"$f":"IFERROR(VLOOKUP(D3868,'1_Causas_Levantadas'!C:D,2,0),\"\")","v":0},"","",null,12,null,0,12,322]
[null,null,{"$f":"IFERROR(VLOOKUP(D3869,'1_Causas_Levantadas'!C:D,2,0),\"\")","v":0},"","",null,1,null,1,1,323]
[null,null,{"$f":"IFERROR(VLOOKUP(D3870,'1_Causas_Levantadas'!C:D,2,0),\"\")","v":0},"","",null,2,null,0,2,323]
[null,null,{"$f":"IFERROR(VLOOKUP(D3871,'1_Causas_Levantadas'!C:D,2,0),\"\")","v":0},"","",null,3,null,0,3,323]
[null,null,{"$f":"IFERROR(VLOOKUP(D3872,'1_Causas_Levantadas'!C:D,2,0),\"\")","v":0},"","",null,4,null,0,4,323]
[null,null,{"$f":"IFERROR(VLOOKUP(D3873,'1_Causas_Levantadas'!C:D,2,0),\"\")","v":0},"","",null,5,null,0,5,323]
[null,null,{"$f":"IFERROR(VLOOKUP(D3874,'1_Causas_Levantadas'!C:D,2,0),\"\")","v":0},"","",null,6,null,0,6,323]
[null,null,{"$f":"IFERROR(VLOOKUP(D3875,'1_Causas_Levantadas'!C:D,2,0),\"\")","v":0},"","",null,7,null,0,7,323]
[null,null,{"$f":"IFERROR(VLOOKUP(D3876,'1_Causas_Levantadas'!C:D,2,0),\"\")","v":0},"","",null,8,null,0,8,323]
[null,null,{"$f":"IFERROR(VLOOKUP(D3877,'1_Causas_Levantadas'!C:D,2,0),\"\")","v":0},"","",null,9,null,0,9,323]
[null,null,{"$f":"IFERROR(VLOOKUP(D3878,'1_Causas_Levantadas'!C:D,2,0),\"\")","v":0},"","",null,10,null,0,10,323]
[null,null,{"$f":"IFERROR(VLOOKUP(D3879,'1_Causas_Levantadas'!C:D,2,0),\"\")","v":0},"","",null,11,null,0,11,323]
[null,null,{"$f":"IFERROR(VLOOKUP(D3880,'1_Causas_Levantadas'!C:D,2,0),\"\")","v":0},"","",null,12,null,0,12,323]
[null,null,{"$f":"IFERROR(VLOOKUP(D3881,'1_Causas_Levantadas'!C:D,2,0),\"\")","v":0},"","",null,1,null,1,1,324]
[null,null,{"$f":"IFERROR(VLOOKUP(D3882,'1_Causas_Levantadas'!C:D,2,0),\"\")","v":0},"","",null,2,null,0,2,324]
[null,null,{"$f":"IFERROR(VLOOKUP(D3883,'1_Causas_Levantadas'!C:D,2,0),\"\")","v":0},"","",null,3,null,0,3,324]
[null,null,{"$f":"IFERROR(VLOOKUP(D3884,'1_Causas_Levantadas'!C:D,2,0),\"\")","v":0},"","",null,4,null,0,4,324]
[null,null,{"$f":"IFERROR(VLOOKUP(D3885,'1_Causas_Levantadas'!C:D,2,0),\"\")","v":0},"","",null,5,null,0,5,324]
[null,null,{"$f":"IFERROR(VLOOKUP(D3886,'1_Causas_Levantadas'!C:D,2,0),\"\")","v":0},"","",null,6,null,0,6,324]
[null,null,{"$f":"IFERROR(VLOOKUP(D3887,'1_Causas_Levantadas'!C:D,2,0),\"\")","v":0},"","",null,7,null,0,7,324]
[null,null,{"$f":"IFERROR(VLOOKUP(D3888,'1_Causas_Levantadas'!C:D,2,0),\"\")","v":0},"","",null,8,null,0,8,324]
[null,null,{"$f":"IFERROR(VLOOKUP(D3889,'1_Causas_Levantadas'!C:D,2,0),\"\")","v":0},"","",null,9,null,0,9,324]
[null,null,{"$f":"IFERROR(VLOOKUP(D3890,'1_Causas_Levantadas'!C:D,2,0),\"\")","v":0},"","",null,10,null,0,10,324]
[null,null,{"$f":"IFERROR(VLOOKUP(D3891,'1_Causas_Levantadas'!C:D,2,0),\"\")","v":0},"","",null,11,null,0,11,324]
[null,null,{"$f":"IFERROR(VLOOKUP(D3892,'1_Causas_Levantadas'!C:D,2,0),\"\")","v":0},"","",null,12,null,0,12,324]
[null,null,{"$f":"IFERROR(VLOOKUP(D3893,'1_Causas_Levantadas'!C:D,2,0),\"\")","v":0},"","",null,1,null,1,1,325]
[null,null,{"$f":"IFERROR(VLOOKUP(D3894,'1_Causas_Levantadas'!C:D,2,0),\"\")","v":0},"","",null,2,null,0,2,325]
[null,null,{"$f":"IFERROR(VLOOKUP(D3895,'1_Causas_Levantadas'!C:D,2,0),\"\")","v":0},"","",null,3,null,0,3,325]
[null,null,{"$f":"IFERROR(VLOOKUP(D3896,'1_Causas_Levantadas'!C:D,2,0),\"\")","v":0},"","",null,4,null,0,4,325]
[null,null,{"$f":"IFERROR(VLOOKUP(D3897,'1_Causas_Levantadas'!C:D,2,0),\"\")","v":0},"","",null,5,null,0,5,325]
[null,null,{"$f":"IFERROR(VLOOKUP(D3898,'1_Causas_Levantadas'!C:D,2,0),\"\")","v":0},"","",null,6,null,0,6,325]
[null,null,{"$f":"IFERROR(VLOOKUP(D3899,'1_Causas_Levantadas'!C:D,2,0),\"\")","v":0},"","",null,7,null,0,7,325]
[null,null,{"$f":"IFERROR(VLOOKUP(D3900,'1_Causas_Levantadas'!C:D,2,0),\"\")","v":0},"","",null,8,null,0,8,325]
[null,null,{"$f":"IFERROR(VLOOKUP(D3901,'1_Causas_Levantadas'!C:D,2,0),\"\")","v":0},"","",null,9,null,0,9,325]
[null,null,{"$f":"IFERROR(VLOOKUP(D3902,'1_Causas_Levantadas'!C:D,2,0),\"\")","v":0},"","",null,10,null,0,10,325]
[null,null,{"$f":"IFERROR(VLOOKUP(D3903,'1_Causas_Levantadas'!C:D,2,0),\"\")","v":0},"","",null,11,null,0,11,325]
[null,null,{"$f":"IFERROR(VLOOKUP(D3904,'1_Causas_Levantadas'!C:D,2,0),\"\")","v":0},"","",null,12,null,0,12,325]
[null,null,{"$f":"IFERROR(VLOOKUP(D3905,'1_Causas_Levantadas'!C:D,2,0),\"\")","v":0},"","",null,1,null,1,1,326]
[null,null,{"$f":"IFERROR(VLOOKUP(D3906,'1_Causas_Levantadas'!C:D,2,0),\"\")","v":0},"","",null,2,null,0,2,326]
[null,null,{"$f":"IFERROR(VLOOKUP(D3907,'1_Causas_Levantadas'!C:D,2,0),\"\")","v":0},"","",null,3,null,0,3,326]
[null,null,{"$f":"IFERROR(VLOOKUP(D3908,'1_Causas_Levantadas'!C:D,2,0),\"\")","v":0},"","",null,4,null,0,4,326]
[null,null,{"$f":"IFERROR(VLOOKUP(D3909,'1_Causas_Levantadas'!C:D,2,0),\"\")","v":0},"","",null,5,null,0,5,326]
[null,null,{"$f":"IFERROR(VLOOKUP(D3910,'1_Causas_Levantadas'!C:D,2,0),\"\")","v":0},{"$f":"IF(K3910<=$H$4,(IF(G3909>0,G3910,$G$5)),\"\")","v":""},{"$f":"IF(D3910<>\"\",\"Participante \"&K3910,\"\")","v":""},null,{"$f":"J3910","v":6},null,{"$f":"IF(G3910=$G$5,1,0)","v":0},6,{"$f":"I3910+K3909","v":326}]
[null,null,{"$f":"IFERROR(VLOOKUP(D3911,'1_Causas_Levantadas'!C:D,2,0),\"\")","v":0},"","",null,7,null,0,{"$f":"IF(G3910<$G$4,J3910+1,1)","v":7},326]
[null,null,{"$f":"IFERROR(VLOOKUP(D3912,'1_Causas_Levantadas'!C:D,2,0),\"\")","v":0},"","",null,8,null,0,8,326]
[null,null,{"$f":"IFERROR(VLOOKUP(D3913,'1_Causas_Levantadas'!C:D,2,0),\"\")","v":0},"","",null,9,null,0,9,326]
[null,null,{"$f":"IFERROR(VLOOKUP(D3914,'1_Causas_Levantadas'!C:D,2,0),\"\")","v":0},"","",null,10,null,0,10,326]
[null,null,{"$f":"IFERROR(VLOOKUP(D3915,'1_Causas_Levantadas'!C:D,2,0),\"\")","v":0},"","",null,11,null,0,11,326]
[null,null,{"$f":"IFERROR(VLOOKUP(D3916,'1_Causas_Levantadas'!C:D,2,0),\"\")","v":0},"","",null,12,null,0,12,326]
[null,null,{"$f":"IFERROR(VLOOKUP(D3917,'1_Causas_Levantadas'!C:D,2,0),\"\")","v":0},"","",null,1,null,1,1,327]
[null,null,{"$f":"IFERROR(VLOOKUP(D3918,'1_Causas_Levantadas'!C:D,2,0),\"\")","v":0},"","",null,2,null,0,2,327]
[null,null,{"$f":"IFERROR(VLOOKUP(D3919,'1_Causas_Levantadas'!C:D,2,0),\"\")","v":0},"","",null,3,null,0,3,327]
[null,null,{"$f":"IFERROR(VLOOKUP(D3920,'1_Causas_Levantadas'!C:D,2,0),\"\")","v":0},"","",null,4,null,0,4,327]
[null,null,{"$f":"IFERROR(VLOOKUP(D3921,'1_Causas_Levantadas'!C:D,2,0),\"\")","v":0},"","",null,5,null,0,5,327]
[null,null,{"$f":"IFERROR(VLOOKUP(D3922,'1_Causas_Levantadas'!C:D,2,0),\"\")","v":0},"","",null,6,null,0,6,327]
[null,null,{"$f":"IFERROR(VLOOKUP(D3923,'1_Causas_Levantadas'!C:D,2,0),\"\")","v":0},"","",null,7,null,0,7,327]
[null,null,{"$f":"IFERROR(VLOOKUP(D3924,'1_Causas_Levantadas'!C:D,2,0),\"\")","v":0},"","",null,8,null,0,8,327]
[null,null,{"$f":"IFERROR(VLOOKUP(D3925,'1_Causas_Levantadas'!C:D,2,0),\"\")","v":0},"","",null,9,null,0,9,327]
[null,null,{"$f":"IFERROR(VLOOKUP(D3926,'1_Causas_Levantadas'!C:D,2,0),\"\")","v":0},"","",null,10,null,0,10,327]
[null,null,{"$f":"IFERROR(VLOOKUP(D3927,'1_Causas_Levantadas'!C:D,2,0),\"\")","v":0},"","",null,11,null,0,11,327]
[null,null,{"$f":"IFERROR(VLOOKUP(D3928,'1_Causas_Levantadas'!C:D,2,0),\"\")","v":0},"","",null,12,null,0,12,327]
[null,null,{"$f":"IFERROR(VLOOKUP(D3929,'1_Causas_Levantadas'!C:D,2,0),\"\")","v":0},"","",null,1,null,1,1,328]
[null,null,{"$f":"IFERROR(VLOOKUP(D3930,'1_Causas_Levantadas'!C:D,2,0),\"\")","v":0},"","",null,2,null,0,2,328]
[null,null,{"$f":"IFERROR(VLOOKUP(D3931,'1_Causas_Levantadas'!C:D,2,0),\"\")","v":0},"","",null,3,null,0,3,328]
[null,null,{"$f":"IFERROR(VLOOKUP(D3932,'1_Causas_Levantadas'!C:D,2,0),\"\")","v":0},"","",null,4,null,0,4,328]
[null,null,{"$f":"IFERROR(VLOOKUP(D3933,'1_Causas_Levantadas'!C:D,2,0),\"\")","v":0},"","",null,5,null,0,5,328]
[null,null,{"$f":"IFERROR(VLOOKUP(D3934,'1_Causas_Levantadas'!C:D,2,0),\"\")","v":0},"","",null,6,null,0,6,328]
[null,null,{"$f":"IFERROR(VLOOKUP(D3935,'1_Causas_Levantadas'!C:D,2,0),\"\")","v":0},"","",null,7,null,0,7,328]
[null,null,{"$f":"IFERROR(VLOOKUP(D3936,'1_Causas_Levantadas'!C:D,2,0),\"\")","v":0},"","",null,8,null,0,8,328]
[null,null,{"$f":"IFERROR(VLOOKUP(D3937,'1_Causas_Levantadas'!C:D,2,0),\"\")","v":0},"","",null,9,null,0,9,328]
[null,null,{"$f":"IFERROR(VLOOKUP(D3938,'1_Causas_Levantadas'!C:D,2,0),\"\")","v":0},"","",null,10,null,0,10,328]
[null,null,{"$f":"IFERROR(VLOOKUP(D3939,'1_Causas_Levantadas'!C:D,2,0),\"\")","v":0},"","",null,11,null,0,11,328]
[null,null,{"$f":"IFERROR(VLOOKUP(D3940,'1_Causas_Levantadas'!C:D,2,0),\"\")","v":0},"","",null,12,null,0,12,328]
[null,null,{"$f":"IFERROR(VLOOKUP(D3941,'1_Causas_Levantadas'!C:D,2,0),\"\")","v":0},"","",null,1,null,1,1,329]
[null,null,{"$f":"IFERROR(VLOOKUP(D3942,'1_Causas_Levantadas'!C:D,2,0),\"\")","v":0},"","",null,2,null,0,2,329]
[null,null,{"$f":"IFERROR(VLOOKUP(D3943,'1_Causas_Levantadas'!C:D,2,0),\"\")","v":0},"","",null,3,null,0,3,329]
[null,null,{"$f":"IFERROR(VLOOKUP(D3944,'1_Causas_Levantadas'!C:D,2,0),\"\")","v":0},"","",null,4,null,0,4,329]
[null,null,{"$f":"IFERROR(VLOOKUP(D3945,'1_Causas_Levantadas'!C:D,2,0),\"\")","v":0},"","",null,5,null,0,5,329]
[null,null,{"$f":"IFERROR(VLOOKUP(D3946,'1_Causas_Levantadas'!C:D,2,0),\"\")","v":0},"","",null,6,null,0,6,329]
[null,null,{"$f":"IFERROR(VLOOKUP(D3947,'1_Causas_Levantadas'!C:D,2,0),\"\")","v":0},"","",null,7,null,0,7,329]
[null,null,{"$f":"IFERROR(VLOOKUP(D3948,'1_Causas_Levantadas'!C:D,2,0),\"\")","v":0},"","",null,8,null,0,8,329]
[null,null,{"$f":"IFERROR(VLOOKUP(D3949,'1_Causas_Levantadas'!C:D,2,0),\"\")","v":0},"","",null,9,null,0,9,329]
[null,null,{"$f":"IFERROR(VLOOKUP(D3950,'1_Causas_Levantadas'!C:D,2,0),\"\")","v":0},"","",null,10,null,0,10,329]
[null,null,{"$f":"IFERROR(VLOOKUP(D3951,'1_Causas_Levantadas'!C:D,2,0),\"\")","v":0},"","",null,11,null,0,11,329]
[null,null,{"$f":"IFERROR(VLOOKUP(D3952,'1_Causas_Levantadas'!C:D,2,0),\"\")","v":0},"","",null,12,null,0,12,329]
[null,null,{"$f":"IFERROR(VLOOKUP(D3953,'1_Causas_Levantadas'!C:D,2,0),\"\")","v":0},"","",null,1,null,1,1,330]
[null,null,{"$f":"IFERROR(VLOOKUP(D3954,'1_Causas_Levantadas'!C:D,2,0),\"\")","v":0},"","",null,2,null,0,2,330]
[null,null,{"$f":"IFERROR(VLOOKUP(D3955,'1_Causas_Levantadas'!C:D,2,0),\"\")","v":0},"","",null,3,null,0,3,330]
[null,null,{"$f":"IFERROR(VLOOKUP(D3956,'1_Causas_Levantadas'!C:D,2,0),\"\")","v":0},"","",null,4,null,0,4,330]
[null,null,{"$f":"IFERROR(VLOOKUP(D3957,'1_Causas_Levantadas'!C:D,2,0),\"\")","v":0},"","",null,5,null,0,5,330]
[null,null,{"$f":"IFERROR(VLOOKUP(D3958,'1_Causas_Levantadas'!C:D,2,0),\"\")","v":0},"","",null,6,null,0,6,330]
[null,null,{"$f":"IFERROR(VLOOKUP(D3959,'1_Causas_Levantadas'!C:D,2,0),\"\")","v":0},"","",null,7,null,0,7,330]
[null,null,{"$f":"IFERROR(VLOOKUP(D3960,'1_Causas_Levantadas'!C:D,2,0),\"\")","v":0},"","",null,8,null,0,8,330]
[null,null,{"$f":"IFERROR(VLOOKUP(D3961,'1_Causas_Levantadas'!C:D,2,0),\"\")","v":0},"","",null,9,null,0,9,330]
[null,null,{"$f":"IFERROR(VLOOKUP(D3962,'1_Causas_Levantadas'!C:D,2,0),\"\")","v":0},"","",null,10,null,0,10,330]
[null,null,{"$f":"IFERROR(VLOOKUP(D3963,'1_Causas_Levantadas'!C:D,2,0),\"\")","v":0},"","",null,11,null,0,11,330]
[null,null,{"$f":"IFERROR(VLOOKUP(D3964,'1_Causas_Levantadas'!C:D,2,0),\"\")","v":0},"","",null,12,null,0,12,330]
[null,null,{"$f":"IFERROR(VLOOKUP(D3965,'1_Causas_Levantadas'!C:D,2,0),\"\")","v":0},"","",null,1,null,1,1,331]
[null,null,{"$f":"IFERROR(VLOOKUP(D3966,'1_Causas_Levantadas'!C:D,2,0),\"\")","v":0},"","",null,2,null,0,2,331]
[null,null,{"$f":"IFERROR(VLOOKUP(D3967,'1_Causas_Levantadas'!C:D,2,0),\"\")","v":0},"","",null,3,null,0,3,331]
[null,null,{"$f":"IFERROR(VLOOKUP(D3968,'1_Causas_Levantadas'!C:D,2,0),\"\")","v":0},"","",null,4,null,0,4,331]
[null,null,{"$f":"IFERROR(VLOOKUP(D3969,'1_Causas_Levantadas'!C:D,2,0),\"\")","v":0},"","",null,5,null,0,5,331]
[null,null,{"$f":"IFERROR(VLOOKUP(D3970,'1_Causas_Levantadas'!C:D,2,0),\"\")","v":0},"","",null,6,null,0,6,331]
[null,null,{"$f":"IFERROR(VLOOKUP(D3971,'1_Causas_Levantadas'!C:D,2,0),\"\")","v":0},"","",null,7,null,0,7,331]
[null,null,{"$f":"IFERROR(VLOOKUP(D3972,'1_Causas_Levantadas'!C:D,2,0),\"\")","v":0},"","",null,8,null,0,8,331]
[null,null,{"$f":"IFERROR(VLOOKUP(D3973,'1_Causas_Levantadas'!C:D,2,0),\"\")","v":0},"","",null,9,null,0,9,331]
[null,null,{"$f":"IFERROR(VLOOKUP(D3974,'1_Causas_Levantadas'!C:D,2,0),\"\")","v":0},{"$f":"IF(K3974<=$H$4,(IF(G3973>0,G3974,$G$5)),\"\")","v":""},{"$f":"IF(D3974<>\"\",\"Participante \"&K3974,\"\")","v":""},null,{"$f":"J3974","v":10},null,{"$f":"IF(G3974=$G$5,1,0)","v":0},10,{"$f":"I3974+K3973","v":331}]
[null,null,{"$f":"IFERROR(VLOOKUP(D3975,'1_Causas_Levantadas'!C:D,2,0),\"\")","v":0},"","",null,11,null,0,{"$f":"IF(G3974<$G$4,J3974+1,1)","v":11},331]
[null,null,{"$f":"IFERROR(VLOOKUP(D3976,'1_Causas_Levantadas'!C:D,2,0),\"\")","v":0},"","",null,12,null,0,12,331]
[null,null,{"$f":"IFERROR(VLOOKUP(D3977,'1_Causas_Levantadas'!C:D,2,0),\"\")","v":0},"","",null,1,null,1,1,332]
[null,null,{"$f":"IFERROR(VLOOKUP(D3978,'1_Causas_Levantadas'!C:D,2,0),\"\")","v":0},"","",null,2,null,0,2,332]
[null,null,{"$f":"IFERROR(VLOOKUP(D3979,'1_Causas_Levantadas'!C:D,2,0),\"\")","v":0},"","",null,3,null,0,3,332]
[null,null,{"$f":"IFERROR(VLOOKUP(D3980,'1_Causas_Levantadas'!C:D,2,0),\"\")","v":0},"","",null,4,null,0,4,332]
[null,null,{"$f":"IFERROR(VLOOKUP(D3981,'1_Causas_Levantadas'!C:D,2,0),\"\")","v":0},"","",null,5,null,0,5,332]
[null,null,{"$f":"IFERROR(VLOOKUP(D3982,'1_Causas_Levantadas'!C:D,2,0),\"\")","v":0},"","",null,6,null,0,6,332]
[null,null,{"$f":"IFERROR(VLOOKUP(D3983,'1_Causas_Levantadas'!C:D,2,0),\"\")","v":0},"","",null,7,null,0,7,332]
[null,null,{"$f":"IFERROR(VLOOKUP(D3984,'1_Causas_Levantadas'!C:D,2,0),\"\")","v":0},"","",null,8,null,0,8,332]
[null,null,{"$f":"IFERROR(VLOOKUP(D3985,'1_Causas_Levantadas'!C:D,2,0),\"\")","v":0},"","",null,9,null,0,9,332]
[null,null,{"$f":"IFERROR(VLOOKUP(D3986,'1_Causas_Levantadas'!C:D,2,0),\"\")","v":0},"","",null,10,null,0,10,332]
[null,null,{"$f":"IFERROR(VLOOKUP(D3987,'1_Causas_Levantadas'!C:D,2,0),\"\")","v":0},"","",null,11,null,0,11,332]
[null,null,{"$f":"IFERROR(VLOOKUP(D3988,'1_Causas_Levantadas'!C:D,2,0),\"\")","v":0},"","",null,12,null,0,12,332]
[null,null,{"$f":"IFERROR(VLOOKUP(D3989,'1_Causas_Levantadas'!C:D,2,0),\"\")","v":0},"","",null,1,null,1,1,333]
[null,null,{"$f":"IFERROR(VLOOKUP(D3990,'1_Causas_Levantadas'!C:D,2,0),\"\")","v":0},"","",null,2,null,0,2,333]
[null,null,{"$f":"IFERROR(VLOOKUP(D3991,'1_Causas_Levantadas'!C:D,2,0),\"\")","v":0},"","",null,3,null,0,3,333]
[null,null,{"$f":"IFERROR(VLOOKUP(D3992,'1_Causas_Levantadas'!C:D,2,0),\"\")","v":0},"","",null,4,null,0,4,333]
[null,null,{"$f":"IFERROR(VLOOKUP(D3993,'1_Causas_Levantadas'!C:D,2,0),\"\")","v":0},"","",null,5,null,0,5,333]
[null,null,{"$f":"IFERROR(VLOOKUP(D3994,'1_Causas_Levantadas'!C:D,2,0),\"\")","v":0},"","",null,6,null,0,6,333]
[null,null,{"$f":"IFERROR(VLOOKUP(D3995,'1_Causas_Levantadas'!C:D,2,0),\"\")","v":0},"","",null,7,null,0,7,333]
[null,null,{"$f":"IFERROR(VLOOKUP(D3996,'1_Causas_Levantadas'!C:D,2,0),\"\")","v":0},"","",null,8,null,0,8,333]
[null,null,{"$f":"IFERROR(VLOOKUP(D3997,'1_Causas_Levantadas'!C:D,2,0),\"\")","v":0},"","",null,9,null,0,9,333]
[null,null,{"$f":"IFERROR(VLOOKUP(D3998,'1_Causas_Levantadas'!C:D,2,0),\"\")","v":0},"","",null,10,null,0,10,333]
[null,null,{"$f":"IFERROR(VLOOKUP(D3999,'1_Causas_Levantadas'!C:D,2,0),\"\")","v":0},"","",null,11,null,0,11,333]
[null,null,{"$f":"IFERROR(VLOOKUP(D4000,'1_Causas_Levantadas'!C:D,2,0),\"\")","v":0},"","",null,12,null,0,12,333]
[null,null,{"$f":"IFERROR(VLOOKUP(D4001,'1_Causas_Levantadas'!C:D,2,0),\"\")","v":0},"","",null,1,null,1,1,334]
[null,null,{"$f":"IFERROR(VLOOKUP(D4002,'1_Causas_Levantadas'!C:D,2,0),\"\")","v":0},"","",null,2,null,0,2,334]
[null,null,{"$f":"IFERROR(VLOOKUP(D4003,'1_Causas_Levantadas'!C:D,2,0),\"\")","v":0},"","",null,3,null,0,3,334]
[null,null,{"$f":"IFERROR(VLOOKUP(D4004,'1_Causas_Levantadas'!C:D,2,0),\"\")","v":0},"","",null,4,null,0,4,334]
[null,null,{"$f":"IFERROR(VLOOKUP(D4005,'1_Causas_Levantadas'!C:D,2,0),\"\")","v":0},"","",null,5,null,0,5,334]
[null,null,{"$f":"IFERROR(VLOOKUP(D4006,'1_Causas_Levantadas'!C:D,2,0),\"\")","v":0},"","",null,6,null,0,6,334]
[null,null,{"$f":"IFERROR(VLOOKUP(D4007,'1_Causas_Levantadas'!C:D,2,0),\"\")","v":0},"","",null,7,null,0,7,334]
[null,null,{"$f":"IFERROR(VLOOKUP(D4008,'1_Causas_Levantadas'!C:D,2,0),\"\")","v":0},"","",null,8,null,0,8,334]
[null,null,{"$f":"IFERROR(VLOOKUP(D4009,'1_Causas_Levantadas'!C:D,2,0),\"\")","v":0},"","",null,9,null,0,9,334]
[null,null,{"$f":"IFERROR(VLOOKUP(D4010,'1_Causas_Levantadas'!C:D,2,0),\"\")","v":0},"","",null,10,null,0,10,334]
[null,null,{"$f":"IFERROR(VLOOKUP(D4011,'1_Causas_Levantadas'!C:D,2,0),\"\")","v":0},"","",null,11,null,0,11,334]
[null,null,{"$f":"IFERROR(VLOOKUP(D4012,'1_Causas_Levantadas'!C:D,2,0),\"\")","v":0},"","",null,12,null,0,12,334]
[null,null,{"$f":"IFERROR(VLOOKUP(D4013,'1_Causas_Levantadas'!C:D,2,0),\"\")","v":0},"","",null,1,null,1,1,335]
[null,null,{"$f":"IFERROR(VLOOKUP(D4014,'1_Causas_Levantadas'!C:D,2,0),\"\")","v":0},"","",null,2,null,0,2,335]
[null,null,{"$f":"IFERROR(VLOOKUP(D4015,'1_Causas_Levantadas'!C:D,2,0),\"\")","v":0},"","",null,3,null,0,3,335]
[null,null,{"$f":"IFERROR(VLOOKUP(D4016,'1_Causas_Levantadas'!C:D,2,0),\"\")","v":0},"","",null,4,null,0,4,335]
[null,null,{"$f":"IFERROR(VLOOKUP(D4017,'1_Causas_Levantadas'!C:D,2,0),\"\")","v":0},"","",null,5,null,0,5,335]
[null,null,{"$f":"IFERROR(VLOOKUP(D4018,'1_Causas_Levantadas'!C:D,2,0),\"\")","v":0},"","",null,6,null,0,6,335]
[null,null,{"$f":"IFERROR(VLOOKUP(D4019,'1_Causas_Levantadas'!C:D,2,0),\"\")","v":0},"","",null,7,null,0,7,335]
[null,null,{"$f":"IFERROR(VLOOKUP(D4020,'1_Causas_Levantadas'!C:D,2,0),\"\")","v":0},"","",null,8,null,0,8,335]
[null,null,{"$f":"IFERROR(VLOOKUP(D4021,'1_Causas_Levantadas'!C:D,2,0),\"\")","v":0},"","",null,9,null,0,9,335]
[null,null,{"$f":"IFERROR(VLOOKUP(D4022,'1_Causas_Levantadas'!C:D,2,0),\"\")","v":0},"","",null,10,null,0,10,335]
[null,null,{"$f":"IFERROR(VLOOKUP(D4023,'1_Causas_Levantadas'!C:D,2,0),\"\")","v":0},"","",null,11,null,0,11,335]
[null,null,{"$f":"IFERROR(VLOOKUP(D4024,'1_Causas_Levantadas'!C:D,2,0),\"\")","v":0},"","",null,12,null,0,12,335]
[null,null,{"$f":"IFERROR(VLOOKUP(D4025,'1_Causas_Levantadas'!C:D,2,0),\"\")","v":0},"","",null,1,null,1,1,336]
[null,null,{"$f":"IFERROR(VLOOKUP(D4026,'1_Causas_Levantadas'!C:D,2,0),\"\")","v":0},"","",null,2,null,0,2,336]
[null,null,{"$f":"IFERROR(VLOOKUP(D4027,'1_Causas_Levantadas'!C:D,2,0),\"\")","v":0},"","",null,3,null,0,3,336]
[null,null,{"$f":"IFERROR(VLOOKUP(D4028,'1_Causas_Levantadas'!C:D,2,0),\"\")","v":0},"","",null,4,null,0,4,336]
[null,null,{"$f":"IFERROR(VLOOKUP(D4029,'1_Causas_Levantadas'!C:D,2,0),\"\")","v":0},"","",null,5,null,0,5,336]
[null,null,{"$f":"IFERROR(VLOOKUP(D4030,'1_Causas_Levantadas'!C:D,2,0),\"\")","v":0},"","",null,6,null,0,6,336]
[null,null,{"$f":"IFERROR(VLOOKUP(D4031,'1_Causas_Levantadas'!C:D,2,0),\"\")","v":0},"","",null,7,null,0,7,336]
[null,null,{"$f":"IFERROR(VLOOKUP(D4032,'1_Causas_Levantadas'!C:D,2,0),\"\")","v":0},"","",null,8,null,0,8,336]
[null,null,{"$f":"IFERROR(VLOOKUP(D4033,'1_Causas_Levantadas'!C:D,2,0),\"\")","v":0},"","",null,9,null,0,9,336]
[null,null,{"$f":"IFERROR(VLOOKUP(D4034,'1_Causas_Levantadas'!C:D,2,0),\"\")","v":0},"","",null,10,null,0,10,336]
[null,null,{"$f":"IFERROR(VLOOKUP(D4035,'1_Causas_Levantadas'!C:D,2,0),\"\")","v":0},"","",null,11,null,0,11,336]
[null,null,{"$f":"IFERROR(VLOOKUP(D4036,'1_Causas_Levantadas'!C:D,2,0),\"\")","v":0},"","",null,12,null,0,12,336]
[null,null,{"$f":"IFERROR(VLOOKUP(D4037,'1_Causas_Levantadas'!C:D,2,0),\"\")","v":0},"","",null,1,null,1,1,337]
[null,null,{"$f":"IFERROR(VLOOKUP(D4038,'1_Causas_Levantadas'!C:D,2,0),\"\")","v":0},{"$f":"IF(K4038<=$H$4,(IF(G4037>0,G4038,$G$5)),\"\")","v":""},{"$f":"IF(D4038<>\"\",\"Participante \"&K4038,\"\")","v":""},null,{"$f":"J4038","v":2},null,{"$f":"IF(G4038=$G$5,1,0)","v":0},2,{"$f":"I4038+K4037","v":337}]
[null,null,{"$f":"IFERROR(VLOOKUP(D4039,'1_Causas_Levantadas'!C:D,2,0),\"\")","v":0},"","",null,3,null,0,{"$f":"IF(G4038<$G$4,J4038+1,1)","v":3},337]
[null,null,{"$f":"IFERROR(VLOOKUP(D4040,'1_Causas_Levantadas'!C:D,2,0),\"\")","v":0},"","",null,4,null,0,4,337]
[null,null,{"$f":"IFERROR(VLOOKUP(D4041,'1_Causas_Levantadas'!C:D,2,0),\"\")","v":0},"","",null,5,null,0,5,337]
[null,null,{"$f":"IFERROR(VLOOKUP(D4042,'1_Causas_Levantadas'!C:D,2,0),\"\")","v":0},"","",null,6,null,0,6,337]
[null,null,{"$f":"IFERROR(VLOOKUP(D4043,'1_Causas_Levantadas'!C:D,2,0),\"\")","v":0},"","",null,7,null,0,7,337]
[null,null,{"$f":"IFERROR(VLOOKUP(D4044,'1_Causas_Levantadas'!C:D,2,0),\"\")","v":0},"","",null,8,null,0,8,337]
[null,null,{"$f":"IFERROR(VLOOKUP(D4045,'1_Causas_Levantadas'!C:D,2,0),\"\")","v":0},"","",null,9,null,0,9,337]
[null,null,{"$f":"IFERROR(VLOOKUP(D4046,'1_Causas_Levantadas'!C:D,2,0),\"\")","v":0},"","",null,10,null,0,10,337]
[null,null,{"$f":"IFERROR(VLOOKUP(D4047,'1_Causas_Levantadas'!C:D,2,0),\"\")","v":0},"","",null,11,null,0,11,337]
[null,null,{"$f":"IFERROR(VLOOKUP(D4048,'1_Causas_Levantadas'!C:D,2,0),\"\")","v":0},"","",null,12,null,0,12,337]
[null,null,{"$f":"IFERROR(VLOOKUP(D4049,'1_Causas_Levantadas'!C:D,2,0),\"\")","v":0},"","",null,1,null,1,1,338]
[null,null,{"$f":"IFERROR(VLOOKUP(D4050,'1_Causas_Levantadas'!C:D,2,0),\"\")","v":0},"","",null,2,null,0,2,338]
[null,null,{"$f":"IFERROR(VLOOKUP(D4051,'1_Causas_Levantadas'!C:D,2,0),\"\")","v":0},"","",null,3,null,0,3,338]
[null,null,{"$f":"IFERROR(VLOOKUP(D4052,'1_Causas_Levantadas'!C:D,2,0),\"\")","v":0},"","",null,4,null,0,4,338]
[null,null,{"$f":"IFERROR(VLOOKUP(D4053,'1_Causas_Levantadas'!C:D,2,0),\"\")","v":0},"","",null,5,null,0,5,338]
[null,null,{"$f":"IFERROR(VLOOKUP(D4054,'1_Causas_Levantadas'!C:D,2,0),\"\")","v":0},"","",null,6,null,0,6,338]
[null,null,{"$f":"IFERROR(VLOOKUP(D4055,'1_Causas_Levantadas'!C:D,2,0),\"\")","v":0},"","",null,7,null,0,7,338]
[null,null,{"$f":"IFERROR(VLOOKUP(D4056,'1_Causas_Levantadas'!C:D,2,0),\"\")","v":0},"","",null,8,null,0,8,338]
[null,null,{"$f":"IFERROR(VLOOKUP(D4057,'1_Causas_Levantadas'!C:D,2,0),\"\")","v":0},"","",null,9,null,0,9,338]
[null,null,{"$f":"IFERROR(VLOOKUP(D4058,'1_Causas_Levantadas'!C:D,2,0),\"\")","v":0},"","",null,10,null,0,10,338]
[null,null,{"$f":"IFERROR(VLOOKUP(D4059,'1_Causas_Levantadas'!C:D,2,0),\"\")","v":0},"","",null,11,null,0,11,338]
[null,null,{"$f":"IFERROR(VLOOKUP(D4060,'1_Causas_Levantadas'!C:D,2,0),\"\")","v":0},"","",null,12,null,0,12,338]
[null,null,{"$f":"IFERROR(VLOOKUP(D4061,'1_Causas_Levantadas'!C:D,2,0),\"\")","v":0},"","",null,1,null,1,1,339]
[null,null,{"$f":"IFERROR(VLOOKUP(D4062,'1_Causas_Levantadas'!C:D,2,0),\"\")","v":0},"","",null,2,null,0,2,339]
[null,null,{"$f":"IFERROR(VLOOKUP(D4063,'1_Causas_Levantadas'!C:D,2,0),\"\")","v":0},"","",null,3,null,0,3,339]
[null,null,{"$f":"IFERROR(VLOOKUP(D4064,'1_Causas_Levantadas'!C:D,2,0),\"\")","v":0},"","",null,4,null,0,4,339]
[null,null,{"$f":"IFERROR(VLOOKUP(D4065,'1_Causas_Levantadas'!C:D,2,0),\"\")","v":0},"","",null,5,null,0,5,339]
[null,null,{"$f":"IFERROR(VLOOKUP(D4066,'1_Causas_Levantadas'!C:D,2,0),\"\")","v":0},"","",null,6,null,0,6,339]
[null,null,{"$f":"IFERROR(VLOOKUP(D4067,'1_Causas_Levantadas'!C:D,2,0),\"\")","v":0},"","",null,7,null,0,7,339]
[null,null,{"$f":"IFERROR(VLOOKUP(D4068,'1_Causas_Levantadas'!C:D,2,0),\"\")","v":0},"","",null,8,null,0,8,339]
[null,null,{"$f":"IFERROR(VLOOKUP(D4069,'1_Causas_Levantadas'!C:D,2,0),\"\")","v":0},"","",null,9,null,0,9,339]
[null,null,{"$f":"IFERROR(VLOOKUP(D4070,'1_Causas_Levantadas'!C:D,2,0),\"\")","v":0},"","",null,10,null,0,10,339]
[null,null,{"$f":"IFERROR(VLOOKUP(D4071,'1_Causas_Levantadas'!C:D,2,0),\"\")","v":0},"","",null,11,null,0,11,339]
[null,null,{"$f":"IFERROR(VLOOKUP(D4072,'1_Causas_Levantadas'!C:D,2,0),\"\")","v":0},"","",null,12,null,0,12,339]
[null,null,{"$f":"IFERROR(VLOOKUP(D4073,'1_Causas_Levantadas'!C:D,2,0),\"\")","v":0},"","",null,1,null,1,1,340]
[null,null,{"$f":"IFERROR(VLOOKUP(D4074,'1_Causas_Levantadas'!C:D,2,0),\"\")","v":0},"","",null,2,null,0,2,340]
[null,null,{"$f":"IFERROR(VLOOKUP(D4075,'1_Causas_Levantadas'!C:D,2,0),\"\")","v":0},"","",null,3,null,0,3,340]
[null,null,{"$f":"IFERROR(VLOOKUP(D4076,'1_Causas_Levantadas'!C:D,2,0),\"\")","v":0},"","",null,4,null,0,4,340]
[null,null,{"$f":"IFERROR(VLOOKUP(D4077,'1_Causas_Levantadas'!C:D,2,0),\"\")","v":0},"","",null,5,null,0,5,340]
[null,null,{"$f":"IFERROR(VLOOKUP(D4078,'1_Causas_Levantadas'!C:D,2,0),\"\")","v":0},"","",null,6,null,0,6,340]
[null,null,{"$f":"IFERROR(VLOOKUP(D4079,'1_Causas_Levantadas'!C:D,2,0),\"\")","v":0},"","",null,7,null,0,7,340]
[null,null,{"$f":"IFERROR(VLOOKUP(D4080,'1_Causas_Levantadas'!C:D,2,0),\"\")","v":0},"","",null,8,null,0,8,340]
[null,null,{"$f":"IFERROR(VLOOKUP(D4081,'1_Causas_Levantadas'!C:D,2,0),\"\")","v":0},"","",null,9,null,0,9,340]
[null,null,{"$f":"IFERROR(VLOOKUP(D4082,'1_Causas_Levantadas'!C:D,2,0),\"\")","v":0},"","",null,10,null,0,10,340]
[null,null,{"$f":"IFERROR(VLOOKUP(D4083,'1_Causas_Levantadas'!C:D,2,0),\"\")","v":0},"","",null,11,null,0,11,340]
[null,null,{"$f":"IFERROR(VLOOKUP(D4084,'1_Causas_Levantadas'!C:D,2,0),\"\")","v":0},"","",null,12,null,0,12,340]
[null,null,{"$f":"IFERROR(VLOOKUP(D4085,'1_Causas_Levantadas'!C:D,2,0),\"\")","v":0},"","",null,1,null,1,1,341]
[null,null,{"$f":"IFERROR(VLOOKUP(D4086,'1_Causas_Levantadas'!C:D,2,0),\"\")","v":0},"","",null,2,null,0,2,341]
[null,null,{"$f":"IFERROR(VLOOKUP(D4087,'1_Causas_Levantadas'!C:D,2,0),\"\")","v":0},"","",null,3,null,0,3,341]
[null,null,{"$f":"IFERROR(VLOOKUP(D4088,'1_Causas_Levantadas'!C:D,2,0),\"\")","v":0},"","",null,4,null,0,4,341]
[null,null,{"$f":"IFERROR(VLOOKUP(D4089,'1_Causas_Levantadas'!C:D,2,0),\"\")","v":0},"","",null,5,null,0,5,341]
[null,null,{"$f":"IFERROR(VLOOKUP(D4090,'1_Causas_Levantadas'!C:D,2,0),\"\")","v":0},"","",null,6,null,0,6,341]
[null,null,{"$f":"IFERROR(VLOOKUP(D4091,'1_Causas_Levantadas'!C:D,2,0),\"\")","v":0},"","",null,7,null,0,7,341]
[null,null,{"$f":"IFERROR(VLOOKUP(D4092,'1_Causas_Levantadas'!C:D,2,0),\"\")","v":0},"","",null,8,null,0,8,341]
[null,null,{"$f":"IFERROR(VLOOKUP(D4093,'1_Causas_Levantadas'!C:D,2,0),\"\")","v":0},"","",null,9,null,0,9,341]
[null,null,{"$f":"IFERROR(VLOOKUP(D4094,'1_Causas_Levantadas'!C:D,2,0),\"\")","v":0},"","",null,10,null,0,10,341]
[null,null,{"$f":"IFERROR(VLOOKUP(D4095,'1_Causas_Levantadas'!C:D,2,0),\"\")","v":0},"","",null,11,null,0,11,341]
[null,null,{"$f":"IFERROR(VLOOKUP(D4096,'1_Causas_Levantadas'!C:D,2,0),\"\")","v":0},"","",null,12,null,0,12,341]
[null,null,{"$f":"IFERROR(VLOOKUP(D4097,'1_Causas_Levantadas'!C:D,2,0),\"\")","v":0},"","",null,1,null,1,1,342]
[null,null,{"$f":"IFERROR(VLOOKUP(D4098,'1_Causas_Levantadas'!C:D,2,0),\"\")","v":0},"","",null,2,null,0,2,342]
[null,null,{"$f":"IFERROR(VLOOKUP(D4099,'1_Causas_Levantadas'!C:D,2,0),\"\")","v":0},"","",null,3,null,0,3,342]
[null,null,{"$f":"IFERROR(VLOOKUP(D4100,'1_Causas_Levantadas'!C:D,2,0),\"\")","v":0},"","",null,4,null,0,4,342]
[null,null,{"$f":"IFERROR(VLOOKUP(D4101,'1_Causas_Levantadas'!C:D,2,0),\"\")","v":0},"","",null,5,null,0,5,342]
[null,null,{"$f":"IFERROR(VLOOKUP(D4102,'1_Causas_Levantadas'!C:D,2,0),\"\")","v":0},{"$f":"IF(K4102<=$H$4,(IF(G4101>0,G4102,$G$5)),\"\")","v":""},{"$f":"IF(D4102<>\"\",\"Participante \"&K4102,\"\")","v":""},null,{"$f":"J4102","v":6},null,{"$f":"IF(G4102=$G$5,1,0)","v":0},6,{"$f":"I4102+K4101","v":342}]
[null,null,{"$f":"IFERROR(VLOOKUP(D4103,'1_Causas_Levantadas'!C:D,2,0),\"\")","v":0},"","",null,7,null,0,{"$f":"IF(G4102<$G$4,J4102+1,1)","v":7},342]
[null,null,{"$f":"IFERROR(VLOOKUP(D4104,'1_Causas_Levantadas'!C:D,2,0),\"\")","v":0},"","",null,8,null,0,8,342]
[null,null,{"$f":"IFERROR(VLOOKUP(D4105,'1_Causas_Levantadas'!C:D,2,0),\"\")","v":0},"","",null,9,null,0,9,342]
[null,null,{"$f":"IFERROR(VLOOKUP(D4106,'1_Causas_Levantadas'!C:D,2,0),\"\")","v":0},"","",null,10,null,0,10,342]
[null,null,{"$f":"IFERROR(VLOOKUP(D4107,'1_Causas_Levantadas'!C:D,2,0),\"\")","v":0},"","",null,11,null,0,11,342]
[null,null,{"$f":"IFERROR(VLOOKUP(D4108,'1_Causas_Levantadas'!C:D,2,0),\"\")","v":0},"","",null,12,null,0,12,342]
[null,null,{"$f":"IFERROR(VLOOKUP(D4109,'1_Causas_Levantadas'!C:D,2,0),\"\")","v":0},"","",null,1,null,1,1,343]
[null,null,{"$f":"IFERROR(VLOOKUP(D4110,'1_Causas_Levantadas'!C:D,2,0),\"\")","v":0},"","",null,2,null,0,2,343]
[null,null,{"$f":"IFERROR(VLOOKUP(D4111,'1_Causas_Levantadas'!C:D,2,0),\"\")","v":0},"","",null,3,null,0,3,343]
[null,null,{"$f":"IFERROR(VLOOKUP(D4112,'1_Causas_Levantadas'!C:D,2,0),\"\")","v":0},"","",null,4,null,0,4,343]
[null,null,{"$f":"IFERROR(VLOOKUP(D4113,'1_Causas_Levantadas'!C:D,2,0),\"\")","v":0},"","",null,5,null,0,5,343]
[null,null,{"$f":"IFERROR(VLOOKUP(D4114,'1_Causas_Levantadas'!C:D,2,0),\"\")","v":0},"","",null,6,null,0,6,343]
[null,null,{"$f":"IFERROR(VLOOKUP(D4115,'1_Causas_Levantadas'!C:D,2,0),\"\")","v":0},"","",null,7,null,0,7,343]
[null,null,{"$f":"IFERROR(VLOOKUP(D4116,'1_Causas_Levantadas'!C:D,2,0),\"\")","v":0},"","",null,8,null,0,8,343]
[null,null,{"$f":"IFERROR(VLOOKUP(D4117,'1_Causas_Levantadas'!C:D,2,0),\"\")","v":0},"","",null,9,null,0,9,343]
[null,null,{"$f":"IFERROR(VLOOKUP(D4118,'1_Causas_Levantadas'!C:D,2,0),\"\")","v":0},"","",null,10,null,0,10,343]
[null,null,{"$f":"IFERROR(VLOOKUP(D4119,'1_Causas_Levantadas'!C:D,2,0),\"\")","v":0},"","",null,11,null,0,11,343]
[null,null,{"$f":"IFERROR(VLOOKUP(D4120,'1_Causas_Levantadas'!C:D,2,0),\"\")","v":0},"","",null,12,null,0,12,343]
[null,null,{"$f":"IFERROR(VLOOKUP(D4121,'1_Causas_Levantadas'!C:D,2,0),\"\")","v":0},"","",null,1,null,1,1,344]
[null,null,{"$f":"IFERROR(VLOOKUP(D4122,'1_Causas_Levantadas'!C:D,2,0),\"\")","v":0},"","",null,2,null,0,2,344]
[null,null,{"$f":"IFERROR(VLOOKUP(D4123,'1_Causas_Levantadas'!C:D,2,0),\"\")","v":0},"","",null,3,null,0,3,344]
[null,null,{"$f":"IFERROR(VLOOKUP(D4124,'1_Causas_Levantadas'!C:D,2,0),\"\")","v":0},"","",null,4,null,0,4,344]
[null,null,{"$f":"IFERROR(VLOOKUP(D4125,'1_Causas_Levantadas'!C:D,2,0),\"\")","v":0},"","",null,5,null,0,5,344]
[null,null,{"$f":"IFERROR(VLOOKUP(D4126,'1_Causas_Levantadas'!C:D,2,0),\"\")","v":0},"","",null,6,null,0,6,344]
[null,null,{"$f":"IFERROR(VLOOKUP(D4127,'1_Causas_Levantadas'!C:D,2,0),\"\")","v":0},"","",null,7,null,0,7,344]
[null,null,{"$f":"IFERROR(VLOOKUP(D4128,'1_Causas_Levantadas'!C:D,2,0),\"\")","v":0},"","",null,8,null,0,8,344]
[null,null,{"$f":"IFERROR(VLOOKUP(D4129,'1_Causas_Levantadas'!C:D,2,0),\"\")","v":0},"","",null,9,null,0,9,344]
[null,null,{"$f":"IFERROR(VLOOKUP(D4130,'1_Causas_Levantadas'!C:D,2,0),\"\")","v":0},"","",null,10,null,0,10,344]
[null,null,{"$f":"IFERROR(VLOOKUP(D4131,'1_Causas_Levantadas'!C:D,2,0),\"\")","v":0},"","",null,11,null,0,11,344]
[null,null,{"$f":"IFERROR(VLOOKUP(D4132,'1_Causas_Levantadas'!C:D,2,0),\"\")","v":0},"","",null,12,null,0,12,344]
[null,null,{"$f":"IFERROR(VLOOKUP(D4133,'1_Causas_Levantadas'!C:D,2,0),\"\")","v":0},"","",null,1,null,1,1,345]
[null,null,{"$f":"IFERROR(VLOOKUP(D4134,'1_Causas_Levantadas'!C:D,2,0),\"\")","v":0},"","",null,2,null,0,2,345]
[null,null,{"$f":"IFERROR(VLOOKUP(D4135,'1_Causas_Levantadas'!C:D,2,0),\"\")","v":0},"","",null,3,null,0,3,345]
[null,null,{"$f":"IFERROR(VLOOKUP(D4136,'1_Causas_Levantadas'!C:D,2,0),\"\")","v":0},"","",null,4,null,0,4,345]
[null,null,{"$f":"IFERROR(VLOOKUP(D4137,'1_Causas_Levantadas'!C:D,2,0),\"\")","v":0},"","",null,5,null,0,5,345]
[null,null,{"$f":"IFERROR(VLOOKUP(D4138,'1_Causas_Levantadas'!C:D,2,0),\"\")","v":0},"","",null,6,null,0,6,345]
[null,null,{"$f":"IFERROR(VLOOKUP(D4139,'1_Causas_Levantadas'!C:D,2,0),\"\")","v":0},"","",null,7,null,0,7,345]
[null,null,{"$f":"IFERROR(VLOOKUP(D4140,'1_Causas_Levantadas'!C:D,2,0),\"\")","v":0},"","",null,8,null,0,8,345]
[null,null,{"$f":"IFERROR(VLOOKUP(D4141,'1_Causas_Levantadas'!C:D,2,0),\"\")","v":0},"","",null,9,null,0,9,345]
[null,null,{"$f":"IFERROR(VLOOKUP(D4142,'1_Causas_Levantadas'!C:D,2,0),\"\")","v":0},"","",null,10,null,0,10,345]
[null,null,{"$f":"IFERROR(VLOOKUP(D4143,'1_Causas_Levantadas'!C:D,2,0),\"\")","v":0},"","",null,11,null,0,11,345]
[null,null,{"$f":"IFERROR(VLOOKUP(D4144,'1_Causas_Levantadas'!C:D,2,0),\"\")","v":0},"","",null,12,null,0,12,345]
[null,null,{"$f":"IFERROR(VLOOKUP(D4145,'1_Causas_Levantadas'!C:D,2,0),\"\")","v":0},"","",null,1,null,1,1,346]
[null,null,{"$f":"IFERROR(VLOOKUP(D4146,'1_Causas_Levantadas'!C:D,2,0),\"\")","v":0},"","",null,2,null,0,2,346]
[null,null,{"$f":"IFERROR(VLOOKUP(D4147,'1_Causas_Levantadas'!C:D,2,0),\"\")","v":0},"","",null,3,null,0,3,346]
[null,null,{"$f":"IFERROR(VLOOKUP(D4148,'1_Causas_Levantadas'!C:D,2,0),\"\")","v":0},"","",null,4,null,0,4,346]
[null,null,{"$f":"IFERROR(VLOOKUP(D4149,'1_Causas_Levantadas'!C:D,2,0),\"\")","v":0},"","",null,5,null,0,5,346]
[null,null,{"$f":"IFERROR(VLOOKUP(D4150,'1_Causas_Levantadas'!C:D,2,0),\"\")","v":0},"","",null,6,null,0,6,346]
[null,null,{"$f":"IFERROR(VLOOKUP(D4151,'1_Causas_Levantadas'!C:D,2,0),\"\")","v":0},"","",null,7,null,0,7,346]
[null,null,{"$f":"IFERROR(VLOOKUP(D4152,'1_Causas_Levantadas'!C:D,2,0),\"\")","v":0},"","",null,8,null,0,8,346]
[null,null,{"$f":"IFERROR(VLOOKUP(D4153,'1_Causas_Levantadas'!C:D,2,0),\"\")","v":0},"","",null,9,null,0,9,346]
[null,null,{"$f":"IFERROR(VLOOKUP(D4154,'1_Causas_Levantadas'!C:D,2,0),\"\")","v":0},"","",null,10,null,0,10,346]
[null,null,{"$f":"IFERROR(VLOOKUP(D4155,'1_Causas_Levantadas'!C:D,2,0),\"\")","v":0},"","",null,11,null,0,11,346]
[null,null,{"$f":"IFERROR(VLOOKUP(D4156,'1_Causas_Levantadas'!C:D,2,0),\"\")","v":0},"","",null,12,null,0,12,346]
[null,null,{"$f":"IFERROR(VLOOKUP(D4157,'1_Causas_Levantadas'!C:D,2,0),\"\")","v":0},"","",null,1,null,1,1,347]
[null,null,{"$f":"IFERROR(VLOOKUP(D4158,'1_Causas_Levantadas'!C:D,2,0),\"\")","v":0},"","",null,2,null,0,2,347]
[null,null,{"$f":"IFERROR(VLOOKUP(D4159,'1_Causas_Levantadas'!C:D,2,0),\"\")","v":0},"","",null,3,null,0,3,347]
[null,null,{"$f":"IFERROR(VLOOKUP(D4160,'1_Causas_Levantadas'!C:D,2,0),\"\")","v":0},"","",null,4,null,0,4,347]
[null,null,{"$f":"IFERROR(VLOOKUP(D4161,'1_Causas_Levantadas'!C:D,2,0),\"\")","v":0},"","",null,5,null,0,5,347]
[null,null,{"$f":"IFERROR(VLOOKUP(D4162,'1_Causas_Levantadas'!C:D,2,0),\"\")","v":0},"","",null,6,null,0,6,347]
[null,null,{"$f":"IFERROR(VLOOKUP(D4163,'1_Causas_Levantadas'!C:D,2,0),\"\")","v":0},"","",null,7,null,0,7,347]
[null,null,{"$f":"IFERROR(VLOOKUP(D4164,'1_Causas_Levantadas'!C:D,2,0),\"\")","v":0},"","",null,8,null,0,8,347]
[null,null,{"$f":"IFERROR(VLOOKUP(D4165,'1_Causas_Levantadas'!C:D,2,0),\"\")","v":0},"","",null,9,null,0,9,347]
[null,null,{"$f":"IFERROR(VLOOKUP(D4166,'1_Causas_Levantadas'!C:D,2,0),\"\")","v":0},{"$f":"IF(K4166<=$H$4,(IF(G4165>0,G4166,$G$5)),\"\")","v":""},{"$f":"IF(D4166<>\"\",\"Participante \"&K4166,\"\")","v":""},null,{"$f":"J4166","v":10},null,{"$f":"IF(G4166=$G$5,1,0)","v":0},10,{"$f":"I4166+K4165","v":347}]
[null,null,{"$f":"IFERROR(VLOOKUP(D4167,'1_Causas_Levantadas'!C:D,2,0),\"\")","v":0},"","",null,11,null,0,{"$f":"IF(G4166<$G$4,J4166+1,1)","v":11},347]
[null,null,{"$f":"IFERROR(VLOOKUP(D4168,'1_Causas_Levantadas'!C:D,2,0),\"\")","v":0},"","",null,12,null,0,12,347]
[null,null,{"$f":"IFERROR(VLOOKUP(D4169,'1_Causas_Levantadas'!C:D,2,0),\"\")","v":0},"","",null,1,null,1,1,348]
[null,null,{"$f":"IFERROR(VLOOKUP(D4170,'1_Causas_Levantadas'!C:D,2,0),\"\")","v":0},"","",null,2,null,0,2,348]
[null,null,{"$f":"IFERROR(VLOOKUP(D4171,'1_Causas_Levantadas'!C:D,2,0),\"\")","v":0},"","",null,3,null,0,3,348]
[null,null,{"$f":"IFERROR(VLOOKUP(D4172,'1_Causas_Levantadas'!C:D,2,0),\"\")","v":0},"","",null,4,null,0,4,348]
[null,null,{"$f":"IFERROR(VLOOKUP(D4173,'1_Causas_Levantadas'!C:D,2,0),\"\")","v":0},"","",null,5,null,0,5,348]
[null,null,{"$f":"IFERROR(VLOOKUP(D4174,'1_Causas_Levantadas'!C:D,2,0),\"\")","v":0},"","",null,6,null,0,6,348]
[null,null,{"$f":"IFERROR(VLOOKUP(D4175,'1_Causas_Levantadas'!C:D,2,0),\"\")","v":0},"","",null,7,null,0,7,348]
[null,null,{"$f":"IFERROR(VLOOKUP(D4176,'1_Causas_Levantadas'!C:D,2,0),\"\")","v":0},"","",null,8,null,0,8,348]
[null,null,{"$f":"IFERROR(VLOOKUP(D4177,'1_Causas_Levantadas'!C:D,2,0),\"\")","v":0},"","",null,9,null,0,9,348]
[null,null,{"$f":"IFERROR(VLOOKUP(D4178,'1_Causas_Levantadas'!C:D,2,0),\"\")","v":0},"","",null,10,null,0,10,348]
[null,null,{"$f":"IFERROR(VLOOKUP(D4179,'1_Causas_Levantadas'!C:D,2,0),\"\")","v":0},"","",null,11,null,0,11,348]
[null,null,{"$f":"IFERROR(VLOOKUP(D4180,'1_Causas_Levantadas'!C:D,2,0),\"\")","v":0},"","",null,12,null,0,12,348]
[null,null,{"$f":"IFERROR(VLOOKUP(D4181,'1_Causas_Levantadas'!C:D,2,0),\"\")","v":0},"","",null,1,null,1,1,349]
[null,null,{"$f":"IFERROR(VLOOKUP(D4182,'1_Causas_Levantadas'!C:D,2,0),\"\")","v":0},"","",null,2,null,0,2,349]
[null,null,{"$f":"IFERROR(VLOOKUP(D4183,'1_Causas_Levantadas'!C:D,2,0),\"\")","v":0},"","",null,3,null,0,3,349]
[null,null,{"$f":"IFERROR(VLOOKUP(D4184,'1_Causas_Levantadas'!C:D,2,0),\"\")","v":0},"","",null,4,null,0,4,349]
[null,null,{"$f":"IFERROR(VLOOKUP(D4185,'1_Causas_Levantadas'!C:D,2,0),\"\")","v":0},"","",null,5,null,0,5,349]
[null,null,{"$f":"IFERROR(VLOOKUP(D4186,'1_Causas_Levantadas'!C:D,2,0),\"\")","v":0},"","",null,6,null,0,6,349]
[null,null,{"$f":"IFERROR(VLOOKUP(D4187,'1_Causas_Levantadas'!C:D,2,0),\"\")","v":0},"","",null,7,null,0,7,349]
[null,null,{"$f":"IFERROR(VLOOKUP(D4188,'1_Causas_Levantadas'!C:D,2,0),\"\")","v":0},"","",null,8,null,0,8,349]
[null,null,{"$f":"IFERROR(VLOOKUP(D4189,'1_Causas_Levantadas'!C:D,2,0),\"\")","v":0},"","",null,9,null,0,9,349]
[null,null,{"$f":"IFERROR(VLOOKUP(D4190,'1_Causas_Levantadas'!C:D,2,0),\"\")","v":0},"","",null,10,null,0,10,349]
[null,null,{"$f":"IFERROR(VLOOKUP(D4191,'1_Causas_Levantadas'!C:D,2,0),\"\")","v":0},"","",null,11,null,0,11,349]
[null,null,{"$f":"IFERROR(VLOOKUP(D4192,'1_Causas_Levantadas'!C:D,2,0),\"\")","v":0},"","",null,12,null,0,12,349]
[null,null,{"$f":"IFERROR(VLOOKUP(D4193,'1_Causas_Levantadas'!C:D,2,0),\"\")","v":0},"","",null,1,null,1,1,350]
[null,null,{"$f":"IFERROR(VLOOKUP(D4194,'1_Causas_Levantadas'!C:D,2,0),\"\")","v":0},"","",null,2,null,0,2,350]
[null,null,{"$f":"IFERROR(VLOOKUP(D4195,'1_Causas_Levantadas'!C:D,2,0),\"\")","v":0},"","",null,3,null,0,3,350]
[null,null,{"$f":"IFERROR(VLOOKUP(D4196,'1_Causas_Levantadas'!C:D,2,0),\"\")","v":0},"","",null,4,null,0,4,350]
[null,null,{"$f":"IFERROR(VLOOKUP(D4197,'1_Causas_Levantadas'!C:D,2,0),\"\")","v":0},"","",null,5,null,0,5,350]
[null,null,{"$f":"IFERROR(VLOOKUP(D4198,'1_Causas_Levantadas'!C:D,2,0),\"\")","v":0},"","",null,6,null,0,6,350]
[null,null,{"$f":"IFERROR(VLOOKUP(D4199,'1_Causas_Levantadas'!C:D,2,0),\"\")","v":0},"","",null,7,null,0,7,350]
[null,null,{"$f":"IFERROR(VLOOKUP(D4200,'1_Causas_Levantadas'!C:D,2,0),\"\")","v":0},"","",null,8,null,0,8,350]
[null,null,{"$f":"IFERROR(VLOOKUP(D4201,'1_Causas_Levantadas'!C:D,2,0),\"\")","v":0},"","",null,9,null,0,9,350]
[null,null,{"$f":"IFERROR(VLOOKUP(D4202,'1_Causas_Levantadas'!C:D,2,0),\"\")","v":0},"","",null,10,null,0,10,350]
[null,null,{"$f":"IFERROR(VLOOKUP(D4203,'1_Causas_Levantadas'!C:D,2,0),\"\")","v":0},"","",null,11,null,0,11,350]
[null,null,{"$f":"IFERROR(VLOOKUP(D4204,'1_Causas_Levantadas'!C:D,2,0),\"\")","v":0},"","",null,12,null,0,12,350]
[null,null,{"$f":"IFERROR(VLOOKUP(D4205,'1_Causas_Levantadas'!C:D,2,0),\"\")","v":0},"","",null,1,null,1,1,351]
[null,null,{"$f":"IFERROR(VLOOKUP(D4206,'1_Causas_Levantadas'!C:D,2,0),\"\")","v":0},"","",null,2,null,0,2,351]
[null,null,{"$f":"IFERROR(VLOOKUP(D4207,'1_Causas_Levantadas'!C:D,2,0),\"\")","v":0},"","",null,3,null,0,3,351]
[null,null,{"$f":"IFERROR(VLOOKUP(D4208,'1_Causas_Levantadas'!C:D,2,0),\"\")","v":0},"","",null,4,null,0,4,351]
[null,null,{"$f":"IFERROR(VLOOKUP(D4209,'1_Causas_Levantadas'!C:D,2,0),\"\")","v":0},"","",null,5,null,0,5,351]
[null,null,{"$f":"IFERROR(VLOOKUP(D4210,'1_Causas_Levantadas'!C:D,2,0),\"\")","v":0},"","",null,6,null,0,6,351]
[null,null,{"$f":"IFERROR(VLOOKUP(D4211,'1_Causas_Levantadas'!C:D,2,0),\"\")","v":0},"","",null,7,null,0,7,351]
[null,null,{"$f":"IFERROR(VLOOKUP(D4212,'1_Causas_Levantadas'!C:D,2,0),\"\")","v":0},"","",null,8,null,0,8,351]
[null,null,{"$f":"IFERROR(VLOOKUP(D4213,'1_Causas_Levantadas'!C:D,2,0),\"\")","v":0},"","",null,9,null,0,9,351]
[null,null,{"$f":"IFERROR(VLOOKUP(D4214,'1_Causas_Levantadas'!C:D,2,0),\"\")","v":0},"","",null,10,null,0,10,351]
[null,null,{"$f":"IFERROR(VLOOKUP(D4215,'1_Causas_Levantadas'!C:D,2,0),\"\")","v":0},"","",null,11,null,0,11,351]
[null,null,{"$f":"IFERROR(VLOOKUP(D4216,'1_Causas_Levantadas'!C:D,2,0),\"\")","v":0},"","",null,12,null,0,12,351]
[null,null,{"$f":"IFERROR(VLOOKUP(D4217,'1_Causas_Levantadas'!C:D,2,0),\"\")","v":0},"","",null,1,null,1,1,352]
[null,null,{"$f":"IFERROR(VLOOKUP(D4218,'1_Causas_Levantadas'!C:D,2,0),\"\")","v":0},"","",null,2,null,0,2,352]
[null,null,{"$f":"IFERROR(VLOOKUP(D4219,'1_Causas_Levantadas'!C:D,2,0),\"\")","v":0},"","",null,3,null,0,3,352]
[null,null,{"$f":"IFERROR(VLOOKUP(D4220,'1_Causas_Levantadas'!C:D,2,0),\"\")","v":0},"","",null,4,null,0,4,352]
[null,null,{"$f":"IFERROR(VLOOKUP(D4221,'1_Causas_Levantadas'!C:D,2,0),\"\")","v":0},"","",null,5,null,0,5,352]
[null,null,{"$f":"IFERROR(VLOOKUP(D4222,'1_Causas_Levantadas'!C:D,2,0),\"\")","v":0},"","",null,6,null,0,6,352]
[null,null,{"$f":"IFERROR(VLOOKUP(D4223,'1_Causas_Levantadas'!C:D,2,0),\"\")","v":0},"","",null,7,null,0,7,352]
[null,null,{"$f":"IFERROR(VLOOKUP(D4224,'1_Causas_Levantadas'!C:D,2,0),\"\")","v":0},"","",null,8,null,0,8,352]
[null,null,{"$f":"IFERROR(VLOOKUP(D4225,'1_Causas_Levantadas'!C:D,2,0),\"\")","v":0},"","",null,9,null,0,9,352]
[null,null,{"$f":"IFERROR(VLOOKUP(D4226,'1_Causas_Levantadas'!C:D,2,0),\"\")","v":0},"","",null,10,null,0,10,352]
[null,null,{"$f":"IFERROR(VLOOKUP(D4227,'1_Causas_Levantadas'!C:D,2,0),\"\")","v":0},"","",null,11,null,0,11,352]
[null,null,{"$f":"IFERROR(VLOOKUP(D4228,'1_Causas_Levantadas'!C:D,2,0),\"\")","v":0},"","",null,12,null,0,12,352]
[null,null,{"$f":"IFERROR(VLOOKUP(D4229,'1_Causas_Levantadas'!C:D,2,0),\"\")","v":0},"","",null,1,null,1,1,353]
[null,null,{"$f":"IFERROR(VLOOKUP(D4230,'1_Causas_Levantadas'!C:D,2,0),\"\")","v":0},{"$f":"IF(K4230<=$H$4,(IF(G4229>0,G4230,$G$5)),\"\")","v":""},{"$f":"IF(D4230<>\"\",\"Participante \"&K4230,\"\")","v":""},null,{"$f":"J4230","v":2},null,{"$f":"IF(G4230=$G$5,1,0)","v":0},2,{"$f":"I4230+K4229","v":353}]
[null,null,{"$f":"IFERROR(VLOOKUP(D4231,'1_Causas_Levantadas'!C:D,2,0),\"\")","v":0},"","",null,3,null,0,{"$f":"IF(G4230<$G$4,J4230+1,1)","v":3},353]
[null,null,{"$f":"IFERROR(VLOOKUP(D4232,'1_Causas_Levantadas'!C:D,2,0),\"\")","v":0},"","",null,4,null,0,4,353]
[null,null,{"$f":"IFERROR(VLOOKUP(D4233,'1_Causas_Levantadas'!C:D,2,0),\"\")","v":0},"","",null,5,null,0,5,353]
[null,null,{"$f":"IFERROR(VLOOKUP(D4234,'1_Causas_Levantadas'!C:D,2,0),\"\")","v":0},"","",null,6,null,0,6,353]
[null,null,{"$f":"IFERROR(VLOOKUP(D4235,'1_Causas_Levantadas'!C:D,2,0),\"\")","v":0},"","",null,7,null,0,7,353]
[null,null,{"$f":"IFERROR(VLOOKUP(D4236,'1_Causas_Levantadas'!C:D,2,0),\"\")","v":0},"","",null,8,null,0,8,353]
[null,null,{"$f":"IFERROR(VLOOKUP(D4237,'1_Causas_Levantadas'!C:D,2,0),\"\")","v":0},"","",null,9,null,0,9,353]
[null,null,{"$f":"IFERROR(VLOOKUP(D4238,'1_Causas_Levantadas'!C:D,2,0),\"\")","v":0},"","",null,10,null,0,10,353]
[null,null,{"$f":"IFERROR(VLOOKUP(D4239,'1_Causas_Levantadas'!C:D,2,0),\"\")","v":0},"","",null,11,null,0,11,353]
[null,null,{"$f":"IFERROR(VLOOKUP(D4240,'1_Causas_Levantadas'!C:D,2,0),\"\")","v":0},"","",null,12,null,0,12,353]
[null,null,{"$f":"IFERROR(VLOOKUP(D4241,'1_Causas_Levantadas'!C:D,2,0),\"\")","v":0},"","",null,1,null,1,1,354]
[null,null,{"$f":"IFERROR(VLOOKUP(D4242,'1_Causas_Levantadas'!C:D,2,0),\"\")","v":0},"","",null,2,null,0,2,354]
[null,null,{"$f":"IFERROR(VLOOKUP(D4243,'1_Causas_Levantadas'!C:D,2,0),\"\")","v":0},"","",null,3,null,0,3,354]
[null,null,{"$f":"IFERROR(VLOOKUP(D4244,'1_Causas_Levantadas'!C:D,2,0),\"\")","v":0},"","",null,4,null,0,4,354]
[null,null,{"$f":"IFERROR(VLOOKUP(D4245,'1_Causas_Levantadas'!C:D,2,0),\"\")","v":0},"","",null,5,null,0,5,354]
[null,null,{"$f":"IFERROR(VLOOKUP(D4246,'1_Causas_Levantadas'!C:D,2,0),\"\")","v":0},"","",null,6,null,0,6,354]
[null,null,{"$f":"IFERROR(VLOOKUP(D4247,'1_Causas_Levantadas'!C:D,2,0),\"\")","v":0},"","",null,7,null,0,7,354]
[null,null,{"$f":"IFERROR(VLOOKUP(D4248,'1_Causas_Levantadas'!C:D,2,0),\"\")","v":0},"","",null,8,null,0,8,354]
[null,null,{"$f":"IFERROR(VLOOKUP(D4249,'1_Causas_Levantadas'!C:D,2,0),\"\")","v":0},"","",null,9,null,0,9,354]
[null,null,{"$f":"IFERROR(VLOOKUP(D4250,'1_Causas_Levantadas'!C:D,2,0),\"\")","v":0},"","",null,10,null,0,10,354]
[null,null,{"$f":"IFERROR(VLOOKUP(D4251,'1_Causas_Levantadas'!C:D,2,0),\"\")","v":0},"","",null,11,null,0,11,354]
[null,null,{"$f":"IFERROR(VLOOKUP(D4252,'1_Causas_Levantadas'!C:D,2,0),\"\")","v":0},"","",null,12,null,0,12,354]
[null,null,{"$f":"IFERROR(VLOOKUP(D4253,'1_Causas_Levantadas'!C:D,2,0),\"\")","v":0},"","",null,1,null,1,1,355]
[null,null,{"$f":"IFERROR(VLOOKUP(D4254,'1_Causas_Levantadas'!C:D,2,0),\"\")","v":0},"","",null,2,null,0,2,355]
[null,null,{"$f":"IFERROR(VLOOKUP(D4255,'1_Causas_Levantadas'!C:D,2,0),\"\")","v":0},"","",null,3,null,0,3,355]
[null,null,{"$f":"IFERROR(VLOOKUP(D4256,'1_Causas_Levantadas'!C:D,2,0),\"\")","v":0},"","",null,4,null,0,4,355]
[null,null,{"$f":"IFERROR(VLOOKUP(D4257,'1_Causas_Levantadas'!C:D,2,0),\"\")","v":0},"","",null,5,null,0,5,355]
[null,null,{"$f":"IFERROR(VLOOKUP(D4258,'1_Causas_Levantadas'!C:D,2,0),\"\")","v":0},"","",null,6,null,0,6,355]
[null,null,{"$f":"IFERROR(VLOOKUP(D4259,'1_Causas_Levantadas'!C:D,2,0),\"\")","v":0},"","",null,7,null,0,7,355]
[null,null,{"$f":"IFERROR(VLOOKUP(D4260,'1_Causas_Levantadas'!C:D,2,0),\"\")","v":0},"","",null,8,null,0,8,355]
[null,null,{"$f":"IFERROR(VLOOKUP(D4261,'1_Causas_Levantadas'!C:D,2,0),\"\")","v":0},"","",null,9,null,0,9,355]
[null,null,{"$f":"IFERROR(VLOOKUP(D4262,'1_Causas_Levantadas'!C:D,2,0),\"\")","v":0},"","",null,10,null,0,10,355]
[null,null,{"$f":"IFERROR(VLOOKUP(D4263,'1_Causas_Levantadas'!C:D,2,0),\"\")","v":0},"","",null,11,null,0,11,355]
[null,null,{"$f":"IFERROR(VLOOKUP(D4264,'1_Causas_Levantadas'!C:D,2,0),\"\")","v":0},"","",null,12,null,0,12,355]
[null,null,{"$f":"IFERROR(VLOOKUP(D4265,'1_Causas_Levantadas'!C:D,2,0),\"\")","v":0},"","",null,1,null,1,1,356]
[null,null,{"$f":"IFERROR(VLOOKUP(D4266,'1_Causas_Levantadas'!C:D,2,0),\"\")","v":0},"","",null,2,null,0,2,356]
[null,null,{"$f":"IFERROR(VLOOKUP(D4267,'1_Causas_Levantadas'!C:D,2,0),\"\")","v":0},"","",null,3,null,0,3,356]
[null,null,{"$f":"IFERROR(VLOOKUP(D4268,'1_Causas_Levantadas'!C:D,2,0),\"\")","v":0},"","",null,4,null,0,4,356]
[null,null,{"$f":"IFERROR(VLOOKUP(D4269,'1_Causas_Levantadas'!C:D,2,0),\"\")","v":0},"","",null,5,null,0,5,356]
[null,null,{"$f":"IFERROR(VLOOKUP(D4270,'1_Causas_Levantadas'!C:D,2,0),\"\")","v":0},"","",null,6,null,0,6,356]
[null,null,{"$f":"IFERROR(VLOOKUP(D4271,'1_Causas_Levantadas'!C:D,2,0),\"\")","v":0},"","",null,7,null,0,7,356]
[null,null,{"$f":"IFERROR(VLOOKUP(D4272,'1_Causas_Levantadas'!C:D,2,0),\"\")","v":0},"","",null,8,null,0,8,356]
[null,null,{"$f":"IFERROR(VLOOKUP(D4273,'1_Causas_Levantadas'!C:D,2,0),\"\")","v":0},"","",null,9,null,0,9,356]
[null,null,{"$f":"IFERROR(VLOOKUP(D4274,'1_Causas_Levantadas'!C:D,2,0),\"\")","v":0},"","",null,10,null,0,10,356]
[null,null,{"$f":"IFERROR(VLOOKUP(D4275,'1_Causas_Levantadas'!C:D,2,0),\"\")","v":0},"","",null,11,null,0,11,356]
[null,null,{"$f":"IFERROR(VLOOKUP(D4276,'1_Causas_Levantadas'!C:D,2,0),\"\")","v":0},"","",null,12,null,0,12,356]
[null,null,{"$f":"IFERROR(VLOOKUP(D4277,'1_Causas_Levantadas'!C:D,2,0),\"\")","v":0},"","",null,1,null,1,1,357]
[null,null,{"$f":"IFERROR(VLOOKUP(D4278,'1_Causas_Levantadas'!C:D,2,0),\"\")","v":0},"","",null,2,null,0,2,357]
[null,null,{"$f":"IFERROR(VLOOKUP(D4279,'1_Causas_Levantadas'!C:D,2,0),\"\")","v":0},"","",null,3,null,0,3,357]
[null,null,{"$f":"IFERROR(VLOOKUP(D4280,'1_Causas_Levantadas'!C:D,2,0),\"\")","v":0},"","",null,4,null,0,4,357]
[null,null,{"$f":"IFERROR(VLOOKUP(D4281,'1_Causas_Levantadas'!C:D,2,0),\"\")","v":0},"","",null,5,null,0,5,357]
[null,null,{"$f":"IFERROR(VLOOKUP(D4282,'1_Causas_Levantadas'!C:D,2,0),\"\")","v":0},"","",null,6,null,0,6,357]
[null,null,{"$f":"IFERROR(VLOOKUP(D4283,'1_Causas_Levantadas'!C:D,2,0),\"\")","v":0},"","",null,7,null,0,7,357]
[null,null,{"$f":"IFERROR(VLOOKUP(D4284,'1_Causas_Levantadas'!C:D,2,0),\"\")","v":0},"","",null,8,null,0,8,357]
[null,null,{"$f":"IFERROR(VLOOKUP(D4285,'1_Causas_Levantadas'!C:D,2,0),\"\")","v":0},"","",null,9,null,0,9,357]
[null,null,{"$f":"IFERROR(VLOOKUP(D4286,'1_Causas_Levantadas'!C:D,2,0),\"\")","v":0},"","",null,10,null,0,10,357]
[null,null,{"$f":"IFERROR(VLOOKUP(D4287,'1_Causas_Levantadas'!C:D,2,0),\"\")","v":0},"","",null,11,null,0,11,357]
[null,null,{"$f":"IFERROR(VLOOKUP(D4288,'1_Causas_Levantadas'!C:D,2,0),\"\")","v":0},"","",null,12,null,0,12,357]
[null,null,{"$f":"IFERROR(VLOOKUP(D4289,'1_Causas_Levantadas'!C:D,2,0),\"\")","v":0},"","",null,1,null,1,1,358]
[null,null,{"$f":"IFERROR(VLOOKUP(D4290,'1_Causas_Levantadas'!C:D,2,0),\"\")","v":0},"","",null,2,null,0,2,358]
[null,null,{"$f":"IFERROR(VLOOKUP(D4291,'1_Causas_Levantadas'!C:D,2,0),\"\")","v":0},"","",null,3,null,0,3,358]
[null,null,{"$f":"IFERROR(VLOOKUP(D4292,'1_Causas_Levantadas'!C:D,2,0),\"\")","v":0},"","",null,4,null,0,4,358]
[null,null,{"$f":"IFERROR(VLOOKUP(D4293,'1_Causas_Levantadas'!C:D,2,0),\"\")","v":0},"","",null,5,null,0,5,358]
[null,null,{"$f":"IFERROR(VLOOKUP(D4294,'1_Causas_Levantadas'!C:D,2,0),\"\")","v":0},{"$f":"IF(K4294<=$H$4,(IF(G4293>0,G4294,$G$5)),\"\")","v":""},{"$f":"IF(D4294<>\"\",\"Participante \"&K4294,\"\")","v":""},null,{"$f":"J4294","v":6},null,{"$f":"IF(G4294=$G$5,1,0)","v":0},6,{"$f":"I4294+K4293","v":358}]
[null,null,{"$f":"IFERROR(VLOOKUP(D4295,'1_Causas_Levantadas'!C:D,2,0),\"\")","v":0},"","",null,7,null,0,{"$f":"IF(G4294<$G$4,J4294+1,1)","v":7},358]
[null,null,{"$f":"IFERROR(VLOOKUP(D4296,'1_Causas_Levantadas'!C:D,2,0),\"\")","v":0},"","",null,8,null,0,8,358]
[null,null,{"$f":"IFERROR(VLOOKUP(D4297,'1_Causas_Levantadas'!C:D,2,0),\"\")","v":0},"","",null,9,null,0,9,358]
[null,null,{"$f":"IFERROR(VLOOKUP(D4298,'1_Causas_Levantadas'!C:D,2,0),\"\")","v":0},"","",null,10,null,0,10,358]
[null,null,{"$f":"IFERROR(VLOOKUP(D4299,'1_Causas_Levantadas'!C:D,2,0),\"\")","v":0},"","",null,11,null,0,11,358]
[null,null,{"$f":"IFERROR(VLOOKUP(D4300,'1_Causas_Levantadas'!C:D,2,0),\"\")","v":0},"","",null,12,null,0,12,358]
[null,null,{"$f":"IFERROR(VLOOKUP(D4301,'1_Causas_Levantadas'!C:D,2,0),\"\")","v":0},"","",null,1,null,1,1,359]
[null,null,{"$f":"IFERROR(VLOOKUP(D4302,'1_Causas_Levantadas'!C:D,2,0),\"\")","v":0},"","",null,2,null,0,2,359]
[null,null,{"$f":"IFERROR(VLOOKUP(D4303,'1_Causas_Levantadas'!C:D,2,0),\"\")","v":0},"","",null,3,null,0,3,359]
[null,null,{"$f":"IFERROR(VLOOKUP(D4304,'1_Causas_Levantadas'!C:D,2,0),\"\")","v":0},"","",null,4,null,0,4,359]
[null,null,{"$f":"IFERROR(VLOOKUP(D4305,'1_Causas_Levantadas'!C:D,2,0),\"\")","v":0},"","",null,5,null,0,5,359]
[null,null,{"$f":"IFERROR(VLOOKUP(D4306,'1_Causas_Levantadas'!C:D,2,0),\"\")","v":0},"","",null,6,null,0,6,359]
[null,null,{"$f":"IFERROR(VLOOKUP(D4307,'1_Causas_Levantadas'!C:D,2,0),\"\")","v":0},"","",null,7,null,0,7,359]
[null,null,{"$f":"IFERROR(VLOOKUP(D4308,'1_Causas_Levantadas'!C:D,2,0),\"\")","v":0},"","",null,8,null,0,8,359]
[null,null,{"$f":"IFERROR(VLOOKUP(D4309,'1_Causas_Levantadas'!C:D,2,0),\"\")","v":0},"","",null,9,null,0,9,359]
[null,null,{"$f":"IFERROR(VLOOKUP(D4310,'1_Causas_Levantadas'!C:D,2,0),\"\")","v":0},"","",null,10,null,0,10,359]
[null,null,{"$f":"IFERROR(VLOOKUP(D4311,'1_Causas_Levantadas'!C:D,2,0),\"\")","v":0},"","",null,11,null,0,11,359]
[null,null,{"$f":"IFERROR(VLOOKUP(D4312,'1_Causas_Levantadas'!C:D,2,0),\"\")","v":0},"","",null,12,null,0,12,359]
[null,null,{"$f":"IFERROR(VLOOKUP(D4313,'1_Causas_Levantadas'!C:D,2,0),\"\")","v":0},"","",null,1,null,1,1,360]
[null,null,{"$f":"IFERROR(VLOOKUP(D4314,'1_Causas_Levantadas'!C:D,2,0),\"\")","v":0},"","",null,2,null,0,2,360]
[null,null,{"$f":"IFERROR(VLOOKUP(D4315,'1_Causas_Levantadas'!C:D,2,0),\"\")","v":0},"","",null,3,null,0,3,360]
[null,null,{"$f":"IFERROR(VLOOKUP(D4316,'1_Causas_Levantadas'!C:D,2,0),\"\")","v":0},"","",null,4,null,0,4,360]
[null,null,{"$f":"IFERROR(VLOOKUP(D4317,'1_Causas_Levantadas'!C:D,2,0),\"\")","v":0},"","",null,5,null,0,5,360]
[null,null,{"$f":"IFERROR(VLOOKUP(D4318,'1_Causas_Levantadas'!C:D,2,0),\"\")","v":0},"","",null,6,null,0,6,360]
[null,null,{"$f":"IFERROR(VLOOKUP(D4319,'1_Causas_Levantadas'!C:D,2,0),\"\")","v":0},"","",null,7,null,0,7,360]
[null,null,{"$f":"IFERROR(VLOOKUP(D4320,'1_Causas_Levantadas'!C:D,2,0),\"\")","v":0},"","",null,8,null,0,8,360]
[null,null,{"$f":"IFERROR(VLOOKUP(D4321,'1_Causas_Levantadas'!C:D,2,0),\"\")","v":0},"","",null,9,null,0,9,360]
[null,null,{"$f":"IFERROR(VLOOKUP(D4322,'1_Causas_Levantadas'!C:D,2,0),\"\")","v":0},"","",null,10,null,0,10,360]
[null,null,{"$f":"IFERROR(VLOOKUP(D4323,'1_Causas_Levantadas'!C:D,2,0),\"\")","v":0},"","",null,11,null,0,11,360]
[null,null,{"$f":"IFERROR(VLOOKUP(D4324,'1_Causas_Levantadas'!C:D,2,0),\"\")","v":0},"","",null,12,null,0,12,360]
[null,null,{"$f":"IFERROR(VLOOKUP(D4325,'1_Causas_Levantadas'!C:D,2,0),\"\")","v":0},"","",null,1,null,1,1,361]
[null,null,{"$f":"IFERROR(VLOOKUP(D4326,'1_Causas_Levantadas'!C:D,2,0),\"\")","v":0},"","",null,2,null,0,2,361]
[null,null,{"$f":"IFERROR(VLOOKUP(D4327,'1_Causas_Levantadas'!C:D,2,0),\"\")","v":0},"","",null,3,null,0,3,361]
[null,null,{"$f":"IFERROR(VLOOKUP(D4328,'1_Causas_Levantadas'!C:D,2,0),\"\")","v":0},"","",null,4,null,0,4,361]
[null,null,{"$f":"IFERROR(VLOOKUP(D4329,'1_Causas_Levantadas'!C:D,2,0),\"\")","v":0},"","",null,5,null,0,5,361]
[null,null,{"$f":"IFERROR(VLOOKUP(D4330,'1_Causas_Levantadas'!C:D,2,0),\"\")","v":0},"","",null,6,null,0,6,361]
[null,null,{"$f":"IFERROR(VLOOKUP(D4331,'1_Causas_Levantadas'!C:D,2,0),\"\")","v":0},"","",null,7,null,0,7,361]
[null,null,{"$f":"IFERROR(VLOOKUP(D4332,'1_Causas_Levantadas'!C:D,2,0),\"\")","v":0},"","",null,8,null,0,8,361]
[null,null,{"$f":"IFERROR(VLOOKUP(D4333,'1_Causas_Levantadas'!C:D,2,0),\"\")","v":0},"","",null,9,null,0,9,361]
[null,null,{"$f":"IFERROR(VLOOKUP(D4334,'1_Causas_Levantadas'!C:D,2,0),\"\")","v":0},"","",null,10,null,0,10,361]
[null,null,{"$f":"IFERROR(VLOOKUP(D4335,'1_Causas_Levantadas'!C:D,2,0),\"\")","v":0},"","",null,11,null,0,11,361]
[null,null,{"$f":"IFERROR(VLOOKUP(D4336,'1_Causas_Levantadas'!C:D,2,0),\"\")","v":0},"","",null,12,null,0,12,361]
[null,null,{"$f":"IFERROR(VLOOKUP(D4337,'1_Causas_Levantadas'!C:D,2,0),\"\")","v":0},"","",null,1,null,1,1,362]
[null,null,{"$f":"IFERROR(VLOOKUP(D4338,'1_Causas_Levantadas'!C:D,2,0),\"\")","v":0},"","",null,2,null,0,2,362]
[null,null,{"$f":"IFERROR(VLOOKUP(D4339,'1_Causas_Levantadas'!C:D,2,0),\"\")","v":0},"","",null,3,null,0,3,362]
[null,null,{"$f":"IFERROR(VLOOKUP(D4340,'1_Causas_Levantadas'!C:D,2,0),\"\")","v":0},"","",null,4,null,0,4,362]
[null,null,{"$f":"IFERROR(VLOOKUP(D4341,'1_Causas_Levantadas'!C:D,2,0),\"\")","v":0},"","",null,5,null,0,5,362]
[null,null,{"$f":"IFERROR(VLOOKUP(D4342,'1_Causas_Levantadas'!C:D,2,0),\"\")","v":0},"","",null,6,null,0,6,362]
[null,null,{"$f":"IFERROR(VLOOKUP(D4343,'1_Causas_Levantadas'!C:D,2,0),\"\")","v":0},"","",null,7,null,0,7,362]
[null,null,{"$f":"IFERROR(VLOOKUP(D4344,'1_Causas_Levantadas'!C:D,2,0),\"\")","v":0},"","",null,8,null,0,8,362]
[null,null,{"$f":"IFERROR(VLOOKUP(D4345,'1_Causas_Levantadas'!C:D,2,0),\"\")","v":0},"","",null,9,null,0,9,362]
[null,null,{"$f":"IFERROR(VLOOKUP(D4346,'1_Causas_Levantadas'!C:D,2,0),\"\")","v":0},"","",null,10,null,0,10,362]
[null,null,{"$f":"IFERROR(VLOOKUP(D4347,'1_Causas_Levantadas'!C:D,2,0),\"\")","v":0},"","",null,11,null,0,11,362]
[null,null,{"$f":"IFERROR(VLOOKUP(D4348,'1_Causas_Levantadas'!C:D,2,0),\"\")","v":0},"","",null,12,null,0,12,362]
[null,null,{"$f":"IFERROR(VLOOKUP(D4349,'1_Causas_Levantadas'!C:D,2,0),\"\")","v":0},"","",null,1,null,1,1,363]
[null,null,{"$f":"IFERROR(VLOOKUP(D4350,'1_Causas_Levantadas'!C:D,2,0),\"\")","v":0},"","",null,2,null,0,2,363]
[null,null,{"$f":"IFERROR(VLOOKUP(D4351,'1_Causas_Levantadas'!C:D,2,0),\"\")","v":0},"","",null,3,null,0,3,363]
[null,null,{"$f":"IFERROR(VLOOKUP(D4352,'1_Causas_Levantadas'!C:D,2,0),\"\")","v":0},"","",null,4,null,0,4,363]
[null,null,{"$f":"IFERROR(VLOOKUP(D4353,'1_Causas_Levantadas'!C:D,2,0),\"\")","v":0},"","",null,5,null,0,5,363]
[null,null,{"$f":"IFERROR(VLOOKUP(D4354,'1_Causas_Levantadas'!C:D,2,0),\"\")","v":0},"","",null,6,null,0,6,363]
[null,null,{"$f":"IFERROR(VLOOKUP(D4355,'1_Causas_Levantadas'!C:D,2,0),\"\")","v":0},"","",null,7,null,0,7,363]
[null,null,{"$f":"IFERROR(VLOOKUP(D4356,'1_Causas_Levantadas'!C:D,2,0),\"\")","v":0},"","",null,8,null,0,8,363]
[null,null,{"$f":"IFERROR(VLOOKUP(D4357,'1_Causas_Levantadas'!C:D,2,0),\"\")","v":0},"","",null,9,null,0,9,363]
[null,null,{"$f":"IFERROR(VLOOKUP(D4358,'1_Causas_Levantadas'!C:D,2,0),\"\")","v":0},{"$f":"IF(K4358<=$H$4,(IF(G4357>0,G4358,$G$5)),\"\")","v":""},{"$f":"IF(D4358<>\"\",\"Participante \"&K4358,\"\")","v":""},null,{"$f":"J4358","v":10},null,{"$f":"IF(G4358=$G$5,1,0)","v":0},10,{"$f":"I4358+K4357","v":363}]
[null,null,{"$f":"IFERROR(VLOOKUP(D4359,'1_Causas_Levantadas'!C:D,2,0),\"\")","v":0},"","",null,11,null,0,{"$f":"IF(G4358<$G$4,J4358+1,1)","v":11},363]
[null,null,{"$f":"IFERROR(VLOOKUP(D4360,'1_Causas_Levantadas'!C:D,2,0),\"\")","v":0},"","",null,12,null,0,12,363]
[null,null,{"$f":"IFERROR(VLOOKUP(D4361,'1_Causas_Levantadas'!C:D,2,0),\"\")","v":0},"","",null,1,null,1,1,364]
[null,null,{"$f":"IFERROR(VLOOKUP(D4362,'1_Causas_Levantadas'!C:D,2,0),\"\")","v":0},"","",null,2,null,0,2,364]
[null,null,{"$f":"IFERROR(VLOOKUP(D4363,'1_Causas_Levantadas'!C:D,2,0),\"\")","v":0},"","",null,3,null,0,3,364]
[null,null,{"$f":"IFERROR(VLOOKUP(D4364,'1_Causas_Levantadas'!C:D,2,0),\"\")","v":0},"","",null,4,null,0,4,364]
[null,null,{"$f":"IFERROR(VLOOKUP(D4365,'1_Causas_Levantadas'!C:D,2,0),\"\")","v":0},"","",null,5,null,0,5,364]
[null,null,{"$f":"IFERROR(VLOOKUP(D4366,'1_Causas_Levantadas'!C:D,2,0),\"\")","v":0},"","",null,6,null,0,6,364]
[null,null,{"$f":"IFERROR(VLOOKUP(D4367,'1_Causas_Levantadas'!C:D,2,0),\"\")","v":0},"","",null,7,null,0,7,364]
[null,null,{"$f":"IFERROR(VLOOKUP(D4368,'1_Causas_Levantadas'!C:D,2,0),\"\")","v":0},"","",null,8,null,0,8,364]
[null,null,{"$f":"IFERROR(VLOOKUP(D4369,'1_Causas_Levantadas'!C:D,2,0),\"\")","v":0},"","",null,9,null,0,9,364]
[null,null,{"$f":"IFERROR(VLOOKUP(D4370,'1_Causas_Levantadas'!C:D,2,0),\"\")","v":0},"","",null,10,null,0,10,364]
[null,null,{"$f":"IFERROR(VLOOKUP(D4371,'1_Causas_Levantadas'!C:D,2,0),\"\")","v":0},"","",null,11,null,0,11,364]
[null,null,{"$f":"IFERROR(VLOOKUP(D4372,'1_Causas_Levantadas'!C:D,2,0),\"\")","v":0},"","",null,12,null,0,12,364]
[null,null,{"$f":"IFERROR(VLOOKUP(D4373,'1_Causas_Levantadas'!C:D,2,0),\"\")","v":0},"","",null,1,null,1,1,365]
[null,null,{"$f":"IFERROR(VLOOKUP(D4374,'1_Causas_Levantadas'!C:D,2,0),\"\")","v":0},"","",null,2,null,0,2,365]
[null,null,{"$f":"IFERROR(VLOOKUP(D4375,'1_Causas_Levantadas'!C:D,2,0),\"\")","v":0},"","",null,3,null,0,3,365]
[null,null,{"$f":"IFERROR(VLOOKUP(D4376,'1_Causas_Levantadas'!C:D,2,0),\"\")","v":0},"","",null,4,null,0,4,365]
[null,null,{"$f":"IFERROR(VLOOKUP(D4377,'1_Causas_Levantadas'!C:D,2,0),\"\")","v":0},"","",null,5,null,0,5,365]
[null,null,{"$f":"IFERROR(VLOOKUP(D4378,'1_Causas_Levantadas'!C:D,2,0),\"\")","v":0},"","",null,6,null,0,6,365]
[null,null,{"$f":"IFERROR(VLOOKUP(D4379,'1_Causas_Levantadas'!C:D,2,0),\"\")","v":0},"","",null,7,null,0,7,365]
[null,null,{"$f":"IFERROR(VLOOKUP(D4380,'1_Causas_Levantadas'!C:D,2,0),\"\")","v":0},"","",null,8,null,0,8,365]
[null,null,{"$f":"IFERROR(VLOOKUP(D4381,'1_Causas_Levantadas'!C:D,2,0),\"\")","v":0},"","",null,9,null,0,9,365]
[null,null,{"$f":"IFERROR(VLOOKUP(D4382,'1_Causas_Levantadas'!C:D,2,0),\"\")","v":0},"","",null,10,null,0,10,365]
[null,null,{"$f":"IFERROR(VLOOKUP(D4383,'1_Causas_Levantadas'!C:D,2,0),\"\")","v":0},"","",null,11,null,0,11,365]
[null,null,{"$f":"IFERROR(VLOOKUP(D4384,'1_Causas_Levantadas'!C:D,2,0),\"\")","v":0},"","",null,12,null,0,12,365]
[null,null,{"$f":"IFERROR(VLOOKUP(D4385,'1_Causas_Levantadas'!C:D,2,0),\"\")","v":0},"","",null,1,null,1,1,366]
[null,null,{"$f":"IFERROR(VLOOKUP(D4386,'1_Causas_Levantadas'!C:D,2,0),\"\")","v":0},"","",null,2,null,0,2,366]
[null,null,{"$f":"IFERROR(VLOOKUP(D4387,'1_Causas_Levantadas'!C:D,2,0),\"\")","v":0},"","",null,3,null,0,3,366]
[null,null,{"$f":"IFERROR(VLOOKUP(D4388,'1_Causas_Levantadas'!C:D,2,0),\"\")","v":0},"","",null,4,null,0,4,366]
[null,null,{"$f":"IFERROR(VLOOKUP(D4389,'1_Causas_Levantadas'!C:D,2,0),\"\")","v":0},"","",null,5,null,0,5,366]
[null,null,{"$f":"IFERROR(VLOOKUP(D4390,'1_Causas_Levantadas'!C:D,2,0),\"\")","v":0},"","",null,6,null,0,6,366]
[null,null,{"$f":"IFERROR(VLOOKUP(D4391,'1_Causas_Levantadas'!C:D,2,0),\"\")","v":0},"","",null,7,null,0,7,366]
[null,null,{"$f":"IFERROR(VLOOKUP(D4392,'1_Causas_Levantadas'!C:D,2,0),\"\")","v":0},"","",null,8,null,0,8,366]
[null,null,{"$f":"IFERROR(VLOOKUP(D4393,'1_Causas_Levantadas'!C:D,2,0),\"\")","v":0},"","",null,9,null,0,9,366]
[null,null,{"$f":"IFERROR(VLOOKUP(D4394,'1_Causas_Levantadas'!C:D,2,0),\"\")","v":0},"","",null,10,null,0,10,366]
[null,null,{"$f":"IFERROR(VLOOKUP(D4395,'1_Causas_Levantadas'!C:D,2,0),\"\")","v":0},"","",null,11,null,0,11,366]
[null,null,{"$f":"IFERROR(VLOOKUP(D4396,'1_Causas_Levantadas'!C:D,2,0),\"\")","v":0},"","",null,12,null,0,12,366]
[null,null,{"$f":"IFERROR(VLOOKUP(D4397,'1_Causas_Levantadas'!C:D,2,0),\"\")","v":0},"","",null,1,null,1,1,367]
[null,null,{"$f":"IFERROR(VLOOKUP(D4398,'1_Causas_Levantadas'!C:D,2,0),\"\")","v":0},"","",null,2,null,0,2,367]
[null,null,{"$f":"IFERROR(VLOOKUP(D4399,'1_Causas_Levantadas'!C:D,2,0),\"\")","v":0},"","",null,3,null,0,3,367]
[null,null,{"$f":"IFERROR(VLOOKUP(D4400,'1_Causas_Levantadas'!C:D,2,0),\"\")","v":0},"","",null,4,null,0,4,367]
[null,null,{"$f":"IFERROR(VLOOKUP(D4401,'1_Causas_Levantadas'!C:D,2,0),\"\")","v":0},"","",null,5,null,0,5,367]
[null,null,{"$f":"IFERROR(VLOOKUP(D4402,'1_Causas_Levantadas'!C:D,2,0),\"\")","v":0},"","",null,6,null,0,6,367]
[null,null,{"$f":"IFERROR(VLOOKUP(D4403,'1_Causas_Levantadas'!C:D,2,0),\"\")","v":0},"","",null,7,null,0,7,367]
[null,null,{"$f":"IFERROR(VLOOKUP(D4404,'1_Causas_Levantadas'!C:D,2,0),\"\")","v":0},"","",null,8,null,0,8,367]
[null,null,{"$f":"IFERROR(VLOOKUP(D4405,'1_Causas_Levantadas'!C:D,2,0),\"\")","v":0},"","",null,9,null,0,9,367]
[null,null,{"$f":"IFERROR(VLOOKUP(D4406,'1_Causas_Levantadas'!C:D,2,0),\"\")","v":0},"","",null,10,null,0,10,367]
[null,null,{"$f":"IFERROR(VLOOKUP(D4407,'1_Causas_Levantadas'!C:D,2,0),\"\")","v":0},"","",null,11,null,0,11,367]
[null,null,{"$f":"IFERROR(VLOOKUP(D4408,'1_Causas_Levantadas'!C:D,2,0),\"\")","v":0},"","",null,12,null,0,12,367]
[null,null,{"$f":"IFERROR(VLOOKUP(D4409,'1_Causas_Levantadas'!C:D,2,0),\"\")","v":0},"","",null,1,null,1,1,368]
[null,null,{"$f":"IFERROR(VLOOKUP(D4410,'1_Causas_Levantadas'!C:D,2,0),\"\")","v":0},"","",null,2,null,0,2,368]
[null,null,{"$f":"IFERROR(VLOOKUP(D4411,'1_Causas_Levantadas'!C:D,2,0),\"\")","v":0},"","",null,3,null,0,3,368]
[null,null,{"$f":"IFERROR(VLOOKUP(D4412,'1_Causas_Levantadas'!C:D,2,0),\"\")","v":0},"","",null,4,null,0,4,368]
[null,null,{"$f":"IFERROR(VLOOKUP(D4413,'1_Causas_Levantadas'!C:D,2,0),\"\")","v":0},"","",null,5,null,0,5,368]
[null,null,{"$f":"IFERROR(VLOOKUP(D4414,'1_Causas_Levantadas'!C:D,2,0),\"\")","v":0},"","",null,6,null,0,6,368]
[null,null,{"$f":"IFERROR(VLOOKUP(D4415,'1_Causas_Levantadas'!C:D,2,0),\"\")","v":0},"","",null,7,null,0,7,368]
[null,null,{"$f":"IFERROR(VLOOKUP(D4416,'1_Causas_Levantadas'!C:D,2,0),\"\")","v":0},"","",null,8,null,0,8,368]
[null,null,{"$f":"IFERROR(VLOOKUP(D4417,'1_Causas_Levantadas'!C:D,2,0),\"\")","v":0},"","",null,9,null,0,9,368]
[null,null,{"$f":"IFERROR(VLOOKUP(D4418,'1_Causas_Levantadas'!C:D,2,0),\"\")","v":0},"","",null,10,null,0,10,368]
[null,null,{"$f":"IFERROR(VLOOKUP(D4419,'1_Causas_Levantadas'!C:D,2,0),\"\")","v":0},"","",null,11,null,0,11,368]
[null,null,{"$f":"IFERROR(VLOOKUP(D4420,'1_Causas_Levantadas'!C:D,2,0),\"\")","v":0},"","",null,12,null,0,12,368]
[null,null,{"$f":"IFERROR(VLOOKUP(D4421,'1_Causas_Levantadas'!C:D,2,0),\"\")","v":0},"","",null,1,null,1,1,369]
[null,null,{"$f":"IFERROR(VLOOKUP(D4422,'1_Causas_Levantadas'!C:D,2,0),\"\")","v":0},{"$f":"IF(K4422<=$H$4,(IF(G4421>0,G4422,$G$5)),\"\")","v":""},{"$f":"IF(D4422<>\"\",\"Participante \"&K4422,\"\")","v":""},null,{"$f":"J4422","v":2},null,{"$f":"IF(G4422=$G$5,1,0)","v":0},2,{"$f":"I4422+K4421","v":369}]
[null,null,{"$f":"IFERROR(VLOOKUP(D4423,'1_Causas_Levantadas'!C:D,2,0),\"\")","v":0},"","",null,3,null,0,{"$f":"IF(G4422<$G$4,J4422+1,1)","v":3},369]
[null,null,{"$f":"IFERROR(VLOOKUP(D4424,'1_Causas_Levantadas'!C:D,2,0),\"\")","v":0},"","",null,4,null,0,4,369]
[null,null,{"$f":"IFERROR(VLOOKUP(D4425,'1_Causas_Levantadas'!C:D,2,0),\"\")","v":0},"","",null,5,null,0,5,369]
[null,null,{"$f":"IFERROR(VLOOKUP(D4426,'1_Causas_Levantadas'!C:D,2,0),\"\")","v":0},"","",null,6,null,0,6,369]
[null,null,{"$f":"IFERROR(VLOOKUP(D4427,'1_Causas_Levantadas'!C:D,2,0),\"\")","v":0},"","",null,7,null,0,7,369]
[null,null,{"$f":"IFERROR(VLOOKUP(D4428,'1_Causas_Levantadas'!C:D,2,0),\"\")","v":0},"","",null,8,null,0,8,369]
[null,null,{"$f":"IFERROR(VLOOKUP(D4429,'1_Causas_Levantadas'!C:D,2,0),\"\")","v":0},"","",null,9,null,0,9,369]
[null,null,{"$f":"IFERROR(VLOOKUP(D4430,'1_Causas_Levantadas'!C:D,2,0),\"\")","v":0},"","",null,10,null,0,10,369]
[null,null,{"$f":"IFERROR(VLOOKUP(D4431,'1_Causas_Levantadas'!C:D,2,0),\"\")","v":0},"","",null,11,null,0,11,369]
[null,null,{"$f":"IFERROR(VLOOKUP(D4432,'1_Causas_Levantadas'!C:D,2,0),\"\")","v":0},"","",null,12,null,0,12,369]
[null,null,{"$f":"IFERROR(VLOOKUP(D4433,'1_Causas_Levantadas'!C:D,2,0),\"\")","v":0},"","",null,1,null,1,1,370]
[null,null,{"$f":"IFERROR(VLOOKUP(D4434,'1_Causas_Levantadas'!C:D,2,0),\"\")","v":0},"","",null,2,null,0,2,370]
[null,null,{"$f":"IFERROR(VLOOKUP(D4435,'1_Causas_Levantadas'!C:D,2,0),\"\")","v":0},"","",null,3,null,0,3,370]
[null,null,{"$f":"IFERROR(VLOOKUP(D4436,'1_Causas_Levantadas'!C:D,2,0),\"\")","v":0},"","",null,4,null,0,4,370]
[null,null,{"$f":"IFERROR(VLOOKUP(D4437,'1_Causas_Levantadas'!C:D,2,0),\"\")","v":0},"","",null,5,null,0,5,370]
[null,null,{"$f":"IFERROR(VLOOKUP(D4438,'1_Causas_Levantadas'!C:D,2,0),\"\")","v":0},"","",null,6,null,0,6,370]
[null,null,{"$f":"IFERROR(VLOOKUP(D4439,'1_Causas_Levantadas'!C:D,2,0),\"\")","v":0},"","",null,7,null,0,7,370]
[null,null,{"$f":"IFERROR(VLOOKUP(D4440,'1_Causas_Levantadas'!C:D,2,0),\"\")","v":0},"","",null,8,null,0,8,370]
[null,null,{"$f":"IFERROR(VLOOKUP(D4441,'1_Causas_Levantadas'!C:D,2,0),\"\")","v":0},"","",null,9,null,0,9,370]
[null,null,{"$f":"IFERROR(VLOOKUP(D4442,'1_Causas_Levantadas'!C:D,2,0),\"\")","v":0},"","",null,10,null,0,10,370]
[null,null,{"$f":"IFERROR(VLOOKUP(D4443,'1_Causas_Levantadas'!C:D,2,0),\"\")","v":0},"","",null,11,null,0,11,370]
[null,null,{"$f":"IFERROR(VLOOKUP(D4444,'1_Causas_Levantadas'!C:D,2,0),\"\")","v":0},"","",null,12,null,0,12,370]
[null,null,{"$f":"IFERROR(VLOOKUP(D4445,'1_Causas_Levantadas'!C:D,2,0),\"\")","v":0},"","",null,1,null,1,1,371]
[null,null,{"$f":"IFERROR(VLOOKUP(D4446,'1_Causas_Levantadas'!C:D,2,0),\"\")","v":0},"","",null,2,null,0,2,371]
[null,null,{"$f":"IFERROR(VLOOKUP(D4447,'1_Causas_Levantadas'!C:D,2,0),\"\")","v":0},"","",null,3,null,0,3,371]
[null,null,{"$f":"IFERROR(VLOOKUP(D4448,'1_Causas_Levantadas'!C:D,2,0),\"\")","v":0},"","",null,4,null,0,4,371]
[null,null,{"$f":"IFERROR(VLOOKUP(D4449,'1_Causas_Levantadas'!C:D,2,0),\"\")","v":0},"","",null,5,null,0,5,371]
[null,null,{"$f":"IFERROR(VLOOKUP(D4450,'1_Causas_Levantadas'!C:D,2,0),\"\")","v":0},"","",null,6,null,0,6,371]
[null,null,{"$f":"IFERROR(VLOOKUP(D4451,'1_Causas_Levantadas'!C:D,2,0),\"\")","v":0},"","",null,7,null,0,7,371]
[null,null,{"$f":"IFERROR(VLOOKUP(D4452,'1_Causas_Levantadas'!C:D,2,0),\"\")","v":0},"","",null,8,null,0,8,371]
[null,null,{"$f":"IFERROR(VLOOKUP(D4453,'1_Causas_Levantadas'!C:D,2,0),\"\")","v":0},"","",null,9,null,0,9,371]
[null,null,{"$f":"IFERROR(VLOOKUP(D4454,'1_Causas_Levantadas'!C:D,2,0),\"\")","v":0},"","",null,10,null,0,10,371]
[null,null,{"$f":"IFERROR(VLOOKUP(D4455,'1_Causas_Levantadas'!C:D,2,0),\"\")","v":0},"","",null,11,null,0,11,371]
[null,null,{"$f":"IFERROR(VLOOKUP(D4456,'1_Causas_Levantadas'!C:D,2,0),\"\")","v":0},"","",null,12,null,0,12,371]
[null,null,{"$f":"IFERROR(VLOOKUP(D4457,'1_Causas_Levantadas'!C:D,2,0),\"\")","v":0},"","",null,1,null,1,1,372]
[null,null,{"$f":"IFERROR(VLOOKUP(D4458,'1_Causas_Levantadas'!C:D,2,0),\"\")","v":0},"","",null,2,null,0,2,372]
[null,null,{"$f":"IFERROR(VLOOKUP(D4459,'1_Causas_Levantadas'!C:D,2,0),\"\")","v":0},"","",null,3,null,0,3,372]
[null,null,{"$f":"IFERROR(VLOOKUP(D4460,'1_Causas_Levantadas'!C:D,2,0),\"\")","v":0},"","",null,4,null,0,4,372]
[null,null,{"$f":"IFERROR(VLOOKUP(D4461,'1_Causas_Levantadas'!C:D,2,0),\"\")","v":0},"","",null,5,null,0,5,372]
[null,null,{"$f":"IFERROR(VLOOKUP(D4462,'1_Causas_Levantadas'!C:D,2,0),\"\")","v":0},"","",null,6,null,0,6,372]
[null,null,{"$f":"IFERROR(VLOOKUP(D4463,'1_Causas_Levantadas'!C:D,2,0),\"\")","v":0},"","",null,7,null,0,7,372]
[null,null,{"$f":"IFERROR(VLOOKUP(D4464,'1_Causas_Levantadas'!C:D,2,0),\"\")","v":0},"","",null,8,null,0,8,372]
[null,null,{"$f":"IFERROR(VLOOKUP(D4465,'1_Causas_Levantadas'!C:D,2,0),\"\")","v":0},"","",null,9,null,0,9,372]
[null,null,{"$f":"IFERROR(VLOOKUP(D4466,'1_Causas_Levantadas'!C:D,2,0),\"\")","v":0},"","",null,10,null,0,10,372]
[null,null,{"$f":"IFERROR(VLOOKUP(D4467,'1_Causas_Levantadas'!C:D,2,0),\"\")","v":0},"","",null,11,null,0,11,372]
[null,null,{"$f":"IFERROR(VLOOKUP(D4468,'1_Causas_Levantadas'!C:D,2,0),\"\")","v":0},"","",null,12,null,0,12,372]
[null,null,{"$f":"IFERROR(VLOOKUP(D4469,'1_Causas_Levantadas'!C:D,2,0),\"\")","v":0},"","",null,1,null,1,1,373]
[null,null,{"$f":"IFERROR(VLOOKUP(D4470,'1_Causas_Levantadas'!C:D,2,0),\"\")","v":0},"","",null,2,null,0,2,373]
[null,null,{"$f":"IFERROR(VLOOKUP(D4471,'1_Causas_Levantadas'!C:D,2,0),\"\")","v":0},"","",null,3,null,0,3,373]
[null,null,{"$f":"IFERROR(VLOOKUP(D4472,'1_Causas_Levantadas'!C:D,2,0),\"\")","v":0},"","",null,4,null,0,4,373]
[null,null,{"$f":"IFERROR(VLOOKUP(D4473,'1_Causas_Levantadas'!C:D,2,0),\"\")","v":0},"","",null,5,null,0,5,373]
[null,null,{"$f":"IFERROR(VLOOKUP(D4474,'1_Causas_Levantadas'!C:D,2,0),\"\")","v":0},"","",null,6,null,0,6,373]
[null,null,{"$f":"IFERROR(VLOOKUP(D4475,'1_Causas_Levantadas'!C:D,2,0),\"\")","v":0},"","",null,7,null,0,7,373]
[null,null,{"$f":"IFERROR(VLOOKUP(D4476,'1_Causas_Levantadas'!C:D,2,0),\"\")","v":0},"","",null,8,null,0,8,373]
[null,null,{"$f":"IFERROR(VLOOKUP(D4477,'1_Causas_Levantadas'!C:D,2,0),\"\")","v":0},"","",null,9,null,0,9,373]
[null,null,{"$f":"IFERROR(VLOOKUP(D4478,'1_Causas_Levantadas'!C:D,2,0),\"\")","v":0},"","",null,10,null,0,10,373]
[null,null,{"$f":"IFERROR(VLOOKUP(D4479,'1_Causas_Levantadas'!C:D,2,0),\"\")","v":0},"","",null,11,null,0,11,373]
[null,null,{"$f":"IFERROR(VLOOKUP(D4480,'1_Causas_Levantadas'!C:D,2,0),\"\")","v":0},"","",null,12,null,0,12,373]
[null,null,{"$f":"IFERROR(VLOOKUP(D4481,'1_Causas_Levantadas'!C:D,2,0),\"\")","v":0},"","",null,1,null,1,1,374]
[null,null,{"$f":"IFERROR(VLOOKUP(D4482,'1_Causas_Levantadas'!C:D,2,0),\"\")","v":0},"","",null,2,null,0,2,374]
[null,null,{"$f":"IFERROR(VLOOKUP(D4483,'1_Causas_Levantadas'!C:D,2,0),\"\")","v":0},"","",null,3,null,0,3,374]
[null,null,{"$f":"IFERROR(VLOOKUP(D4484,'1_Causas_Levantadas'!C:D,2,0),\"\")","v":0},"","",null,4,null,0,4,374]
[null,null,{"$f":"IFERROR(VLOOKUP(D4485,'1_Causas_Levantadas'!C:D,2,0),\"\")","v":0},"","",null,5,null,0,5,374]
[null,null,{"$f":"IFERROR(VLOOKUP(D4486,'1_Causas_Levantadas'!C:D,2,0),\"\")","v":0},{"$f":"IF(K4486<=$H$4,(IF(G4485>0,G4486,$G$5)),\"\")","v":""},{"$f":"IF(D4486<>\"\",\"Participante \"&K4486,\"\")","v":""},null,{"$f":"J4486","v":6},null,{"$f":"IF(G4486=$G$5,1,0)","v":0},6,{"$f":"I4486+K4485","v":374}]
[null,null,{"$f":"IFERROR(VLOOKUP(D4487,'1_Causas_Levantadas'!C:D,2,0),\"\")","v":0},"","",null,7,null,0,{"$f":"IF(G4486<$G$4,J4486+1,1)","v":7},374]
[null,null,{"$f":"IFERROR(VLOOKUP(D4488,'1_Causas_Levantadas'!C:D,2,0),\"\")","v":0},"","",null,8,null,0,8,374]
[null,null,{"$f":"IFERROR(VLOOKUP(D4489,'1_Causas_Levantadas'!C:D,2,0),\"\")","v":0},"","",null,9,null,0,9,374]
[null,null,{"$f":"IFERROR(VLOOKUP(D4490,'1_Causas_Levantadas'!C:D,2,0),\"\")","v":0},"","",null,10,null,0,10,374]
[null,null,{"$f":"IFERROR(VLOOKUP(D4491,'1_Causas_Levantadas'!C:D,2,0),\"\")","v":0},"","",null,11,null,0,11,374]
[null,null,{"$f":"IFERROR(VLOOKUP(D4492,'1_Causas_Levantadas'!C:D,2,0),\"\")","v":0},"","",null,12,null,0,12,374]
[null,null,{"$f":"IFERROR(VLOOKUP(D4493,'1_Causas_Levantadas'!C:D,2,0),\"\")","v":0},"","",null,1,null,1,1,375]
[null,null,{"$f":"IFERROR(VLOOKUP(D4494,'1_Causas_Levantadas'!C:D,2,0),\"\")","v":0},"","",null,2,null,0,2,375]
[null,null,{"$f":"IFERROR(VLOOKUP(D4495,'1_Causas_Levantadas'!C:D,2,0),\"\")","v":0},"","",null,3,null,0,3,375]
[null,null,{"$f":"IFERROR(VLOOKUP(D4496,'1_Causas_Levantadas'!C:D,2,0),\"\")","v":0},"","",null,4,null,0,4,375]
[null,null,{"$f":"IFERROR(VLOOKUP(D4497,'1_Causas_Levantadas'!C:D,2,0),\"\")","v":0},"","",null,5,null,0,5,375]
[null,null,{"$f":"IFERROR(VLOOKUP(D4498,'1_Causas_Levantadas'!C:D,2,0),\"\")","v":0},"","",null,6,null,0,6,375]
[null,null,{"$f":"IFERROR(VLOOKUP(D4499,'1_Causas_Levantadas'!C:D,2,0),\"\")","v":0},"","",null,7,null,0,7,375]
[null,null,{"$f":"IFERROR(VLOOKUP(D4500,'1_Causas_Levantadas'!C:D,2,0),\"\")","v":0},"","",null,8,null,0,8,375]
[null,null,{"$f":"IFERROR(VLOOKUP(D4501,'1_Causas_Levantadas'!C:D,2,0),\"\")","v":0},"","",null,9,null,0,9,375]
[null,null,{"$f":"IFERROR(VLOOKUP(D4502,'1_Causas_Levantadas'!C:D,2,0),\"\")","v":0},"","",null,10,null,0,10,375]
[null,null,{"$f":"IFERROR(VLOOKUP(D4503,'1_Causas_Levantadas'!C:D,2,0),\"\")","v":0},"","",null,11,null,0,11,375]
[null,null,{"$f":"IFERROR(VLOOKUP(D4504,'1_Causas_Levantadas'!C:D,2,0),\"\")","v":0},"","",null,12,null,0,12,375]
[null,null,{"$f":"IFERROR(VLOOKUP(D4505,'1_Causas_Levantadas'!C:D,2,0),\"\")","v":0},"","",null,1,null,1,1,376]
[null,null,{"$f":"IFERROR(VLOOKUP(D4506,'1_Causas_Levantadas'!C:D,2,0),\"\")","v":0},"","",null,2,null,0,2,376]
[null,null,{"$f":"IFERROR(VLOOKUP(D4507,'1_Causas_Levantadas'!C:D,2,0),\"\")","v":0},"","",null,3,null,0,3,376]
[null,null,{"$f":"IFERROR(VLOOKUP(D4508,'1_Causas_Levantadas'!C:D,2,0),\"\")","v":0},"","",null,4,null,0,4,376]
[null,null,{"$f":"IFERROR(VLOOKUP(D4509,'1_Causas_Levantadas'!C:D,2,0),\"\")","v":0},"","",null,5,null,0,5,376]
[null,null,{"$f":"IFERROR(VLOOKUP(D4510,'1_Causas_Levantadas'!C:D,2,0),\"\")","v":0},"","",null,6,null,0,6,376]
[null,null,{"$f":"IFERROR(VLOOKUP(D4511,'1_Causas_Levantadas'!C:D,2,0),\"\")","v":0},"","",null,7,null,0,7,376]
[null,null,{"$f":"IFERROR(VLOOKUP(D4512,'1_Causas_Levantadas'!C:D,2,0),\"\")","v":0},"","",null,8,null,0,8,376]
[null,null,{"$f":"IFERROR(VLOOKUP(D4513,'1_Causas_Levantadas'!C:D,2,0),\"\")","v":0},"","",null,9,null,0,9,376]
[null,null,{"$f":"IFERROR(VLOOKUP(D4514,'1_Causas_Levantadas'!C:D,2,0),\"\")","v":0},"","",null,10,null,0,10,376]
[null,null,{"$f":"IFERROR(VLOOKUP(D4515,'1_Causas_Levantadas'!C:D,2,0),\"\")","v":0},"","",null,11,null,0,11,376]
[null,null,{"$f":"IFERROR(VLOOKUP(D4516,'1_Causas_Levantadas'!C:D,2,0),\"\")","v":0},"","",null,12,null,0,12,376]
[null,null,{"$f":"IFERROR(VLOOKUP(D4517,'1_Causas_Levantadas'!C:D,2,0),\"\")","v":0},"","",null,1,null,1,1,377]
[null,null,{"$f":"IFERROR(VLOOKUP(D4518,'1_Causas_Levantadas'!C:D,2,0),\"\")","v":0},"","",null,2,null,0,2,377]
[null,null,{"$f":"IFERROR(VLOOKUP(D4519,'1_Causas_Levantadas'!C:D,2,0),\"\")","v":0},"","",null,3,null,0,3,377]
[null,null,{"$f":"IFERROR(VLOOKUP(D4520,'1_Causas_Levantadas'!C:D,2,0),\"\")","v":0},"","",null,4,null,0,4,377]
[null,null,{"$f":"IFERROR(VLOOKUP(D4521,'1_Causas_Levantadas'!C:D,2,0),\"\")","v":0},"","",null,5,null,0,5,377]
[null,null,{"$f":"IFERROR(VLOOKUP(D4522,'1_Causas_Levantadas'!C:D,2,0),\"\")","v":0},"","",null,6,null,0,6,377]
[null,null,{"$f":"IFERROR(VLOOKUP(D4523,'1_Causas_Levantadas'!C:D,2,0),\"\")","v":0},"","",null,7,null,0,7,377]
[null,null,{"$f":"IFERROR(VLOOKUP(D4524,'1_Causas_Levantadas'!C:D,2,0),\"\")","v":0},"","",null,8,null,0,8,377]
[null,null,{"$f":"IFERROR(VLOOKUP(D4525,'1_Causas_Levantadas'!C:D,2,0),\"\")","v":0},"","",null,9,null,0,9,377]
[null,null,{"$f":"IFERROR(VLOOKUP(D4526,'1_Causas_Levantadas'!C:D,2,0),\"\")","v":0},"","",null,10,null,0,10,377]
[null,null,{"$f":"IFERROR(VLOOKUP(D4527,'1_Causas_Levantadas'!C:D,2,0),\"\")","v":0},"","",null,11,null,0,11,377]
[null,null,{"$f":"IFERROR(VLOOKUP(D4528,'1_Causas_Levantadas'!C:D,2,0),\"\")","v":0},"","",null,12,null,0,12,377]
[null,null,{"$f":"IFERROR(VLOOKUP(D4529,'1_Causas_Levantadas'!C:D,2,0),\"\")","v":0},"","",null,1,null,1,1,378]
[null,null,{"$f":"IFERROR(VLOOKUP(D4530,'1_Causas_Levantadas'!C:D,2,0),\"\")","v":0},"","",null,2,null,0,2,378]
[null,null,{"$f":"IFERROR(VLOOKUP(D4531,'1_Causas_Levantadas'!C:D,2,0),\"\")","v":0},"","",null,3,null,0,3,378]
[null,null,{"$f":"IFERROR(VLOOKUP(D4532,'1_Causas_Levantadas'!C:D,2,0),\"\")","v":0},"","",null,4,null,0,4,378]
[null,null,{"$f":"IFERROR(VLOOKUP(D4533,'1_Causas_Levantadas'!C:D,2,0),\"\")","v":0},"","",null,5,null,0,5,378]
[null,null,{"$f":"IFERROR(VLOOKUP(D4534,'1_Causas_Levantadas'!C:D,2,0),\"\")","v":0},"","",null,6,null,0,6,378]
[null,null,{"$f":"IFERROR(VLOOKUP(D4535,'1_Causas_Levantadas'!C:D,2,0),\"\")","v":0},"","",null,7,null,0,7,378]
[null,null,{"$f":"IFERROR(VLOOKUP(D4536,'1_Causas_Levantadas'!C:D,2,0),\"\")","v":0},"","",null,8,null,0,8,378]
[null,null,{"$f":"IFERROR(VLOOKUP(D4537,'1_Causas_Levantadas'!C:D,2,0),\"\")","v":0},"","",null,9,null,0,9,378]
[null,null,{"$f":"IFERROR(VLOOKUP(D4538,'1_Causas_Levantadas'!C:D,2,0),\"\")","v":0},"","",null,10,null,0,10,378]
[null,null,{"$f":"IFERROR(VLOOKUP(D4539,'1_Causas_Levantadas'!C:D,2,0),\"\")","v":0},"","",null,11,null,0,11,378]
[null,null,{"$f":"IFERROR(VLOOKUP(D4540,'1_Causas_Levantadas'!C:D,2,0),\"\")","v":0},"","",null,12,null,0,12,378]
[null,null,{"$f":"IFERROR(VLOOKUP(D4541,'1_Causas_Levantadas'!C:D,2,0),\"\")","v":0},"","",null,1,null,1,1,379]
[null,null,{"$f":"IFERROR(VLOOKUP(D4542,'1_Causas_Levantadas'!C:D,2,0),\"\")","v":0},"","",null,2,null,0,2,379]
[null,null,{"$f":"IFERROR(VLOOKUP(D4543,'1_Causas_Levantadas'!C:D,2,0),\"\")","v":0},"","",null,3,null,0,3,379]
[null,null,{"$f":"IFERROR(VLOOKUP(D4544,'1_Causas_Levantadas'!C:D,2,0),\"\")","v":0},"","",null,4,null,0,4,379]
[null,null,{"$f":"IFERROR(VLOOKUP(D4545,'1_Causas_Levantadas'!C:D,2,0),\"\")","v":0},"","",null,5,null,0,5,379]
[null,null,{"$f":"IFERROR(VLOOKUP(D4546,'1_Causas_Levantadas'!C:D,2,0),\"\")","v":0},"","",null,6,null,0,6,379]
[null,null,{"$f":"IFERROR(VLOOKUP(D4547,'1_Causas_Levantadas'!C:D,2,0),\"\")","v":0},"","",null,7,null,0,7,379]
[null,null,{"$f":"IFERROR(VLOOKUP(D4548,'1_Causas_Levantadas'!C:D,2,0),\"\")","v":0},"","",null,8,null,0,8,379]
[null,null,{"$f":"IFERROR(VLOOKUP(D4549,'1_Causas_Levantadas'!C:D,2,0),\"\")","v":0},"","",null,9,null,0,9,379]
[null,null,{"$f":"IFERROR(VLOOKUP(D4550,'1_Causas_Levantadas'!C:D,2,0),\"\")","v":0},{"$f":"IF(K4550<=$H$4,(IF(G4549>0,G4550,$G$5)),\"\")","v":""},{"$f":"IF(D4550<>\"\",\"Participante \"&K4550,\"\")","v":""},null,{"$f":"J4550","v":10},null,{"$f":"IF(G4550=$G$5,1,0)","v":0},10,{"$f":"I4550+K4549","v":379}]
[null,null,{"$f":"IFERROR(VLOOKUP(D4551,'1_Causas_Levantadas'!C:D,2,0),\"\")","v":0},"","",null,11,null,0,{"$f":"IF(G4550<$G$4,J4550+1,1)","v":11},379]
[null,null,{"$f":"IFERROR(VLOOKUP(D4552,'1_Causas_Levantadas'!C:D,2,0),\"\")","v":0},"","",null,12,null,0,12,379]
[null,null,{"$f":"IFERROR(VLOOKUP(D4553,'1_Causas_Levantadas'!C:D,2,0),\"\")","v":0},"","",null,1,null,1,1,380]
[null,null,{"$f":"IFERROR(VLOOKUP(D4554,'1_Causas_Levantadas'!C:D,2,0),\"\")","v":0},"","",null,2,null,0,2,380]
[null,null,{"$f":"IFERROR(VLOOKUP(D4555,'1_Causas_Levantadas'!C:D,2,0),\"\")","v":0},"","",null,3,null,0,3,380]
[null,null,{"$f":"IFERROR(VLOOKUP(D4556,'1_Causas_Levantadas'!C:D,2,0),\"\")","v":0},"","",null,4,null,0,4,380]
[null,null,{"$f":"IFERROR(VLOOKUP(D4557,'1_Causas_Levantadas'!C:D,2,0),\"\")","v":0},"","",null,5,null,0,5,380]
[null,null,{"$f":"IFERROR(VLOOKUP(D4558,'1_Causas_Levantadas'!C:D,2,0),\"\")","v":0},"","",null,6,null,0,6,380]
[null,null,{"$f":"IFERROR(VLOOKUP(D4559,'1_Causas_Levantadas'!C:D,2,0),\"\")","v":0},"","",null,7,null,0,7,380]
[null,null,{"$f":"IFERROR(VLOOKUP(D4560,'1_Causas_Levantadas'!C:D,2,0),\"\")","v":0},"","",null,8,null,0,8,380]
[null,null,{"$f":"IFERROR(VLOOKUP(D4561,'1_Causas_Levantadas'!C:D,2,0),\"\")","v":0},"","",null,9,null,0,9,380]
[null,null,{"$f":"IFERROR(VLOOKUP(D4562,'1_Causas_Levantadas'!C:D,2,0),\"\")","v":0},"","",null,10,null,0,10,380]
[null,null,{"$f":"IFERROR(VLOOKUP(D4563,'1_Causas_Levantadas'!C:D,2,0),\"\")","v":0},"","",null,11,null,0,11,380]
[null,null,{"$f":"IFERROR(VLOOKUP(D4564,'1_Causas_Levantadas'!C:D,2,0),\"\")","v":0},"","",null,12,null,0,12,380]
[null,null,{"$f":"IFERROR(VLOOKUP(D4565,'1_Causas_Levantadas'!C:D,2,0),\"\")","v":0},"","",null,1,null,1,1,381]
[null,null,{"$f":"IFERROR(VLOOKUP(D4566,'1_Causas_Levantadas'!C:D,2,0),\"\")","v":0},"","",null,2,null,0,2,381]
[null,null,{"$f":"IFERROR(VLOOKUP(D4567,'1_Causas_Levantadas'!C:D,2,0),\"\")","v":0},"","",null,3,null,0,3,381]
[null,null,{"$f":"IFERROR(VLOOKUP(D4568,'1_Causas_Levantadas'!C:D,2,0),\"\")","v":0},"","",null,4,null,0,4,381]
[null,null,{"$f":"IFERROR(VLOOKUP(D4569,'1_Causas_Levantadas'!C:D,2,0),\"\")","v":0},"","",null,5,null,0,5,381]
[null,null,{"$f":"IFERROR(VLOOKUP(D4570,'1_Causas_Levantadas'!C:D,2,0),\"\")","v":0},"","",null,6,null,0,6,381]
[null,null,{"$f":"IFERROR(VLOOKUP(D4571,'1_Causas_Levantadas'!C:D,2,0),\"\")","v":0},"","",null,7,null,0,7,381]
[null,null,{"$f":"IFERROR(VLOOKUP(D4572,'1_Causas_Levantadas'!C:D,2,0),\"\")","v":0},"","",null,8,null,0,8,381]
[null,null,{"$f":"IFERROR(VLOOKUP(D4573,'1_Causas_Levantadas'!C:D,2,0),\"\")","v":0},"","",null,9,null,0,9,381]
[null,null,{"$f":"IFERROR(VLOOKUP(D4574,'1_Causas_Levantadas'!C:D,2,0),\"\")","v":0},"","",null,10,null,0,10,381]
[null,null,{"$f":"IFERROR(VLOOKUP(D4575,'1_Causas_Levantadas'!C:D,2,0),\"\")","v":0},"","",null,11,null,0,11,381]
[null,null,{"$f":"IFERROR(VLOOKUP(D4576,'1_Causas_Levantadas'!C:D,2,0),\"\")","v":0},"","",null,12,null,0,12,381]
[null,null,{"$f":"IFERROR(VLOOKUP(D4577,'1_Causas_Levantadas'!C:D,2,0),\"\")","v":0},"","",null,1,null,1,1,382]
[null,null,{"$f":"IFERROR(VLOOKUP(D4578,'1_Causas_Levantadas'!C:D,2,0),\"\")","v":0},"","",null,2,null,0,2,382]
[null,null,{"$f":"IFERROR(VLOOKUP(D4579,'1_Causas_Levantadas'!C:D,2,0),\"\")","v":0},"","",null,3,null,0,3,382]
[null,null,{"$f":"IFERROR(VLOOKUP(D4580,'1_Causas_Levantadas'!C:D,2,0),\"\")","v":0},"","",null,4,null,0,4,382]
[null,null,{"$f":"IFERROR(VLOOKUP(D4581,'1_Causas_Levantadas'!C:D,2,0),\"\")","v":0},"","",null,5,null,0,5,382]
[null,null,{"$f":"IFERROR(VLOOKUP(D4582,'1_Causas_Levantadas'!C:D,2,0),\"\")","v":0},"","",null,6,null,0,6,382]
[null,null,{"$f":"IFERROR(VLOOKUP(D4583,'1_Causas_Levantadas'!C:D,2,0),\"\")","v":0},"","",null,7,null,0,7,382]
[null,null,{"$f":"IFERROR(VLOOKUP(D4584,'1_Causas_Levantadas'!C:D,2,0),\"\")","v":0},"","",null,8,null,0,8,382]
[null,null,{"$f":"IFERROR(VLOOKUP(D4585,'1_Causas_Levantadas'!C:D,2,0),\"\")","v":0},"","",null,9,null,0,9,382]
[null,null,{"$f":"IFERROR(VLOOKUP(D4586,'1_Causas_Levantadas'!C:D,2,0),\"\")","v":0},"","",null,10,null,0,10,382]
[null,null,{"$f":"IFERROR(VLOOKUP(D4587,'1_Causas_Levantadas'!C:D,2,0),\"\")","v":0},"","",null,11,null,0,11,382]
[null,null,{"$f":"IFERROR(VLOOKUP(D4588,'1_Causas_Levantadas'!C:D,2,0),\"\")","v":0},"","",null,12,null,0,12,382]
[null,null,{"$f":"IFERROR(VLOOKUP(D4589,'1_Causas_Levantadas'!C:D,2,0),\"\")","v":0},"","",null,1,null,1,1,383]
[null,null,{"$f":"IFERROR(VLOOKUP(D4590,'1_Causas_Levantadas'!C:D,2,0),\"\")","v":0},"","",null,2,null,0,2,383]
[null,null,{"$f":"IFERROR(VLOOKUP(D4591,'1_Causas_Levantadas'!C:D,2,0),\"\")","v":0},"","",null,3,null,0,3,383]
[null,null,{"$f":"IFERROR(VLOOKUP(D4592,'1_Causas_Levantadas'!C:D,2,0),\"\")","v":0},"","",null,4,null,0,4,383]
[null,null,{"$f":"IFERROR(VLOOKUP(D4593,'1_Causas_Levantadas'!C:D,2,0),\"\")","v":0},"","",null,5,null,0,5,383]
[null,null,{"$f":"IFERROR(VLOOKUP(D4594,'1_Causas_Levantadas'!C:D,2,0),\"\")","v":0},"","",null,6,null,0,6,383]
[null,null,{"$f":"IFERROR(VLOOKUP(D4595,'1_Causas_Levantadas'!C:D,2,0),\"\")","v":0},"","",null,7,null,0,7,383]
[null,null,{"$f":"IFERROR(VLOOKUP(D4596,'1_Causas_Levantadas'!C:D,2,0),\"\")","v":0},"","",null,8,null,0,8,383]
[null,null,{"$f":"IFERROR(VLOOKUP(D4597,'1_Causas_Levantadas'!C:D,2,0),\"\")","v":0},"","",null,9,null,0,9,383]
[null,null,{"$f":"IFERROR(VLOOKUP(D4598,'1_Causas_Levantadas'!C:D,2,0),\"\")","v":0},"","",null,10,null,0,10,383]
[null,null,{"$f":"IFERROR(VLOOKUP(D4599,'1_Causas_Levantadas'!C:D,2,0),\"\")","v":0},"","",null,11,null,0,11,383]
[null,null,{"$f":"IFERROR(VLOOKUP(D4600,'1_Causas_Levantadas'!C:D,2,0),\"\")","v":0},"","",null,12,null,0,12,383]
[null,null,{"$f":"IFERROR(VLOOKUP(D4601,'1_Causas_Levantadas'!C:D,2,0),\"\")","v":0},"","",null,1,null,1,1,384]
[null,null,{"$f":"IFERROR(VLOOKUP(D4602,'1_Causas_Levantadas'!C:D,2,0),\"\")","v":0},"","",null,2,null,0,2,384]
[null,null,{"$f":"IFERROR(VLOOKUP(D4603,'1_Causas_Levantadas'!C:D,2,0),\"\")","v":0},"","",null,3,null,0,3,384]
[null,null,{"$f":"IFERROR(VLOOKUP(D4604,'1_Causas_Levantadas'!C:D,2,0),\"\")","v":0},"","",null,4,null,0,4,384]
[null,null,{"$f":"IFERROR(VLOOKUP(D4605,'1_Causas_Levantadas'!C:D,2,0),\"\")","v":0},"","",null,5,null,0,5,384]
[null,null,{"$f":"IFERROR(VLOOKUP(D4606,'1_Causas_Levantadas'!C:D,2,0),\"\")","v":0},"","",null,6,null,0,6,384]
[null,null,{"$f":"IFERROR(VLOOKUP(D4607,'1_Causas_Levantadas'!C:D,2,0),\"\")","v":0},"","",null,7,null,0,7,384]
[null,null,{"$f":"IFERROR(VLOOKUP(D4608,'1_Causas_Levantadas'!C:D,2,0),\"\")","v":0},"","",null,8,null,0,8,384]
[null,null,{"$f":"IFERROR(VLOOKUP(D4609,'1_Causas_Levantadas'!C:D,2,0),\"\")","v":0},"","",null,9,null,0,9,384]
[null,null,{"$f":"IFERROR(VLOOKUP(D4610,'1_Causas_Levantadas'!C:D,2,0),\"\")","v":0},"","",null,10,null,0,10,384]
[null,null,{"$f":"IFERROR(VLOOKUP(D4611,'1_Causas_Levantadas'!C:D,2,0),\"\")","v":0},"","",null,11,null,0,11,384]
[null,null,{"$f":"IFERROR(VLOOKUP(D4612,'1_Causas_Levantadas'!C:D,2,0),\"\")","v":0},"","",null,12,null,0,12,384]
[null,null,{"$f":"IFERROR(VLOOKUP(D4613,'1_Causas_Levantadas'!C:D,2,0),\"\")","v":0},"","",null,1,null,1,1,385]
[null,null,{"$f":"IFERROR(VLOOKUP(D4614,'1_Causas_Levantadas'!C:D,2,0),\"\")","v":0},{"$f":"IF(K4614<=$H$4,(IF(G4613>0,G4614,$G$5)),\"\")","v":""},{"$f":"IF(D4614<>\"\",\"Participante \"&K4614,\"\")","v":""},null,{"$f":"J4614","v":2},null,{"$f":"IF(G4614=$G$5,1,0)","v":0},2,{"$f":"I4614+K4613","v":385}]
[null,null,{"$f":"IFERROR(VLOOKUP(D4615,'1_Causas_Levantadas'!C:D,2,0),\"\")","v":0},"","",null,3,null,0,{"$f":"IF(G4614<$G$4,J4614+1,1)","v":3},385]
[null,null,{"$f":"IFERROR(VLOOKUP(D4616,'1_Causas_Levantadas'!C:D,2,0),\"\")","v":0},"","",null,4,null,0,4,385]
[null,null,{"$f":"IFERROR(VLOOKUP(D4617,'1_Causas_Levantadas'!C:D,2,0),\"\")","v":0},"","",null,5,null,0,5,385]
[null,null,{"$f":"IFERROR(VLOOKUP(D4618,'1_Causas_Levantadas'!C:D,2,0),\"\")","v":0},"","",null,6,null,0,6,385]
[null,null,{"$f":"IFERROR(VLOOKUP(D4619,'1_Causas_Levantadas'!C:D,2,0),\"\")","v":0},"","",null,7,null,0,7,385]
[null,null,{"$f":"IFERROR(VLOOKUP(D4620,'1_Causas_Levantadas'!C:D,2,0),\"\")","v":0},"","",null,8,null,0,8,385]
[null,null,{"$f":"IFERROR(VLOOKUP(D4621,'1_Causas_Levantadas'!C:D,2,0),\"\")","v":0},"","",null,9,null,0,9,385]
[null,null,{"$f":"IFERROR(VLOOKUP(D4622,'1_Causas_Levantadas'!C:D,2,0),\"\")","v":0},"","",null,10,null,0,10,385]
[null,null,{"$f":"IFERROR(VLOOKUP(D4623,'1_Causas_Levantadas'!C:D,2,0),\"\")","v":0},"","",null,11,null,0,11,385]
[null,null,{"$f":"IFERROR(VLOOKUP(D4624,'1_Causas_Levantadas'!C:D,2,0),\"\")","v":0},"","",null,12,null,0,12,385]
[null,null,{"$f":"IFERROR(VLOOKUP(D4625,'1_Causas_Levantadas'!C:D,2,0),\"\")","v":0},"","",null,1,null,1,1,386]
[null,null,{"$f":"IFERROR(VLOOKUP(D4626,'1_Causas_Levantadas'!C:D,2,0),\"\")","v":0},"","",null,2,null,0,2,386]
[null,null,{"$f":"IFERROR(VLOOKUP(D4627,'1_Causas_Levantadas'!C:D,2,0),\"\")","v":0},"","",null,3,null,0,3,386]
[null,null,{"$f":"IFERROR(VLOOKUP(D4628,'1_Causas_Levantadas'!C:D,2,0),\"\")","v":0},"","",null,4,null,0,4,386]
[null,null,{"$f":"IFERROR(VLOOKUP(D4629,'1_Causas_Levantadas'!C:D,2,0),\"\")","v":0},"","",null,5,null,0,5,386]
[null,null,{"$f":"IFERROR(VLOOKUP(D4630,'1_Causas_Levantadas'!C:D,2,0),\"\")","v":0},"","",null,6,null,0,6,386]
[null,null,{"$f":"IFERROR(VLOOKUP(D4631,'1_Causas_Levantadas'!C:D,2,0),\"\")","v":0},"","",null,7,null,0,7,386]
[null,null,{"$f":"IFERROR(VLOOKUP(D4632,'1_Causas_Levantadas'!C:D,2,0),\"\")","v":0},"","",null,8,null,0,8,386]
[null,null,{"$f":"IFERROR(VLOOKUP(D4633,'1_Causas_Levantadas'!C:D,2,0),\"\")","v":0},"","",null,9,null,0,9,386]
[null,null,{"$f":"IFERROR(VLOOKUP(D4634,'1_Causas_Levantadas'!C:D,2,0),\"\")","v":0},"","",null,10,null,0,10,386]
[null,null,{"$f":"IFERROR(VLOOKUP(D4635,'1_Causas_Levantadas'!C:D,2,0),\"\")","v":0},"","",null,11,null,0,11,386]
[null,null,{"$f":"IFERROR(VLOOKUP(D4636,'1_Causas_Levantadas'!C:D,2,0),\"\")","v":0},"","",null,12,null,0,12,386]
[null,null,{"$f":"IFERROR(VLOOKUP(D4637,'1_Causas_Levantadas'!C:D,2,0),\"\")","v":0},"","",null,1,null,1,1,387]
[null,null,{"$f":"IFERROR(VLOOKUP(D4638,'1_Causas_Levantadas'!C:D,2,0),\"\")","v":0},"","",null,2,null,0,2,387]
[null,null,{"$f":"IFERROR(VLOOKUP(D4639,'1_Causas_Levantadas'!C:D,2,0),\"\")","v":0},"","",null,3,null,0,3,387]
[null,null,{"$f":"IFERROR(VLOOKUP(D4640,'1_Causas_Levantadas'!C:D,2,0),\"\")","v":0},"","",null,4,null,0,4,387]
[null,null,{"$f":"IFERROR(VLOOKUP(D4641,'1_Causas_Levantadas'!C:D,2,0),\"\")","v":0},"","",null,5,null,0,5,387]
[null,null,{"$f":"IFERROR(VLOOKUP(D4642,'1_Causas_Levantadas'!C:D,2,0),\"\")","v":0},"","",null,6,null,0,6,387]
[null,null,{"$f":"IFERROR(VLOOKUP(D4643,'1_Causas_Levantadas'!C:D,2,0),\"\")","v":0},"","",null,7,null,0,7,387]
[null,null,{"$f":"IFERROR(VLOOKUP(D4644,'1_Causas_Levantadas'!C:D,2,0),\"\")","v":0},"","",null,8,null,0,8,387]
[null,null,{"$f":"IFERROR(VLOOKUP(D4645,'1_Causas_Levantadas'!C:D,2,0),\"\")","v":0},"","",null,9,null,0,9,387]
[null,null,{"$f":"IFERROR(VLOOKUP(D4646,'1_Causas_Levantadas'!C:D,2,0),\"\")","v":0},"","",null,10,null,0,10,387]
[null,null,{"$f":"IFERROR(VLOOKUP(D4647,'1_Causas_Levantadas'!C:D,2,0),\"\")","v":0},"","",null,11,null,0,11,387]
[null,null,{"$f":"IFERROR(VLOOKUP(D4648,'1_Causas_Levantadas'!C:D,2,0),\"\")","v":0},"","",null,12,null,0,12,387]
[null,null,{"$f":"IFERROR(VLOOKUP(D4649,'1_Causas_Levantadas'!C:D,2,0),\"\")","v":0},"","",null,1,null,1,1,388]
[null,null,{"$f":"IFERROR(VLOOKUP(D4650,'1_Causas_Levantadas'!C:D,2,0),\"\")","v":0},"","",null,2,null,0,2,388]
[null,null,{"$f":"IFERROR(VLOOKUP(D4651,'1_Causas_Levantadas'!C:D,2,0),\"\")","v":0},"","",null,3,null,0,3,388]
[null,null,{"$f":"IFERROR(VLOOKUP(D4652,'1_Causas_Levantadas'!C:D,2,0),\"\")","v":0},"","",null,4,null,0,4,388]
[null,null,{"$f":"IFERROR(VLOOKUP(D4653,'1_Causas_Levantadas'!C:D,2,0),\"\")","v":0},"","",null,5,null,0,5,388]
[null,null,{"$f":"IFERROR(VLOOKUP(D4654,'1_Causas_Levantadas'!C:D,2,0),\"\")","v":0},"","",null,6,null,0,6,388]
[null,null,{"$f":"IFERROR(VLOOKUP(D4655,'1_Causas_Levantadas'!C:D,2,0),\"\")","v":0},"","",null,7,null,0,7,388]
[null,null,{"$f":"IFERROR(VLOOKUP(D4656,'1_Causas_Levantadas'!C:D,2,0),\"\")","v":0},"","",null,8,null,0,8,388]
[null,null,{"$f":"IFERROR(VLOOKUP(D4657,'1_Causas_Levantadas'!C:D,2,0),\"\")","v":0},"","",null,9,null,0,9,388]
[null,null,{"$f":"IFERROR(VLOOKUP(D4658,'1_Causas_Levantadas'!C:D,2,0),\"\")","v":0},"","",null,10,null,0,10,388]
[null,null,{"$f":"IFERROR(VLOOKUP(D4659,'1_Causas_Levantadas'!C:D,2,0),\"\")","v":0},"","",null,11,null,0,11,388]
[null,null,{"$f":"IFERROR(VLOOKUP(D4660,'1_Causas_Levantadas'!C:D,2,0),\"\")","v":0},"","",null,12,null,0,12,388]
[null,null,{"$f":"IFERROR(VLOOKUP(D4661,'1_Causas_Levantadas'!C:D,2,0),\"\")","v":0},"","",null,1,null,1,1,389]
[null,null,{"$f":"IFERROR(VLOOKUP(D4662,'1_Causas_Levantadas'!C:D,2,0),\"\")","v":0},"","",null,2,null,0,2,389]
[null,null,{"$f":"IFERROR(VLOOKUP(D4663,'1_Causas_Levantadas'!C:D,2,0),\"\")","v":0},"","",null,3,null,0,3,389]
[null,null,{"$f":"IFERROR(VLOOKUP(D4664,'1_Causas_Levantadas'!C:D,2,0),\"\")","v":0},"","",null,4,null,0,4,389]
[null,null,{"$f":"IFERROR(VLOOKUP(D4665,'1_Causas_Levantadas'!C:D,2,0),\"\")","v":0},"","",null,5,null,0,5,389]
[null,null,{"$f":"IFERROR(VLOOKUP(D4666,'1_Causas_Levantadas'!C:D,2,0),\"\")","v":0},"","",null,6,null,0,6,389]
[null,null,{"$f":"IFERROR(VLOOKUP(D4667,'1_Causas_Levantadas'!C:D,2,0),\"\")","v":0},"","",null,7,null,0,7,389]
[null,null,{"$f":"IFERROR(VLOOKUP(D4668,'1_Causas_Levantadas'!C:D,2,0),\"\")","v":0},"","",null,8,null,0,8,389]
[null,null,{"$f":"IFERROR(VLOOKUP(D4669,'1_Causas_Levantadas'!C:D,2,0),\"\")","v":0},"","",null,9,null,0,9,389]
[null,null,{"$f":"IFERROR(VLOOKUP(D4670,'1_Causas_Levantadas'!C:D,2,0),\"\")","v":0},"","",null,10,null,0,10,389]
[null,null,{"$f":"IFERROR(VLOOKUP(D4671,'1_Causas_Levantadas'!C:D,2,0),\"\")","v":0},"","",null,11,null,0,11,389]
[null,null,{"$f":"IFERROR(VLOOKUP(D4672,'1_Causas_Levantadas'!C:D,2,0),\"\")","v":0},"","",null,12,null,0,12,389]
[null,null,{"$f":"IFERROR(VLOOKUP(D4673,'1_Causas_Levantadas'!C:D,2,0),\"\")","v":0},"","",null,1,null,1,1,390]
[null,null,{"$f":"IFERROR(VLOOKUP(D4674,'1_Causas_Levantadas'!C:D,2,0),\"\")","v":0},"","",null,2,null,0,2,390]
[null,null,{"$f":"IFERROR(VLOOKUP(D4675,'1_Causas_Levantadas'!C:D,2,0),\"\")","v":0},"","",null,3,null,0,3,390]
[null,null,{"$f":"IFERROR(VLOOKUP(D4676,'1_Causas_Levantadas'!C:D,2,0),\"\")","v":0},"","",null,4,null,0,4,390]
[null,null,{"$f":"IFERROR(VLOOKUP(D4677,'1_Causas_Levantadas'!C:D,2,0),\"\")","v":0},"","",null,5,null,0,5,390]
[null,null,{"$f":"IFERROR(VLOOKUP(D4678,'1_Causas_Levantadas'!C:D,2,0),\"\")","v":0},{"$f":"IF(K4678<=$H$4,(IF(G4677>0,G4678,$G$5)),\"\")","v":""},{"$f":"IF(D4678<>\"\",\"Participante \"&K4678,\"\")","v":""},null,{"$f":"J4678","v":6},null,{"$f":"IF(G4678=$G$5,1,0)","v":0},6,{"$f":"I4678+K4677","v":390}]
[null,null,{"$f":"IFERROR(VLOOKUP(D4679,'1_Causas_Levantadas'!C:D,2,0),\"\")","v":0},"","",null,7,null,0,{"$f":"IF(G4678<$G$4,J4678+1,1)","v":7},390]
[null,null,{"$f":"IFERROR(VLOOKUP(D4680,'1_Causas_Levantadas'!C:D,2,0),\"\")","v":0},"","",null,8,null,0,8,390]
[null,null,{"$f":"IFERROR(VLOOKUP(D4681,'1_Causas_Levantadas'!C:D,2,0),\"\")","v":0},"","",null,9,null,0,9,390]
[null,null,{"$f":"IFERROR(VLOOKUP(D4682,'1_Causas_Levantadas'!C:D,2,0),\"\")","v":0},"","",null,10,null,0,10,390]
[null,null,{"$f":"IFERROR(VLOOKUP(D4683,'1_Causas_Levantadas'!C:D,2,0),\"\")","v":0},"","",null,11,null,0,11,390]
[null,null,{"$f":"IFERROR(VLOOKUP(D4684,'1_Causas_Levantadas'!C:D,2,0),\"\")","v":0},"","",null,12,null,0,12,390]
[null,null,{"$f":"IFERROR(VLOOKUP(D4685,'1_Causas_Levantadas'!C:D,2,0),\"\")","v":0},"","",null,1,null,1,1,391]
[null,null,{"$f":"IFERROR(VLOOKUP(D4686,'1_Causas_Levantadas'!C:D,2,0),\"\")","v":0},"","",null,2,null,0,2,391]
[null,null,{"$f":"IFERROR(VLOOKUP(D4687,'1_Causas_Levantadas'!C:D,2,0),\"\")","v":0},"","",null,3,null,0,3,391]
[null,null,{"$f":"IFERROR(VLOOKUP(D4688,'1_Causas_Levantadas'!C:D,2,0),\"\")","v":0},"","",null,4,null,0,4,391]
[null,null,{"$f":"IFERROR(VLOOKUP(D4689,'1_Causas_Levantadas'!C:D,2,0),\"\")","v":0},"","",null,5,null,0,5,391]
[null,null,{"$f":"IFERROR(VLOOKUP(D4690,'1_Causas_Levantadas'!C:D,2,0),\"\")","v":0},"","",null,6,null,0,6,391]
[null,null,{"$f":"IFERROR(VLOOKUP(D4691,'1_Causas_Levantadas'!C:D,2,0),\"\")","v":0},"","",null,7,null,0,7,391]
[null,null,{"$f":"IFERROR(VLOOKUP(D4692,'1_Causas_Levantadas'!C:D,2,0),\"\")","v":0},"","",null,8,null,0,8,391]
[null,null,{"$f":"IFERROR(VLOOKUP(D4693,'1_Causas_Levantadas'!C:D,2,0),\"\")","v":0},"","",null,9,null,0,9,391]
[null,null,{"$f":"IFERROR(VLOOKUP(D4694,'1_Causas_Levantadas'!C:D,2,0),\"\")","v":0},"","",null,10,null,0,10,391]
[null,null,{"$f":"IFERROR(VLOOKUP(D4695,'1_Causas_Levantadas'!C:D,2,0),\"\")","v":0},"","",null,11,null,0,11,391]
[null,null,{"$f":"IFERROR(VLOOKUP(D4696,'1_Causas_Levantadas'!C:D,2,0),\"\")","v":0},"","",null,12,null,0,12,391]
[null,null,{"$f":"IFERROR(VLOOKUP(D4697,'1_Causas_Levantadas'!C:D,2,0),\"\")","v":0},"","",null,1,null,1,1,392]
[null,null,{"$f":"IFERROR(VLOOKUP(D4698,'1_Causas_Levantadas'!C:D,2,0),\"\")","v":0},"","",null,2,null,0,2,392]
[null,null,{"$f":"IFERROR(VLOOKUP(D4699,'1_Causas_Levantadas'!C:D,2,0),\"\")","v":0},"","",null,3,null,0,3,392]
[null,null,{"$f":"IFERROR(VLOOKUP(D4700,'1_Causas_Levantadas'!C:D,2,0),\"\")","v":0},"","",null,4,null,0,4,392]
[null,null,{"$f":"IFERROR(VLOOKUP(D4701,'1_Causas_Levantadas'!C:D,2,0),\"\")","v":0},"","",null,5,null,0,5,392]
[null,null,{"$f":"IFERROR(VLOOKUP(D4702,'1_Causas_Levantadas'!C:D,2,0),\"\")","v":0},"","",null,6,null,0,6,392]
[null,null,{"$f":"IFERROR(VLOOKUP(D4703,'1_Causas_Levantadas'!C:D,2,0),\"\")","v":0},"","",null,7,null,0,7,392]
[null,null,{"$f":"IFERROR(VLOOKUP(D4704,'1_Causas_Levantadas'!C:D,2,0),\"\")","v":0},"","",null,8,null,0,8,392]
[null,null,{"$f":"IFERROR(VLOOKUP(D4705,'1_Causas_Levantadas'!C:D,2,0),\"\")","v":0},"","",null,9,null,0,9,392]
[null,null,{"$f":"IFERROR(VLOOKUP(D4706,'1_Causas_Levantadas'!C:D,2,0),\"\")","v":0},"","",null,10,null,0,10,392]
[null,null,{"$f":"IFERROR(VLOOKUP(D4707,'1_Causas_Levantadas'!C:D,2,0),\"\")","v":0},"","",null,11,null,0,11,392]
[null,null,{"$f":"IFERROR(VLOOKUP(D4708,'1_Causas_Levantadas'!C:D,2,0),\"\")","v":0},"","",null,12,null,0,12,392]
[null,null,{"$f":"IFERROR(VLOOKUP(D4709,'1_Causas_Levantadas'!C:D,2,0),\"\")","v":0},"","",null,1,null,1,1,393]
[null,null,{"$f":"IFERROR(VLOOKUP(D4710,'1_Causas_Levantadas'!C:D,2,0),\"\")","v":0},"","",null,2,null,0,2,393]
[null,null,{"$f":"IFERROR(VLOOKUP(D4711,'1_Causas_Levantadas'!C:D,2,0),\"\")","v":0},"","",null,3,null,0,3,393]
[null,null,{"$f":"IFERROR(VLOOKUP(D4712,'1_Causas_Levantadas'!C:D,2,0),\"\")","v":0},"","",null,4,null,0,4,393]
[null,null,{"$f":"IFERROR(VLOOKUP(D4713,'1_Causas_Levantadas'!C:D,2,0),\"\")","v":0},"","",null,5,null,0,5,393]
[null,null,{"$f":"IFERROR(VLOOKUP(D4714,'1_Causas_Levantadas'!C:D,2,0),\"\")","v":0},"","",null,6,null,0,6,393]
[null,null,{"$f":"IFERROR(VLOOKUP(D4715,'1_Causas_Levantadas'!C:D,2,0),\"\")","v":0},"","",null,7,null,0,7,393]
[null,null,{"$f":"IFERROR(VLOOKUP(D4716,'1_Causas_Levantadas'!C:D,2,0),\"\")","v":0},"","",null,8,null,0,8,393]
[null,null,{"$f":"IFERROR(VLOOKUP(D4717,'1_Causas_Levantadas'!C:D,2,0),\"\")","v":0},"","",null,9,null,0,9,393]
[null,null,{"$f":"IFERROR(VLOOKUP(D4718,'1_Causas_Levantadas'!C:D,2,0),\"\")","v":0},"","",null,10,null,0,10,393]
[null,null,{"$f":"IFERROR(VLOOKUP(D4719,'1_Causas_Levantadas'!C:D,2,0),\"\")","v":0},"","",null,11,null,0,11,393]
[null,null,{"$f":"IFERROR(VLOOKUP(D4720,'1_Causas_Levantadas'!C:D,2,0),\"\")","v":0},"","",null,12,null,0,12,393]
[null,null,{"$f":"IFERROR(VLOOKUP(D4721,'1_Causas_Levantadas'!C:D,2,0),\"\")","v":0},"","",null,1,null,1,1,394]
[null,null,{"$f":"IFERROR(VLOOKUP(D4722,'1_Causas_Levantadas'!C:D,2,0),\"\")","v":0},"","",null,2,null,0,2,394]
[null,null,{"$f":"IFERROR(VLOOKUP(D4723,'1_Causas_Levantadas'!C:D,2,0),\"\")","v":0},"","",null,3,null,0,3,394]
[null,null,{"$f":"IFERROR(VLOOKUP(D4724,'1_Causas_Levantadas'!C:D,2,0),\"\")","v":0},"","",null,4,null,0,4,394]
[null,null,{"$f":"IFERROR(VLOOKUP(D4725,'1_Causas_Levantadas'!C:D,2,0),\"\")","v":0},"","",null,5,null,0,5,394]
[null,null,{"$f":"IFERROR(VLOOKUP(D4726,'1_Causas_Levantadas'!C:D,2,0),\"\")","v":0},"","",null,6,null,0,6,394]
[null,null,{"$f":"IFERROR(VLOOKUP(D4727,'1_Causas_Levantadas'!C:D,2,0),\"\")","v":0},"","",null,7,null,0,7,394]
[null,null,{"$f":"IFERROR(VLOOKUP(D4728,'1_Causas_Levantadas'!C:D,2,0),\"\")","v":0},"","",null,8,null,0,8,394]
[null,null,{"$f":"IFERROR(VLOOKUP(D4729,'1_Causas_Levantadas'!C:D,2,0),\"\")","v":0},"","",null,9,null,0,9,394]
[null,null,{"$f":"IFERROR(VLOOKUP(D4730,'1_Causas_Levantadas'!C:D,2,0),\"\")","v":0},"","",null,10,null,0,10,394]
[null,null,{"$f":"IFERROR(VLOOKUP(D4731,'1_Causas_Levantadas'!C:D,2,0),\"\")","v":0},"","",null,11,null,0,11,394]
[null,null,{"$f":"IFERROR(VLOOKUP(D4732,'1_Causas_Levantadas'!C:D,2,0),\"\")","v":0},"","",null,12,null,0,12,394]
[null,null,{"$f":"IFERROR(VLOOKUP(D4733,'1_Causas_Levantadas'!C:D,2,0),\"\")","v":0},"","",null,1,null,1,1,395]
[null,null,{"$f":"IFERROR(VLOOKUP(D4734,'1_Causas_Levantadas'!C:D,2,0),\"\")","v":0},"","",null,2,null,0,2,395]
[null,null,{"$f":"IFERROR(VLOOKUP(D4735,'1_Causas_Levantadas'!C:D,2,0),\"\")","v":0},"","",null,3,null,0,3,395]
[null,null,{"$f":"IFERROR(VLOOKUP(D4736,'1_Causas_Levantadas'!C:D,2,0),\"\")","v":0},"","",null,4,null,0,4,395]
[null,null,{"$f":"IFERROR(VLOOKUP(D4737,'1_Causas_Levantadas'!C:D,2,0),\"\")","v":0},"","",null,5,null,0,5,395]
[null,null,{"$f":"IFERROR(VLOOKUP(D4738,'1_Causas_Levantadas'!C:D,2,0),\"\")","v":0},"","",null,6,null,0,6,395]
[null,null,{"$f":"IFERROR(VLOOKUP(D4739,'1_Causas_Levantadas'!C:D,2,0),\"\")","v":0},"","",null,7,null,0,7,395]
[null,null,{"$f":"IFERROR(VLOOKUP(D4740,'1_Causas_Levantadas'!C:D,2,0),\"\")","v":0},"","",null,8,null,0,8,395]
[null,null,{"$f":"IFERROR(VLOOKUP(D4741,'1_Causas_Levantadas'!C:D,2,0),\"\")","v":0},"","",null,9,null,0,9,395]
[null,null,{"$f":"IFERROR(VLOOKUP(D4742,'1_Causas_Levantadas'!C:D,2,0),\"\")","v":0},{"$f":"IF(K4742<=$H$4,(IF(G4741>0,G4742,$G$5)),\"\")","v":""},{"$f":"IF(D4742<>\"\",\"Participante \"&K4742,\"\")","v":""},null,{"$f":"J4742","v":10},null,{"$f":"IF(G4742=$G$5,1,0)","v":0},10,{"$f":"I4742+K4741","v":395}]
[null,null,{"$f":"IFERROR(VLOOKUP(D4743,'1_Causas_Levantadas'!C:D,2,0),\"\")","v":0},"","",null,11,null,0,{"$f":"IF(G4742<$G$4,J4742+1,1)","v":11},395]
[null,null,{"$f":"IFERROR(VLOOKUP(D4744,'1_Causas_Levantadas'!C:D,2,0),\"\")","v":0},"","",null,12,null,0,12,395]
[null,null,{"$f":"IFERROR(VLOOKUP(D4745,'1_Causas_Levantadas'!C:D,2,0),\"\")","v":0},"","",null,1,null,1,1,396]
[null,null,{"$f":"IFERROR(VLOOKUP(D4746,'1_Causas_Levantadas'!C:D,2,0),\"\")","v":0},"","",null,2,null,0,2,396]
[null,null,{"$f":"IFERROR(VLOOKUP(D4747,'1_Causas_Levantadas'!C:D,2,0),\"\")","v":0},"","",null,3,null,0,3,396]
[null,null,{"$f":"IFERROR(VLOOKUP(D4748,'1_Causas_Levantadas'!C:D,2,0),\"\")","v":0},"","",null,4,null,0,4,396]
[null,null,{"$f":"IFERROR(VLOOKUP(D4749,'1_Causas_Levantadas'!C:D,2,0),\"\")","v":0},"","",null,5,null,0,5,396]
[null,null,{"$f":"IFERROR(VLOOKUP(D4750,'1_Causas_Levantadas'!C:D,2,0),\"\")","v":0},"","",null,6,null,0,6,396]
[null,null,{"$f":"IFERROR(VLOOKUP(D4751,'1_Causas_Levantadas'!C:D,2,0),\"\")","v":0},"","",null,7,null,0,7,396]
[null,null,{"$f":"IFERROR(VLOOKUP(D4752,'1_Causas_Levantadas'!C:D,2,0),\"\")","v":0},"","",null,8,null,0,8,396]
[null,null,{"$f":"IFERROR(VLOOKUP(D4753,'1_Causas_Levantadas'!C:D,2,0),\"\")","v":0},"","",null,9,null,0,9,396]
[null,null,{"$f":"IFERROR(VLOOKUP(D4754,'1_Causas_Levantadas'!C:D,2,0),\"\")","v":0},"","",null,10,null,0,10,396]
[null,null,{"$f":"IFERROR(VLOOKUP(D4755,'1_Causas_Levantadas'!C:D,2,0),\"\")","v":0},"","",null,11,null,0,11,396]
[null,null,{"$f":"IFERROR(VLOOKUP(D4756,'1_Causas_Levantadas'!C:D,2,0),\"\")","v":0},"","",null,12,null,0,12,396]
[null,null,{"$f":"IFERROR(VLOOKUP(D4757,'1_Causas_Levantadas'!C:D,2,0),\"\")","v":0},"","",null,1,null,1,1,397]
[null,null,{"$f":"IFERROR(VLOOKUP(D4758,'1_Causas_Levantadas'!C:D,2,0),\"\")","v":0},"","",null,2,null,0,2,397]
[null,null,{"$f":"IFERROR(VLOOKUP(D4759,'1_Causas_Levantadas'!C:D,2,0),\"\")","v":0},"","",null,3,null,0,3,397]
[null,null,{"$f":"IFERROR(VLOOKUP(D4760,'1_Causas_Levantadas'!C:D,2,0),\"\")","v":0},"","",null,4,null,0,4,397]
[null,null,{"$f":"IFERROR(VLOOKUP(D4761,'1_Causas_Levantadas'!C:D,2,0),\"\")","v":0},"","",null,5,null,0,5,397]
[null,null,{"$f":"IFERROR(VLOOKUP(D4762,'1_Causas_Levantadas'!C:D,2,0),\"\")","v":0},"","",null,6,null,0,6,397]
[null,null,{"$f":"IFERROR(VLOOKUP(D4763,'1_Causas_Levantadas'!C:D,2,0),\"\")","v":0},"","",null,7,null,0,7,397]
[null,null,{"$f":"IFERROR(VLOOKUP(D4764,'1_Causas_Levantadas'!C:D,2,0),\"\")","v":0},"","",null,8,null,0,8,397]
[null,null,{"$f":"IFERROR(VLOOKUP(D4765,'1_Causas_Levantadas'!C:D,2,0),\"\")","v":0},"","",null,9,null,0,9,397]
[null,null,{"$f":"IFERROR(VLOOKUP(D4766,'1_Causas_Levantadas'!C:D,2,0),\"\")","v":0},"","",null,10,null,0,10,397]
[null,null,{"$f":"IFERROR(VLOOKUP(D4767,'1_Causas_Levantadas'!C:D,2,0),\"\")","v":0},"","",null,11,null,0,11,397]
[null,null,{"$f":"IFERROR(VLOOKUP(D4768,'1_Causas_Levantadas'!C:D,2,0),\"\")","v":0},"","",null,12,null,0,12,397]
[null,null,{"$f":"IFERROR(VLOOKUP(D4769,'1_Causas_Levantadas'!C:D,2,0),\"\")","v":0},"","",null,1,null,1,1,398]
[null,null,{"$f":"IFERROR(VLOOKUP(D4770,'1_Causas_Levantadas'!C:D,2,0),\"\")","v":0},"","",null,2,null,0,2,398]
[null,null,{"$f":"IFERROR(VLOOKUP(D4771,'1_Causas_Levantadas'!C:D,2,0),\"\")","v":0},"","",null,3,null,0,3,398]
[null,null,{"$f":"IFERROR(VLOOKUP(D4772,'1_Causas_Levantadas'!C:D,2,0),\"\")","v":0},"","",null,4,null,0,4,398]
[null,null,{"$f":"IFERROR(VLOOKUP(D4773,'1_Causas_Levantadas'!C:D,2,0),\"\")","v":0},"","",null,5,null,0,5,398]
[null,null,{"$f":"IFERROR(VLOOKUP(D4774,'1_Causas_Levantadas'!C:D,2,0),\"\")","v":0},"","",null,6,null,0,6,398]
[null,null,{"$f":"IFERROR(VLOOKUP(D4775,'1_Causas_Levantadas'!C:D,2,0),\"\")","v":0},"","",null,7,null,0,7,398]
[null,null,{"$f":"IFERROR(VLOOKUP(D4776,'1_Causas_Levantadas'!C:D,2,0),\"\")","v":0},"","",null,8,null,0,8,398]
[null,null,{"$f":"IFERROR(VLOOKUP(D4777,'1_Causas_Levantadas'!C:D,2,0),\"\")","v":0},"","",null,9,null,0,9,398]
[null,null,{"$f":"IFERROR(VLOOKUP(D4778,'1_Causas_Levantadas'!C:D,2,0),\"\")","v":0},"","",null,10,null,0,10,398]
[null,null,{"$f":"IFERROR(VLOOKUP(D4779,'1_Causas_Levantadas'!C:D,2,0),\"\")","v":0},"","",null,11,null,0,11,398]
[null,null,{"$f":"IFERROR(VLOOKUP(D4780,'1_Causas_Levantadas'!C:D,2,0),\"\")","v":0},"","",null,12,null,0,12,398]
[null,null,{"$f":"IFERROR(VLOOKUP(D4781,'1_Causas_Levantadas'!C:D,2,0),\"\")","v":0},"","",null,1,null,1,1,399]
[null,null,{"$f":"IFERROR(VLOOKUP(D4782,'1_Causas_Levantadas'!C:D,2,0),\"\")","v":0},"","",null,2,null,0,2,399]
[null,null,{"$f":"IFERROR(VLOOKUP(D4783,'1_Causas_Levantadas'!C:D,2,0),\"\")","v":0},"","",null,3,null,0,3,399]
[null,null,{"$f":"IFERROR(VLOOKUP(D4784,'1_Causas_Levantadas'!C:D,2,0),\"\")","v":0},"","",null,4,null,0,4,399]
[null,null,{"$f":"IFERROR(VLOOKUP(D4785,'1_Causas_Levantadas'!C:D,2,0),\"\")","v":0},"","",null,5,null,0,5,399]
[null,null,{"$f":"IFERROR(VLOOKUP(D4786,'1_Causas_Levantadas'!C:D,2,0),\"\")","v":0},"","",null,6,null,0,6,399]
[null,null,{"$f":"IFERROR(VLOOKUP(D4787,'1_Causas_Levantadas'!C:D,2,0),\"\")","v":0},"","",null,7,null,0,7,399]
[null,null,{"$f":"IFERROR(VLOOKUP(D4788,'1_Causas_Levantadas'!C:D,2,0),\"\")","v":0},"","",null,8,null,0,8,399]
[null,null,{"$f":"IFERROR(VLOOKUP(D4789,'1_Causas_Levantadas'!C:D,2,0),\"\")","v":0},"","",null,9,null,0,9,399]
[null,null,{"$f":"IFERROR(VLOOKUP(D4790,'1_Causas_Levantadas'!C:D,2,0),\"\")","v":0},"","",null,10,null,0,10,399]
[null,null,{"$f":"IFERROR(VLOOKUP(D4791,'1_Causas_Levantadas'!C:D,2,0),\"\")","v":0},"","",null,11,null,0,11,399]
[null,null,{"$f":"IFERROR(VLOOKUP(D4792,'1_Causas_Levantadas'!C:D,2,0),\"\")","v":0},"","",null,12,null,0,12,399]
[null,null,{"$f":"IFERROR(VLOOKUP(D4793,'1_Causas_Levantadas'!C:D,2,0),\"\")","v":0},"","",null,1,null,1,1,400]
[null,null,{"$f":"IFERROR(VLOOKUP(D4794,'1_Causas_Levantadas'!C:D,2,0),\"\")","v":0},"","",null,2,null,0,2,400]
[null,null,{"$f":"IFERROR(VLOOKUP(D4795,'1_Causas_Levantadas'!C:D,2,0),\"\")","v":0},"","",null,3,null,0,3,400]
[null,null,{"$f":"IFERROR(VLOOKUP(D4796,'1_Causas_Levantadas'!C:D,2,0),\"\")","v":0},"","",null,4,null,0,4,400]
[null,null,{"$f":"IFERROR(VLOOKUP(D4797,'1_Causas_Levantadas'!C:D,2,0),\"\")","v":0},"","",null,5,null,0,5,400]
[null,null,{"$f":"IFERROR(VLOOKUP(D4798,'1_Causas_Levantadas'!C:D,2,0),\"\")","v":0},"","",null,6,null,0,6,400]
[null,null,{"$f":"IFERROR(VLOOKUP(D4799,'1_Causas_Levantadas'!C:D,2,0),\"\")","v":0},"","",null,7,null,0,7,400]
[null,null,{"$f":"IFERROR(VLOOKUP(D4800,'1_Causas_Levantadas'!C:D,2,0),\"\")","v":0},"","",null,8,null,0,8,400]
[null,null,{"$f":"IFERROR(VLOOKUP(D4801,'1_Causas_Levantadas'!C:D,2,0),\"\")","v":0},"","",null,9,null,0,9,400]
[null,null,{"$f":"IFERROR(VLOOKUP(D4802,'1_Causas_Levantadas'!C:D,2,0),\"\")","v":0},"","",null,10,null,0,10,400]
[null,null,{"$f":"IFERROR(VLOOKUP(D4803,'1_Causas_Levantadas'!C:D,2,0),\"\")","v":0},"","",null,11,null,0,11,400]
[null,null,{"$f":"IFERROR(VLOOKUP(D4804,'1_Causas_Levantadas'!C:D,2,0),\"\")","v":0},"","",null,12,null,0,12,400]
[null,null,{"$f":"IFERROR(VLOOKUP(D4805,'1_Causas_Levantadas'!C:D,2,0),\"\")","v":0},"","",null,1,null,1,1,401]
[null,null,{"$f":"IFERROR(VLOOKUP(D4806,'1_Causas_Levantadas'!C:D,2,0),\"\")","v":0},{"$f":"IF(K4806<=$H$4,(IF(G4805>0,G4806,$G$5)),\"\")","v":""},{"$f":"IF(D4806<>\"\",\"Participante \"&K4806,\"\")","v":""},null,{"$f":"J4806","v":2},null,{"$f":"IF(G4806=$G$5,1,0)","v":0},2,{"$f":"I4806+K4805","v":401}]
[null,null,{"$f":"IFERROR(VLOOKUP(D4807,'1_Causas_Levantadas'!C:D,2,0),\"\")","v":0},"","",null,3,null,0,{"$f":"IF(G4806<$G$4,J4806+1,1)","v":3},401]
[null,null,{"$f":"IFERROR(VLOOKUP(D4808,'1_Causas_Levantadas'!C:D,2,0),\"\")","v":0},"","",null,4,null,0,4,401]
[null,null,{"$f":"IFERROR(VLOOKUP(D4809,'1_Causas_Levantadas'!C:D,2,0),\"\")","v":0},"","",null,5,null,0,5,401]
[null,null,{"$f":"IFERROR(VLOOKUP(D4810,'1_Causas_Levantadas'!C:D,2,0),\"\")","v":0},"","",null,6,null,0,6,401]
[null,null,{"$f":"IFERROR(VLOOKUP(D4811,'1_Causas_Levantadas'!C:D,2,0),\"\")","v":0},"","",null,7,null,0,7,401]
[null,null,{"$f":"IFERROR(VLOOKUP(D4812,'1_Causas_Levantadas'!C:D,2,0),\"\")","v":0},"","",null,8,null,0,8,401]
[null,null,{"$f":"IFERROR(VLOOKUP(D4813,'1_Causas_Levantadas'!C:D,2,0),\"\")","v":0},"","",null,9,null,0,9,401]
[null,null,{"$f":"IFERROR(VLOOKUP(D4814,'1_Causas_Levantadas'!C:D,2,0),\"\")","v":0},"","",null,10,null,0,10,401]
[null,null,{"$f":"IFERROR(VLOOKUP(D4815,'1_Causas_Levantadas'!C:D,2,0),\"\")","v":0},"","",null,11,null,0,11,401]
[null,null,{"$f":"IFERROR(VLOOKUP(D4816,'1_Causas_Levantadas'!C:D,2,0),\"\")","v":0},"","",null,12,null,0,12,401]
[null,null,{"$f":"IFERROR(VLOOKUP(D4817,'1_Causas_Levantadas'!C:D,2,0),\"\")","v":0},"","",null,1,null,1,1,402]
[null,null,{"$f":"IFERROR(VLOOKUP(D4818,'1_Causas_Levantadas'!C:D,2,0),\"\")","v":0},"","",null,2,null,0,2,402]
[null,null,{"$f":"IFERROR(VLOOKUP(D4819,'1_Causas_Levantadas'!C:D,2,0),\"\")","v":0},"","",null,3,null,0,3,402]
[null,null,{"$f":"IFERROR(VLOOKUP(D4820,'1_Causas_Levantadas'!C:D,2,0),\"\")","v":0},"","",null,4,null,0,4,402]
[null,null,{"$f":"IFERROR(VLOOKUP(D4821,'1_Causas_Levantadas'!C:D,2,0),\"\")","v":0},"","",null,5,null,0,5,402]
[null,null,{"$f":"IFERROR(VLOOKUP(D4822,'1_Causas_Levantadas'!C:D,2,0),\"\")","v":0},"","",null,6,null,0,6,402]
[null,null,{"$f":"IFERROR(VLOOKUP(D4823,'1_Causas_Levantadas'!C:D,2,0),\"\")","v":0},"","",null,7,null,0,7,402]
[null,null,{"$f":"IFERROR(VLOOKUP(D4824,'1_Causas_Levantadas'!C:D,2,0),\"\")","v":0},"","",null,8,null,0,8,402]
[null,null,{"$f":"IFERROR(VLOOKUP(D4825,'1_Causas_Levantadas'!C:D,2,0),\"\")","v":0},"","",null,9,null,0,9,402]
[null,null,{"$f":"IFERROR(VLOOKUP(D4826,'1_Causas_Levantadas'!C:D,2,0),\"\")","v":0},"","",null,10,null,0,10,402]
[null,null,{"$f":"IFERROR(VLOOKUP(D4827,'1_Causas_Levantadas'!C:D,2,0),\"\")","v":0},"","",null,11,null,0,11,402]
[null,null,{"$f":"IFERROR(VLOOKUP(D4828,'1_Causas_Levantadas'!C:D,2,0),\"\")","v":0},"","",null,12,null,0,12,402]
[null,null,{"$f":"IFERROR(VLOOKUP(D4829,'1_Causas_Levantadas'!C:D,2,0),\"\")","v":0},"","",null,1,null,1,1,403]
[null,null,{"$f":"IFERROR(VLOOKUP(D4830,'1_Causas_Levantadas'!C:D,2,0),\"\")","v":0},"","",null,2,null,0,2,403]
[null,null,{"$f":"IFERROR(VLOOKUP(D4831,'1_Causas_Levantadas'!C:D,2,0),\"\")","v":0},"","",null,3,null,0,3,403]
[null,null,{"$f":"IFERROR(VLOOKUP(D4832,'1_Causas_Levantadas'!C:D,2,0),\"\")","v":0},"","",null,4,null,0,4,403]
[null,null,{"$f":"IFERROR(VLOOKUP(D4833,'1_Causas_Levantadas'!C:D,2,0),\"\")","v":0},"","",null,5,null,0,5,403]
[null,null,{"$f":"IFERROR(VLOOKUP(D4834,'1_Causas_Levantadas'!C:D,2,0),\"\")","v":0},"","",null,6,null,0,6,403]
[null,null,{"$f":"IFERROR(VLOOKUP(D4835,'1_Causas_Levantadas'!C:D,2,0),\"\")","v":0},"","",null,7,null,0,7,403]
[null,null,{"$f":"IFERROR(VLOOKUP(D4836,'1_Causas_Levantadas'!C:D,2,0),\"\")","v":0},"","",null,8,null,0,8,403]
[null,null,{"$f":"IFERROR(VLOOKUP(D4837,'1_Causas_Levantadas'!C:D,2,0),\"\")","v":0},"","",null,9,null,0,9,403]
[null,null,{"$f":"IFERROR(VLOOKUP(D4838,'1_Causas_Levantadas'!C:D,2,0),\"\")","v":0},"","",null,10,null,0,10,403]
[null,null,{"$f":"IFERROR(VLOOKUP(D4839,'1_Causas_Levantadas'!C:D,2,0),\"\")","v":0},"","",null,11,null,0,11,403]
[null,null,{"$f":"IFERROR(VLOOKUP(D4840,'1_Causas_Levantadas'!C:D,2,0),\"\")","v":0},"","",null,12,null,0,12,403]
[null,null,{"$f":"IFERROR(VLOOKUP(D4841,'1_Causas_Levantadas'!C:D,2,0),\"\")","v":0},"","",null,1,null,1,1,404]
[null,null,{"$f":"IFERROR(VLOOKUP(D4842,'1_Causas_Levantadas'!C:D,2,0),\"\")","v":0},"","",null,2,null,0,2,404]
[null,null,{"$f":"IFERROR(VLOOKUP(D4843,'1_Causas_Levantadas'!C:D,2,0),\"\")","v":0},"","",null,3,null,0,3,404]
[null,null,{"$f":"IFERROR(VLOOKUP(D4844,'1_Causas_Levantadas'!C:D,2,0),\"\")","v":0},"","",null,4,null,0,4,404]
[null,null,{"$f":"IFERROR(VLOOKUP(D4845,'1_Causas_Levantadas'!C:D,2,0),\"\")","v":0},"","",null,5,null,0,5,404]
[null,null,{"$f":"IFERROR(VLOOKUP(D4846,'1_Causas_Levantadas'!C:D,2,0),\"\")","v":0},"","",null,6,null,0,6,404]
[null,null,{"$f":"IFERROR(VLOOKUP(D4847,'1_Causas_Levantadas'!C:D,2,0),\"\")","v":0},"","",null,7,null,0,7,404]
[null,null,{"$f":"IFERROR(VLOOKUP(D4848,'1_Causas_Levantadas'!C:D,2,0),\"\")","v":0},"","",null,8,null,0,8,404]
[null,null,{"$f":"IFERROR(VLOOKUP(D4849,'1_Causas_Levantadas'!C:D,2,0),\"\")","v":0},"","",null,9,null,0,9,404]
[null,null,{"$f":"IFERROR(VLOOKUP(D4850,'1_Causas_Levantadas'!C:D,2,0),\"\")","v":0},"","",null,10,null,0,10,404]
[null,null,{"$f":"IFERROR(VLOOKUP(D4851,'1_Causas_Levantadas'!C:D,2,0),\"\")","v":0},"","",null,11,null,0,11,404]
[null,null,{"$f":"IFERROR(VLOOKUP(D4852,'1_Causas_Levantadas'!C:D,2,0),\"\")","v":0},"","",null,12,null,0,12,404]
[null,null,{"$f":"IFERROR(VLOOKUP(D4853,'1_Causas_Levantadas'!C:D,2,0),\"\")","v":0},"","",null,1,null,1,1,405]
[null,null,{"$f":"IFERROR(VLOOKUP(D4854,'1_Causas_Levantadas'!C:D,2,0),\"\")","v":0},"","",null,2,null,0,2,405]
[null,null,{"$f":"IFERROR(VLOOKUP(D4855,'1_Causas_Levantadas'!C:D,2,0),\"\")","v":0},"","",null,3,null,0,3,405]
[null,null,{"$f":"IFERROR(VLOOKUP(D4856,'1_Causas_Levantadas'!C:D,2,0),\"\")","v":0},"","",null,4,null,0,4,405]
[null,null,{"$f":"IFERROR(VLOOKUP(D4857,'1_Causas_Levantadas'!C:D,2,0),\"\")","v":0},"","",null,5,null,0,5,405]
[null,null,{"$f":"IFERROR(VLOOKUP(D4858,'1_Causas_Levantadas'!C:D,2,0),\"\")","v":0},"","",null,6,null,0,6,405]
[null,null,{"$f":"IFERROR(VLOOKUP(D4859,'1_Causas_Levantadas'!C:D,2,0),\"\")","v":0},"","",null,7,null,0,7,405]
[null,null,{"$f":"IFERROR(VLOOKUP(D4860,'1_Causas_Levantadas'!C:D,2,0),\"\")","v":0},"","",null,8,null,0,8,405]
[null,null,{"$f":"IFERROR(VLOOKUP(D4861,'1_Causas_Levantadas'!C:D,2,0),\"\")","v":0},"","",null,9,null,0,9,405]
[null,null,{"$f":"IFERROR(VLOOKUP(D4862,'1_Causas_Levantadas'!C:D,2,0),\"\")","v":0},"","",null,10,null,0,10,405]
[null,null,{"$f":"IFERROR(VLOOKUP(D4863,'1_Causas_Levantadas'!C:D,2,0),\"\")","v":0},"","",null,11,null,0,11,405]
[null,null,{"$f":"IFERROR(VLOOKUP(D4864,'1_Causas_Levantadas'!C:D,2,0),\"\")","v":0},"","",null,12,null,0,12,405]
[null,null,{"$f":"IFERROR(VLOOKUP(D4865,'1_Causas_Levantadas'!C:D,2,0),\"\")","v":0},"","",null,1,null,1,1,406]
[null,null,{"$f":"IFERROR(VLOOKUP(D4866,'1_Causas_Levantadas'!C:D,2,0),\"\")","v":0},"","",null,2,null,0,2,406]
[null,null,{"$f":"IFERROR(VLOOKUP(D4867,'1_Causas_Levantadas'!C:D,2,0),\"\")","v":0},"","",null,3,null,0,3,406]
[null,null,{"$f":"IFERROR(VLOOKUP(D4868,'1_Causas_Levantadas'!C:D,2,0),\"\")","v":0},"","",null,4,null,0,4,406]
[null,null,{"$f":"IFERROR(VLOOKUP(D4869,'1_Causas_Levantadas'!C:D,2,0),\"\")","v":0},"","",null,5,null,0,5,406]
[null,null,{"$f":"IFERROR(VLOOKUP(D4870,'1_Causas_Levantadas'!C:D,2,0),\"\")","v":0},{"$f":"IF(K4870<=$H$4,(IF(G4869>0,G4870,$G$5)),\"\")","v":""},{"$f":"IF(D4870<>\"\",\"Participante \"&K4870,\"\")","v":""},null,{"$f":"J4870","v":6},null,{"$f":"IF(G4870=$G$5,1,0)","v":0},6,{"$f":"I4870+K4869","v":406}]
[null,null,{"$f":"IFERROR(VLOOKUP(D4871,'1_Causas_Levantadas'!C:D,2,0),\"\")","v":0},"","",null,7,null,0,{"$f":"IF(G4870<$G$4,J4870+1,1)","v":7},406]
[null,null,{"$f":"IFERROR(VLOOKUP(D4872,'1_Causas_Levantadas'!C:D,2,0),\"\")","v":0},"","",null,8,null,0,8,406]
[null,null,{"$f":"IFERROR(VLOOKUP(D4873,'1_Causas_Levantadas'!C:D,2,0),\"\")","v":0},"","",null,9,null,0,9,406]
[null,null,{"$f":"IFERROR(VLOOKUP(D4874,'1_Causas_Levantadas'!C:D,2,0),\"\")","v":0},"","",null,10,null,0,10,406]
[null,null,{"$f":"IFERROR(VLOOKUP(D4875,'1_Causas_Levantadas'!C:D,2,0),\"\")","v":0},"","",null,11,null,0,11,406]
[null,null,{"$f":"IFERROR(VLOOKUP(D4876,'1_Causas_Levantadas'!C:D,2,0),\"\")","v":0},"","",null,12,null,0,12,406]
[null,null,{"$f":"IFERROR(VLOOKUP(D4877,'1_Causas_Levantadas'!C:D,2,0),\"\")","v":0},"","",null,1,null,1,1,407]
[null,null,{"$f":"IFERROR(VLOOKUP(D4878,'1_Causas_Levantadas'!C:D,2,0),\"\")","v":0},"","",null,2,null,0,2,407]
[null,null,{"$f":"IFERROR(VLOOKUP(D4879,'1_Causas_Levantadas'!C:D,2,0),\"\")","v":0},"","",null,3,null,0,3,407]
[null,null,{"$f":"IFERROR(VLOOKUP(D4880,'1_Causas_Levantadas'!C:D,2,0),\"\")","v":0},"","",null,4,null,0,4,407]
[null,null,{"$f":"IFERROR(VLOOKUP(D4881,'1_Causas_Levantadas'!C:D,2,0),\"\")","v":0},"","",null,5,null,0,5,407]
[null,null,{"$f":"IFERROR(VLOOKUP(D4882,'1_Causas_Levantadas'!C:D,2,0),\"\")","v":0},"","",null,6,null,0,6,407]
[null,null,{"$f":"IFERROR(VLOOKUP(D4883,'1_Causas_Levantadas'!C:D,2,0),\"\")","v":0},"","",null,7,null,0,7,407]
[null,null,{"$f":"IFERROR(VLOOKUP(D4884,'1_Causas_Levantadas'!C:D,2,0),\"\")","v":0},"","",null,8,null,0,8,407]
[null,null,{"$f":"IFERROR(VLOOKUP(D4885,'1_Causas_Levantadas'!C:D,2,0),\"\")","v":0},"","",null,9,null,0,9,407]
[null,null,{"$f":"IFERROR(VLOOKUP(D4886,'1_Causas_Levantadas'!C:D,2,0),\"\")","v":0},"","",null,10,null,0,10,407]
[null,null,{"$f":"IFERROR(VLOOKUP(D4887,'1_Causas_Levantadas'!C:D,2,0),\"\")","v":0},"","",null,11,null,0,11,407]
[null,null,{"$f":"IFERROR(VLOOKUP(D4888,'1_Causas_Levantadas'!C:D,2,0),\"\")","v":0},"","",null,12,null,0,12,407]
[null,null,{"$f":"IFERROR(VLOOKUP(D4889,'1_Causas_Levantadas'!C:D,2,0),\"\")","v":0},"","",null,1,null,1,1,408]
[null,null,{"$f":"IFERROR(VLOOKUP(D4890,'1_Causas_Levantadas'!C:D,2,0),\"\")","v":0},"","",null,2,null,0,2,408]
[null,null,{"$f":"IFERROR(VLOOKUP(D4891,'1_Causas_Levantadas'!C:D,2,0),\"\")","v":0},"","",null,3,null,0,3,408]
[null,null,{"$f":"IFERROR(VLOOKUP(D4892,'1_Causas_Levantadas'!C:D,2,0),\"\")","v":0},"","",null,4,null,0,4,408]
[null,null,{"$f":"IFERROR(VLOOKUP(D4893,'1_Causas_Levantadas'!C:D,2,0),\"\")","v":0},"","",null,5,null,0,5,408]
[null,null,{"$f":"IFERROR(VLOOKUP(D4894,'1_Causas_Levantadas'!C:D,2,0),\"\")","v":0},"","",null,6,null,0,6,408]
[null,null,{"$f":"IFERROR(VLOOKUP(D4895,'1_Causas_Levantadas'!C:D,2,0),\"\")","v":0},"","",null,7,null,0,7,408]
[null,null,{"$f":"IFERROR(VLOOKUP(D4896,'1_Causas_Levantadas'!C:D,2,0),\"\")","v":0},"","",null,8,null,0,8,408]
[null,null,{"$f":"IFERROR(VLOOKUP(D4897,'1_Causas_Levantadas'!C:D,2,0),\"\")","v":0},"","",null,9,null,0,9,408]
[null,null,{"$f":"IFERROR(VLOOKUP(D4898,'1_Causas_Levantadas'!C:D,2,0),\"\")","v":0},"","",null,10,null,0,10,408]
[null,null,{"$f":"IFERROR(VLOOKUP(D4899,'1_Causas_Levantadas'!C:D,2,0),\"\")","v":0},"","",null,11,null,0,11,408]
[null,null,{"$f":"IFERROR(VLOOKUP(D4900,'1_Causas_Levantadas'!C:D,2,0),\"\")","v":0},"","",null,12,null,0,12,408]
[null,null,{"$f":"IFERROR(VLOOKUP(D4901,'1_Causas_Levantadas'!C:D,2,0),\"\")","v":0},"","",null,1,null,1,1,409]
[null,null,{"$f":"IFERROR(VLOOKUP(D4902,'1_Causas_Levantadas'!C:D,2,0),\"\")","v":0},"","",null,2,null,0,2,409]
[null,null,{"$f":"IFERROR(VLOOKUP(D4903,'1_Causas_Levantadas'!C:D,2,0),\"\")","v":0},"","",null,3,null,0,3,409]
[null,null,{"$f":"IFERROR(VLOOKUP(D4904,'1_Causas_Levantadas'!C:D,2,0),\"\")","v":0},"","",null,4,null,0,4,409]
[null,null,{"$f":"IFERROR(VLOOKUP(D4905,'1_Causas_Levantadas'!C:D,2,0),\"\")","v":0},"","",null,5,null,0,5,409]
[null,null,{"$f":"IFERROR(VLOOKUP(D4906,'1_Causas_Levantadas'!C:D,2,0),\"\")","v":0},"","",null,6,null,0,6,409]
[null,null,{"$f":"IFERROR(VLOOKUP(D4907,'1_Causas_Levantadas'!C:D,2,0),\"\")","v":0},"","",null,7,null,0,7,409]
[null,null,{"$f":"IFERROR(VLOOKUP(D4908,'1_Causas_Levantadas'!C:D,2,0),\"\")","v":0},"","",null,8,null,0,8,409]
[null,null,{"$f":"IFERROR(VLOOKUP(D4909,'1_Causas_Levantadas'!C:D,2,0),\"\")","v":0},"","",null,9,null,0,9,409]
[null,null,{"$f":"IFERROR(VLOOKUP(D4910,'1_Causas_Levantadas'!C:D,2,0),\"\")","v":0},"","",null,10,null,0,10,409]
[null,null,{"$f":"IFERROR(VLOOKUP(D4911,'1_Causas_Levantadas'!C:D,2,0),\"\")","v":0},"","",null,11,null,0,11,409]
[null,null,{"$f":"IFERROR(VLOOKUP(D4912,'1_Causas_Levantadas'!C:D,2,0),\"\")","v":0},"","",null,12,null,0,12,409]
[null,null,{"$f":"IFERROR(VLOOKUP(D4913,'1_Causas_Levantadas'!C:D,2,0),\"\")","v":0},"","",null,1,null,1,1,410]
[null,null,{"$f":"IFERROR(VLOOKUP(D4914,'1_Causas_Levantadas'!C:D,2,0),\"\")","v":0},"","",null,2,null,0,2,410]
[null,null,{"$f":"IFERROR(VLOOKUP(D4915,'1_Causas_Levantadas'!C:D,2,0),\"\")","v":0},"","",null,3,null,0,3,410]
[null,null,{"$f":"IFERROR(VLOOKUP(D4916,'1_Causas_Levantadas'!C:D,2,0),\"\")","v":0},"","",null,4,null,0,4,410]
[null,null,{"$f":"IFERROR(VLOOKUP(D4917,'1_Causas_Levantadas'!C:D,2,0),\"\")","v":0},"","",null,5,null,0,5,410]
[null,null,{"$f":"IFERROR(VLOOKUP(D4918,'1_Causas_Levantadas'!C:D,2,0),\"\")","v":0},"","",null,6,null,0,6,410]
[null,null,{"$f":"IFERROR(VLOOKUP(D4919,'1_Causas_Levantadas'!C:D,2,0),\"\")","v":0},"","",null,7,null,0,7,410]
[null,null,{"$f":"IFERROR(VLOOKUP(D4920,'1_Causas_Levantadas'!C:D,2,0),\"\")","v":0},"","",null,8,null,0,8,410]
[null,null,{"$f":"IFERROR(VLOOKUP(D4921,'1_Causas_Levantadas'!C:D,2,0),\"\")","v":0},"","",null,9,null,0,9,410]
[null,null,{"$f":"IFERROR(VLOOKUP(D4922,'1_Causas_Levantadas'!C:D,2,0),\"\")","v":0},"","",null,10,null,0,10,410]
[null,null,{"$f":"IFERROR(VLOOKUP(D4923,'1_Causas_Levantadas'!C:D,2,0),\"\")","v":0},"","",null,11,null,0,11,410]
[null,null,{"$f":"IFERROR(VLOOKUP(D4924,'1_Causas_Levantadas'!C:D,2,0),\"\")","v":0},"","",null,12,null,0,12,410]
[null,null,{"$f":"IFERROR(VLOOKUP(D4925,'1_Causas_Levantadas'!C:D,2,0),\"\")","v":0},"","",null,1,null,1,1,411]
[null,null,{"$f":"IFERROR(VLOOKUP(D4926,'1_Causas_Levantadas'!C:D,2,0),\"\")","v":0},"","",null,2,null,0,2,411]
[null,null,{"$f":"IFERROR(VLOOKUP(D4927,'1_Causas_Levantadas'!C:D,2,0),\"\")","v":0},"","",null,3,null,0,3,411]
[null,null,{"$f":"IFERROR(VLOOKUP(D4928,'1_Causas_Levantadas'!C:D,2,0),\"\")","v":0},"","",null,4,null,0,4,411]
[null,null,{"$f":"IFERROR(VLOOKUP(D4929,'1_Causas_Levantadas'!C:D,2,0),\"\")","v":0},"","",null,5,null,0,5,411]
[null,null,{"$f":"IFERROR(VLOOKUP(D4930,'1_Causas_Levantadas'!C:D,2,0),\"\")","v":0},"","",null,6,null,0,6,411]
[null,null,{"$f":"IFERROR(VLOOKUP(D4931,'1_Causas_Levantadas'!C:D,2,0),\"\")","v":0},"","",null,7,null,0,7,411]
[null,null,{"$f":"IFERROR(VLOOKUP(D4932,'1_Causas_Levantadas'!C:D,2,0),\"\")","v":0},"","",null,8,null,0,8,411]
[null,null,{"$f":"IFERROR(VLOOKUP(D4933,'1_Causas_Levantadas'!C:D,2,0),\"\")","v":0},"","",null,9,null,0,9,411]
[null,null,{"$f":"IFERROR(VLOOKUP(D4934,'1_Causas_Levantadas'!C:D,2,0),\"\")","v":0},{"$f":"IF(K4934<=$H$4,(IF(G4933>0,G4934,$G$5)),\"\")","v":""},{"$f":"IF(D4934<>\"\",\"Participante \"&K4934,\"\")","v":""},null,{"$f":"J4934","v":10},null,{"$f":"IF(G4934=$G$5,1,0)","v":0},10,{"$f":"I4934+K4933","v":411}]
[null,null,{"$f":"IFERROR(VLOOKUP(D4935,'1_Causas_Levantadas'!C:D,2,0),\"\")","v":0},"","",null,11,null,0,{"$f":"IF(G4934<$G$4,J4934+1,1)","v":11},411]
[null,null,{"$f":"IFERROR(VLOOKUP(D4936,'1_Causas_Levantadas'!C:D,2,0),\"\")","v":0},"","",null,12,null,0,12,411]
[null,null,{"$f":"IFERROR(VLOOKUP(D4937,'1_Causas_Levantadas'!C:D,2,0),\"\")","v":0},"","",null,1,null,1,1,412]
[null,null,{"$f":"IFERROR(VLOOKUP(D4938,'1_Causas_Levantadas'!C:D,2,0),\"\")","v":0},"","",null,2,null,0,2,412]
[null,null,{"$f":"IFERROR(VLOOKUP(D4939,'1_Causas_Levantadas'!C:D,2,0),\"\")","v":0},"","",null,3,null,0,3,412]
[null,null,{"$f":"IFERROR(VLOOKUP(D4940,'1_Causas_Levantadas'!C:D,2,0),\"\")","v":0},"","",null,4,null,0,4,412]
[null,null,{"$f":"IFERROR(VLOOKUP(D4941,'1_Causas_Levantadas'!C:D,2,0),\"\")","v":0},"","",null,5,null,0,5,412]
[null,null,{"$f":"IFERROR(VLOOKUP(D4942,'1_Causas_Levantadas'!C:D,2,0),\"\")","v":0},"","",null,6,null,0,6,412]
[null,null,{"$f":"IFERROR(VLOOKUP(D4943,'1_Causas_Levantadas'!C:D,2,0),\"\")","v":0},"","",null,7,null,0,7,412]
[null,null,{"$f":"IFERROR(VLOOKUP(D4944,'1_Causas_Levantadas'!C:D,2,0),\"\")","v":0},"","",null,8,null,0,8,412]
[null,null,{"$f":"IFERROR(VLOOKUP(D4945,'1_Causas_Levantadas'!C:D,2,0),\"\")","v":0},"","",null,9,null,0,9,412]
[null,null,{"$f":"IFERROR(VLOOKUP(D4946,'1_Causas_Levantadas'!C:D,2,0),\"\")","v":0},"","",null,10,null,0,10,412]
[null,null,{"$f":"IFERROR(VLOOKUP(D4947,'1_Causas_Levantadas'!C:D,2,0),\"\")","v":0},"","",null,11,null,0,11,412]
[null,null,{"$f":"IFERROR(VLOOKUP(D4948,'1_Causas_Levantadas'!C:D,2,0),\"\")","v":0},"","",null,12,null,0,12,412]
[null,null,{"$f":"IFERROR(VLOOKUP(D4949,'1_Causas_Levantadas'!C:D,2,0),\"\")","v":0},"","",null,1,null,1,1,413]
[null,null,{"$f":"IFERROR(VLOOKUP(D4950,'1_Causas_Levantadas'!C:D,2,0),\"\")","v":0},"","",null,2,null,0,2,413]
[null,null,{"$f":"IFERROR(VLOOKUP(D4951,'1_Causas_Levantadas'!C:D,2,0),\"\")","v":0},"","",null,3,null,0,3,413]
[null,null,{"$f":"IFERROR(VLOOKUP(D4952,'1_Causas_Levantadas'!C:D,2,0),\"\")","v":0},"","",null,4,null,0,4,413]
[null,null,{"$f":"IFERROR(VLOOKUP(D4953,'1_Causas_Levantadas'!C:D,2,0),\"\")","v":0},"","",null,5,null,0,5,413]
[null,null,{"$f":"IFERROR(VLOOKUP(D4954,'1_Causas_Levantadas'!C:D,2,0),\"\")","v":0},"","",null,6,null,0,6,413]
[null,null,{"$f":"IFERROR(VLOOKUP(D4955,'1_Causas_Levantadas'!C:D,2,0),\"\")","v":0},"","",null,7,null,0,7,413]
[null,null,{"$f":"IFERROR(VLOOKUP(D4956,'1_Causas_Levantadas'!C:D,2,0),\"\")","v":0},"","",null,8,null,0,8,413]
[null,null,{"$f":"IFERROR(VLOOKUP(D4957,'1_Causas_Levantadas'!C:D,2,0),\"\")","v":0},"","",null,9,null,0,9,413]
[null,null,{"$f":"IFERROR(VLOOKUP(D4958,'1_Causas_Levantadas'!C:D,2,0),\"\")","v":0},"","",null,10,null,0,10,413]
[null,null,{"$f":"IFERROR(VLOOKUP(D4959,'1_Causas_Levantadas'!C:D,2,0),\"\")","v":0},"","",null,11,null,0,11,413]
[null,null,{"$f":"IFERROR(VLOOKUP(D4960,'1_Causas_Levantadas'!C:D,2,0),\"\")","v":0},"","",null,12,null,0,12,413]
[null,null,{"$f":"IFERROR(VLOOKUP(D4961,'1_Causas_Levantadas'!C:D,2,0),\"\")","v":0},"","",null,1,null,1,1,414]
[null,null,{"$f":"IFERROR(VLOOKUP(D4962,'1_Causas_Levantadas'!C:D,2,0),\"\")","v":0},"","",null,2,null,0,2,414]
[null,null,{"$f":"IFERROR(VLOOKUP(D4963,'1_Causas_Levantadas'!C:D,2,0),\"\")","v":0},"","",null,3,null,0,3,414]
[null,null,{"$f":"IFERROR(VLOOKUP(D4964,'1_Causas_Levantadas'!C:D,2,0),\"\")","v":0},"","",null,4,null,0,4,414]
[null,null,{"$f":"IFERROR(VLOOKUP(D4965,'1_Causas_Levantadas'!C:D,2,0),\"\")","v":0},"","",null,5,null,0,5,414]
[null,null,{"$f":"IFERROR(VLOOKUP(D4966,'1_Causas_Levantadas'!C:D,2,0),\"\")","v":0},"","",null,6,null,0,6,414]
[null,null,{"$f":"IFERROR(VLOOKUP(D4967,'1_Causas_Levantadas'!C:D,2,0),\"\")","v":0},"","",null,7,null,0,7,414]
[null,null,{"$f":"IFERROR(VLOOKUP(D4968,'1_Causas_Levantadas'!C:D,2,0),\"\")","v":0},"","",null,8,null,0,8,414]
[null,null,{"$f":"IFERROR(VLOOKUP(D4969,'1_Causas_Levantadas'!C:D,2,0),\"\")","v":0},"","",null,9,null,0,9,414]
[null,null,{"$f":"IFERROR(VLOOKUP(D4970,'1_Causas_Levantadas'!C:D,2,0),\"\")","v":0},"","",null,10,null,0,10,414]
[null,null,{"$f":"IFERROR(VLOOKUP(D4971,'1_Causas_Levantadas'!C:D,2,0),\"\")","v":0},"","",null,11,null,0,11,414]
[null,null,{"$f":"IFERROR(VLOOKUP(D4972,'1_Causas_Levantadas'!C:D,2,0),\"\")","v":0},"","",null,12,null,0,12,414]
[null,null,{"$f":"IFERROR(VLOOKUP(D4973,'1_Causas_Levantadas'!C:D,2,0),\"\")","v":0},"","",null,1,null,1,1,415]
[null,null,{"$f":"IFERROR(VLOOKUP(D4974,'1_Causas_Levantadas'!C:D,2,0),\"\")","v":0},"","",null,2,null,0,2,415]
[null,null,{"$f":"IFERROR(VLOOKUP(D4975,'1_Causas_Levantadas'!C:D,2,0),\"\")","v":0},"","",null,3,null,0,3,415]
[null,null,{"$f":"IFERROR(VLOOKUP(D4976,'1_Causas_Levantadas'!C:D,2,0),\"\")","v":0},"","",null,4,null,0,4,415]
[null,null,{"$f":"IFERROR(VLOOKUP(D4977,'1_Causas_Levantadas'!C:D,2,0),\"\")","v":0},"","",null,5,null,0,5,415]
[null,null,{"$f":"IFERROR(VLOOKUP(D4978,'1_Causas_Levantadas'!C:D,2,0),\"\")","v":0},"","",null,6,null,0,6,415]
[null,null,{"$f":"IFERROR(VLOOKUP(D4979,'1_Causas_Levantadas'!C:D,2,0),\"\")","v":0},"","",null,7,null,0,7,415]
[null,null,{"$f":"IFERROR(VLOOKUP(D4980,'1_Causas_Levantadas'!C:D,2,0),\"\")","v":0},"","",null,8,null,0,8,415]
[null,null,{"$f":"IFERROR(VLOOKUP(D4981,'1_Causas_Levantadas'!C:D,2,0),\"\")","v":0},"","",null,9,null,0,9,415]
[null,null,{"$f":"IFERROR(VLOOKUP(D4982,'1_Causas_Levantadas'!C:D,2,0),\"\")","v":0},"","",null,10,null,0,10,415]
[null,null,{"$f":"IFERROR(VLOOKUP(D4983,'1_Causas_Levantadas'!C:D,2,0),\"\")","v":0},"","",null,11,null,0,11,415]
[null,null,{"$f":"IFERROR(VLOOKUP(D4984,'1_Causas_Levantadas'!C:D,2,0),\"\")","v":0},"","",null,12,null,0,12,415]
[null,null,{"$f":"IFERROR(VLOOKUP(D4985,'1_Causas_Levantadas'!C:D,2,0),\"\")","v":0},"","",null,1,null,1,1,416]
[null,null,{"$f":"IFERROR(VLOOKUP(D4986,'1_Causas_Levantadas'!C:D,2,0),\"\")","v":0},"","",null,2,null,0,2,416]
[null,null,{"$f":"IFERROR(VLOOKUP(D4987,'1_Causas_Levantadas'!C:D,2,0),\"\")","v":0},"","",null,3,null,0,3,416]
[null,null,{"$f":"IFERROR(VLOOKUP(D4988,'1_Causas_Levantadas'!C:D,2,0),\"\")","v":0},"","",null,4,null,0,4,416]
[null,null,{"$f":"IFERROR(VLOOKUP(D4989,'1_Causas_Levantadas'!C:D,2,0),\"\")","v":0},"","",null,5,null,0,5,416]
[null,null,{"$f":"IFERROR(VLOOKUP(D4990,'1_Causas_Levantadas'!C:D,2,0),\"\")","v":0},"","",null,6,null,0,6,416]
[null,null,{"$f":"IFERROR(VLOOKUP(D4991,'1_Causas_Levantadas'!C:D,2,0),\"\")","v":0},"","",null,7,null,0,7,416]
[null,null,{"$f":"IFERROR(VLOOKUP(D4992,'1_Causas_Levantadas'!C:D,2,0),\"\")","v":0},"","",null,8,null,0,8,416]
[null,null,{"$f":"IFERROR(VLOOKUP(D4993,'1_Causas_Levantadas'!C:D,2,0),\"\")","v":0},"","",null,9,null,0,9,416]
[null,null,{"$f":"IFERROR(VLOOKUP(D4994,'1_Causas_Levantadas'!C:D,2,0),\"\")","v":0},"","",null,10,null,0,10,416]
[null,null,{"$f":"IFERROR(VLOOKUP(D4995,'1_Causas_Levantadas'!C:D,2,0),\"\")","v":0},"","",null,11,null,0,11,416]
[null,null,{"$f":"IFERROR(VLOOKUP(D4996,'1_Causas_Levantadas'!C:D,2,0),\"\")","v":0},"","",null,12,null,0,12,416]
[null,null,{"$f":"IFERROR(VLOOKUP(D4997,'1_Causas_Levantadas'!C:D,2,0),\"\")","v":0},"","",null,1,null,1,1,417]
[null,null,{"$f":"IFERROR(VLOOKUP(D4998,'1_Causas_Levantadas'!C:D,2,0),\"\")","v":0},{"$f":"IF(K4998<=$H$4,(IF(G4997>0,G4998,$G$5)),\"\")","v":""},{"$f":"IF(D4998<>\"\",\"Participante \"&K4998,\"\")","v":""},null,{"$f":"J4998","v":2},null,0,2,417]
[null,null,{"$f":"IFERROR(VLOOKUP(D4999,'1_Causas_Levantadas'!C:D,2,0),\"\")","v":0},{"$f":"IF(K4999<=$H$4,(IF(G4998>0,G4999,$G$5)),\"\")","v":""},"",null,{"$f":"J4999","v":3},null,0,{"$f":"IF(G4998<$G$4,J4998+1,1)","v":3},417]
[null,null,{"$f":"IFERROR(VLOOKUP(D5000,'1_Causas_Levantadas'!C:D,2,0),\"\")","v":0},{"$f":"IF(K5000<=$H$4,(IF(G4999>0,G5000,$G$5)),\"\")","v":""},"",null,{"$f":"J5000","v":4},null,0,{"$f":"IF(G4999<$G$4,J4999+1,1)","v":4},417]

{"sheet":"5_Verificar_Votos","index":5,"n_rows":87,"n_cols":18,"rows_kept":87,"cut":false,"hidden":true,"merged":[[4,1,4,5],[6,5,7,5],[12,1,12,5]]}
[]
[]
[]
[null,"Verifique os votos:",null,null,null,null,null,"Total causas",{"$f":"COUNTA('1_Causas_Levantadas'!$D$5:$D$200)","v":12}]
[null,"1. Verifique se a quantidade de votos está correta e compare as notas previstas com as reais. Caso os faróis estiverem verdes, siga para o próximo passo (\"Causas Priorizadas\"). Mas se os faróis estiverem vermelhos, clique em \"Acertar votos\".",null,null,null,null,null,"Causas/part",{"$f":"COUNTA('1_Causas_Levantadas'!$D$5:$D$200)","v":12},null,null,null,null,null,null,"Soma",{"$f":"I8*10+I9*5+I10*3","v":58}]
[]
[null,null,null,null,null,null,null,null,"devem ter/partic","Devem ter total","têm","check",null,null,null,"Participante 1",{"$f":"SUMIF('4_Base_votacao'!E5:E5000,'5_Verificar_Votos'!P7,'4_Base_votacao'!F5:F5000)","v":63},{"$f":"IF(Q7=$Q$5,1,0)","v":0}]
[null,null,null,null,{"$f":"L8","v":0},null,null,"Notas 10",{"$f":"ROUNDDOWN(I5*20%,0)","v":2},{"$f":"I8*'2_Notas_votacao'!C9","v":14},{"$f":"COUNTIF('4_Base_votacao'!F:F,10)","v":3},{"$f":"IF(K8=J8,1,0)","v":0},null,null,null,"Participante 2",{"$f":"SUMIF('4_Base_votacao'!E6:E5001,'5_Verificar_Votos'!P8,'4_Base_votacao'!F6:F5001)","v":0},{"$f":"IF(Q8=$Q$5,1,0)","v":0}]
[null,null,null,null,{"$f":"L9","v":0},null,null,"Notas 5",{"$f":"ROUND(I5*30%,0)","v":4},{"$f":"I9*'2_Notas_votacao'!C9","v":28},{"$f":"COUNTIF('4_Base_votacao'!F:F,5)","v":3},{"$f":"IF(K9=J9,1,0)","v":0},null,null,null,"Participante 3",{"$f":"SUMIF('4_Base_votacao'!E7:E5002,'5_Verificar_Votos'!P9,'4_Base_votacao'!F7:F5002)","v":0},0]
[null,null,null,null,{"$f":"L10","v":0},null,null,"Notas 3",{"$f":"I5-SUM(I8:I9)","v":6},{"$f":"I10*'2_Notas_votacao'!C9","v":42},{"$f":"COUNTIF('4_Base_votacao'!F:F,3)","v":6},{"$f":"IF(K10=J10,1,0)","v":0},null,null,null,"Participante 4",{"$f":"SUMIF('4_Base_votacao'!E8:E5003,'5_Verificar_Votos'!P10,'4_Base_votacao'!F8:F5003)","v":0},0]
[null,null,null,null,null,null,null,null,null,null,null,null,null,null,null,"Participante 5",{"$f":"SUMIF('4_Base_votacao'!E9:E5004,'5_Verificar_Votos'!P11,'4_Base_votacao'!F9:F5004)","v":0},0]
[null,null,null,null,null,null,null,null,null,null,null,null,null,null,null,"Participante 6",{"$f":"SUMIF('4_Base_votacao'!E10:E5005,'5_Verificar_Votos'!P12,'4_Base_votacao'!F10:F5005)","v":0},0]
[null,"2. Verifique qual participante está com o número de votos incorreto.",null,null,null,null,null,null,null,null,null,null,null,null,null,"Participante 7",{"$f":"SUMIF('4_Base_votacao'!E11:E5006,'5_Verificar_Votos'!P13,'4_Base_votacao'!F11:F5006)","v":0},0]
[null,null,null,null,null,null,null,null,null,null,null,null,null,null,null,"Participante 8",{"$f":"SUMIF('4_Base_votacao'!E12:E5007,'5_Verificar_Votos'!P14,'4_Base_votacao'!F12:F5007)","v":0},0]
[null,null,null,null,null,null,null,null,null,null,null,null,null,null,null,"Participante 9",{"$f":"SUMIF('4_Base_votacao'!E13:E5008,'5_Verificar_Votos'!P15,'4_Base_votacao'!F13:F5008)","v":0},0]
[null,null,{"$f":"IF(Q7<>0,P7,\"\")","v":"Participante 1"},{"$f":"IF(Q7<>0,R7,\"\")","v":0},null,null,null,{"$f":"IF(I16=\"\",\"\",IF(I16=$Q$5,1,0))","v":""},{"$f":"IFERROR(VLOOKUP(C16,#REF!,2,0),\"\")","v":""},null,null,null,null,null,null,"Participante 10",{"$f":"SUMIF('4_Base_votacao'!E14:E5009,'5_Verificar_Votos'!P16,'4_Base_votacao'!F14:F5009)","v":0},0]
[null,null,{"$f":"IF(Q8<>0,P8,\"\")","v":""},{"$f":"IF(Q8<>0,R8,\"\")","v":""},null,null,null,"",{"$f":"IFERROR(VLOOKUP(C17,#REF!,2,0),\"\")","v":""},null,null,null,null,null,null,"Participante 11",{"$f":"SUMIF('4_Base_votacao'!E15:E5010,'5_Verificar_Votos'!P17,'4_Base_votacao'!F15:F5010)","v":0},0]
[null,null,"","",null,null,null,"",{"$f":"IFERROR(VLOOKUP(C18,#REF!,2,0),\"\")","v":""},null,null,null,null,null,null,"Participante 12",{"$f":"SUMIF('4_Base_votacao'!E16:E5011,'5_Verificar_Votos'!P18,'4_Base_votacao'!F16:F5011)","v":0},0]
[null,null,"","",null,null,null,"",{"$f":"IFERROR(VLOOKUP(C19,#REF!,2,0),\"\")","v":""},null,null,null,null,null,null,"Participante 13",{"$f":"SUMIF('4_Base_votacao'!E17:E5012,'5_Verificar_Votos'!P19,'4_Base_votacao'!F17:F5012)","v":0},0]
[null,null,"","",null,null,null,"",{"$f":"IFERROR(VLOOKUP(C20,#REF!,2,0),\"\")","v":""},null,null,null,null,null,null,"Participante 14",{"$f":"SUMIF('4_Base_votacao'!E18:E5013,'5_Verificar_Votos'!P20,'4_Base_votacao'!F18:F5013)","v":0},0]
[null,null,"","",null,null,null,"",{"$f":"IFERROR(VLOOKUP(C21,#REF!,2,0),\"\")","v":""},null,null,null,null,null,null,"Participante 15",{"$f":"SUMIF('4_Base_votacao'!E19:E5014,'5_Verificar_Votos'!P21,'4_Base_votacao'!F19:F5014)","v":0},0]
[null,null,"","",null,null,null,"",{"$f":"IFERROR(VLOOKUP(C22,#REF!,2,0),\"\")","v":""}]
[null,null,"","",null,null,null,"",{"$f":"IFERROR(VLOOKUP(C23,#REF!,2,0),\"\")","v":""}]
[null,null,"","",null,null,null,"",{"$f":"IFERROR(VLOOKUP(C24,#REF!,2,0),\"\")","v":""}]
[null,null,"","",null,null,null,"",{"$f":"IFERROR(VLOOKUP(C25,#REF!,2,0),\"\")","v":""}]
[null,null,"","",null,null,null,"",{"$f":"IFERROR(VLOOKUP(C26,#REF!,2,0),\"\")","v":""}]
[null,null,"","",null,null,null,"",{"$f":"IFERROR(VLOOKUP(C27,#REF!,2,0),\"\")","v":""}]
[null,null,"","",null,null,null,"",{"$f":"IFERROR(VLOOKUP(C28,#REF!,2,0),\"\")","v":""}]
[null,null,"","",null,null,null,"",{"$f":"IFERROR(VLOOKUP(C29,#REF!,2,0),\"\")","v":""}]
[null,null,"","",null,null,null,"",{"$f":"IFERROR(VLOOKUP(C30,#REF!,2,0),\"\")","v":""}]
[null,null,null,{"$f":"H31","v":""},null,null,null,"",{"$f":"IFERROR(VLOOKUP(C31,#REF!,2,0),\"\")","v":""}]
[null,null,null,"",null,null,null,"",{"$f":"IFERROR(VLOOKUP(C32,#REF!,2,0),\"\")","v":""}]
[null,null,null,"",null,null,null,"",{"$f":"IFERROR(VLOOKUP(C33,#REF!,2,0),\"\")","v":""}]
[null,null,null,"",null,null,null,"",{"$f":"IFERROR(VLOOKUP(C34,#REF!,2,0),\"\")","v":""}]
[null,null,null,"",null,null,null,"",{"$f":"IFERROR(VLOOKUP(C35,#REF!,2,0),\"\")","v":""}]
[null,null,null,"",null,null,null,"",{"$f":"IFERROR(VLOOKUP(C36,#REF!,2,0),\"\")","v":""}]
[null,null,null,"",null,null,null,"",{"$f":"IFERROR(VLOOKUP(C37,#REF!,2,0),\"\")","v":""}]
[null,null,null,"",null,null,null,"",{"$f":"IFERROR(VLOOKUP(C38,#REF!,2,0),\"\")","v":""}]
[null,null,null,"",null,null,null,"",{"$f":"IFERROR(VLOOKUP(C39,#REF!,2,0),\"\")","v":""}]
[null,null,null,"",null,null,null,"",{"$f":"IFERROR(VLOOKUP(C40,#REF!,2,0),\"\")","v":""}]
[null,null,null,"",null,null,null,"",{"$f":"IFERROR(VLOOKUP(C41,#REF!,2,0),\"\")","v":""}]
[null,null,null,"",null,null,null,"",{"$f":"IFERROR(VLOOKUP(C42,#REF!,2,0),\"\")","v":""}]
[null,null,null,"",null,null,null,"",{"$f":"IFERROR(VLOOKUP(C43,#REF!,2,0),\"\")","v":""}]
[null,null,null,"",null,null,null,"",{"$f":"IFERROR(VLOOKUP(C44,#REF!,2,0),\"\")","v":""}]
[null,null,null,"",null,null,null,"",{"$f":"IFERROR(VLOOKUP(C45,#REF!,2,0),\"\")","v":""}]
[null,null,null,"",null,null,null,"",{"$f":"IFERROR(VLOOKUP(C46,#REF!,2,0),\"\")","v":""}]
[null,null,null,"",null,null,null,"",{"$f":"IFERROR(VLOOKUP(C47,#REF!,2,0),\"\")","v":""}]
[null,null,null,"",null,null,null,{"$f":"IF(I48=\"\",\"\",IF(I48=$Q$5,1,0))","v":""},{"$f":"IFERROR(VLOOKUP(C48,#REF!,2,0),\"\")","v":""}]
[null,null,null,"",null,null,null,"",{"$f":"IFERROR(VLOOKUP(C49,#REF!,2,0),\"\")","v":""}]
[null,null,null,"",null,null,null,"",{"$f":"IFERROR(VLOOKUP(C50,#REF!,2,0),\"\")","v":""}]
[null,null,null,"",null,null,null,"",{"$f":"IFERROR(VLOOKUP(C51,#REF!,2,0),\"\")","v":""}]
[null,null,null,"",null,null,null,"",{"$f":"IFERROR(VLOOKUP(C52,#REF!,2,0),\"\")","v":""}]
[null,null,null,"",null,null,null,"",{"$f":"IFERROR(VLOOKUP(C53,#REF!,2,0),\"\")","v":""}]
[null,null,null,"",null,null,null,"",{"$f":"IFERROR(VLOOKUP(C54,#REF!,2,0),\"\")","v":""}]
[null,null,null,"",null,null,null,"",{"$f":"IFERROR(VLOOKUP(C55,#REF!,2,0),\"\")","v":""}]
[null,null,null,"",null,null,null,"",{"$f":"IFERROR(VLOOKUP(C56,#REF!,2,0),\"\")","v":""}]
[null,null,null,"",null,null,null,"",{"$f":"IFERROR(VLOOKUP(C57,#REF!,2,0),\"\")","v":""}]
[null,null,null,"",null,null,null,"",{"$f":"IFERROR(VLOOKUP(C58,#REF!,2,0),\"\")","v":""}]
[null,null,null,"",null,null,null,"",{"$f":"IFERROR(VLOOKUP(C59,#REF!,2,0),\"\")","v":""}]
[null,null,null,"",null,null,null,"",{"$f":"IFERROR(VLOOKUP(C60,#REF!,2,0),\"\")","v":""}]
[null,null,null,"",null,null,null,"",{"$f":"IFERROR(VLOOKUP(C61,#REF!,2,0),\"\")","v":""}]
[null,null,null,"",null,null,null,"",{"$f":"IFERROR(VLOOKUP(C62,#REF!,2,0),\"\")","v":""}]
[null,null,null,"",null,null,null,"",{"$f":"IFERROR(VLOOKUP(C63,#REF!,2,0),\"\")","v":""}]
[null,null,null,"",null,null,null,"",{"$f":"IFERROR(VLOOKUP(C64,#REF!,2,0),\"\")","v":""}]
[null,null,null,"",null,null,null,"",{"$f":"IFERROR(VLOOKUP(C65,#REF!,2,0),\"\")","v":""}]
[null,null,null,"",null,null,null,"",{"$f":"IFERROR(VLOOKUP(C66,#REF!,2,0),\"\")","v":""}]
[null,null,null,"",null,null,null,"",{"$f":"IFERROR(VLOOKUP(C67,#REF!,2,0),\"\")","v":""}]
[null,null,null,"",null,null,null,"",{"$f":"IFERROR(VLOOKUP(C68,#REF!,2,0),\"\")","v":""}]
[null,null,null,"",null,null,null,"",{"$f":"IFERROR(VLOOKUP(C69,#REF!,2,0),\"\")","v":""}]
[null,null,null,{"$error":"#REF!"},null,null,null,{"$f":"IF(#REF!=\"\",\"\",IF(#REF!=$Q$5,1,0))","v":{"$error":"#REF!"}},{"$f":"IFERROR(VLOOKUP(C70,#REF!,2,0),\"\")","v":""}]
[null,null,null,{"$error":"#REF!"},null,null,null,{"$f":"IF(#REF!=\"\",\"\",IF(#REF!=$Q$5,1,0))","v":{"$error":"#REF!"}},{"$f":"IFERROR(VLOOKUP(C71,#REF!,2,0),\"\")","v":""}]
[null,null,null,{"$error":"#REF!"},null,null,null,{"$f":"IF(#REF!=\"\",\"\",IF(#REF!=$Q$5,1,0))","v":{"$error":"#REF!"}},{"$f":"IFERROR(VLOOKUP(C72,#REF!,2,0),\"\")","v":""}]
[null,null,null,null,null,null,null,null,{"$f":"IFERROR(VLOOKUP(C73,#REF!,2,0),\"\")","v":""}]
[null,null,null,null,null,null,null,null,{"$f":"IFERROR(VLOOKUP(C74,#REF!,2,0),\"\")","v":""}]
[null,null,null,null,null,null,null,null,{"$f":"IFERROR(VLOOKUP(C75,#REF!,2,0),\"\")","v":""}]
[null,null,null,null,null,null,null,null,{"$f":"IFERROR(VLOOKUP(C76,#REF!,2,0),\"\")","v":""}]
[null,null,null,null,null,null,null,null,{"$f":"IFERROR(VLOOKUP(C77,#REF!,2,0),\"\")","v":""}]
[null,null,null,null,null,null,null,null,{"$f":"IFERROR(VLOOKUP(C78,#REF!,2,0),\"\")","v":""}]
[null,null,null,null,null,null,null,null,{"$f":"IFERROR(VLOOKUP(C79,#REF!,2,0),\"\")","v":""}]
[null,null,null,null,null,null,null,null,{"$f":"IFERROR(VLOOKUP(C80,#REF!,2,0),\"\")","v":""}]
[null,null,null,null,null,null,null,null,{"$f":"IFERROR(VLOOKUP(C81,#REF!,2,0),\"\")","v":""}]
[null,null,null,null,null,null,null,null,{"$f":"IFERROR(VLOOKUP(C82,#REF!,2,0),\"\")","v":""}]
[null,null,null,null,null,null,null,null,{"$f":"IFERROR(VLOOKUP(C83,#REF!,2,0),\"\")","v":""}]
[null,null,null,null,null,null,null,null,{"$f":"IFERROR(VLOOKUP(C84,#REF!,2,0),\"\")","v":""}]
[null,null,null,null,null,null,null,null,{"$f":"IFERROR(VLOOKUP(C85,#REF!,2,0),\"\")","v":""}]
[null,null,null,null,null,null,null,null,{"$f":"IFERROR(VLOOKUP(C86,#REF!,2,0),\"\")","v":""}]
[null,null,null,null,null,null,null,null,{"$f":"IFERROR(VLOOKUP(C87,#REF!,2,0),\"\")","v":""}]

{"sheet":"6_Causas_Priorizadas","index":6,"n_rows":100,"n_cols":4,"rows_kept":100,"cut":false,"hidden":true,"merged":[]}
[]
[]
[null,null,"Nota-Corte:",{"$f":"IFERROR(MIN('2_Notas_votacao'!$C$9*5,LARGE($C$5:$C$100,6)),\"\")","v":5}]
[null,"Causa","Soma de Nota","Priorizado"]
[null,"Causa exemplo 2",10,{"$f":"IF(OR(B5=\"\",B5=\"Total Geral\"),\"\",IF(C5>=$D$3,\"Sim\",\"Não\"))","v":"Sim"}]
[null,"Causa exemplo 1",10,"Sim"]
[null,"Causa exemplo 3",10,"Sim"]
[null,"Causa exemplo 5",5,"Sim"]
[null,"Causa exemplo 4",5,"Sim"]
[null,"Causa exemplo 6",5,"Sim"]
[null,"Causa exemplo 10",3,"Não"]
[null,"Causa exemplo 12",3,"Não"]
[null,"Causa exemplo 11",3,"Não"]
[null,"Causa exemplo 8",3,"Não"]
[null,"Causa exemplo 7",3,"Não"]
[null,"Causa exemplo 9",3,"Não"]
[null,"Total Geral",63,""]
[null,null,null,""]
[null,null,null,""]
[null,null,null,""]
[null,null,null,""]
[null,null,null,""]
[null,null,null,""]
[null,null,null,""]
[null,null,null,""]
[null,null,null,""]
[null,null,null,""]
[null,null,null,""]
[null,null,null,""]
[null,null,null,""]
[null,null,null,""]
[null,null,null,""]
[null,null,null,""]
[null,null,null,""]
[null,null,null,""]
[null,null,null,""]
[null,null,null,""]
[null,null,null,""]
[null,null,null,""]
[null,null,null,""]
[null,null,null,""]
[null,null,null,""]
[null,null,null,""]
[null,null,null,""]
[null,null,null,""]
[null,null,null,""]
[null,null,null,""]
[null,null,null,""]
[null,null,null,""]
[null,null,null,""]
[null,null,null,""]
[null,null,null,""]
[null,null,null,""]
[null,null,null,""]
[null,null,null,""]
[null,null,null,""]
[null,null,null,""]
[null,null,null,""]
[null,null,null,""]
[null,null,null,""]
[null,null,null,""]
[null,null,null,""]
[null,null,null,""]
[null,null,null,""]
[null,null,null,""]
[null,null,null,""]
[null,null,null,""]
[null,null,null,""]
[null,null,null,{"$f":"IF(OR(B69=\"\",B69=\"Total Geral\"),\"\",IF(C69>=$D$3,\"Sim\",\"Não\"))","v":""}]
[null,null,null,""]
[null,null,null,""]
[null,null,null,""]
[null,null,null,""]
[null,null,null,""]
[null,null,null,""]
[null,null,null,""]
[null,null,null,""]
[null,null,null,""]
[null,null,null,""]
[null,null,null,""]
[null,null,null,""]
[null,null,null,""]
[null,null,null,""]
[null,null,null,""]
[null,null,null,""]
[null,null,null,""]
[null,null,null,""]
[null,null,null,""]
[null,null,null,""]
[null,null,null,""]
[null,null,null,""]
[null,null,null,""]
[null,null,null,""]
[null,null,null,""]
[null,null,null,""]
[null,null,null,""]
[null,null,null,""]
[null,null,null,""]
[null,null,null,""]
[null,null,null,""]

{"sheet":"Habilitar Macro","index":7,"n_rows":0,"n_cols":0,"rows_kept":0,"cut":false,"hidden":false,"merged":[]}

{"sheet":"Ajuda","index":8,"n_rows":0,"n_cols":0,"rows_kept":0,"cut":false,"hidden":false,"merged":[]}