{"text_format":"1","workbook":"xlsx","n_sheets":9,"sheets":["Capa","1_Causas_Levantadas","2_Notas_votacao","3_Ordem_Votacao","4_Base_votacao","5_Verificar_Votos","6_Causas_Priorizadas","Habilitar Macro","Ajuda"],"not_rendered":{"charts":0,"images":16,"macros":1,"external_links":2,"defined_names":29,"comments":0,"pivot_tables":2},"unopened":[],"bounds":{"document_bytes":16777216,"sheet_cells":100000,"rows_first":2000,"rows_last":500,"rows_between":2000,"halvings":0,"cell_chars":16384,"cell_head_chars":4096},"cells_cut":0,"cells_raw":0,"read":"whole","date_system":"1900"}

{"sheet":"Capa","index":0,"n_rows":0,"n_cols":0,"rows_kept":0,"cut":false,"hidden":true,"merged":[]}

{"sheet":"1_Causas_Levantadas","index":1,"n_rows":200,"n_cols":5,"rows_kept":200,"cut":false,"hidden":true,"merged":[]}
[]
[]
[]
[null,null,"# Causa","Causa"]
[null,null,{"$f":"IF(D5=\"\",\"\",1)","v":""},null,{"$f":"COUNT(C5:C200)-1","v":-1}]
[null,null,{"$f":"IFERROR(IF(D6=\"\",\"\",C5+1),\"Erro\")","v":""}]
[null,null,{"$f":"IFERROR(IF(D7=\"\",\"\",C6+1),\"Erro\")","v":""}]
[null,null,""]
[null,null,""]
[null,null,""]
[null,null,""]
[null,null,""]
[null,null,""]
[null,null,""]
[null,null,""]
[null,null,""]
[null,null,""]
[null,null,""]
[null,null,""]
[null,null,""]
[null,null,""]
[null,null,""]
[null,null,""]
[null,null,""]
[null,null,""]
[null,null,""]
[null,null,""]
[null,null,""]
[null,null,""]
[null,null,""]
[null,null,""]
[null,null,""]
[null,null,""]
[null,null,""]
[null,null,""]
[null,null,""]
[null,null,""]
[null,null,""]
[null,null,""]
[null,null,""]
[null,null,""]
[null,null,""]
[null,null,""]
[null,null,""]
[null,null,""]
[null,null,""]
[null,null,""]
[null,null,""]
[null,null,""]
[null,null,""]
[null,null,""]
[null,null,""]
[null,null,""]
[null,null,""]
[null,null,""]
[null,null,""]
[null,null,""]
[null,null,""]
[null,null,""]
[null,null,""]
[null,null,""]
[null,null,""]
[null,null,""]
[null,null,""]
[null,null,""]
[null,null,""]
[null,null,""]
[null,null,""]
[null,null,""]
[null,null,""]
[null,null,{"$f":"IFERROR(IF(D71=\"\",\"\",C70+1),\"Erro\")","v":""}]
[null,null,""]
[null,null,""]
[null,null,""]
[null,null,""]
[null,null,""]
[null,null,""]
[null,null,""]
[null,null,""]
[null,null,""]
[null,null,""]
[null,null,""]
[null,null,""]
[null,null,""]
[null,null,""]
[null,null,""]
[null,null,""]
[null,null,""]
[null,null,""]
[null,null,""]
[null,null,""]
[null,null,""]
[null,null,""]
[null,null,""]
[null,null,""]
[null,null,""]
[null,null,""]
[null,null,""]
[null,null,""]
[null,null,""]
[null,null,""]
[null,null,""]
[null,null,""]
[null,null,""]
[null,null,""]
[null,null,""]
[null,null,""]
[null,null,""]
[null,null,""]
[null,null,""]
[null,null,""]
[null,null,""]
[null,null,""]
[null,null,""]
[null,null,""]
[null,null,""]
[null,null,""]
[null,null,""]
[null,null,""]
[null,null,""]
[null,null,""]
[null,null,""]
[null,null,""]
[null,null,""]
[null,null,""]
[null,null,""]
[null,null,""]
[null,null,""]
[null,null,""]
[null,null,""]
[null,null,""]
[null,null,""]
[null,null,""]
[null,null,""]
[null,null,{"$f":"IFERROR(IF(D135=\"\",\"\",C134+1),\"Erro\")","v":""}]
[null,null,""]
[null,null,""]
[null,null,""]
[null,null,""]
[null,null,""]
[null,null,""]
[null,null,""]
[null,null,""]
[null,null,""]
[null,null,""]
[null,null,""]
[null,null,""]
[null,null,""]
[null,null,""]
[null,null,""]
[null,null,""]
[null,null,""]
[null,null,""]
[null,null,""]
[null,null,""]
[null,null,""]
[null,null,""]
[null,null,""]
[null,null,""]
[null,null,""]
[null,null,""]
[null,null,""]
[null,null,""]
[null,null,""]
[null,null,""]
[null,null,""]
[null,null,""]
[null,null,""]
[null,null,""]
[null,null,""]
[null,null,""]
[null,null,""]
[null,null,""]
[null,null,""]
[null,null,""]
[null,null,""]
[null,null,""]
[null,null,""]
[null,null,""]
[null,null,""]
[null,null,""]
[null,null,""]
[null,null,""]
[null,null,""]
[null,null,""]
[null,null,""]
[null,null,""]
[null,null,""]
[null,null,""]
[null,null,""]
[null,null,""]
[null,null,""]
[null,null,""]
[null,null,""]
[null,null,""]
[null,null,""]
[null,null,""]
[null,null,""]
[null,null,{"$f":"IFERROR(IF(D199=\"\",\"\",C198+1),\"Erro\")","v":""}]
[null,null,""]

{"sheet":"2_Notas_votacao","index":2,"n_rows":10,"n_cols":12,"rows_kept":10,"cut":false,"hidden":true,"merged":[[4,1,4,5],[6,5,7,5]]}
[]
[]
[]
[null,"Instruções para priorização:",null,null,null,null,null,"Total causas",{"$f":"COUNTA('1_Causas_Levantadas'!$D$5:$D$200)","v":0}]
[null,"   1. Informe o número de participantes abaixo:            2. As notas devem ser dadas e distribuídas de acordo com a tabela abaixo:",null,null,null,null,null,"Causas/part",{"$f":"COUNTA('1_Causas_Levantadas'!$D$5:$D$200)","v":0}]
[]
[null,null,null,null,null,null,null,null,"devem ter/partic","Devem ter total","têm","check"]
[null,null,null,null,null,null,null,"Notas 10",{"$f":"ROUNDDOWN(I5*20%,0)","v":0},{"$f":"I8*$C$9","v":0},{"$f":"COUNTIF('4_Base_votacao'!F:F,10)","v":0},{"$f":"IF(K8=J8,1,0)","v":1}]
[null,null,6,null,null,null,null,"Notas 5",{"$f":"ROUND(I5*30%,0)","v":0},{"$f":"I9*$C$9","v":0},{"$f":"COUNTIF('4_Base_votacao'!F:F,5)","v":0},{"$f":"IF(K9=J9,1,0)","v":1}]
[null,null,null,null,null,null,null,"Notas 3",{"$f":"I5-SUM(I8:I9)","v":0},{"$f":"I10*$C$9","v":0},{"$f":"COUNTIF('4_Base_votacao'!F:F,3)","v":0},{"$f":"IF(K10=J10,1,0)","v":1}]

{"sheet":"3_Ordem_Votacao","index":3,"n_rows":5,"n_cols":3,"rows_kept":5,"cut":false,"hidden":true,"merged":[]}
[]
[]
[]
[null,"# Causa","Causa"]
[null,"","(vazio)"]

{"sheet":"4_Base_votacao","index":4,"n_rows":5000,"n_cols":11,"rows_kept":5000,"cut":false,"hidden":true,"merged":[]}
[]
[]
[]
[null,null,"Causa","# Causa","Participante","Nota",{"$f":"'1_Causas_Levantadas'!$E$5+1","v":0},{"$f":"'2_Notas_votacao'!C9","v":6}]
[null,null,{"$f":"IFERROR(VLOOKUP(D5,'1_Causas_Levantadas'!C:D,2,0),\"\")","v":""},{"$f":"IF(K5<=$H$4,(IF(G4>0,G5,$G$5)),\"\")","v":1},{"$f":"IF(D5<>\"\",\"Participante \"&K5,\"\")","v":"Participante 1"},null,{"$f":"J5","v":1},{"$f":"'2_Notas_votacao'!C9","v":6},1,1,{"$f":"I5","v":1}]
[null,null,{"$f":"IFERROR(VLOOKUP(D6,'1_Causas_Levantadas'!C:D,2,0),\"\")","v":""},{"$f":"IF(K6<=$H$4,(IF(G5>0,G6,$G$5)),\"\")","v":1},{"$f":"IF(D6<>\"\",\"Participante \"&K6,\"\")","v":"Participante 2"},null,{"$f":"J6","v":1},null,{"$f":"IF(G6=$G$5,1,0)","v":1},{"$f":"IF(G5<$G$4,J5+1,1)","v":1},{"$f":"I6+K5","v":2}]
[null,null,{"$f":"IFERROR(VLOOKUP(D7,'1_Causas_Levantadas'!C:D,2,0),\"\")","v":""},1,"Participante 3",null,1,null,1,{"$f":"IF(G6<$G$4,J6+1,1)","v":1},3]
[null,null,{"$f":"IFERROR(VLOOKUP(D8,'1_Causas_Levantadas'!C:D,2,0),\"\")","v":""},1,"Participante 4",null,1,null,1,1,4]
[null,null,{"$f":"IFERROR(VLOOKUP(D9,'1_Causas_Levantadas'!C:D,2,0),\"\")","v":""},1,"Participante 5",null,1,null,1,1,5]
[null,null,{"$f":"IFERROR(VLOOKUP(D10,'1_Causas_Levantadas'!C:D,2,0),\"\")","v":""},1,"Participante 6",null,1,null,1,1,6]
[null,null,{"$f":"IFERROR(VLOOKUP(D11,'1_Causas_Levantadas'!C:D,2,0),\"\")","v":0},"","",null,1,null,1,1,7]
[null,null,{"$f":"IFERROR(VLOOKUP(D12,'1_Causas_Levantadas'!C:D,2,0),\"\")","v":0},"","",null,1,null,1,1,8]
[null,null,{"$f":"IFERROR(VLOOKUP(D13,'1_Causas_Levantadas'!C:D,2,0),\"\")","v":0},"","",null,1,null,1,1,9]
[null,null,{"$f":"IFERROR(VLOOKUP(D14,'1_Causas_Levantadas'!C:D,2,0),\"\")","v":0},"","",null,1,null,1,1,10]
[null,null,{"$f":"IFERROR(VLOOKUP(D15,'1_Causas_Levantadas'!C:D,2,0),\"\")","v":0},"","",null,1,null,1,1,11]
[null,null,{"$f":"IFERROR(VLOOKUP(D16,'1_Causas_Levantadas'!C:D,2,0),\"\")","v":0},"","",null,1,null,1,1,12]
[null,null,{"$f":"IFERROR(VLOOKUP(D17,'1_Causas_Levantadas'!C:D,2,0),\"\")","v":0},"","",null,1,null,1,1,13]
[null,null,{"$f":"IFERROR(VLOOKUP(D18,'1_Causas_Levantadas'!C:D,2,0),\"\")","v":0},"","",null,1,null,1,1,14]
[null,null,{"$f":"IFERROR(VLOOKUP(D19,'1_Causas_Levantadas'!C:D,2,0),\"\")","v":0},"","",null,1,null,1,1,15]
[null,null,{"$f":"IFERROR(VLOOKUP(D20,'1_Causas_Levantadas'!C:D,2,0),\"\")","v":0},"","",null,1,null,1,1,16]
[null,null,{"$f":"IFERROR(VLOOKUP(D21,'1_Causas_Levantadas'!C:D,2,0),\"\")","v":0},"","",null,1,null,1,1,17]
[null,null,{"$f":"IFERROR(VLOOKUP(D22,'1_Causas_Levantadas'!C:D,2,0),\"\")","v":0},"","",null,1,null,1,1,18]
[null,null,{"$f":"IFERROR(VLOOKUP(D23,'1_Causas_Levantadas'!C:D,2,0),\"\")","v":0},"","",null,1,null,1,1,19]
[null,null,{"$f":"IFERROR(VLOOKUP(D24,'1_Causas_Levantadas'!C:D,2,0),\"\")","v":0},"","",null,1,null,1,1,20]
[null,null,{"$f":"IFERROR(VLOOKUP(D25,'1_Causas_Levantadas'!C:D,2,0),\"\")","v":0},"","",null,1,null,1,1,21]
[null,null,{"$f":"IFERROR(VLOOKUP(D26,'1_Causas_Levantadas'!C:D,2,0),\"\")","v":0},"","",null,1,null,1,1,22]
[null,null,{"$f":"IFERROR(VLOOKUP(D27,'1_Causas_Levantadas'!C:D,2,0),\"\")","v":0},"","",null,1,null,1,1,23]
[null,null,{"$f":"IFERROR(VLOOKUP(D28,'1_Causas_Levantadas'!C:D,2,0),\"\")","v":0},"","",null,1,null,1,1,24]
[null,null,{"$f":"IFERROR(VLOOKUP(D29,'1_Causas_Levantadas'!C:D,2,0),\"\")","v":0},"","",null,1,null,1,1,25]
[null,null,{"$f":"IFERROR(VLOOKUP(D30,'1_Causas_Levantadas'!C:D,2,0),\"\")","v":0},"","",null,1,null,1,1,26]
[null,null,{"$f":"IFERROR(VLOOKUP(D31,'1_Causas_Levantadas'!C:D,2,0),\"\")","v":0},"","",null,1,null,1,1,27]
[null,null,{"$f":"IFERROR(VLOOKUP(D32,'1_Causas_Levantadas'!C:D,2,0),\"\")","v":0},"","",null,1,null,1,1,28]
[null,null,{"$f":"IFERROR(VLOOKUP(D33,'1_Causas_Levantadas'!C:D,2,0),\"\")","v":0},"","",null,1,null,1,1,29]
[null,null,{"$f":"IFERROR(VLOOKUP(D34,'1_Causas_Levantadas'!C:D,2,0),\"\")","v":0},"","",null,1,null,1,1,30]
[null,null,{"$f":"IFERROR(VLOOKUP(D35,'1_Causas_Levantadas'!C:D,2,0),\"\")","v":0},"","",null,1,null,1,1,31]
[null,null,{"$f":"IFERROR(VLOOKUP(D36,'1_Causas_Levantadas'!C:D,2,0),\"\")","v":0},"","",null,1,null,1,1,32]
[null,null,{"$f":"IFERROR(VLOOKUP(D37,'1_Causas_Levantadas'!C:D,2,0),\"\")","v":0},"","",null,1,null,1,1,33]
[null,null,{"$f":"IFERROR(VLOOKUP(D38,'1_Causas_Levantadas'!C:D,2,0),\"\")","v":0},"","",null,1,null,1,1,34]
[null,null,{"$f":"IFERROR(VLOOKUP(D39,'1_Causas_Levantadas'!C:D,2,0),\"\")","v":0},"","",null,1,null,1,1,35]
[null,null,{"$f":"IFERROR(VLOOKUP(D40,'1_Causas_Levantadas'!C:D,2,0),\"\")","v":0},"","",null,1,null,1,1,36]
[null,null,{"$f":"IFERROR(VLOOKUP(D41,'1_Causas_Levantadas'!C:D,2,0),\"\")","v":0},"","",null,1,null,1,1,37]
[null,null,{"$f":"IFERROR(VLOOKUP(D42,'1_Causas_Levantadas'!C:D,2,0),\"\")","v":0},"","",null,1,null,1,1,38]
[null,null,{"$f":"IFERROR(VLOOKUP(D43,'1_Causas_Levantadas'!C:D,2,0),\"\")","v":0},"","",null,1,null,1,1,39]
[null,null,{"$f":"IFERROR(VLOOKUP(D44,'1_Causas_Levantadas'!C:D,2,0),\"\")","v":0},"","",null,1,null,1,1,40]
[null,null,{"$f":"IFERROR(VLOOKUP(D45,'1_Causas_Levantadas'!C:D,2,0),\"\")","v":0},"","",null,1,null,1,1,41]
[null,null,{"$f":"IFERROR(VLOOKUP(D46,'1_Causas_Levantadas'!C:D,2,0),\"\")","v":0},"","",null,1,null,1,1,42]
[null,null,{"$f":"IFERROR(VLOOKUP(D47,'1_Causas_Levantadas'!C:D,2,0),\"\")","v":0},"","",null,1,null,1,1,43]
[null,null,{"$f":"IFERROR(VLOOKUP(D48,'1_Causas_Levantadas'!C:D,2,0),\"\")","v":0},"","",null,1,null,1,1,44]
[null,null,{"$f":"IFERROR(VLOOKUP(D49,'1_Causas_Levantadas'!C:D,2,0),\"\")","v":0},"","",null,1,null,1,1,45]
[null,null,{"$f":"IFERROR(VLOOKUP(D50,'1_Causas_Levantadas'!C:D,2,0),\"\")","v":0},"","",null,1,null,1,1,46]
[null,null,{"$f":"IFERROR(VLOOKUP(D51,'1_Causas_Levantadas'!C:D,2,0),\"\")","v":0},"","",null,1,null,1,1,47]
[null,null,{"$f":"IFERROR(VLOOKUP(D52,'1_Causas_Levantadas'!C:D,2,0),\"\")","v":0},"","",null,1,null,1,1,48]
[null,null,{"$f":"IFERROR(VLOOKUP(D53,'1_Causas_Levantadas'!C:D,2,0),\"\")","v":0},"","",null,1,null,1,1,49]
[null,null,{"$f":"IFERROR(VLOOKUP(D54,'1_Causas_Levantadas'!C:D,2,0),\"\")","v":0},"","",null,1,null,1,1,50]
[null,null,{"$f":"IFERROR(VLOOKUP(D55,'1_Causas_Levantadas'!C:D,2,0),\"\")","v":0},"","",null,1,null,1,1,51]
[null,null,{"$f":"IFERROR(VLOOKUP(D56,'1_Causas_Levantadas'!C:D,2,0),\"\")","v":0},"","",null,1,null,1,1,52]
[null,null,{"$f":"IFERROR(VLOOKUP(D57,'1_Causas_Levantadas'!C:D,2,0),\"\")","v":0},"","",null,1,null,1,1,53]
[null,null,{"$f":"IFERROR(VLOOKUP(D58,'1_Causas_Levantadas'!C:D,2,0),\"\")","v":0},"","",null,1,null,1,1,54]
[null,null,{"$f":"IFERROR(VLOOKUP(D59,'1_Causas_Levantadas'!C:D,2,0),\"\")","v":0},"","",null,1,null,1,1,55]
[null,null,{"$f":"IFERROR(VLOOKUP(D60,'1_Causas_Levantadas'!C:D,2,0),\"\")","v":0},"","",null,1,null,1,1,56]
[null,null,{"$f":"IFERROR(VLOOKUP(D61,'1_Causas_Levantadas'!C:D,2,0),\"\")","v":0},"","",null,1,null,1,1,57]
[null,null,{"$f":"IFERROR(VLOOKUP(D62,'1_Causas_Levantadas'!C:D,2,0),\"\")","v":0},"","",null,1,null,1,1,58]
[null,null,{"$f":"IFERROR(VLOOKUP(D63,'1_Causas_Levantadas'!C:D,2,0),\"\")","v":0},"","",null,1,null,1,1,59]
[null,null,{"$f":"IFERROR(VLOOKUP(D64,'1_Causas_Levantadas'!C:D,2,0),\"\")","v":0},"","",null,1,null,1,1,60]
[null,null,{"$f":"IFERROR(VLOOKUP(D65,'1_Causas_Levantadas'!C:D,2,0),\"\")","v":0},"","",null,1,null,1,1,61]
[null,null,{"$f":"IFERROR(VLOOKUP(D66,'1_Causas_Levantadas'!C:D,2,0),\"\")","v":0},"","",null,1,null,1,1,62]
[null,null,{"$f":"IFERROR(VLOOKUP(D67,'1_Causas_Levantadas'!C:D,2,0),\"\")","v":0},"","",null,1,null,1,1,63]
[null,null,{"$f":"IFERROR(VLOOKUP(D68,'1_Causas_Levantadas'!C:D,2,0),\"\")","v":0},"","",null,1,null,1,1,64]
[null,null,{"$f":"IFERROR(VLOOKUP(D69,'1_Causas_Levantadas'!C:D,2,0),\"\")","v":0},"","",null,1,null,1,1,65]
[null,null,{"$f":"IFERROR(VLOOKUP(D70,'1_Causas_Levantadas'!C:D,2,0),\"\")","v":0},{"$f":"IF(K70<=$H$4,(IF(G69>0,G70,$G$5)),\"\")","v":""},{"$f":"IF(D70<>\"\",\"Participante \"&K70,\"\")","v":""},null,{"$f":"J70","v":1},null,{"$f":"IF(G70=$G$5,1,0)","v":1},1,{"$f":"I70+K69","v":66}]
[null,null,{"$f":"IFERROR(VLOOKUP(D71,'1_Causas_Levantadas'!C:D,2,0),\"\")","v":0},"","",null,1,null,1,{"$f":"IF(G70<$G$4,J70+1,1)","v":1},67]
[null,null,{"$f":"IFERROR(VLOOKUP(D72,'1_Causas_Levantadas'!C:D,2,0),\"\")","v":0},"","",null,1,null,1,1,68]
[null,null,{"$f":"IFERROR(VLOOKUP(D73,'1_Causas_Levantadas'!C:D,2,0),\"\")","v":0},"","",null,1,null,1,1,69]
[null,null,{"$f":"IFERROR(VLOOKUP(D74,'1_Causas_Levantadas'!C:D,2,0),\"\")","v":0},"","",null,1,null,1,1,70]
[null,null,{"$f":"IFERROR(VLOOKUP(D75,'1_Causas_Levantadas'!C:D,2,0),\"\")","v":0},"","",null,1,null,1,1,71]
[null,null,{"$f":"IFERROR(VLOOKUP(D76,'1_Causas_Levantadas'!C:D,2,0),\"\")","v":0},"","",null,1,null,1,1,72]
[null,null,{"$f":"IFERROR(VLOOKUP(D77,'1_Causas_Levantadas'!C:D,2,0),\"\")","v":0},"","",null,1,null,1,1,73]
[null,null,{"$f":"IFERROR(VLOOKUP(D78,'1_Causas_Levantadas'!C:D,2,0),\"\")","v":0},"","",null,1,null,1,1,74]
[null,null,{"$f":"IFERROR(VLOOKUP(D79,'1_Causas_Levantadas'!C:D,2,0),\"\")","v":0},"","",null,1,null,1,1,75]
[null,null,{"$f":"IFERROR(VLOOKUP(D80,'1_Causas_Levantadas'!C:D,2,0),\"\")","v":0},"","",null,1,null,1,1,76]
[null,null,{"$f":"IFERROR(VLOOKUP(D81,'1_Causas_Levantadas'!C:D,2,0),\"\")","v":0},"","",null,1,null,1,1,77]
[null,null,{"$f":"IFERROR(VLOOKUP(D82,'1_Causas_Levantadas'!C:D,2,0),\"\")","v":0},"","",null,1,null,1,1,78]
[null,null,{"$f":"IFERROR(VLOOKUP(D83,'1_Causas_Levantadas'!C:D,2,0),\"\")","v":0},"","",null,1,null,1,1,79]
[null,null,{"$f":"IFERROR(VLOOKUP(D84,'1_Causas_Levantadas'!C:D,2,0),\"\")","v":0},"","",null,1,null,1,1,80]
[null,null,{"$f":"IFERROR(VLOOKUP(D85,'1_Causas_Levantadas'!C:D,2,0),\"\")","v":0},"","",null,1,null,1,1,81]
[null,null,{"$f":"IFERROR(VLOOKUP(D86,'1_Causas_Levantadas'!C:D,2,0),\"\")","v":0},"","",null,1,null,1,1,82]
[null,null,{"$f":"IFERROR(VLOOKUP(D87,'1_Causas_Levantadas'!C:D,2,0),\"\")","v":0},"","",null,1,null,1,1,83]
[null,null,{"$f":"IFERROR(VLOOKUP(D88,'1_Causas_Levantadas'!C:D,2,0),\"\")","v":0},"","",null,1,null,1,1,84]
[null,null,{"$f":"IFERROR(VLOOKUP(D89,'1_Causas_Levantadas'!C:D,2,0),\"\")","v":0},"","",null,1,null,1,1,85]
[null,null,{"$f":"IFERROR(VLOOKUP(D90,'1_Causas_Levantadas'!C:D,2,0),\"\")","v":0},"","",null,1,null,1,1,86]
[null,null,{"$f":"IFERROR(VLOOKUP(D91,'1_Causas_Levantadas'!C:D,2,0),\"\")","v":0},"","",null,1,null,1,1,87]
[null,null,{"$f":"IFERROR(VLOOKUP(D92,'1_Causas_Levantadas'!C:D,2,0),\"\")","v":0},"","",null,1,null,1,1,88]
[null,null,{"$f":"IFERROR(VLOOKUP(D93,'1_Causas_Levantadas'!C:D,2,0),\"\")","v":0},"","",null,1,null,1,1,89]
[null,null,{"$f":"IFERROR(VLOOKUP(D94,'1_Causas_Levantadas'!C:D,2,0),\"\")","v":0},"","",null,1,null,1,1,90]
[null,null,{"$f":"IFERROR(VLOOKUP(D95,'1_Causas_Levantadas'!C:D,2,0),\"\")","v":0},"","",null,1,null,1,1,91]
[null,null,{"$f":"IFERROR(VLOOKUP(D96,'1_Causas_Levantadas'!C:D,2,0),\"\")","v":0},"","",null,1,null,1,1,92]
[null,null,{"$f":"IFERROR(VLOOKUP(D97,'1_Causas_Levantadas'!C:D,2,0),\"\")","v":0},"","",null,1,null,1,1,93]
[null,null,{"$f":"IFERROR(VLOOKUP(D98,'1_Causas_Levantadas'!C:D,2,0),\"\")","v":0},"","",null,1,null,1,1,94]
[null,null,{"$f":"IFERROR(VLOOKUP(D99,'1_Causas_Levantadas'!C:D,2,0),\"\")","v":0},"","",null,1,null,1,1,95]
[null,null,{"$f":"IFERROR(VLOOKUP(D100,'1_Causas_Levantadas'!C:D,2,0),\"\")","v":0},"","",null,1,null,1,1,96]
[null,null,{"$f":"IFERROR(VLOOKUP(D101,'1_Causas_Levantadas'!C:D,2,0),\"\")","v":0},"","",null,1,null,1,1,97]
[null,null,{"$f":"IFERROR(VLOOKUP(D102,'1_Causas_Levantadas'!C:D,2,0),\"\")","v":0},"","",null,1,null,1,1,98]
[null,null,{"$f":"IFERROR(VLOOKUP(D103,'1_Causas_Levantadas'!C:D,2,0),\"\")","v":0},"","",null,1,null,1,1,99]
[null,null,{"$f":"IFERROR(VLOOKUP(D104,'1_Causas_Levantadas'!C:D,2,0),\"\")","v":0},"","",null,1,null,1,1,100]
[null,null,{"$f":"IFERROR(VLOOKUP(D105,'1_Causas_Levantadas'!C:D,2,0),\"\")","v":0},"","",null,1,null,1,1,101]
[null,null,{"$f":"IFERROR(VLOOKUP(D106,'1_Causas_Levantadas'!C:D,2,0),\"\")","v":0},"","",null,1,null,1,1,102]
[null,null,{"$f":"IFERROR(VLOOKUP(D107,'1_Causas_Levantadas'!C:D,2,0),\"\")","v":0},"","",null,1,null,1,1,103]
[null,null,{"$f":"IFERROR(VLOOKUP(D108,'1_Causas_Levantadas'!C:D,2,0),\"\")","v":0},"","",null,1,null,1,1,104]
[null,null,{"$f":"IFERROR(VLOOKUP(D109,'1_Causas_Levantadas'!C:D,2,0),\"\")","v":0},"","",null,1,null,1,1,105]
[null,null,{"$f":"IFERROR(VLOOKUP(D110,'1_Causas_Levantadas'!C:D,2,0),\"\")","v":0},"","",null,1,null,1,1,106]
[null,null,{"$f":"IFERROR(VLOOKUP(D111,'1_Causas_Levantadas'!C:D,2,0),\"\")","v":0},"","",null,1,null,1,1,107]
[null,null,{"$f":"IFERROR(VLOOKUP(D112,'1_Causas_Levantadas'!C:D,2,0),\"\")","v":0},"","",null,1,null,1,1,108]
[null,null,{"$f":"IFERROR(VLOOKUP(D113,'1_Causas_Levantadas'!C:D,2,0),\"\")","v":0},"","",null,1,null,1,1,109]
[null,null,{"$f":"IFERROR(VLOOKUP(D114,'1_Causas_Levantadas'!C:D,2,0),\"\")","v":0},"","",null,1,null,1,1,110]
[null,null,{"$f":"IFERROR(VLOOKUP(D115,'1_Causas_Levantadas'!C:D,2,0),\"\")","v":0},"","",null,1,null,1,1,111]
[null,null,{"$f":"IFERROR(VLOOKUP(D116,'1_Causas_Levantadas'!C:D,2,0),\"\")","v":0},"","",null,1,null,1,1,112]
[null,null,{"$f":"IFERROR(VLOOKUP(D117,'1_Causas_Levantadas'!C:D,2,0),\"\")","v":0},"","",null,1,null,1,1,113]
[null,null,{"$f":"IFERROR(VLOOKUP(D118,'1_Causas_Levantadas'!C:D,2,0),\"\")","v":0},"","",null,1,null,1,1,114]
[null,null,{"$f":"IFERROR(VLOOKUP(D119,'1_Causas_Levantadas'!C:D,2,0),\"\")","v":0},"","",null,1,null,1,1,115]
[null,null,{"$f":"IFERROR(VLOOKUP(D120,'1_Causas_Levantadas'!C:D,2,0),\"\")","v":0},"","",null,1,null,1,1,116]
[null,null,{"$f":"IFERROR(VLOOKUP(D121,'1_Causas_Levantadas'!C:D,2,0),\"\")","v":0},"","",null,1,null,1,1,117]
[null,null,{"$f":"IFERROR(VLOOKUP(D122,'1_Causas_Levantadas'!C:D,2,0),\"\")","v":0},"","",null,1,null,1,1,118]
[null,null,{"$f":"IFERROR(VLOOKUP(D123,'1_Causas_Levantadas'!C:D,2,0),\"\")","v":0},"","",null,1,null,1,1,119]
[null,null,{"$f":"IFERROR(VLOOKUP(D124,'1_Causas_Levantadas'!C:D,2,0),\"\")","v":0},"","",null,1,null,1,1,120]
[null,null,{"$f":"IFERROR(VLOOKUP(D125,'1_Causas_Levantadas'!C:D,2,0),\"\")","v":0},"","",null,1,null,1,1,121]
[null,null,{"$f":"IFERROR(VLOOKUP(D126,'1_Causas_Levantadas'!C:D,2,0),\"\")","v":0},"","",null,1,null,1,1,122]
[null,null,{"$f":"IFERROR(VLOOKUP(D127,'1_Causas_Levantadas'!C:D,2,0),\"\")","v":0},"","",null,1,null,1,1,123]
[null,null,{"$f":"IFERROR(VLOOKUP(D128,'1_Causas_Levantadas'!C:D,2,0),\"\")","v":0},"","",null,1,null,1,1,124]
[null,null,{"$f":"IFERROR(VLOOKUP(D129,'1_Causas_Levantadas'!C:D,2,0),\"\")","v":0},"","",null,1,null,1,1,125]
[null,null,{"$f":"IFERROR(VLOOKUP(D130,'1_Causas_Levantadas'!C:D,2,0),\"\")","v":0},"","",null,1,null,1,1,126]
[null,null,{"$f":"IFERROR(VLOOKUP(D131,'1_Causas_Levantadas'!C:D,2,0),\"\")","v":0},"","",null,1,null,1,1,127]
[null,null,{"$f":"IFERROR(VLOOKUP(D132,'1_Causas_Levantadas'!C:D,2,0),\"\")","v":0},"","",null,1,null,1,1,128]
[null,null,{"$f":"IFERROR(VLOOKUP(D133,'1_Causas_Levantadas'!C:D,2,0),\"\")","v":0},"","",null,1,null,1,1,129]
[null,null,{"$f":"IFERROR(VLOOKUP(D134,'1_Causas_Levantadas'!C:D,2,0),\"\")","v":0},{"$f":"IF(K134<=$H$4,(IF(G133>0,G134,$G$5)),\"\")","v":""},{"$f":"IF(D134<>\"\",\"Participante \"&K134,\"\")","v":""},null,{"$f":"J134","v":1},null,{"$f":"IF(G134=$G$5,1,0)","v":1},1,{"$f":"I134+K133","v":130}]
[null,null,{"$f":"IFERROR(VLOOKUP(D135,'1_Causas_Levantadas'!C:D,2,0),\"\")","v":0},"","",null,1,null,1,{"$f":"IF(G134<$G$4,J134+1,1)","v":1},131]
[null,null,{"$f":"IFERROR(VLOOKUP(D136,'1_Causas_Levantadas'!C:D,2,0),\"\")","v":0},"","",null,1,null,1,1,132]
[null,null,{"$f":"IFERROR(VLOOKUP(D137,'1_Causas_Levantadas'!C:D,2,0),\"\")","v":0},"","",null,1,null,1,1,133]
[null,null,{"$f":"IFERROR(VLOOKUP(D138,'1_Causas_Levantadas'!C:D,2,0),\"\")","v":0},"","",null,1,null,1,1,134]
[null,null,{"$f":"IFERROR(VLOOKUP(D139,'1_Causas_Levantadas'!C:D,2,0),\"\")","v":0},"","",null,1,null,1,1,135]
[null,null,{"$f":"IFERROR(VLOOKUP(D140,'1_Causas_Levantadas'!C:D,2,0),\"\")","v":0},"","",null,1,null,1,1,136]
[null,null,{"$f":"IFERROR(VLOOKUP(D141,'1_Causas_Levantadas'!C:D,2,0),\"\")","v":0},"","",null,1,null,1,1,137]
[null,null,{"$f":"IFERROR(VLOOKUP(D142,'1_Causas_Levantadas'!C:D,2,0),\"\")","v":0},"","",null,1,null,1,1,138]
[null,null,{"$f":"IFERROR(VLOOKUP(D143,'1_Causas_Levantadas'!C:D,2,0),\"\")","v":0},"","",null,1,null,1,1,139]
[null,null,{"$f":"IFERROR(VLOOKUP(D144,'1_Causas_Levantadas'!C:D,2,0),\"\")","v":0},"","",null,1,null,1,1,140]
[null,null,{"$f":"IFERROR(VLOOKUP(D145,'1_Causas_Levantadas'!C:D,2,0),\"\")","v":0},"","",null,1,null,1,1,141]
[null,null,{"$f":"IFERROR(VLOOKUP(D146,'1_Causas_Levantadas'!C:D,2,0),\"\")","v":0},"","",null,1,null,1,1,142]
[null,null,{"$f":"IFERROR(VLOOKUP(D147,'1_Causas_Levantadas'!C:D,2,0),\"\")","v":0},"","",null,1,null,1,1,143]
[null,null,{"$f":"IFERROR(VLOOKUP(D148,'1_Causas_Levantadas'!C:D,2,0),\"\")","v":0},"","",null,1,null,1,1,144]
[null,null,{"$f":"IFERROR(VLOOKUP(D149,'1_Causas_Levantadas'!C:D,2,0),\"\")","v":0},"","",null,1,null,1,1,145]
[null,null,{"$f":"IFERROR(VLOOKUP(D150,'1_Causas_Levantadas'!C:D,2,0),\"\")","v":0},"","",null,1,null,1,1,146]
[null,null,{"$f":"IFERROR(VLOOKUP(D151,'1_Causas_Levantadas'!C:D,2,0),\"\")","v":0},"","",null,1,null,1,1,147]
[null,null,{"$f":"IFERROR(VLOOKUP(D152,'1_Causas_Levantadas'!C:D,2,0),\"\")","v":0},"","",null,1,null,1,1,148]
[null,null,{"$f":"IFERROR(VLOOKUP(D153,'1_Causas_Levantadas'!C:D,2,0),\"\")","v":0},"","",null,1,null,1,1,149]
[null,null,{"$f":"IFERROR(VLOOKUP(D154,'1_Causas_Levantadas'!C:D,2,0),\"\")","v":0},"","",null,1,null,1,1,150]
[null,null,{"$f":"IFERROR(VLOOKUP(D155,'1_Causas_Levantadas'!C:D,2,0),\"\")","v":0},"","",null,1,null,1,1,151]
[null,null,{"$f":"IFERROR(VLOOKUP(D156,'1_Causas_Levantadas'!C:D,2,0),\"\")","v":0},"","",null,1,null,1,1,152]
[null,null,{"$f":"IFERROR(VLOOKUP(D157,'1_Causas_Levantadas'!C:D,2,0),\"\")","v":0},"","",null,1,null,1,1,153]
[null,null,{"$f":"IFERROR(VLOOKUP(D158,'1_Causas_Levantadas'!C:D,2,0),\"\")","v":0},"","",null,1,null,1,1,154]
[null,null,{"$f":"IFERROR(VLOOKUP(D159,'1_Causas_Levantadas'!C:D,2,0),\"\")","v":0},"","",null,1,null,1,1,155]
[null,null,{"$f":"IFERROR(VLOOKUP(D160,'1_Causas_Levantadas'!C:D,2,0),\"\")","v":0},"","",null,1,null,1,1,156]
[null,null,{"$f":"IFERROR(VLOOKUP(D161,'1_Causas_Levantadas'!C:D,2,0),\"\")","v":0},"","",null,1,null,1,1,157]
[null,null,{"$f":"IFERROR(VLOOKUP(D162,'1_Causas_Levantadas'!C:D,2,0),\"\")","v":0},"","",null,1,null,1,1,158]
[null,null,{"$f":"IFERROR(VLOOKUP(D163,'1_Causas_Levantadas'!C:D,2,0),\"\")","v":0},"","",null,1,null,1,1,159]
[null,null,{"$f":"IFERROR(VLOOKUP(D164,'1_Causas_Levantadas'!C:D,2,0),\"\")","v":0},"","",null,1,null,1,1,160]
[null,null,{"$f":"IFERROR(VLOOKUP(D165,'1_Causas_Levantadas'!C:D,2,0),\"\")","v":0},"","",null,1,null,1,1,161]
[null,null,{"$f":"IFERROR(VLOOKUP(D166,'1_Causas_Levantadas'!C:D,2,0),\"\")","v":0},"","",null,1,null,1,1,162]
[null,null,{"$f":"IFERROR(VLOOKUP(D167,'1_Causas_Levantadas'!C:D,2,0),\"\")","v":0},"","",null,1,null,1,1,163]
[null,null,{"$f":"IFERROR(VLOOKUP(D168,'1_Causas_Levantadas'!C:D,2,0),\"\")","v":0},"","",null,1,null,1,1,164]
[null,null,{"$f":"IFERROR(VLOOKUP(D169,'1_Causas_Levantadas'!C:D,2,0),\"\")","v":0},"","",null,1,null,1,1,165]
[null,null,{"$f":"IFERROR(VLOOKUP(D170,'1_Causas_Levantadas'!C:D,2,0),\"\")","v":0},"","",null,1,null,1,1,166]
[null,null,{"$f":"IFERROR(VLOOKUP(D171,'1_Causas_Levantadas'!C:D,2,0),\"\")","v":0},"","",null,1,null,1,1,167]
[null,null,{"$f":"IFERROR(VLOOKUP(D172,'1_Causas_Levantadas'!C:D,2,0),\"\")","v":0},"","",null,1,null,1,1,168]
[null,null,{"$f":"IFERROR(VLOOKUP(D173,'1_Causas_Levantadas'!C:D,2,0),\"\")","v":0},"","",null,1,null,1,1,169]
[null,null,{"$f":"IFERROR(VLOOKUP(D174,'1_Causas_Levantadas'!C:D,2,0),\"\")","v":0},"","",null,1,null,1,1,170]
[null,null,{"$f":"IFERROR(VLOOKUP(D175,'1_Causas_Levantadas'!C:D,2,0),\"\")","v":0},"","",null,1,null,1,1,171]
[null,null,{"$f":"IFERROR(VLOOKUP(D176,'1_Causas_Levantadas'!C:D,2,0),\"\")","v":0},"","",null,1,null,1,1,172]
[null,null,{"$f":"IFERROR(VLOOKUP(D177,'1_Causas_Levantadas'!C:D,2,0),\"\")","v":0},"","",null,1,null,1,1,173]
[null,null,{"$f":"IFERROR(VLOOKUP(D178,'1_Causas_Levantadas'!C:D,2,0),\"\")","v":0},"","",null,1,null,1,1,174]
[null,null,{"$f":"IFERROR(VLOOKUP(D179,'1_Causas_Levantadas'!C:D,2,0),\"\")","v":0},"","",null,1,null,1,1,175]
[null,null,{"$f":"IFERROR(VLOOKUP(D180,'1_Causas_Levantadas'!C:D,2,0),\"\")","v":0},"","",null,1,null,1,1,176]
[null,null,{"$f":"IFERROR(VLOOKUP(D181,'1_Causas_Levantadas'!C:D,2,0),\"\")","v":0},"","",null,1,null,1,1,177]
[null,null,{"$f":"IFERROR(VLOOKUP(D182,'1_Causas_Levantadas'!C:D,2,0),\"\")","v":0},"","",null,1,null,1,1,178]
[null,null,{"$f":"IFERROR(VLOOKUP(D183,'1_Causas_Levantadas'!C:D,2,0),\"\")","v":0},"","",null,1,null,1,1,179]
[null,null,{"$f":"IFERROR(VLOOKUP(D184,'1_Causas_Levantadas'!C:D,2,0),\"\")","v":0},"","",null,1,null,1,1,180]
[null,null,{"$f":"IFERROR(VLOOKUP(D185,'1_Causas_Levantadas'!C:D,2,0),\"\")","v":0},"","",null,1,null,1,1,181]
[null,null,{"$f":"IFERROR(VLOOKUP(D186,'1_Causas_Levantadas'!C:D,2,0),\"\")","v":0},"","",null,1,null,1,1,182]
[null,null,{"$f":"IFERROR(VLOOKUP(D187,'1_Causas_Levantadas'!C:D,2,0),\"\")","v":0},"","",null,1,null,1,1,183]
[null,null,{"$f":"IFERROR(VLOOKUP(D188,'1_Causas_Levantadas'!C:D,2,0),\"\")","v":0},"","",null,1,null,1,1,184]
[null,null,{"$f":"IFERROR(VLOOKUP(D189,'1_Causas_Levantadas'!C:D,2,0),\"\")","v":0},"","",null,1,null,1,1,185]
[null,null,{"$f":"IFERROR(VLOOKUP(D190,'1_Causas_Levantadas'!C:D,2,0),\"\")","v":0},"","",null,1,null,1,1,186]
[null,null,{"$f":"IFERROR(VLOOKUP(D191,'1_Causas_Levantadas'!C:D,2,0),\"\")","v":0},"","",null,1,null,1,1,187]
[null,null,{"$f":"IFERROR(VLOOKUP(D192,'1_Causas_Levantadas'!C:D,2,0),\"\")","v":0},"","",null,1,null,1,1,188]
[null,null,{"$f":"IFERROR(VLOOKUP(D193,'1_Causas_Levantadas'!C:D,2,0),\"\")","v":0},"","",null,1,null,1,1,189]
[null,null,{"$f":"IFERROR(VLOOKUP(D194,'1_Causas_Levantadas'!C:D,2,0),\"\")","v":0},"","",null,1,null,1,1,190]
[null,null,{"$f":"IFERROR(VLOOKUP(D195,'1_Causas_Levantadas'!C:D,2,0),\"\")","v":0},"","",null,1,null,1,1,191]
[null,null,{"$f":"IFERROR(VLOOKUP(D196,'1_Causas_Levantadas'!C:D,2,0),\"\")","v":0},"","",null,1,null,1,1,192]
[null,null,{"$f":"IFERROR(VLOOKUP(D197,'1_Causas_Levantadas'!C:D,2,0),\"\")","v":0},"","",null,1,null,1,1,193]
[null,null,{"$f":"IFERROR(VLOOKUP(D198,'1_Causas_Levantadas'!C:D,2,0),\"\")","v":0},{"$f":"IF(K198<=$H$4,(IF(G197>0,G198,$G$5)),\"\")","v":""},{"$f":"IF(D198<>\"\",\"Participante \"&K198,\"\")","v":""},null,{"$f":"J198","v":1},null,{"$f":"IF(G198=$G$5,1,0)","v":1},1,{"$f":"I198+K197","v":194}]
[null,null,{"$f":"IFERROR(VLOOKUP(D199,'1_Causas_Levantadas'!C:D,2,0),\"\")","v":0},"","",null,1,null,1,{"$f":"IF(G198<$G$4,J198+1,1)","v":1},195]
[null,null,{"$f":"IFERROR(VLOOKUP(D200,'1_Causas_Levantadas'!C:D,2,0),\"\")","v":0},"","",null,1,null,1,1,196]
[null,null,{"$f":"IFERROR(VLOOKUP(D201,'1_Causas_Levantadas'!C:D,2,0),\"\")","v":0},"","",null,1,null,1,1,197]
[null,null,{"$f":"IFERROR(VLOOKUP(D202,'1_Causas_Levantadas'!C:D,2,0),\"\")","v":0},"","",null,1,null,1,1,198]
[null,null,{"$f":"IFERROR(VLOOKUP(D203,'1_Causas_Levantadas'!C:D,2,0),\"\")","v":0},"","",null,1,null,1,1,199]
[null,null,{"$f":"IFERROR(VLOOKUP(D204,'1_Causas_Levantadas'!C:D,2,0),\"\")","v":0},"","",null,1,null,1,1,200]
[null,null,{"$f":"IFERROR(VLOOKUP(D205,'1_Causas_Levantadas'!C:D,2,0),\"\")","v":0},"","",null,1,null,1,1,201]
[null,null,{"$f":"IFERROR(VLOOKUP(D206,'1_Causas_Levantadas'!C:D,2,0),\"\")","v":0},"","",null,1,null,1,1,202]
[null,null,{"$f":"IFERROR(VLOOKUP(D207,'1_Causas_Levantadas'!C:D,2,0),\"\")","v":0},"","",null,1,null,1,1,203]
[null,null,{"$f":"IFERROR(VLOOKUP(D208,'1_Causas_Levantadas'!C:D,2,0),\"\")","v":0},"","",null,1,null,1,1,204]
[null,null,{"$f":"IFERROR(VLOOKUP(D209,'1_Causas_Levantadas'!C:D,2,0),\"\")","v":0},"","",null,1,null,1,1,205]
[null,null,{"$f":"IFERROR(VLOOKUP(D210,'1_Causas_Levantadas'!C:D,2,0),\"\")","v":0},"","",null,1,null,1,1,206]
[null,null,{"$f":"IFERROR(VLOOKUP(D211,'1_Causas_Levantadas'!C:D,2,0),\"\")","v":0},"","",null,1,null,1,1,207]
[null,null,{"$f":"IFERROR(VLOOKUP(D212,'1_Causas_Levantadas'!C:D,2,0),\"\")","v":0},"","",null,1,null,1,1,208]
[null,null,{"$f":"IFERROR(VLOOKUP(D213,'1_Causas_Levantadas'!C:D,2,0),\"\")","v":0},"","",null,1,null,1,1,209]
[null,null,{"$f":"IFERROR(VLOOKUP(D214,'1_Causas_Levantadas'!C:D,2,0),\"\")","v":0},"","",null,1,null,1,1,210]
[null,null,{"$f":"IFERROR(VLOOKUP(D215,'1_Causas_Levantadas'!C:D,2,0),\"\")","v":0},"","",null,1,null,1,1,211]
[null,null,{"$f":"IFERROR(VLOOKUP(D216,'1_Causas_Levantadas'!C:D,2,0),\"\")","v":0},"","",null,1,null,1,1,212]
[null,null,{"$f":"IFERROR(VLOOKUP(D217,'1_Causas_Levantadas'!C:D,2,0),\"\")","v":0},"","",null,1,null,1,1,213]
[null,null,{"$f":"IFERROR(VLOOKUP(D218,'1_Causas_Levantadas'!C:D,2,0),\"\")","v":0},"","",null,1,null,1,1,214]
[null,null,{"$f":"IFERROR(VLOOKUP(D219,'1_Causas_Levantadas'!C:D,2,0),\"\")","v":0},"","",null,1,null,1,1,215]
[null,null,{"$f":"IFERROR(VLOOKUP(D220,'1_Causas_Levantadas'!C:D,2,0),\"\")","v":0},"","",null,1,null,1,1,216]
[null,null,{"$f":"IFERROR(VLOOKUP(D221,'1_Causas_Levantadas'!C:D,2,0),\"\")","v":0},"","",null,1,null,1,1,217]
[null,null,{"$f":"IFERROR(VLOOKUP(D222,'1_Causas_Levantadas'!C:D,2,0),\"\")","v":0},"","",null,1,null,1,1,218]
[null,null,{"$f":"IFERROR(VLOOKUP(D223,'1_Causas_Levantadas'!C:D,2,0),\"\")","v":0},"","",null,1,null,1,1,219]
[null,null,{"$f":"IFERROR(VLOOKUP(D224,'1_Causas_Levantadas'!C:D,2,0),\"\")","v":0},"","",null,1,null,1,1,220]
[null,null,{"$f":"IFERROR(VLOOKUP(D225,'1_Causas_Levantadas'!C:D,2,0),\"\")","v":0},"","",null,1,null,1,1,221]
[null,null,{"$f":"IFERROR(VLOOKUP(D226,'1_Causas_Levantadas'!C:D,2,0),\"\")","v":0},"","",null,1,null,1,1,222]
[null,null,{"$f":"IFERROR(VLOOKUP(D227,'1_Causas_Levantadas'!C:D,2,0),\"\")","v":0},"","",null,1,null,1,1,223]
[null,null,{"$f":"IFERROR(VLOOKUP(D228,'1_Causas_Levantadas'!C:D,2,0),\"\")","v":0},"","",null,1,null,1,1,224]
[null,null,{"$f":"IFERROR(VLOOKUP(D229,'1_Causas_Levantadas'!C:D,2,0),\"\")","v":0},"","",null,1,null,1,1,225]
[null,null,{"$f":"IFERROR(VLOOKUP(D230,'1_Causas_Levantadas'!C:D,2,0),\"\")","v":0},"","",null,1,null,1,1,226]
[null,null,{"$f":"IFERROR(VLOOKUP(D231,'1_Causas_Levantadas'!C:D,2,0),\"\")","v":0},"","",null,1,null,1,1,227]
[null,null,{"$f":"IFERROR(VLOOKUP(D232,'1_Causas_Levantadas'!C:D,2,0),\"\")","v":0},"","",null,1,null,1,1,228]
[null,null,{"$f":"IFERROR(VLOOKUP(D233,'1_Causas_Levantadas'!C:D,2,0),\"\")","v":0},"","",null,1,null,1,1,229]
[null,null,{"$f":"IFERROR(VLOOKUP(D234,'1_Causas_Levantadas'!C:D,2,0),\"\")","v":0},"","",null,1,null,1,1,230]
[null,null,{"$f":"IFERROR(VLOOKUP(D235,'1_Causas_Levantadas'!C:D,2,0),\"\")","v":0},"","",null,1,null,1,1,231]
[null,null,{"$f":"IFERROR(VLOOKUP(D236,'1_Causas_Levantadas'!C:D,2,0),\"\")","v":0},"","",null,1,null,1,1,232]
[null,null,{"$f":"IFERROR(VLOOKUP(D237,'1_Causas_Levantadas'!C:D,2,0),\"\")","v":0},"","",null,1,null,1,1,233]
[null,null,{"$f":"IFERROR(VLOOKUP(D238,'1_Causas_Levantadas'!C:D,2,0),\"\")","v":0},"","",null,1,null,1,1,234]
[null,null,{"$f":"IFERROR(VLOOKUP(D239,'1_Causas_Levantadas'!C:D,2,0),\"\")","v":0},"","",null,1,null,1,1,235]
[null,null,{"$f":"IFERROR(VLOOKUP(D240,'1_Causas_Levantadas'!C:D,2,0),\"\")","v":0},"","",null,1,null,1,1,236]
[null,null,{"$f":"IFERROR(VLOOKUP(D241,'1_Causas_Levantadas'!C:D,2,0),\"\")","v":0},"","",null,1,null,1,1,237]
[null,null,{"$f":"IFERROR(VLOOKUP(D242,'1_Causas_Levantadas'!C:D,2,0),\"\")","v":0},"","",null,1,null,1,1,238]
[null,null,{"$f":"IFERROR(VLOOKUP(D243,'1_Causas_Levantadas'!C:D,2,0),\"\")","v":0},"","",null,1,null,1,1,239]
[null,null,{"$f":"IFERROR(VLOOKUP(D244,'1_Causas_Levantadas'!C:D,2,0),\"\")","v":0},"","",null,1,null,1,1,240]
[null,null,{"$f":"IFERROR(VLOOKUP(D245,'1_Causas_Levantadas'!C:D,2,0),\"\")","v":0},"","",null,1,null,1,1,241]
[null,null,{"$f":"IFERROR(VLOOKUP(D246,'1_Causas_Levantadas'!C:D,2,0),\"\")","v":0},"","",null,1,null,1,1,242]
[null,null,{"$f":"IFERROR(VLOOKUP(D247,'1_Causas_Levantadas'!C:D,2,0),\"\")","v":0},"","",null,1,null,1,1,243]
[null,null,{"$f":"IFERROR(VLOOKUP(D248,'1_Causas_Levantadas'!C:D,2,0),\"\")","v":0},"","",null,1,null,1,1,244]
[null,null,{"$f":"IFERROR(VLOOKUP(D249,'1_Causas_Levantadas'!C:D,2,0),\"\")","v":0},"","",null,1,null,1,1,245]
[null,null,{"$f":"IFERROR(VLOOKUP(D250,'1_Causas_Levantadas'!C:D,2,0),\"\")","v":0},"","",null,1,null,1,1,246]
[null,null,{"$f":"IFERROR(VLOOKUP(D251,'1_Causas_Levantadas'!C:D,2,0),\"\")","v":0},"","",null,1,null,1,1,247]
[null,null,{"$f":"IFERROR(VLOOKUP(D252,'1_Causas_Levantadas'!C:D,2,0),\"\")","v":0},"","",null,1,null,1,1,248]
[null,null,{"$f":"IFERROR(VLOOKUP(D253,'1_Causas_Levantadas'!C:D,2,0),\"\")","v":0},"","",null,1,null,1,1,249]
[null,null,{"$f":"IFERROR(VLOOKUP(D254,'1_Causas_Levantadas'!C:D,2,0),\"\")","v":0},"","",null,1,null,1,1,250]
[null,null,{"$f":"IFERROR(VLOOKUP(D255,'1_Causas_Levantadas'!C:D,2,0),\"\")","v":0},"","",null,1,null,1,1,251]
[null,null,{"$f":"IFERROR(VLOOKUP(D256,'1_Causas_Levantadas'!C:D,2,0),\"\")","v":0},"","",null,1,null,1,1,252]
[null,null,{"$f":"IFERROR(VLOOKUP(D257,'1_Causas_Levantadas'!C:D,2,0),\"\")","v":0},"","",null,1,null,1,1,253]
[null,null,{"$f":"IFERROR(VLOOKUP(D258,'1_Causas_Levantadas'!C:D,2,0),\"\")","v":0},"","",null,1,null,1,1,254]
[null,null,{"$f":"IFERROR(VLOOKUP(D259,'1_Causas_Levantadas'!C:D,2,0),\"\")","v":0},"","",null,1,null,1,1,255]
[null,null,{"$f":"IFERROR(VLOOKUP(D260,'1_Causas_Levantadas'!C:D,2,0),\"\")","v":0},"","",null,1,null,1,1,256]
[null,null,{"$f":"IFERROR(VLOOKUP(D261,'1_Causas_Levantadas'!C:D,2,0),\"\")","v":0},"","",null,1,null,1,1,257]
[null,null,{"$f":"IFERROR(VLOOKUP(D262,'1_Causas_Levantadas'!C:D,2,0),\"\")","v":0},{"$f":"IF(K262<=$H$4,(IF(G261>0,G262,$G$5)),\"\")","v":""},{"$f":"IF(D262<>\"\",\"Participante \"&K262,\"\")","v":""},null,{"$f":"J262","v":1},null,{"$f":"IF(G262=$G$5,1,0)","v":1},1,{"$f":"I262+K261","v":258}]
[null,null,{"$f":"IFERROR(VLOOKUP(D263,'1_Causas_Levantadas'!C:D,2,0),\"\")","v":0},"","",null,1,null,1,{"$f":"IF(G262<$G$4,J262+1,1)","v":1},259]
[null,null,{"$f":"IFERROR(VLOOKUP(D264,'1_Causas_Levantadas'!C:D,2,0),\"\")","v":0},"","",null,1,null,1,1,260]
[null,null,{"$f":"IFERROR(VLOOKUP(D265,'1_Causas_Levantadas'!C:D,2,0),\"\")","v":0},"","",null,1,null,1,1,261]
[null,null,{"$f":"IFERROR(VLOOKUP(D266,'1_Causas_Levantadas'!C:D,2,0),\"\")","v":0},"","",null,1,null,1,1,262]
[null,null,{"$f":"IFERROR(VLOOKUP(D267,'1_Causas_Levantadas'!C:D,2,0),\"\")","v":0},"","",null,1,null,1,1,263]
[null,null,{"$f":"IFERROR(VLOOKUP(D268,'1_Causas_Levantadas'!C:D,2,0),\"\")","v":0},"","",null,1,null,1,1,264]
[null,null,{"$f":"IFERROR(VLOOKUP(D269,'1_Causas_Levantadas'!C:D,2,0),\"\")","v":0},"","",null,1,null,1,1,265]
[null,null,{"$f":"IFERROR(VLOOKUP(D270,'1_Causas_Levantadas'!C:D,2,0),\"\")","v":0},"","",null,1,null,1,1,266]
[null,null,{"$f":"IFERROR(VLOOKUP(D271,'1_Causas_Levantadas'!C:D,2,0),\"\")","v":0},"","",null,1,null,1,1,267]
[null,null,{"$f":"IFERROR(VLOOKUP(D272,'1_Causas_Levantadas'!C:D,2,0),\"\")","v":0},"","",null,1,null,1,1,268]
[null,null,{"$f":"IFERROR(VLOOKUP(D273,'1_Causas_Levantadas'!C:D,2,0),\"\")","v":0},"","",null,1,null,1,1,269]
[null,null,{"$f":"IFERROR(VLOOKUP(D274,'1_Causas_Levantadas'!C:D,2,0),\"\")","v":0},"","",null,1,null,1,1,270]
[null,null,{"$f":"IFERROR(VLOOKUP(D275,'1_Causas_Levantadas'!C:D,2,0),\"\")","v":0},"","",null,1,null,1,1,271]
[null,null,{"$f":"IFERROR(VLOOKUP(D276,'1_Causas_Levantadas'!C:D,2,0),\"\")","v":0},"","",null,1,null,1,1,272]
[null,null,{"$f":"IFERROR(VLOOKUP(D277,'1_Causas_Levantadas'!C:D,2,0),\"\")","v":0},"","",null,1,null,1,1,273]
[null,null,{"$f":"IFERROR(VLOOKUP(D278,'1_Causas_Levantadas'!C:D,2,0),\"\")","v":0},"","",null,1,null,1,1,274]
[null,null,{"$f":"IFERROR(VLOOKUP(D279,'1_Causas_Levantadas'!C:D,2,0),\"\")","v":0},"","",null,1,null,1,1,275]
[null,null,{"$f":"IFERROR(VLOOKUP(D280,'1_Causas_Levantadas'!C:D,2,0),\"\")","v":0},"","",null,1,null,1,1,276]
[null,null,{"$f":"IFERROR(VLOOKUP(D281,'1_Causas_Levantadas'!C:D,2,0),\"\")","v":0},"","",null,1,null,1,1,277]
[null,null,{"$f":"IFERROR(VLOOKUP(D282,'1_Causas_Levantadas'!C:D,2,0),\"\")","v":0},"","",null,1,null,1,1,278]
[null,null,{"$f":"IFERROR(VLOOKUP(D283,'1_Causas_Levantadas'!C:D,2,0),\"\")","v":0},"","",null,1,null,1,1,279]
[null,null,{"$f":"IFERROR(VLOOKUP(D284,'1_Causas_Levantadas'!C:D,2,0),\"\")","v":0},"","",null,1,null,1,1,280]
[null,null,{"$f":"IFERROR(VLOOKUP(D285,'1_Causas_Levantadas'!C:D,2,0),\"\")","v":0},"","",null,1,null,1,1,281]
[null,null,{"$f":"IFERROR(VLOOKUP(D286,'1_Causas_Levantadas'!C:D,2,0),\"\")","v":0},"","",null,1,null,1,1,282]
[null,null,{"$f":"IFERROR(VLOOKUP(D287,'1_Causas_Levantadas'!C:D,2,0),\"\")","v":0},"","",null,1,null,1,1,283]
[null,null,{"$f":"IFERROR(VLOOKUP(D288,'1_Causas_Levantadas'!C:D,2,0),\"\")","v":0},"","",null,1,null,1,1,284]
[null,null,{"$f":"IFERROR(VLOOKUP(D289,'1_Causas_Levantadas'!C:D,2,0),\"\")","v":0},"","",null,1,null,1,1,285]
[null,null,{"$f":"IFERROR(VLOOKUP(D290,'1_Causas_Levantadas'!C:D,2,0),\"\")","v":0},"","",null,1,null,1,1,286]
[null,null,{"$f":"IFERROR(VLOOKUP(D291,'1_Causas_Levantadas'!C:D,2,0),\"\")","v":0},"","",null,1,null,1,1,287]
[null,null,{"$f":"IFERROR(VLOOKUP(D292,'1_Causas_Levantadas'!C:D,2,0),\"\")","v":0},"","",null,1,null,1,1,288]
[null,null,{"$f":"IFERROR(VLOOKUP(D293,'1_Causas_Levantadas'!C:D,2,0),\"\")","v":0},"","",null,1,null,1,1,289]
[null,null,{"$f":"IFERROR(VLOOKUP(D294,'1_Causas_Levantadas'!C:D,2,0),\"\")","v":0},"","",null,1,null,1,1,290]
[null,null,{"$f":"IFERROR(VLOOKUP(D295,'1_Causas_Levantadas'!C:D,2,0),\"\")","v":0},"","",null,1,null,1,1,291]
[null,null,{"$f":"IFERROR(VLOOKUP(D296,'1_Causas_Levantadas'!C:D,2,0),\"\")","v":0},"","",null,1,null,1,1,292]
[null,null,{"$f":"IFERROR(VLOOKUP(D297,'1_Causas_Levantadas'!C:D,2,0),\"\")","v":0},"","",null,1,null,1,1,293]
[null,null,{"$f":"IFERROR(VLOOKUP(D298,'1_Causas_Levantadas'!C:D,2,0),\"\")","v":0},"","",null,1,null,1,1,294]
[null,null,{"$f":"IFERROR(VLOOKUP(D299,'1_Causas_Levantadas'!C:D,2,0),\"\")","v":0},"","",null,1,null,1,1,295]
[null,null,{"$f":"IFERROR(VLOOKUP(D300,'1_Causas_Levantadas'!C:D,2,0),\"\")","v":0},"","",null,1,null,1,1,296]
[null,null,{"$f":"IFERROR(VLOOKUP(D301,'1_Causas_Levantadas'!C:D,2,0),\"\")","v":0},"","",null,1,null,1,1,297]
[null,null,{"$f":"IFERROR(VLOOKUP(D302,'1_Causas_Levantadas'!C:D,2,0),\"\")","v":0},"","",null,1,null,1,1,298]
[null,null,{"$f":"IFERROR(VLOOKUP(D303,'1_Causas_Levantadas'!C:D,2,0),\"\")","v":0},"","",null,1,null,1,1,299]
[null,null,{"$f":"IFERROR(VLOOKUP(D304,'1_Causas_Levantadas'!C:D,2,0),\"\")","v":0},"","",null,1,null,1,1,300]
[null,null,{"$f":"IFERROR(VLOOKUP(D305,'1_Causas_Levantadas'!C:D,2,0),\"\")","v":0},"","",null,1,null,1,1,301]
[null,null,{"$f":"IFERROR(VLOOKUP(D306,'1_Causas_Levantadas'!C:D,2,0),\"\")","v":0},"","",null,1,null,1,1,302]
[null,null,{"$f":"IFERROR(VLOOKUP(D307,'1_Causas_Levantadas'!C:D,2,0),\"\")","v":0},"","",null,1,null,1,1,303]
[null,null,{"$f":"IFERROR(VLOOKUP(D308,'1_Causas_Levantadas'!C:D,2,0),\"\")","v":0},"","",null,1,null,1,1,304]
[null,null,{"$f":"IFERROR(VLOOKUP(D309,'1_Causas_Levantadas'!C:D,2,0),\"\")","v":0},"","",null,1,null,1,1,305]
[null,null,{"$f":"IFERROR(VLOOKUP(D310,'1_Causas_Levantadas'!C:D,2,0),\"\")","v":0},"","",null,1,null,1,1,306]
[null,null,{"$f":"IFERROR(VLOOKUP(D311,'1_Causas_Levantadas'!C:D,2,0),\"\")","v":0},"","",null,1,null,1,1,307]
[null,null,{"$f":"IFERROR(VLOOKUP(D312,'1_Causas_Levantadas'!C:D,2,0),\"\")","v":0},"","",null,1,null,1,1,308]
[null,null,{"$f":"IFERROR(VLOOKUP(D313,'1_Causas_Levantadas'!C:D,2,0),\"\")","v":0},"","",null,1,null,1,1,309]
[null,null,{"$f":"IFERROR(VLOOKUP(D314,'1_Causas_Levantadas'!C:D,2,0),\"\")","v":0},"","",null,1,null,1,1,310]
[null,null,{"$f":"IFERROR(VLOOKUP(D315,'1_Causas_Levantadas'!C:D,2,0),\"\")","v":0},"","",null,1,null,1,1,311]
[null,null,{"$f":"IFERROR(VLOOKUP(D316,'1_Causas_Levantadas'!C:D,2,0),\"\")","v":0},"","",null,1,null,1,1,312]
[null,null,{"$f":"IFERROR(VLOOKUP(D317,'1_Causas_Levantadas'!C:D,2,0),\"\")","v":0},"","",null,1,null,1,1,313]
[null,null,{"$f":"IFERROR(VLOOKUP(D318,'1_Causas_Levantadas'!C:D,2,0),\"\")","v":0},"","",null,1,null,1,1,314]
[null,null,{"$f":"IFERROR(VLOOKUP(D319,'1_Causas_Levantadas'!C:D,2,0),\"\")","v":0},"","",null,1,null,1,1,315]
[null,null,{"$f":"IFERROR(VLOOKUP(D320,'1_Causas_Levantadas'!C:D,2,0),\"\")","v":0},"","",null,1,null,1,1,316]
[null,null,{"$f":"IFERROR(VLOOKUP(D321,'1_Causas_Levantadas'!C:D,2,0),\"\")","v":0},"","",null,1,null,1,1,317]
[null,null,{"$f":"IFERROR(VLOOKUP(D322,'1_Causas_Levantadas'!C:D,2,0),\"\")","v":0},"","",null,1,null,1,1,318]
[null,null,{"$f":"IFERROR(VLOOKUP(D323,'1_Causas_Levantadas'!C:D,2,0),\"\")","v":0},"","",null,1,null,1,1,319]
[null,null,{"$f":"IFERROR(VLOOKUP(D324,'1_Causas_Levantadas'!C:D,2,0),\"\")","v":0},"","",null,1,null,1,1,320]
[null,null,{"$f":"IFERROR(VLOOKUP(D325,'1_Causas_Levantadas'!C:D,2,0),\"\")","v":0},"","",null,1,null,1,1,321]
[null,null,{"$f":"IFERROR(VLOOKUP(D326,'1_Causas_Levantadas'!C:D,2,0),\"\")","v":0},{"$f":"IF(K326<=$H$4,(IF(G325>0,G326,$G$5)),\"\")","v":""},{"$f":"IF(D326<>\"\",\"Participante \"&K326,\"\")","v":""},null,{"$f":"J326","v":1},null,{"$f":"IF(G326=$G$5,1,0)","v":1},1,{"$f":"I326+K325","v":322}]
[null,null,{"$f":"IFERROR(VLOOKUP(D327,'1_Causas_Levantadas'!C:D,2,0),\"\")","v":0},"","",null,1,null,1,{"$f":"IF(G326<$G$4,J326+1,1)","v":1},323]
[null,null,{"$f":"IFERROR(VLOOKUP(D328,'1_Causas_Levantadas'!C:D,2,0),\"\")","v":0},"","",null,1,null,1,1,324]
[null,null,{"$f":"IFERROR(VLOOKUP(D329,'1_Causas_Levantadas'!C:D,2,0),\"\")","v":0},"","",null,1,null,1,1,325]
[null,null,{"$f":"IFERROR(VLOOKUP(D330,'1_Causas_Levantadas'!C:D,2,0),\"\")","v":0},"","",null,1,null,1,1,326]
[null,null,{"$f":"IFERROR(VLOOKUP(D331,'1_Causas_Levantadas'!C:D,2,0),\"\")","v":0},"","",null,1,null,1,1,327]
[null,null,{"$f":"IFERROR(VLOOKUP(D332,'1_Causas_Levantadas'!C:D,2,0),\"\")","v":0},"","",null,1,null,1,1,328]
[null,null,{"$f":"IFERROR(VLOOKUP(D333,'1_Causas_Levantadas'!C:D,2,0),\"\")","v":0},"","",null,1,null,1,1,329]
[null,null,{"$f":"IFERROR(VLOOKUP(D334,'1_Causas_Levantadas'!C:D,2,0),\"\")","v":0},"","",null,1,null,1,1,330]
[null,null,{"$f":"IFERROR(VLOOKUP(D335,'1_Causas_Levantadas'!C:D,2,0),\"\")","v":0},"","",null,1,null,1,1,331]
[null,null,{"$f":"IFERROR(VLOOKUP(D336,'1_Causas_Levantadas'!C:D,2,0),\"\")","v":0},"","",null,1,null,1,1,332]
[null,null,{"$f":"IFERROR(VLOOKUP(D337,'1_Causas_Levantadas'!C:D,2,0),\"\")","v":0},"","",null,1,null,1,1,333]
[null,null,{"$f":"IFERROR(VLOOKUP(D338,'1_Causas_Levantadas'!C:D,2,0),\"\")","v":0},"","",null,1,null,1,1,334]
[null,null,{"$f":"IFERROR(VLOOKUP(D339,'1_Causas_Levantadas'!C:D,2,0),\"\")","v":0},"","",null,1,null,1,1,335]
[null,null,{"$f":"IFERROR(VLOOKUP(D340,'1_Causas_Levantadas'!C:D,2,0),\"\")","v":0},"","",null,1,null,1,1,336]
[null,null,{"$f":"IFERROR(VLOOKUP(D341,'1_Causas_Levantadas'!C:D,2,0),\"\")","v":0},"","",null,1,null,1,1,337]
[null,null,{"$f":"IFERROR(VLOOKUP(D342,'1_Causas_Levantadas'!C:D,2,0),\"\")","v":0},"","",null,1,null,1,1,338]
[null,null,{"$f":"IFERROR(VLOOKUP(D343,'1_Causas_Levantadas'!C:D,2,0),\"\")","v":0},"","",null,1,null,1,1,339]
[null,null,{"$f":"IFERROR(VLOOKUP(D344,'1_Causas_Levantadas'!C:D,2,0),\"\")","v":0},"","",null,1,null,1,1,340]
[null,null,{"$f":"IFERROR(VLOOKUP(D345,'1_Causas_Levantadas'!C:D,2,0),\"\")","v":0},"","",null,1,null,1,1,341]
[null,null,{"$f":"IFERROR(VLOOKUP(D346,'1_Causas_Levantadas'!C:D,2,0),\"\")","v":0},"","",null,1,null,1,1,342]
[null,null,{"$f":"IFERROR(VLOOKUP(D347,'1_Causas_Levantadas'!C:D,2,0),\"\")","v":0},"","",null,1,null,1,1,343]
[null,null,{"$f":"IFERROR(VLOOKUP(D348,'1_Causas_Levantadas'!C:D,2,0),\"\")","v":0},"","",null,1,null,1,1,344]
[null,null,{"$f":"IFERROR(VLOOKUP(D349,'1_Causas_Levantadas'!C:D,2,0),\"\")","v":0},"","",null,1,null,1,1,345]
[null,null,{"$f":"IFERROR(VLOOKUP(D350,'1_Causas_Levantadas'!C:D,2,0),\"\")","v":0},"","",null,1,null,1,1,346]
[null,null,{"$f":"IFERROR(VLOOKUP(D351,'1_Causas_Levantadas'!C:D,2,0),\"\")","v":0},"","",null,1,null,1,1,347]
[null,null,{"$f":"IFERROR(VLOOKUP(D352,'1_Causas_Levantadas'!C:D,2,0),\"\")","v":0},"","",null,1,null,1,1,348]
[null,null,{"$f":"IFERROR(VLOOKUP(D353,'1_Causas_Levantadas'!C:D,2,0),\"\")","v":0},"","",null,1,null,1,1,349]
[null,null,{"$f":"IFERROR(VLOOKUP(D354,'1_Causas_Levantadas'!C:D,2,0),\"\")","v":0},"","",null,1,null,1,1,350]
[null,null,{"$f":"IFERROR(VLOOKUP(D355,'1_Causas_Levantadas'!C:D,2,0),\"\")","v":0},"","",null,1,null,1,1,351]
[null,null,{"$f":"IFERROR(VLOOKUP(D356,'1_Causas_Levantadas'!C:D,2,0),\"\")","v":0},"","",null,1,null,1,1,352]
[null,null,{"$f":"IFERROR(VLOOKUP(D357,'1_Causas_Levantadas'!C:D,2,0),\"\")","v":0},"","",null,1,null,1,1,353]
[null,null,{"$f":"IFERROR(VLOOKUP(D358,'1_Causas_Levantadas'!C:D,2,0),\"\")","v":0},"","",null,1,null,1,1,354]
[null,null,{"$f":"IFERROR(VLOOKUP(D359,'1_Causas_Levantadas'!C:D,2,0),\"\")","v":0},"","",null,1,null,1,1,355]
[null,null,{"$f":"IFERROR(VLOOKUP(D360,'1_Causas_Levantadas'!C:D,2,0),\"\")","v":0},"","",null,1,null,1,1,356]
[null,null,{"$f":"IFERROR(VLOOKUP(D361,'1_Causas_Levantadas'!C:D,2,0),\"\")","v":0},"","",null,1,null,1,1,357]
[null,null,{"$f":"IFERROR(VLOOKUP(D362,'1_Causas_Levantadas'!C:D,2,0),\"\")","v":0},"","",null,1,null,1,1,358]
[null,null,{"$f":"IFERROR(VLOOKUP(D363,'1_Causas_Levantadas'!C:D,2,0),\"\")","v":0},"","",null,1,null,1,1,359]
[null,null,{"$f":"IFERROR(VLOOKUP(D364,'1_Causas_Levantadas'!C:D,2,0),\"\")","v":0},"","",null,1,null,1,1,360]
[null,null,{"$f":"IFERROR(VLOOKUP(D365,'1_Causas_Levantadas'!C:D,2,0),\"\")","v":0},"","",null,1,null,1,1,361]
[null,null,{"$f":"IFERROR(VLOOKUP(D366,'1_Causas_Levantadas'!C:D,2,0),\"\")","v":0},"","",null,1,null,1,1,362]
[null,null,{"$f":"IFERROR(VLOOKUP(D367,'1_Causas_Levantadas'!C:D,2,0),\"\")","v":0},"","",null,1,null,1,1,363]
[null,null,{"$f":"IFERROR(VLOOKUP(D368,'1_Causas_Levantadas'!C:D,2,0),\"\")","v":0},"","",null,1,null,1,1,364]
[null,null,{"$f":"IFERROR(VLOOKUP(D369,'1_Causas_Levantadas'!C:D,2,0),\"\")","v":0},"","",null,1,null,1,1,365]
[null,null,{"$f":"IFERROR(VLOOKUP(D370,'1_Causas_Levantadas'!C:D,2,0),\"\")","v":0},"","",null,1,null,1,1,366]
[null,null,{"$f":"IFERROR(VLOOKUP(D371,'1_Causas_Levantadas'!C:D,2,0),\"\")","v":0},"","",null,1,null,1,1,367]
[null,null,{"$f":"IFERROR(VLOOKUP(D372,'1_Causas_Levantadas'!C:D,2,0),\"\")","v":0},"","",null,1,null,1,1,368]
[null,null,{"$f":"IFERROR(VLOOKUP(D373,'1_Causas_Levantadas'!C:D,2,0),\"\")","v":0},"","",null,1,null,1,1,369]
[null,null,{"$f":"IFERROR(VLOOKUP(D374,'1_Causas_Levantadas'!C:D,2,0),\"\")","v":0},"","",null,1,null,1,1,370]
[null,null,{"$f":"IFERROR(VLOOKUP(D375,'1_Causas_Levantadas'!C:D,2,0),\"\")","v":0},"","",null,1,null,1,1,371]
[null,null,{"$f":"IFERROR(VLOOKUP(D376,'1_Causas_Levantadas'!C:D,2,0),\"\")","v":0},"","",null,1,null,1,1,372]
[null,null,{"$f":"IFERROR(VLOOKUP(D377,'1_Causas_Levantadas'!C:D,2,0),\"\")","v":0},"","",null,1,null,1,1,373]
[null,null,{"$f":"IFERROR(VLOOKUP(D378,'1_Causas_Levantadas'!C:D,2,0),\"\")","v":0},"","",null,1,null,1,1,374]
[null,null,{"$f":"IFERROR(VLOOKUP(D379,'1_Causas_Levantadas'!C:D,2,0),\"\")","v":0},"","",null,1,null,1,1,375]
[null,null,{"$f":"IFERROR(VLOOKUP(D380,'1_Causas_Levantadas'!C:D,2,0),\"\")","v":0},"","",null,1,null,1,1,376]
[null,null,{"$f":"IFERROR(VLOOKUP(D381,'1_Causas_Levantadas'!C:D,2,0),\"\")","v":0},"","",null,1,null,1,1,377]
[null,null,{"$f":"IFERROR(VLOOKUP(D382,'1_Causas_Levantadas'!C:D,2,0),\"\")","v":0},"","",null,1,null,1,1,378]
[null,null,{"$f":"IFERROR(VLOOKUP(D383,'1_Causas_Levantadas'!C:D,2,0),\"\")","v":0},"","",null,1,null,1,1,379]
[null,null,{"$f":"IFERROR(VLOOKUP(D384,'1_Causas_Levantadas'!C:D,2,0),\"\")","v":0},"","",null,1,null,1,1,380]
[null,null,{"$f":"IFERROR(VLOOKUP(D385,'1_Causas_Levantadas'!C:D,2,0),\"\")","v":0},"","",null,1,null,1,1,381]
[null,null,{"$f":"IFERROR(VLOOKUP(D386,'1_Causas_Levantadas'!C:D,2,0),\"\")","v":0},"","",null,1,null,1,1,382]
[null,null,{"$f":"IFERROR(VLOOKUP(D387,'1_Causas_Levantadas'!C:D,2,0),\"\")","v":0},"","",null,1,null,1,1,383]
[null,null,{"$f":"IFERROR(VLOOKUP(D388,'1_Causas_Levantadas'!C:D,2,0),\"\")","v":0},"","",null,1,null,1,1,384]
[null,null,{"$f":"IFERROR(VLOOKUP(D389,'1_Causas_Levantadas'!C:D,2,0),\"\")","v":0},"","",null,1,null,1,1,385]
[null,null,{"$f":"IFERROR(VLOOKUP(D390,'1_Causas_Levantadas'!C:D,2,0),\"\")","v":0},{"$f":"IF(K390<=$H$4,(IF(G389>0,G390,$G$5)),\"\")","v":""},{"$f":"IF(D390<>\"\",\"Participante \"&K390,\"\")","v":""},null,{"$f":"J390","v":1},null,{"$f":"IF(G390=$G$5,1,0)","v":1},1,{"$f":"I390+K389","v":386}]
[null,null,{"$f":"IFERROR(VLOOKUP(D391,'1_Causas_Levantadas'!C:D,2,0),\"\")","v":0},"","",null,1,null,1,{"$f":"IF(G390<$G$4,J390+1,1)","v":1},387]
[null,null,{"$f":"IFERROR(VLOOKUP(D392,'1_Causas_Levantadas'!C:D,2,0),\"\")","v":0},"","",null,1,null,1,1,388]
[null,null,{"$f":"IFERROR(VLOOKUP(D393,'1_Causas_Levantadas'!C:D,2,0),\"\")","v":0},"","",null,1,null,1,1,389]
[null,null,{"$f":"IFERROR(VLOOKUP(D394,'1_Causas_Levantadas'!C:D,2,0),\"\")","v":0},"","",null,1,null,1,1,390]
[null,null,{"$f":"IFERROR(VLOOKUP(D395,'1_Causas_Levantadas'!C:D,2,0),\"\")","v":0},"","",null,1,null,1,1,391]
[null,null,{"$f":"IFERROR(VLOOKUP(D396,'1_Causas_Levantadas'!C:D,2,0),\"\")","v":0},"","",null,1,null,1,1,392]
[null,null,{"$f":"IFERROR(VLOOKUP(D397,'1_Causas_Levantadas'!C:D,2,0),\"\")","v":0},"","",null,1,null,1,1,393]
[null,null,{"$f":"IFERROR(VLOOKUP(D398,'1_Causas_Levantadas'!C:D,2,0),\"\")","v":0},"","",null,1,null,1,1,394]
[null,null,{"$f":"IFERROR(VLOOKUP(D399,'1_Causas_Levantadas'!C:D,2,0),\"\")","v":0},"","",null,1,null,1,1,395]
[null,null,{"$f":"IFERROR(VLOOKUP(D400,'1_Causas_Levantadas'!C:D,2,0),\"\")","v":0},"","",null,1,null,1,1,396]
[null,null,{"$f":"IFERROR(VLOOKUP(D401,'1_Causas_Levantadas'!C:D,2,0),\"\")","v":0},"","",null,1,null,1,1,397]
[null,null,{"$f":"IFERROR(VLOOKUP(D402,'1_Causas_Levantadas'!C:D,2,0),\"\")","v":0},"","",null,1,null,1,1,398]
[null,null,{"$f":"IFERROR(VLOOKUP(D403,'1_Causas_Levantadas'!C:D,2,0),\"\")","v":0},"","",null,1,null,1,1,399]
[null,null,{"$f":"IFERROR(VLOOKUP(D404,'1_Causas_Levantadas'!C:D,2,0),\"\")","v":0},"","",null,1,null,1,1,400]
[null,null,{"$f":"IFERROR(VLOOKUP(D405,'1_Causas_Levantadas'!C:D,2,0),\"\")","v":0},"","",null,1,null,1,1,401]
[null,null,{"$f":"IFERROR(VLOOKUP(D406,'1_Causas_Levantadas'!C:D,2,0),\"\")","v":0},"","",null,1,null,1,1,402]
[null,null,{"$f":"IFERROR(VLOOKUP(D407,'1_Causas_Levantadas'!C:D,2,0),\"\")","v":0},"","",null,1,null,1,1,403]
[null,null,{"$f":"IFERROR(VLOOKUP(D408,'1_Causas_Levantadas'!C:D,2,0),\"\")","v":0},"","",null,1,null,1,1,404]
[null,null,{"$f":"IFERROR(VLOOKUP(D409,'1_Causas_Levantadas'!C:D,2,0),\"\")","v":0},"","",null,1,null,1,1,405]
[null,null,{"$f":"IFERROR(VLOOKUP(D410,'1_Causas_Levantadas'!C:D,2,0),\"\")","v":0},"","",null,1,null,1,1,406]
[null,null,{"$f":"IFERROR(VLOOKUP(D411,'1_Causas_Levantadas'!C:D,2,0),\"\")","v":0},"","",null,1,null,1,1,407]
[null,null,{"$f":"IFERROR(VLOOKUP(D412,'1_Causas_Levantadas'!C:D,2,0),\"\")","v":0},"","",null,1,null,1,1,408]
[null,null,{"$f":"IFERROR(VLOOKUP(D413,'1_Causas_Levantadas'!C:D,2,0),\"\")","v":0},"","",null,1,null,1,1,409]
[null,null,{"$f":"IFERROR(VLOOKUP(D414,'1_Causas_Levantadas'!C:D,2,0),\"\")","v":0},"","",null,1,null,1,1,410]
[null,null,{"$f":"IFERROR(VLOOKUP(D415,'1_Causas_Levantadas'!C:D,2,0),\"\")","v":0},"","",null,1,null,1,1,411]
[null,null,{"$f":"IFERROR(VLOOKUP(D416,'1_Causas_Levantadas'!C:D,2,0),\"\")","v":0},"","",null,1,null,1,1,412]
[null,null,{"$f":"IFERROR(VLOOKUP(D417,'1_Causas_Levantadas'!C:D,2,0),\"\")","v":0},"","",null,1,null,1,1,413]
[null,null,{"$f":"IFERROR(VLOOKUP(D418,'1_Causas_Levantadas'!C:D,2,0),\"\")","v":0},"","",null,1,null,1,1,414]
[null,null,{"$f":"IFERROR(VLOOKUP(D419,'1_Causas_Levantadas'!C:D,2,0),\"\")","v":0},"","",null,1,null,1,1,415]
[null,null,{"$f":"IFERROR(VLOOKUP(D420,'1_Causas_Levantadas'!C:D,2,0),\"\")","v":0},"","",null,1,null,1,1,416]
[null,null,{"$f":"IFERROR(VLOOKUP(D421,'1_Causas_Levantadas'!C:D,2,0),\"\")","v":0},"","",null,1,null,1,1,417]
[null,null,{"$f":"IFERROR(VLOOKUP(D422,'1_Causas_Levantadas'!C:D,2,0),\"\")","v":0},"","",null,1,null,1,1,418]
[null,null,{"$f":"IFERROR(VLOOKUP(D423,'1_Causas_Levantadas'!C:D,2,0),\"\")","v":0},"","",null,1,null,1,1,419]
[null,null,{"$f":"IFERROR(VLOOKUP(D424,'1_Causas_Levantadas'!C:D,2,0),\"\")","v":0},"","",null,1,null,1,1,420]
[null,null,{"$f":"IFERROR(VLOOKUP(D425,'1_Causas_Levantadas'!C:D,2,0),\"\")","v":0},"","",null,1,null,1,1,421]
[null,null,{"$f":"IFERROR(VLOOKUP(D426,'1_Causas_Levantadas'!C:D,2,0),\"\")","v":0},"","",null,1,null,1,1,422]
[null,null,{"$f":"IFERROR(VLOOKUP(D427,'1_Causas_Levantadas'!C:D,2,0),\"\")","v":0},"","",null,1,null,1,1,423]
[null,null,{"$f":"IFERROR(VLOOKUP(D428,'1_Causas_Levantadas'!C:D,2,0),\"\")","v":0},"","",null,1,null,1,1,424]
[null,null,{"$f":"IFERROR(VLOOKUP(D429,'1_Causas_Levantadas'!C:D,2,0),\"\")","v":0},"","",null,1,null,1,1,425]
[null,null,{"$f":"IFERROR(VLOOKUP(D430,'1_Causas_Levantadas'!C:D,2,0),\"\")","v":0},"","",null,1,null,1,1,426]
[null,null,{"$f":"IFERROR(VLOOKUP(D431,'1_Causas_Levantadas'!C:D,2,0),\"\")","v":0},"","",null,1,null,1,1,427]
[null,null,{"$f":"IFERROR(VLOOKUP(D432,'1_Causas_Levantadas'!C:D,2,0),\"\")","v":0},"","",null,1,null,1,1,428]
[null,null,{"$f":"IFERROR(VLOOKUP(D433,'1_Causas_Levantadas'!C:D,2,0),\"\")","v":0},"","",null,1,null,1,1,429]
[null,null,{"$f":"IFERROR(VLOOKUP(D434,'1_Causas_Levantadas'!C:D,2,0),\"\")","v":0},"","",null,1,null,1,1,430]
[null,null,{"$f":"IFERROR(VLOOKUP(D435,'1_Causas_Levantadas'!C:D,2,0),\"\")","v":0},"","",null,1,null,1,1,431]
[null,null,{"$f":"IFERROR(VLOOKUP(D436,'1_Causas_Levantadas'!C:D,2,0),\"\")","v":0},"","",null,1,null,1,1,432]
[null,null,{"$f":"IFERROR(VLOOKUP(D437,'1_Causas_Levantadas'!C:D,2,0),\"\")","v":0},"","",null,1,null,1,1,433]
[null,null,{"$f":"IFERROR(VLOOKUP(D438,'1_Causas_Levantadas'!C:D,2,0),\"\")","v":0},"","",null,1,null,1,1,434]
[null,null,{"$f":"IFERROR(VLOOKUP(D439,'1_Causas_Levantadas'!C:D,2,0),\"\")","v":0},"","",null,1,null,1,1,435]
[null,null,{"$f":"IFERROR(VLOOKUP(D440,'1_Causas_Levantadas'!C:D,2,0),\"\")","v":0},"","",null,1,null,1,1,436]
[null,null,{"$f":"IFERROR(VLOOKUP(D441,'1_Causas_Levantadas'!C:D,2,0),\"\")","v":0},"","",null,1,null,1,1,437]
[null,null,{"$f":"IFERROR(VLOOKUP(D442,'1_Causas_Levantadas'!C:D,2,0),\"\")","v":0},"","",null,1,null,1,1,438]
[null,null,{"$f":"IFERROR(VLOOKUP(D443,'1_Causas_Levantadas'!C:D,2,0),\"\")","v":0},"","",null,1,null,1,1,439]
[null,null,{"$f":"IFERROR(VLOOKUP(D444,'1_Causas_Levantadas'!C:D,2,0),\"\")","v":0},"","",null,1,null,1,1,440]
[null,null,{"$f":"IFERROR(VLOOKUP(D445,'1_Causas_Levantadas'!C:D,2,0),\"\")","v":0},"","",null,1,null,1,1,441]
[null,null,{"$f":"IFERROR(VLOOKUP(D446,'1_Causas_Levantadas'!C:D,2,0),\"\")","v":0},"","",null,1,null,1,1,442]
[null,null,{"$f":"IFERROR(VLOOKUP(D447,'1_Causas_Levantadas'!C:D,2,0),\"\")","v":0},"","",null,1,null,1,1,443]
[null,null,{"$f":"IFERROR(VLOOKUP(D448,'1_Causas_Levantadas'!C:D,2,0),\"\")","v":0},"","",null,1,null,1,1,444]
[null,null,{"$f":"IFERROR(VLOOKUP(D449,'1_Causas_Levantadas'!C:D,2,0),\"\")","v":0},"","",null,1,null,1,1,445]
[null,null,{"$f":"IFERROR(VLOOKUP(D450,'1_Causas_Levantadas'!C:D,2,0),\"\")","v":0},"","",null,1,null,1,1,446]
[null,null,{"$f":"IFERROR(VLOOKUP(D451,'1_Causas_Levantadas'!C:D,2,0),\"\")","v":0},"","",null,1,null,1,1,447]
[null,null,{"$f":"IFERROR(VLOOKUP(D452,'1_Causas_Levantadas'!C:D,2,0),\"\")","v":0},"","",null,1,null,1,1,448]
[null,null,{"$f":"IFERROR(VLOOKUP(D453,'1_Causas_Levantadas'!C:D,2,0),\"\")","v":0},"","",null,1,null,1,1,449]
[null,null,{"$f":"IFERROR(VLOOKUP(D454,'1_Causas_Levantadas'!C:D,2,0),\"\")","v":0},{"$f":"IF(K454<=$H$4,(IF(G453>0,G454,$G$5)),\"\")","v":""},{"$f":"IF(D454<>\"\",\"Participante \"&K454,\"\")","v":""},null,{"$f":"J454","v":1},null,{"$f":"IF(G454=$G$5,1,0)","v":1},1,{"$f":"I454+K453","v":450}]
[null,null,{"$f":"IFERROR(VLOOKUP(D455,'1_Causas_Levantadas'!C:D,2,0),\"\")","v":0},"","",null,1,null,1,{"$f":"IF(G454<$G$4,J454+1,1)","v":1},451]
[null,null,{"$f":"IFERROR(VLOOKUP(D456,'1_Causas_Levantadas'!C:D,2,0),\"\")","v":0},"","",null,1,null,1,1,452]
[null,null,{"$f":"IFERROR(VLOOKUP(D457,'1_Causas_Levantadas'!C:D,2,0),\"\")","v":0},"","",null,1,null,1,1,453]
[null,null,{"$f":"IFERROR(VLOOKUP(D458,'1_Causas_Levantadas'!C:D,2,0),\"\")","v":0},"","",null,1,null,1,1,454]
[null,null,{"$f":"IFERROR(VLOOKUP(D459,'1_Causas_Levantadas'!C:D,2,0),\"\")","v":0},"","",null,1,null,1,1,455]
[null,null,{"$f":"IFERROR(VLOOKUP(D460,'1_Causas_Levantadas'!C:D,2,0),\"\")","v":0},"","",null,1,null,1,1,456]
[null,null,{"$f":"IFERROR(VLOOKUP(D461,'1_Causas_Levantadas'!C:D,2,0),\"\")","v":0},"","",null,1,null,1,1,457]
[null,null,{"$f":"IFERROR(VLOOKUP(D462,'1_Causas_Levantadas'!C:D,2,0),\"\")","v":0},"","",null,1,null,1,1,458]
[null,null,{"$f":"IFERROR(VLOOKUP(D463,'1_Causas_Levantadas'!C:D,2,0),\"\")","v":0},"","",null,1,null,1,1,459]
[null,null,{"$f":"IFERROR(VLOOKUP(D464,'1_Causas_Levantadas'!C:D,2,0),\"\")","v":0},"","",null,1,null,1,1,460]
[null,null,{"$f":"IFERROR(VLOOKUP(D465,'1_Causas_Levantadas'!C:D,2,0),\"\")","v":0},"","",null,1,null,1,1,461]
[null,null,{"$f":"IFERROR(VLOOKUP(D466,'1_Causas_Levantadas'!C:D,2,0),\"\")","v":0},"","",null,1,null,1,1,462]
[null,null,{"$f":"IFERROR(VLOOKUP(D467,'1_Causas_Levantadas'!C:D,2,0),\"\")","v":0},"","",null,1,null,1,1,463]
[null,null,{"$f":"IFERROR(VLOOKUP(D468,'1_Causas_Levantadas'!C:D,2,0),\"\")","v":0},"","",null,1,null,1,1,464]
[null,null,{"$f":"IFERROR(VLOOKUP(D469,'1_Causas_Levantadas'!C:D,2,0),\"\")","v":0},"","",null,1,null,1,1,465]
[null,null,{"$f":"IFERROR(VLOOKUP(D470,'1_Causas_Levantadas'!C:D,2,0),\"\")","v":0},"","",null,1,null,1,1,466]
[null,null,{"$f":"IFERROR(VLOOKUP(D471,'1_Causas_Levantadas'!C:D,2,0),\"\")","v":0},"","",null,1,null,1,1,467]
[null,null,{"$f":"IFERROR(VLOOKUP(D472,'1_Causas_Levantadas'!C:D,2,0),\"\")","v":0},"","",null,1,null,1,1,468]
[null,null,{"$f":"IFERROR(VLOOKUP(D473,'1_Causas_Levantadas'!C:D,2,0),\"\")","v":0},"","",null,1,null,1,1,469]
[null,null,{"$f":"IFERROR(VLOOKUP(D474,'1_Causas_Levantadas'!C:D,2,0),\"\")","v":0},"","",null,1,null,1,1,470]
[null,null,{"$f":"IFERROR(VLOOKUP(D475,'1_Causas_Levantadas'!C:D,2,0),\"\")","v":0},"","",null,1,null,1,1,471]
[null,null,{"$f":"IFERROR(VLOOKUP(D476,'1_Causas_Levantadas'!C:D,2,0),\"\")","v":0},"","",null,1,null,1,1,472]
[null,null,{"$f":"IFERROR(VLOOKUP(D477,'1_Causas_Levantadas'!C:D,2,0),\"\")","v":0},"","",null,1,null,1,1,473]
[null,null,{"$f":"IFERROR(VLOOKUP(D478,'1_Causas_Levantadas'!C:D,2,0),\"\")","v":0},"","",null,1,null,1,1,474]
[null,null,{"$f":"IFERROR(VLOOKUP(D479,'1_Causas_Levantadas'!C:D,2,0),\"\")","v":0},"","",null,1,null,1,1,475]
[null,null,{"$f":"IFERROR(VLOOKUP(D480,'1_Causas_Levantadas'!C:D,2,0),\"\")","v":0},"","",null,1,null,1,1,476]
[null,null,{"$f":"IFERROR(VLOOKUP(D481,'1_Causas_Levantadas'!C:D,2,0),\"\")","v":0},"","",null,1,null,1,1,477]
[null,null,{"$f":"IFERROR(VLOOKUP(D482,'1_Causas_Levantadas'!C:D,2,0),\"\")","v":0},"","",null,1,null,1,1,478]
[null,null,{"$f":"IFERROR(VLOOKUP(D483,'1_Causas_Levantadas'!C:D,2,0),\"\")","v":0},"","",null,1,null,1,1,479]
[null,null,{"$f":"IFERROR(VLOOKUP(D484,'1_Causas_Levantadas'!C:D,2,0),\"\")","v":0},"","",null,1,null,1,1,480]
[null,null,{"$f":"IFERROR(VLOOKUP(D485,'1_Causas_Levantadas'!C:D,2,0),\"\")","v":0},"","",null,1,null,1,1,481]
[null,null,{"$f":"IFERROR(VLOOKUP(D486,'1_Causas_Levantadas'!C:D,2,0),\"\")","v":0},"","",null,1,null,1,1,482]
[null,null,{"$f":"IFERROR(VLOOKUP(D487,'1_Causas_Levantadas'!C:D,2,0),\"\")","v":0},"","",null,1,null,1,1,483]
[null,null,{"$f":"IFERROR(VLOOKUP(D488,'1_Causas_Levantadas'!C:D,2,0),\"\")","v":0},"","",null,1,null,1,1,484]
[null,null,{"$f":"IFERROR(VLOOKUP(D489,'1_Causas_Levantadas'!C:D,2,0),\"\")","v":0},"","",null,1,null,1,1,485]
[null,null,{"$f":"IFERROR(VLOOKUP(D490,'1_Causas_Levantadas'!C:D,2,0),\"\")","v":0},"","",null,1,null,1,1,486]
[null,null,{"$f":"IFERROR(VLOOKUP(D491,'1_Causas_Levantadas'!C:D,2,0),\"\")","v":0},"","",null,1,null,1,1,487]
[null,null,{"$f":"IFERROR(VLOOKUP(D492,'1_Causas_Levantadas'!C:D,2,0),\"\")","v":0},"","",null,1,null,1,1,488]
[null,null,{"$f":"IFERROR(VLOOKUP(D493,'1_Causas_Levantadas'!C:D,2,0),\"\")","v":0},"","",null,1,null,1,1,489]
[null,null,{"$f":"IFERROR(VLOOKUP(D494,'1_Causas_Levantadas'!C:D,2,0),\"\")","v":0},"","",null,1,null,1,1,490]
[null,null,{"$f":"IFERROR(VLOOKUP(D495,'1_Causas_Levantadas'!C:D,2,0),\"\")","v":0},"","",null,1,null,1,1,491]
[null,null,{"$f":"IFERROR(VLOOKUP(D496,'1_Causas_Levantadas'!C:D,2,0),\"\")","v":0},"","",null,1,null,1,1,492]
[null,null,{"$f":"IFERROR(VLOOKUP(D497,'1_Causas_Levantadas'!C:D,2,0),\"\")","v":0},"","",null,1,null,1,1,493]
[null,null,{"$f":"IFERROR(VLOOKUP(D498,'1_Causas_Levantadas'!C:D,2,0),\"\")","v":0},"","",null,1,null,1,1,494]
[null,null,{"$f":"IFERROR(VLOOKUP(D499,'1_Causas_Levantadas'!C:D,2,0),\"\")","v":0},"","",null,1,null,1,1,495]
[null,null,{"$f":"IFERROR(VLOOKUP(D500,'1_Causas_Levantadas'!C:D,2,0),\"\")","v":0},"","",null,1,null,1,1,496]
[null,null,{"$f":"IFERROR(VLOOKUP(D501,'1_Causas_Levantadas'!C:D,2,0),\"\")","v":0},"","",null,1,null,1,1,497]
[null,null,{"$f":"IFERROR(VLOOKUP(D502,'1_Causas_Levantadas'!C:D,2,0),\"\")","v":0},"","",null,1,null,1,1,498]
[null,null,{"$f":"IFERROR(VLOOKUP(D503,'1_Causas_Levantadas'!C:D,2,0),\"\")","v":0},"","",null,1,null,1,1,499]
[null,null,{"$f":"IFERROR(VLOOKUP(D504,'1_Causas_Levantadas'!C:D,2,0),\"\")","v":0},"","",null,1,null,1,1,500]
[null,null,{"$f":"IFERROR(VLOOKUP(D505,'1_Causas_Levantadas'!C:D,2,0),\"\")","v":0},"","",null,1,null,1,1,501]
[null,null,{"$f":"IFERROR(VLOOKUP(D506,'1_Causas_Levantadas'!C:D,2,0),\"\")","v":0},"","",null,1,null,1,1,502]
[null,null,{"$f":"IFERROR(VLOOKUP(D507,'1_Causas_Levantadas'!C:D,2,0),\"\")","v":0},"","",null,1,null,1,1,503]
[null,null,{"$f":"IFERROR(VLOOKUP(D508,'1_Causas_Levantadas'!C:D,2,0),\"\")","v":0},"","",null,1,null,1,1,504]
[null,null,{"$f":"IFERROR(VLOOKUP(D509,'1_Causas_Levantadas'!C:D,2,0),\"\")","v":0},"","",null,1,null,1,1,505]
[null,null,{"$f":"IFERROR(VLOOKUP(D510,'1_Causas_Levantadas'!C:D,2,0),\"\")","v":0},"","",null,1,null,1,1,506]
[null,null,{"$f":"IFERROR(VLOOKUP(D511,'1_Causas_Levantadas'!C:D,2,0),\"\")","v":0},"","",null,1,null,1,1,507]
[null,null,{"$f":"IFERROR(VLOOKUP(D512,'1_Causas_Levantadas'!C:D,2,0),\"\")","v":0},"","",null,1,null,1,1,508]
[null,null,{"$f":"IFERROR(VLOOKUP(D513,'1_Causas_Levantadas'!C:D,2,0),\"\")","v":0},"","",null,1,null,1,1,509]
[null,null,{"$f":"IFERROR(VLOOKUP(D514,'1_Causas_Levantadas'!C:D,2,0),\"\")","v":0},"","",null,1,null,1,1,510]
[null,null,{"$f":"IFERROR(VLOOKUP(D515,'1_Causas_Levantadas'!C:D,2,0),\"\")","v":0},"","",null,1,null,1,1,511]
[null,null,{"$f":"IFERROR(VLOOKUP(D516,'1_Causas_Levantadas'!C:D,2,0),\"\")","v":0},"","",null,1,null,1,1,512]
[null,null,{"$f":"IFERROR(VLOOKUP(D517,'1_Causas_Levantadas'!C:D,2,0),\"\")","v":0},"","",null,1,null,1,1,513]
[null,null,{"$f":"IFERROR(VLOOKUP(D518,'1_Causas_Levantadas'!C:D,2,0),\"\")","v":0},{"$f":"IF(K518<=$H$4,(IF(G517>0,G518,$G$5)),\"\")","v":""},{"$f":"IF(D518<>\"\",\"Participante \"&K518,\"\")","v":""},null,{"$f":"J518","v":1},null,{"$f":"IF(G518=$G$5,1,0)","v":1},1,{"$f":"I518+K517","v":514}]
[null,null,{"$f":"IFERROR(VLOOKUP(D519,'1_Causas_Levantadas'!C:D,2,0),\"\")","v":0},"","",null,1,null,1,{"$f":"IF(G518<$G$4,J518+1,1)","v":1},515]
[null,null,{"$f":"IFERROR(VLOOKUP(D520,'1_Causas_Levantadas'!C:D,2,0),\"\")","v":0},"","",null,1,null,1,1,516]
[null,null,{"$f":"IFERROR(VLOOKUP(D521,'1_Causas_Levantadas'!C:D,2,0),\"\")","v":0},"","",null,1,null,1,1,517]
[null,null,{"$f":"IFERROR(VLOOKUP(D522,'1_Causas_Levantadas'!C:D,2,0),\"\")","v":0},"","",null,1,null,1,1,518]
[null,null,{"$f":"IFERROR(VLOOKUP(D523,'1_Causas_Levantadas'!C:D,2,0),\"\")","v":0},"","",null,1,null,1,1,519]
[null,null,{"$f":"IFERROR(VLOOKUP(D524,'1_Causas_Levantadas'!C:D,2,0),\"\")","v":0},"","",null,1,null,1,1,520]
[null,null,{"$f":"IFERROR(VLOOKUP(D525,'1_Causas_Levantadas'!C:D,2,0),\"\")","v":0},"","",null,1,null,1,1,521]
[null,null,{"$f":"IFERROR(VLOOKUP(D526,'1_Causas_Levantadas'!C:D,2,0),\"\")","v":0},"","",null,1,null,1,1,522]
[null,null,{"$f":"IFERROR(VLOOKUP(D527,'1_Causas_Levantadas'!C:D,2,0),\"\")","v":0},"","",null,1,null,1,1,523]
[null,null,{"$f":"IFERROR(VLOOKUP(D528,'1_Causas_Levantadas'!C:D,2,0),\"\")","v":0},"","",null,1,null,1,1,524]
[null,null,{"$f":"IFERROR(VLOOKUP(D529,'1_Causas_Levantadas'!C:D,2,0),\"\")","v":0},"","",null,1,null,1,1,525]
[null,null,{"$f":"IFERROR(VLOOKUP(D530,'1_Causas_Levantadas'!C:D,2,0),\"\")","v":0},"","",null,1,null,1,1,526]
[null,null,{"$f":"IFERROR(VLOOKUP(D531,'1_Causas_Levantadas'!C:D,2,0),\"\")","v":0},"","",null,1,null,1,1,527]
[null,null,{"$f":"IFERROR(VLOOKUP(D532,'1_Causas_Levantadas'!C:D,2,0),\"\")","v":0},"","",null,1,null,1,1,528]
[null,null,{"$f":"IFERROR(VLOOKUP(D533,'1_Causas_Levantadas'!C:D,2,0),\"\")","v":0},"","",null,1,null,1,1,529]
[null,null,{"$f":"IFERROR(VLOOKUP(D534,'1_Causas_Levantadas'!C:D,2,0),\"\")","v":0},"","",null,1,null,1,1,530]
[null,null,{"$f":"IFERROR(VLOOKUP(D535,'1_Causas_Levantadas'!C:D,2,0),\"\")","v":0},"","",null,1,null,1,1,531]
[null,null,{"$f":"IFERROR(VLOOKUP(D536,'1_Causas_Levantadas'!C:D,2,0),\"\")","v":0},"","",null,1,null,1,1,532]
[null,null,{"$f":"IFERROR(VLOOKUP(D537,'1_Causas_Levantadas'!C:D,2,0),\"\")","v":0},"","",null,1,null,1,1,533]
[null,null,{"$f":"IFERROR(VLOOKUP(D538,'1_Causas_Levantadas'!C:D,2,0),\"\")","v":0},"","",null,1,null,1,1,534]
[null,null,{"$f":"IFERROR(VLOOKUP(D539,'1_Causas_Levantadas'!C:D,2,0),\"\")","v":0},"","",null,1,null,1,1,535]
[null,null,{"$f":"IFERROR(VLOOKUP(D540,'1_Causas_Levantadas'!C:D,2,0),\"\")","v":0},"","",null,1,null,1,1,536]
[null,null,{"$f":"IFERROR(VLOOKUP(D541,'1_Causas_Levantadas'!C:D,2,0),\"\")","v":0},"","",null,1,null,1,1,537]
[null,null,{"$f":"IFERROR(VLOOKUP(D542,'1_Causas_Levantadas'!C:D,2,0),\"\")","v":0},"","",null,1,null,1,1,538]
[null,null,{"$f":"IFERROR(VLOOKUP(D543,'1_Causas_Levantadas'!C:D,2,0),\"\")","v":0},"","",null,1,null,1,1,539]
[null,null,{"$f":"IFERROR(VLOOKUP(D544,'1_Causas_Levantadas'!C:D,2,0),\"\")","v":0},"","",null,1,null,1,1,540]
[null,null,{"$f":"IFERROR(VLOOKUP(D545,'1_Causas_Levantadas'!C:D,2,0),\"\")","v":0},"","",null,1,null,1,1,541]
[null,null,{"$f":"IFERROR(VLOOKUP(D546,'1_Causas_Levantadas'!C:D,2,0),\"\")","v":0},"","",null,1,null,1,1,542]
[null,null,{"$f":"IFERROR(VLOOKUP(D547,'1_Causas_Levantadas'!C:D,2,0),\"\")","v":0},"","",null,1,null,1,1,543]
[null,null,{"$f":"IFERROR(VLOOKUP(D548,'1_Causas_Levantadas'!C:D,2,0),\"\")","v":0},"","",null,1,null,1,1,544]
[null,null,{"$f":"IFERROR(VLOOKUP(D549,'1_Causas_Levantadas'!C:D,2,0),\"\")","v":0},"","",null,1,null,1,1,545]
[null,null,{"$f":"IFERROR(VLOOKUP(D550,'1_Causas_Levantadas'!C:D,2,0),\"\")","v":0},"","",null,1,null,1,1,546]
[null,null,{"$f":"IFERROR(VLOOKUP(D551,'1_Causas_Levantadas'!C:D,2,0),\"\")","v":0},"","",null,1,null,1,1,547]
[null,null,{"$f":"IFERROR(VLOOKUP(D552,'1_Causas_Levantadas'!C:D,2,0),\"\")","v":0},"","",null,1,null,1,1,548]
[null,null,{"$f":"IFERROR(VLOOKUP(D553,'1_Causas_Levantadas'!C:D,2,0),\"\")","v":0},"","",null,1,null,1,1,549]
[null,null,{"$f":"IFERROR(VLOOKUP(D554,'1_Causas_Levantadas'!C:D,2,0),\"\")","v":0},"","",null,1,null,1,1,550]
[null,null,{"$f":"IFERROR(VLOOKUP(D555,'1_Causas_Levantadas'!C:D,2,0),\"\")","v":0},"","",null,1,null,1,1,551]
[null,null,{"$f":"IFERROR(VLOOKUP(D556,'1_Causas_Levantadas'!C:D,2,0),\"\")","v":0},"","",null,1,null,1,1,552]
[null,null,{"$f":"IFERROR(VLOOKUP(D557,'1_Causas_Levantadas'!C:D,2,0),\"\")","v":0},"","",null,1,null,1,1,553]
[null,null,{"$f":"IFERROR(VLOOKUP(D558,'1_Causas_Levantadas'!C:D,2,0),\"\")","v":0},"","",null,1,null,1,1,554]
[null,null,{"$f":"IFERROR(VLOOKUP(D559,'1_Causas_Levantadas'!C:D,2,0),\"\")","v":0},"","",null,1,null,1,1,555]
[null,null,{"$f":"IFERROR(VLOOKUP(D560,'1_Causas_Levantadas'!C:D,2,0),\"\")","v":0},"","",null,1,null,1,1,556]
[null,null,{"$f":"IFERROR(VLOOKUP(D561,'1_Causas_Levantadas'!C:D,2,0),\"\")","v":0},"","",null,1,null,1,1,557]
[null,null,{"$f":"IFERROR(VLOOKUP(D562,'1_Causas_Levantadas'!C:D,2,0),\"\")","v":0},"","",null,1,null,1,1,558]
[null,null,{"$f":"IFERROR(VLOOKUP(D563,'1_Causas_Levantadas'!C:D,2,0),\"\")","v":0},"","",null,1,null,1,1,559]
[null,null,{"$f":"IFERROR(VLOOKUP(D564,'1_Causas_Levantadas'!C:D,2,0),\"\")","v":0},"","",null,1,null,1,1,560]
[null,null,{"$f":"IFERROR(VLOOKUP(D565,'1_Causas_Levantadas'!C:D,2,0),\"\")","v":0},"","",null,1,null,1,1,561]
[null,null,{"$f":"IFERROR(VLOOKUP(D566,'1_Causas_Levantadas'!C:D,2,0),\"\")","v":0},"","",null,1,null,1,1,562]
[null,null,{"$f":"IFERROR(VLOOKUP(D567,'1_Causas_Levantadas'!C:D,2,0),\"\")","v":0},"","",null,1,null,1,1,563]
[null,null,{"$f":"IFERROR(VLOOKUP(D568,'1_Causas_Levantadas'!C:D,2,0),\"\")","v":0},"","",null,1,null,1,1,564]
[null,null,{"$f":"IFERROR(VLOOKUP(D569,'1_Causas_Levantadas'!C:D,2,0),\"\")","v":0},"","",null,1,null,1,1,565]
[null,null,{"$f":"IFERROR(VLOOKUP(D570,'1_Causas_Levantadas'!C:D,2,0),\"\")","v":0},"","",null,1,null,1,1,566]
[null,null,{"$f":"IFERROR(VLOOKUP(D571,'1_Causas_Levantadas'!C:D,2,0),\"\")","v":0},"","",null,1,null,1,1,567]
[null,null,{"$f":"IFERROR(VLOOKUP(D572,'1_Causas_Levantadas'!C:D,2,0),\"\")","v":0},"","",null,1,null,1,1,568]
[null,null,{"$f":"IFERROR(VLOOKUP(D573,'1_Causas_Levantadas'!C:D,2,0),\"\")","v":0},"","",null,1,null,1,1,569]
[null,null,{"$f":"IFERROR(VLOOKUP(D574,'1_Causas_Levantadas'!C:D,2,0),\"\")","v":0},"","",null,1,null,1,1,570]
[null,null,{"$f":"IFERROR(VLOOKUP(D575,'1_Causas_Levantadas'!C:D,2,0),\"\")","v":0},"","",null,1,null,1,1,571]
[null,null,{"$f":"IFERROR(VLOOKUP(D576,'1_Causas_Levantadas'!C:D,2,0),\"\")","v":0},"","",null,1,null,1,1,572]
[null,null,{"$f":"IFERROR(VLOOKUP(D577,'1_Causas_Levantadas'!C:D,2,0),\"\")","v":0},"","",null,1,null,1,1,573]
[null,null,{"$f":"IFERROR(VLOOKUP(D578,'1_Causas_Levantadas'!C:D,2,0),\"\")","v":0},"","",null,1,null,1,1,574]
[null,null,{"$f":"IFERROR(VLOOKUP(D579,'1_Causas_Levantadas'!C:D,2,0),\"\")","v":0},"","",null,1,null,1,1,575]
[null,null,{"$f":"IFERROR(VLOOKUP(D580,'1_Causas_Levantadas'!C:D,2,0),\"\")","v":0},"","",null,1,null,1,1,576]
[null,null,{"$f":"IFERROR(VLOOKUP(D581,'1_Causas_Levantadas'!C:D,2,0),\"\")","v":0},"","",null,1,null,1,1,577]
[null,null,{"$f":"IFERROR(VLOOKUP(D582,'1_Causas_Levantadas'!C:D,2,0),\"\")","v":0},{"$f":"IF(K582<=$H$4,(IF(G581>0,G582,$G$5)),\"\")","v":""},{"$f":"IF(D582<>\"\",\"Participante \"&K582,\"\")","v":""},null,{"$f":"J582","v":1},null,{"$f":"IF(G582=$G$5,1,0)","v":1},1,{"$f":"I582+K581","v":578}]
[null,null,{"$f":"IFERROR(VLOOKUP(D583,'1_Causas_Levantadas'!C:D,2,0),\"\")","v":0},"","",null,1,null,1,{"$f":"IF(G582<$G$4,J582+1,1)","v":1},579]
[null,null,{"$f":"IFERROR(VLOOKUP(D584,'1_Causas_Levantadas'!C:D,2,0),\"\")","v":0},"","",null,1,null,1,1,580]
[null,null,{"$f":"IFERROR(VLOOKUP(D585,'1_Causas_Levantadas'!C:D,2,0),\"\")","v":0},"","",null,1,null,1,1,581]
[null,null,{"$f":"IFERROR(VLOOKUP(D586,'1_Causas_Levantadas'!C:D,2,0),\"\")","v":0},"","",null,1,null,1,1,582]
[null,null,{"$f":"IFERROR(VLOOKUP(D587,'1_Causas_Levantadas'!C:D,2,0),\"\")","v":0},"","",null,1,null,1,1,583]
[null,null,{"$f":"IFERROR(VLOOKUP(D588,'1_Causas_Levantadas'!C:D,2,0),\"\")","v":0},"","",null,1,null,1,1,584]
[null,null,{"$f":"IFERROR(VLOOKUP(D589,'1_Causas_Levantadas'!C:D,2,0),\"\")","v":0},"","",null,1,null,1,1,585]
[null,null,{"$f":"IFERROR(VLOOKUP(D590,'1_Causas_Levantadas'!C:D,2,0),\"\")","v":0},"","",null,1,null,1,1,586]
[null,null,{"$f":"IFERROR(VLOOKUP(D591,'1_Causas_Levantadas'!C:D,2,0),\"\")","v":0},"","",null,1,null,1,1,587]
[null,null,{"$f":"IFERROR(VLOOKUP(D592,'1_Causas_Levantadas'!C:D,2,0),\"\")","v":0},"","",null,1,null,1,1,588]
[null,null,{"$f":"IFERROR(VLOOKUP(D593,'1_Causas_Levantadas'!C:D,2,0),\"\")","v":0},"","",null,1,null,1,1,589]
[null,null,{"$f":"IFERROR(VLOOKUP(D594,'1_Causas_Levantadas'!C:D,2,0),\"\")","v":0},"","",null,1,null,1,1,590]
[null,null,{"$f":"IFERROR(VLOOKUP(D595,'1_Causas_Levantadas'!C:D,2,0),\"\")","v":0},"","",null,1,null,1,1,591]
[null,null,{"$f":"IFERROR(VLOOKUP(D596,'1_Causas_Levantadas'!C:D,2,0),\"\")","v":0},"","",null,1,null,1,1,592]
[null,null,{"$f":"IFERROR(VLOOKUP(D597,'1_Causas_Levantadas'!C:D,2,0),\"\")","v":0},"","",null,1,null,1,1,593]
[null,null,{"$f":"IFERROR(VLOOKUP(D598,'1_Causas_Levantadas'!C:D,2,0),\"\")","v":0},"","",null,1,null,1,1,594]
[null,null,{"$f":"IFERROR(VLOOKUP(D599,'1_Causas_Levantadas'!C:D,2,0),\"\")","v":0},"","",null,1,null,1,1,595]
[null,null,{"$f":"IFERROR(VLOOKUP(D600,'1_Causas_Levantadas'!C:D,2,0),\"\")","v":0},"","",null,1,null,1,1,596]
[null,null,{"$f":"IFERROR(VLOOKUP(D601,'1_Causas_Levantadas'!C:D,2,0),\"\")","v":0},"","",null,1,null,1,1,597]
[null,null,{"$f":"IFERROR(VLOOKUP(D602,'1_Causas_Levantadas'!C:D,2,0),\"\")","v":0},"","",null,1,null,1,1,598]
[null,null,{"$f":"IFERROR(VLOOKUP(D603,'1_Causas_Levantadas'!C:D,2,0),\"\")","v":0},"","",null,1,null,1,1,599]
[null,null,{"$f":"IFERROR(VLOOKUP(D604,'1_Causas_Levantadas'!C:D,2,0),\"\")","v":0},"","",null,1,null,1,1,600]
[null,null,{"$f":"IFERROR(VLOOKUP(D605,'1_Causas_Levantadas'!C:D,2,0),\"\")","v":0},"","",null,1,null,1,1,601]
[null,null,{"$f":"IFERROR(VLOOKUP(D606,'1_Causas_Levantadas'!C:D,2,0),\"\")","v":0},"","",null,1,null,1,1,602]
[null,null,{"$f":"IFERROR(VLOOKUP(D607,'1_Causas_Levantadas'!C:D,2,0),\"\")","v":0},"","",null,1,null,1,1,603]
[null,null,{"$f":"IFERROR(VLOOKUP(D608,'1_Causas_Levantadas'!C:D,2,0),\"\")","v":0},"","",null,1,null,1,1,604]
[null,null,{"$f":"IFERROR(VLOOKUP(D609,'1_Causas_Levantadas'!C:D,2,0),\"\")","v":0},"","",null,1,null,1,1,605]
[null,null,{"$f":"IFERROR(VLOOKUP(D610,'1_Causas_Levantadas'!C:D,2,0),\"\")","v":0},"","",null,1,null,1,1,606]
[null,null,{"$f":"IFERROR(VLOOKUP(D611,'1_Causas_Levantadas'!C:D,2,0),\"\")","v":0},"","",null,1,null,1,1,607]
[null,null,{"$f":"IFERROR(VLOOKUP(D612,'1_Causas_Levantadas'!C:D,2,0),\"\")","v":0},"","",null,1,null,1,1,608]
[null,null,{"$f":"IFERROR(VLOOKUP(D613,'1_Causas_Levantadas'!C:D,2,0),\"\")","v":0},"","",null,1,null,1,1,609]
[null,null,{"$f":"IFERROR(VLOOKUP(D614,'1_Causas_Levantadas'!C:D,2,0),\"\")","v":0},"","",null,1,null,1,1,610]
[null,null,{"$f":"IFERROR(VLOOKUP(D615,'1_Causas_Levantadas'!C:D,2,0),\"\")","v":0},"","",null,1,null,1,1,611]
[null,null,{"$f":"IFERROR(VLOOKUP(D616,'1_Causas_Levantadas'!C:D,2,0),\"\")","v":0},"","",null,1,null,1,1,612]
[null,null,{"$f":"IFERROR(VLOOKUP(D617,'1_Causas_Levantadas'!C:D,2,0),\"\")","v":0},"","",null,1,null,1,1,613]
[null,null,{"$f":"IFERROR(VLOOKUP(D618,'1_Causas_Levantadas'!C:D,2,0),\"\")","v":0},"","",null,1,null,1,1,614]
[null,null,{"$f":"IFERROR(VLOOKUP(D619,'1_Causas_Levantadas'!C:D,2,0),\"\")","v":0},"","",null,1,null,1,1,615]
[null,null,{"$f":"IFERROR(VLOOKUP(D620,'1_Causas_Levantadas'!C:D,2,0),\"\")","v":0},"","",null,1,null,1,1,616]
[null,null,{"$f":"IFERROR(VLOOKUP(D621,'1_Causas_Levantadas'!C:D,2,0),\"\")","v":0},"","",null,1,null,1,1,617]
[null,null,{"$f":"IFERROR(VLOOKUP(D622,'1_Causas_Levantadas'!C:D,2,0),\"\")","v":0},"","",null,1,null,1,1,618]
[null,null,{"$f":"IFERROR(VLOOKUP(D623,'1_Causas_Levantadas'!C:D,2,0),\"\")","v":0},"","",null,1,null,1,1,619]
[null,null,{"$f":"IFERROR(VLOOKUP(D624,'1_Causas_Levantadas'!C:D,2,0),\"\")","v":0},"","",null,1,null,1,1,620]
[null,null,{"$f":"IFERROR(VLOOKUP(D625,'1_Causas_Levantadas'!C:D,2,0),\"\")","v":0},"","",null,1,null,1,1,621]
[null,null,{"$f":"IFERROR(VLOOKUP(D626,'1_Causas_Levantadas'!C:D,2,0),\"\")","v":0},"","",null,1,null,1,1,622]
[null,null,{"$f":"IFERROR(VLOOKUP(D627,'1_Causas_Levantadas'!C:D,2,0),\"\")","v":0},"","",null,1,null,1,1,623]
[null,null,{"$f":"IFERROR(VLOOKUP(D628,'1_Causas_Levantadas'!C:D,2,0),\"\")","v":0},"","",null,1,null,1,1,624]
[null,null,{"$f":"IFERROR(VLOOKUP(D629,'1_Causas_Levantadas'!C:D,2,0),\"\")","v":0},"","",null,1,null,1,1,625]
[null,null,{"$f":"IFERROR(VLOOKUP(D630,'1_Causas_Levantadas'!C:D,2,0),\"\")","v":0},"","",null,1,null,1,1,626]
[null,null,{"$f":"IFERROR(VLOOKUP(D631,'1_Causas_Levantadas'!C:D,2,0),\"\")","v":0},"","",null,1,null,1,1,627]
[null,null,{"$f":"IFERROR(VLOOKUP(D632,'1_Causas_Levantadas'!C:D,2,0),\"\")","v":0},"","",null,1,null,1,1,628]
[null,null,{"$f":"IFERROR(VLOOKUP(D633,'1_Causas_Levantadas'!C:D,2,0),\"\")","v":0},"","",null,1,null,1,1,629]
[null,null,{"$f":"IFERROR(VLOOKUP(D634,'1_Causas_Levantadas'!C:D,2,0),\"\")","v":0},"","",null,1,null,1,1,630]
[null,null,{"$f":"IFERROR(VLOOKUP(D635,'1_Causas_Levantadas'!C:D,2,0),\"\")","v":0},"","",null,1,null,1,1,631]
[null,null,{"$f":"IFERROR(VLOOKUP(D636,'1_Causas_Levantadas'!C:D,2,0),\"\")","v":0},"","",null,1,null,1,1,632]
[null,null,{"$f":"IFERROR(VLOOKUP(D637,'1_Causas_Levantadas'!C:D,2,0),\"\")","v":0},"","",null,1,null,1,1,633]
[null,null,{"$f":"IFERROR(VLOOKUP(D638,'1_Causas_Levantadas'!C:D,2,0),\"\")","v":0},"","",null,1,null,1,1,634]
[null,null,{"$f":"IFERROR(VLOOKUP(D639,'1_Causas_Levantadas'!C:D,2,0),\"\")","v":0},"","",null,1,null,1,1,635]
[null,null,{"$f":"IFERROR(VLOOKUP(D640,'1_Causas_Levantadas'!C:D,2,0),\"\")","v":0},"","",null,1,null,1,1,636]
[null,null,{"$f":"IFERROR(VLOOKUP(D641,'1_Causas_Levantadas'!C:D,2,0),\"\")","v":0},"","",null,1,null,1,1,637]
[null,null,{"$f":"IFERROR(VLOOKUP(D642,'1_Causas_Levantadas'!C:D,2,0),\"\")","v":0},"","",null,1,null,1,1,638]
[null,null,{"$f":"IFERROR(VLOOKUP(D643,'1_Causas_Levantadas'!C:D,2,0),\"\")","v":0},"","",null,1,null,1,1,639]
[null,null,{"$f":"IFERROR(VLOOKUP(D644,'1_Causas_Levantadas'!C:D,2,0),\"\")","v":0},"","",null,1,null,1,1,640]
[null,null,{"$f":"IFERROR(VLOOKUP(D645,'1_Causas_Levantadas'!C:D,2,0),\"\")","v":0},"","",null,1,null,1,1,641]
[null,null,{"$f":"IFERROR(VLOOKUP(D646,'1_Causas_Levantadas'!C:D,2,0),\"\")","v":0},{"$f":"IF(K646<=$H$4,(IF(G645>0,G646,$G$5)),\"\")","v":""},{"$f":"IF(D646<>\"\",\"Participante \"&K646,\"\")","v":""},null,{"$f":"J646","v":1},null,{"$f":"IF(G646=$G$5,1,0)","v":1},1,{"$f":"I646+K645","v":642}]
[null,null,{"$f":"IFERROR(VLOOKUP(D647,'1_Causas_Levantadas'!C:D,2,0),\"\")","v":0},"","",null,1,null,1,{"$f":"IF(G646<$G$4,J646+1,1)","v":1},643]
[null,null,{"$f":"IFERROR(VLOOKUP(D648,'1_Causas_Levantadas'!C:D,2,0),\"\")","v":0},"","",null,1,null,1,1,644]
[null,null,{"$f":"IFERROR(VLOOKUP(D649,'1_Causas_Levantadas'!C:D,2,0),\"\")","v":0},"","",null,1,null,1,1,645]
[null,null,{"$f":"IFERROR(VLOOKUP(D650,'1_Causas_Levantadas'!C:D,2,0),\"\")","v":0},"","",null,1,null,1,1,646]
[null,null,{"$f":"IFERROR(VLOOKUP(D651,'1_Causas_Levantadas'!C:D,2,0),\"\")","v":0},"","",null,1,null,1,1,647]
[null,null,{"$f":"IFERROR(VLOOKUP(D652,'1_Causas_Levantadas'!C:D,2,0),\"\")","v":0},"","",null,1,null,1,1,648]
[null,null,{"$f":"IFERROR(VLOOKUP(D653,'1_Causas_Levantadas'!C:D,2,0),\"\")","v":0},"","",null,1,null,1,1,649]
[null,null,{"$f":"IFERROR(VLOOKUP(D654,'1_Causas_Levantadas'!C:D,2,0),\"\")","v":0},"","",null,1,null,1,1,650]
[null,null,{"$f":"IFERROR(VLOOKUP(D655,'1_Causas_Levantadas'!C:D,2,0),\"\")","v":0},"","",null,1,null,1,1,651]
[null,null,{"$f":"IFERROR(VLOOKUP(D656,'1_Causas_Levantadas'!C:D,2,0),\"\")","v":0},"","",null,1,null,1,1,652]
[null,null,{"$f":"IFERROR(VLOOKUP(D657,'1_Causas_Levantadas'!C:D,2,0),\"\")","v":0},"","",null,1,null,1,1,653]
[null,null,{"$f":"IFERROR(VLOOKUP(D658,'1_Causas_Levantadas'!C:D,2,0),\"\")","v":0},"","",null,1,null,1,1,654]
[null,null,{"$f":"IFERROR(VLOOKUP(D659,'1_Causas_Levantadas'!C:D,2,0),\"\")","v":0},"","",null,1,null,1,1,655]
[null,null,{"$f":"IFERROR(VLOOKUP(D660,'1_Causas_Levantadas'!C:D,2,0),\"\")","v":0},"","",null,1,null,1,1,656]
[null,null,{"$f":"IFERROR(VLOOKUP(D661,'1_Causas_Levantadas'!C:D,2,0),\"\")","v":0},"","",null,1,null,1,1,657]
[null,null,{"$f":"IFERROR(VLOOKUP(D662,'1_Causas_Levantadas'!C:D,2,0),\"\")","v":0},"","",null,1,null,1,1,658]
[null,null,{"$f":"IFERROR(VLOOKUP(D663,'1_Causas_Levantadas'!C:D,2,0),\"\")","v":0},"","",null,1,null,1,1,659]
[null,null,{"$f":"IFERROR(VLOOKUP(D664,'1_Causas_Levantadas'!C:D,2,0),\"\")","v":0},"","",null,1,null,1,1,660]
[null,null,{"$f":"IFERROR(VLOOKUP(D665,'1_Causas_Levantadas'!C:D,2,0),\"\")","v":0},"","",null,1,null,1,1,661]
[null,null,{"$f":"IFERROR(VLOOKUP(D666,'1_Causas_Levantadas'!C:D,2,0),\"\")","v":0},"","",null,1,null,1,1,662]
[null,null,{"$f":"IFERROR(VLOOKUP(D667,'1_Causas_Levantadas'!C:D,2,0),\"\")","v":0},"","",null,1,null,1,1,663]
[null,null,{"$f":"IFERROR(VLOOKUP(D668,'1_Causas_Levantadas'!C:D,2,0),\"\")","v":0},"","",null,1,null,1,1,664]
[null,null,{"$f":"IFERROR(VLOOKUP(D669,'1_Causas_Levantadas'!C:D,2,0),\"\")","v":0},"","",null,1,null,1,1,665]
[null,null,{"$f":"IFERROR(VLOOKUP(D670,'1_Causas_Levantadas'!C:D,2,0),\"\")","v":0},"","",null,1,null,1,1,666]
[null,null,{"$f":"IFERROR(VLOOKUP(D671,'1_Causas_Levantadas'!C:D,2,0),\"\")","v":0},"","",null,1,null,1,1,667]
[null,null,{"$f":"IFERROR(VLOOKUP(D672,'1_Causas_Levantadas'!C:D,2,0),\"\")","v":0},"","",null,1,null,1,1,668]
[null,null,{"$f":"IFERROR(VLOOKUP(D673,'1_Causas_Levantadas'!C:D,2,0),\"\")","v":0},"","",null,1,null,1,1,669]
[null,null,{"$f":"IFERROR(VLOOKUP(D674,'1_Causas_Levantadas'!C:D,2,0),\"\")","v":0},"","",null,1,null,1,1,670]
[null,null,{"$f":"IFERROR(VLOOKUP(D675,'1_Causas_Levantadas'!C:D,2,0),\"\")","v":0},"","",null,1,null,1,1,671]
[null,null,{"$f":"IFERROR(VLOOKUP(D676,'1_Causas_Levantadas'!C:D,2,0),\"\")","v":0},"","",null,1,null,1,1,672]
[null,null,{"$f":"IFERROR(VLOOKUP(D677,'1_Causas_Levantadas'!C:D,2,0),\"\")","v":0},"","",null,1,null,1,1,673]
[null,null,{"$f":"IFERROR(VLOOKUP(D678,'1_Causas_Levantadas'!C:D,2,0),\"\")","v":0},"","",null,1,null,1,1,674]
[null,null,{"$f":"IFERROR(VLOOKUP(D679,'1_Causas_Levantadas'!C:D,2,0),\"\")","v":0},"","",null,1,null,1,1,675]
[null,null,{"$f":"IFERROR(VLOOKUP(D680,'1_Causas_Levantadas'!C:D,2,0),\"\")","v":0},"","",null,1,null,1,1,676]
[null,null,{"$f":"IFERROR(VLOOKUP(D681,'1_Causas_Levantadas'!C:D,2,0),\"\")","v":0},"","",null,1,null,1,1,677]
[null,null,{"$f":"IFERROR(VLOOKUP(D682,'1_Causas_Levantadas'!C:D,2,0),\"\")","v":0},"","",null,1,null,1,1,678]
[null,null,{"$f":"IFERROR(VLOOKUP(D683,'1_Causas_Levantadas'!C:D,2,0),\"\")","v":0},"","",null,1,null,1,1,679]
[null,null,{"$f":"IFERROR(VLOOKUP(D684,'1_Causas_Levantadas'!C:D,2,0),\"\")","v":0},"","",null,1,null,1,1,680]
[null,null,{"$f":"IFERROR(VLOOKUP(D685,'1_Causas_Levantadas'!C:D,2,0),\"\")","v":0},"","",null,1,null,1,1,681]
[null,null,{"$f":"IFERROR(VLOOKUP(D686,'1_Causas_Levantadas'!C:D,2,0),\"\")","v":0},"","",null,1,null,1,1,682]
[null,null,{"$f":"IFERROR(VLOOKUP(D687,'1_Causas_Levantadas'!C:D,2,0),\"\")","v":0},"","",null,1,null,1,1,683]
[null,null,{"$f":"IFERROR(VLOOKUP(D688,'1_Causas_Levantadas'!C:D,2,0),\"\")","v":0},"","",null,1,null,1,1,684]
[null,null,{"$f":"IFERROR(VLOOKUP(D689,'1_Causas_Levantadas'!C:D,2,0),\"\")","v":0},"","",null,1,null,1,1,685]
[null,null,{"$f":"IFERROR(VLOOKUP(D690,'1_Causas_Levantadas'!C:D,2,0),\"\")","v":0},"","",null,1,null,1,1,686]
[null,null,{"$f":"IFERROR(VLOOKUP(D691,'1_Causas_Levantadas'!C:D,2,0),\"\")","v":0},"","",null,1,null,1,1,687]
[null,null,{"$f":"IFERROR(VLOOKUP(D692,'1_Causas_Levantadas'!C:D,2,0),\"\")","v":0},"","",null,1,null,1,1,688]
[null,null,{"$f":"IFERROR(VLOOKUP(D693,'1_Causas_Levantadas'!C:D,2,0),\"\")","v":0},"","",null,1,null,1,1,689]
[null,null,{"$f":"IFERROR(VLOOKUP(D694,'1_Causas_Levantadas'!C:D,2,0),\"\")","v":0},"","",null,1,null,1,1,690]
[null,null,{"$f":"IFERROR(VLOOKUP(D695,'1_Causas_Levantadas'!C:D,2,0),\"\")","v":0},"","",null,1,null,1,1,691]
[null,null,{"$f":"IFERROR(VLOOKUP(D696,'1_Causas_Levantadas'!C:D,2,0),\"\")","v":0},"","",null,1,null,1,1,692]
[null,null,{"$f":"IFERROR(VLOOKUP(D697,'1_Causas_Levantadas'!C:D,2,0),\"\")","v":0},"","",null,1,null,1,1,693]
[null,null,{"$f":"IFERROR(VLOOKUP(D698,'1_Causas_Levantadas'!C:D,2,0),\"\")","v":0},"","",null,1,null,1,1,694]
[null,null,{"$f":"IFERROR(VLOOKUP(D699,'1_Causas_Levantadas'!C:D,2,0),\"\")","v":0},"","",null,1,null,1,1,695]
[null,null,{"$f":"IFERROR(VLOOKUP(D700,'1_Causas_Levantadas'!C:D,2,0),\"\")","v":0},"","",null,1,null,1,1,696]
[null,null,{"$f":"IFERROR(VLOOKUP(D701,'1_Causas_Levantadas'!C:D,2,0),\"\")","v":0},"","",null,1,null,1,1,697]
[null,null,{"$f":"IFERROR(VLOOKUP(D702,'1_Causas_Levantadas'!C:D,2,0),\"\")","v":0},"","",null,1,null,1,1,698]
[null,null,{"$f":"IFERROR(VLOOKUP(D703,'1_Causas_Levantadas'!C:D,2,0),\"\")","v":0},"","",null,1,null,1,1,699]
[null,null,{"$f":"IFERROR(VLOOKUP(D704,'1_Causas_Levantadas'!C:D,2,0),\"\")","v":0},"","",null,1,null,1,1,700]
[null,null,{"$f":"IFERROR(VLOOKUP(D705,'1_Causas_Levantadas'!C:D,2,0),\"\")","v":0},"","",null,1,null,1,1,701]
[null,null,{"$f":"IFERROR(VLOOKUP(D706,'1_Causas_Levantadas'!C:D,2,0),\"\")","v":0},"","",null,1,null,1,1,702]
[null,null,{"$f":"IFERROR(VLOOKUP(D707,'1_Causas_Levantadas'!C:D,2,0),\"\")","v":0},"","",null,1,null,1,1,703]
[null,null,{"$f":"IFERROR(VLOOKUP(D708,'1_Causas_Levantadas'!C:D,2,0),\"\")","v":0},"","",null,1,null,1,1,704]
[null,null,{"$f":"IFERROR(VLOOKUP(D709,'1_Causas_Levantadas'!C:D,2,0),\"\")","v":0},"","",null,1,null,1,1,705]
[null,null,{"$f":"IFERROR(VLOOKUP(D710,'1_Causas_Levantadas'!C:D,2,0),\"\")","v":0},{"$f":"IF(K710<=$H$4,(IF(G709>0,G710,$G$5)),\"\")","v":""},{"$f":"IF(D710<>\"\",\"Participante \"&K710,\"\")","v":""},null,{"$f":"J710","v":1},null,{"$f":"IF(G710=$G$5,1,0)","v":1},1,{"$f":"I710+K709","v":706}]
[null,null,{"$f":"IFERROR(VLOOKUP(D711,'1_Causas_Levantadas'!C:D,2,0),\"\")","v":0},"","",null,1,null,1,{"$f":"IF(G710<$G$4,J710+1,1)","v":1},707]
[null,null,{"$f":"IFERROR(VLOOKUP(D712,'1_Causas_Levantadas'!C:D,2,0),\"\")","v":0},"","",null,1,null,1,1,708]
[null,null,{"$f":"IFERROR(VLOOKUP(D713,'1_Causas_Levantadas'!C:D,2,0),\"\")","v":0},"","",null,1,null,1,1,709]
[null,null,{"$f":"IFERROR(VLOOKUP(D714,'1_Causas_Levantadas'!C:D,2,0),\"\")","v":0},"","",null,1,null,1,1,710]
[null,null,{"$f":"IFERROR(VLOOKUP(D715,'1_Causas_Levantadas'!C:D,2,0),\"\")","v":0},"","",null,1,null,1,1,711]
[null,null,{"$f":"IFERROR(VLOOKUP(D716,'1_Causas_Levantadas'!C:D,2,0),\"\")","v":0},"","",null,1,null,1,1,712]
[null,null,{"$f":"IFERROR(VLOOKUP(D717,'1_Causas_Levantadas'!C:D,2,0),\"\")","v":0},"","",null,1,null,1,1,713]
[null,null,{"$f":"IFERROR(VLOOKUP(D718,'1_Causas_Levantadas'!C:D,2,0),\"\")","v":0},"","",null,1,null,1,1,714]
[null,null,{"$f":"IFERROR(VLOOKUP(D719,'1_Causas_Levantadas'!C:D,2,0),\"\")","v":0},"","",null,1,null,1,1,715]
[null,null,{"$f":"IFERROR(VLOOKUP(D720,'1_Causas_Levantadas'!C:D,2,0),\"\")","v":0},"","",null,1,null,1,1,716]
[null,null,{"$f":"IFERROR(VLOOKUP(D721,'1_Causas_Levantadas'!C:D,2,0),\"\")","v":0},"","",null,1,null,1,1,717]
[null,null,{"$f":"IFERROR(VLOOKUP(D722,'1_Causas_Levantadas'!C:D,2,0),\"\")","v":0},"","",null,1,null,1,1,718]
[null,null,{"$f":"IFERROR(VLOOKUP(D723,'1_Causas_Levantadas'!C:D,2,0),\"\")","v":0},"","",null,1,null,1,1,719]
[null,null,{"$f":"IFERROR(VLOOKUP(D724,'1_Causas_Levantadas'!C:D,2,0),\"\")","v":0},"","",null,1,null,1,1,720]
[null,null,{"$f":"IFERROR(VLOOKUP(D725,'1_Causas_Levantadas'!C:D,2,0),\"\")","v":0},"","",null,1,null,1,1,721]
[null,null,{"$f":"IFERROR(VLOOKUP(D726,'1_Causas_Levantadas'!C:D,2,0),\"\")","v":0},"","",null,1,null,1,1,722]
[null,null,{"$f":"IFERROR(VLOOKUP(D727,'1_Causas_Levantadas'!C:D,2,0),\"\")","v":0},"","",null,1,null,1,1,723]
[null,null,{"$f":"IFERROR(VLOOKUP(D728,'1_Causas_Levantadas'!C:D,2,0),\"\")","v":0},"","",null,1,null,1,1,724]
[null,null,{"$f":"IFERROR(VLOOKUP(D729,'1_Causas_Levantadas'!C:D,2,0),\"\")","v":0},"","",null,1,null,1,1,725]
[null,null,{"$f":"IFERROR(VLOOKUP(D730,'1_Causas_Levantadas'!C:D,2,0),\"\")","v":0},"","",null,1,null,1,1,726]
[null,null,{"$f":"IFERROR(VLOOKUP(D731,'1_Causas_Levantadas'!C:D,2,0),\"\")","v":0},"","",null,1,null,1,1,727]
[null,null,{"$f":"IFERROR(VLOOKUP(D732,'1_Causas_Levantadas'!C:D,2,0),\"\")","v":0},"","",null,1,null,1,1,728]
[null,null,{"$f":"IFERROR(VLOOKUP(D733,'1_Causas_Levantadas'!C:D,2,0),\"\")","v":0},"","",null,1,null,1,1,729]
[null,null,{"$f":"IFERROR(VLOOKUP(D734,'1_Causas_Levantadas'!C:D,2,0),\"\")","v":0},"","",null,1,null,1,1,730]
[null,null,{"$f":"IFERROR(VLOOKUP(D735,'1_Causas_Levantadas'!C:D,2,0),\"\")","v":0},"","",null,1,null,1,1,731]
[null,null,{"$f":"IFERROR(VLOOKUP(D736,'1_Causas_Levantadas'!C:D,2,0),\"\")","v":0},"","",null,1,null,1,1,732]
[null,null,{"$f":"IFERROR(VLOOKUP(D737,'1_Causas_Levantadas'!C:D,2,0),\"\")","v":0},"","",null,1,null,1,1,733]
[null,null,{"$f":"IFERROR(VLOOKUP(D738,'1_Causas_Levantadas'!C:D,2,0),\"\")","v":0},"","",null,1,null,1,1,734]
[null,null,{"$f":"IFERROR(VLOOKUP(D739,'1_Causas_Levantadas'!C:D,2,0),\"\")","v":0},"","",null,1,null,1,1,735]
[null,null,{"$f":"IFERROR(VLOOKUP(D740,'1_Causas_Levantadas'!C:D,2,0),\"\")","v":0},"","",null,1,null,1,1,736]
[null,null,{"$f":"IFERROR(VLOOKUP(D741,'1_Causas_Levantadas'!C:D,2,0),\"\")","v":0},"","",null,1,null,1,1,737]
[null,null,{"$f":"IFERROR(VLOOKUP(D742,'1_Causas_Levantadas'!C:D,2,0),\"\")","v":0},"","",null,1,null,1,1,738]
[null,null,{"$f":"IFERROR(VLOOKUP(D743,'1_Causas_Levantadas'!C:D,2,0),\"\")","v":0},"","",null,1,null,1,1,739]
[null,null,{"$f":"IFERROR(VLOOKUP(D744,'1_Causas_Levantadas'!C:D,2,0),\"\")","v":0},"","",null,1,null,1,1,740]
[null,null,{"$f":"IFERROR(VLOOKUP(D745,'1_Causas_Levantadas'!C:D,2,0),\"\")","v":0},"","",null,1,null,1,1,741]
[null,null,{"$f":"IFERROR(VLOOKUP(D746,'1_Causas_Levantadas'!C:D,2,0),\"\")","v":0},"","",null,1,null,1,1,742]
[null,null,{"$f":"IFERROR(VLOOKUP(D747,'1_Causas_Levantadas'!C:D,2,0),\"\")","v":0},"","",null,1,null,1,1,743]
[null,null,{"$f":"IFERROR(VLOOKUP(D748,'1_Causas_Levantadas'!C:D,2,0),\"\")","v":0},"","",null,1,null,1,1,744]
[null,null,{"$f":"IFERROR(VLOOKUP(D749,'1_Causas_Levantadas'!C:D,2,0),\"\")","v":0},"","",null,1,null,1,1,745]
[null,null,{"$f":"IFERROR(VLOOKUP(D750,'1_Causas_Levantadas'!C:D,2,0),\"\")","v":0},"","",null,1,null,1,1,746]
[null,null,{"$f":"IFERROR(VLOOKUP(D751,'1_Causas_Levantadas'!C:D,2,0),\"\")","v":0},"","",null,1,null,1,1,747]
[null,null,{"$f":"IFERROR(VLOOKUP(D752,'1_Causas_Levantadas'!C:D,2,0),\"\")","v":0},"","",null,1,null,1,1,748]
[null,null,{"$f":"IFERROR(VLOOKUP(D753,'1_Causas_Levantadas'!C:D,2,0),\"\")","v":0},"","",null,1,null,1,1,749]
[null,null,{"$f":"IFERROR(VLOOKUP(D754,'1_Causas_Levantadas'!C:D,2,0),\"\")","v":0},"","",null,1,null,1,1,750]
[null,null,{"$f":"IFERROR(VLOOKUP(D755,'1_Causas_Levantadas'!C:D,2,0),\"\")","v":0},"","",null,1,null,1,1,751]
[null,null,{"$f":"IFERROR(VLOOKUP(D756,'1_Causas_Levantadas'!C:D,2,0),\"\")","v":0},"","",null,1,null,1,1,752]
[null,null,{"$f":"IFERROR(VLOOKUP(D757,'1_Causas_Levantadas'!C:D,2,0),\"\")","v":0},"","",null,1,null,1,1,753]
[null,null,{"$f":"IFERROR(VLOOKUP(D758,'1_Causas_Levantadas'!C:D,2,0),\"\")","v":0},"","",null,1,null,1,1,754]
[null,null,{"$f":"IFERROR(VLOOKUP(D759,'1_Causas_Levantadas'!C:D,2,0),\"\")","v":0},"","",null,1,null,1,1,755]
[null,null,{"$f":"IFERROR(VLOOKUP(D760,'1_Causas_Levantadas'!C:D,2,0),\"\")","v":0},"","",null,1,null,1,1,756]
[null,null,{"$f":"IFERROR(VLOOKUP(D761,'1_Causas_Levantadas'!C:D,2,0),\"\")","v":0},"","",null,1,null,1,1,757]
[null,null,{"$f":"IFERROR(VLOOKUP(D762,'1_Causas_Levantadas'!C:D,2,0),\"\")","v":0},"","",null,1,null,1,1,758]
[null,null,{"$f":"IFERROR(VLOOKUP(D763,'1_Causas_Levantadas'!C:D,2,0),\"\")","v":0},"","",null,1,null,1,1,759]
[null,null,{"$f":"IFERROR(VLOOKUP(D764,'1_Causas_Levantadas'!C:D,2,0),\"\")","v":0},"","",null,1,null,1,1,760]
[null,null,{"$f":"IFERROR(VLOOKUP(D765,'1_Causas_Levantadas'!C:D,2,0),\"\")","v":0},"","",null,1,null,1,1,761]
[null,null,{"$f":"IFERROR(VLOOKUP(D766,'1_Causas_Levantadas'!C:D,2,0),\"\")","v":0},"","",null,1,null,1,1,762]
[null,null,{"$f":"IFERROR(VLOOKUP(D767,'1_Causas_Levantadas'!C:D,2,0),\"\")","v":0},"","",null,1,null,1,1,763]
[null,null,{"$f":"IFERROR(VLOOKUP(D768,'1_Causas_Levantadas'!C:D,2,0),\"\")","v":0},"","",null,1,null,1,1,764]
[null,null,{"$f":"IFERROR(VLOOKUP(D769,'1_Causas_Levantadas'!C:D,2,0),\"\")","v":0},"","",null,1,null,1,1,765]
[null,null,{"$f":"IFERROR(VLOOKUP(D770,'1_Causas_Levantadas'!C:D,2,0),\"\")","v":0},"","",null,1,null,1,1,766]
[null,null,{"$f":"IFERROR(VLOOKUP(D771,'1_Causas_Levantadas'!C:D,2,0),\"\")","v":0},"","",null,1,null,1,1,767]
[null,null,{"$f":"IFERROR(VLOOKUP(D772,'1_Causas_Levantadas'!C:D,2,0),\"\")","v":0},"","",null,1,null,1,1,768]
[null,null,{"$f":"IFERROR(VLOOKUP(D773,'1_Causas_Levantadas'!C:D,2,0),\"\")","v":0},"","",null,1,null,1,1,769]
[null,null,{"$f":"IFERROR(VLOOKUP(D774,'1_Causas_Levantadas'!C:D,2,0),\"\")","v":0},{"$f":"IF(K774<=$H$4,(IF(G773>0,G774,$G$5)),\"\")","v":""},{"$f":"IF(D774<>\"\",\"Participante \"&K774,\"\")","v":""},null,{"$f":"J774","v":1},null,{"$f":"IF(G774=$G$5,1,0)","v":1},1,{"$f":"I774+K773","v":770}]
[null,null,{"$f":"IFERROR(VLOOKUP(D775,'1_Causas_Levantadas'!C:D,2,0),\"\")","v":0},"","",null,1,null,1,{"$f":"IF(G774<$G$4,J774+1,1)","v":1},771]
[null,null,{"$f":"IFERROR(VLOOKUP(D776,'1_Causas_Levantadas'!C:D,2,0),\"\")","v":0},"","",null,1,null,1,1,772]
[null,null,{"$f":"IFERROR(VLOOKUP(D777,'1_Causas_Levantadas'!C:D,2,0),\"\")","v":0},"","",null,1,null,1,1,773]
[null,null,{"$f":"IFERROR(VLOOKUP(D778,'1_Causas_Levantadas'!C:D,2,0),\"\")","v":0},"","",null,1,null,1,1,774]
[null,null,{"$f":"IFERROR(VLOOKUP(D779,'1_Causas_Levantadas'!C:D,2,0),\"\")","v":0},"","",null,1,null,1,1,775]
[null,null,{"$f":"IFERROR(VLOOKUP(D780,'1_Causas_Levantadas'!C:D,2,0),\"\")","v":0},"","",null,1,null,1,1,776]
[null,null,{"$f":"IFERROR(VLOOKUP(D781,'1_Causas_Levantadas'!C:D,2,0),\"\")","v":0},"","",null,1,null,1,1,777]
[null,null,{"$f":"IFERROR(VLOOKUP(D782,'1_Causas_Levantadas'!C:D,2,0),\"\")","v":0},"","",null,1,null,1,1,778]
[null,null,{"$f":"IFERROR(VLOOKUP(D783,'1_Causas_Levantadas'!C:D,2,0),\"\")","v":0},"","",null,1,null,1,1,779]
[null,null,{"$f":"IFERROR(VLOOKUP(D784,'1_Causas_Levantadas'!C:D,2,0),\"\")","v":0},"","",null,1,null,1,1,780]
[null,null,{"$f":"IFERROR(VLOOKUP(D785,'1_Causas_Levantadas'!C:D,2,0),\"\")","v":0},"","",null,1,null,1,1,781]
[null,null,{"$f":"IFERROR(VLOOKUP(D786,'1_Causas_Levantadas'!C:D,2,0),\"\")","v":0},"","",null,1,null,1,1,782]
[null,null,{"$f":"IFERROR(VLOOKUP(D787,'1_Causas_Levantadas'!C:D,2,0),\"\")","v":0},"","",null,1,null,1,1,783]
[null,null,{"$f":"IFERROR(VLOOKUP(D788,'1_Causas_Levantadas'!C:D,2,0),\"\")","v":0},"","",null,1,null,1,1,784]
[null,null,{"$f":"IFERROR(VLOOKUP(D789,'1_Causas_Levantadas'!C:D,2,0),\"\")","v":0},"","",null,1,null,1,1,785]
[null,null,{"$f":"IFERROR(VLOOKUP(D790,'1_Causas_Levantadas'!C:D,2,0),\"\")","v":0},"","",null,1,null,1,1,786]
[null,null,{"$f":"IFERROR(VLOOKUP(D791,'1_Causas_Levantadas'!C:D,2,0),\"\")","v":0},"","",null,1,null,1,1,787]
[null,null,{"$f":"IFERROR(VLOOKUP(D792,'1_Causas_Levantadas'!C:D,2,0),\"\")","v":0},"","",null,1,null,1,1,788]
[null,null,{"$f":"IFERROR(VLOOKUP(D793,'1_Causas_Levantadas'!C:D,2,0),\"\")","v":0},"","",null,1,null,1,1,789]
[null,null,{"$f":"IFERROR(VLOOKUP(D794,'1_Causas_Levantadas'!C:D,2,0),\"\")","v":0},"","",null,1,null,1,1,790]
[null,null,{"$f":"IFERROR(VLOOKUP(D795,'1_Causas_Levantadas'!C:D,2,0),\"\")","v":0},"","",null,1,null,1,1,791]
[null,null,{"$f":"IFERROR(VLOOKUP(D796,'1_Causas_Levantadas'!C:D,2,0),\"\")","v":0},"","",null,1,null,1,1,792]
[null,null,{"$f":"IFERROR(VLOOKUP(D797,'1_Causas_Levantadas'!C:D,2,0),\"\")","v":0},"","",null,1,null,1,1,793]
[null,null,{"$f":"IFERROR(VLOOKUP(D798,'1_Causas_Levantadas'!C:D,2,0),\"\")","v":0},"","",null,1,null,1,1,794]
[null,null,{"$f":"IFERROR(VLOOKUP(D799,'1_Causas_Levantadas'!C:D,2,0),\"\")","v":0},"","",null,1,null,1,1,795]
[null,null,{"$f":"IFERROR(VLOOKUP(D800,'1_Causas_Levantadas'!C:D,2,0),\"\")","v":0},"","",null,1,null,1,1,796]
[null,null,{"$f":"IFERROR(VLOOKUP(D801,'1_Causas_Levantadas'!C:D,2,0),\"\")","v":0},"","",null,1,null,1,1,797]
[null,null,{"$f":"IFERROR(VLOOKUP(D802,'1_Causas_Levantadas'!C:D,2,0),\"\")","v":0},"","",null,1,null,1,1,798]
[null,null,{"$f":"IFERROR(VLOOKUP(D803,'1_Causas_Levantadas'!C:D,2,0),\"\")","v":0},"","",null,1,null,1,1,799]
[null,null,{"$f":"IFERROR(VLOOKUP(D804,'1_Causas_Levantadas'!C:D,2,0),\"\")","v":0},"","",null,1,null,1,1,800]
[null,null,{"$f":"IFERROR(VLOOKUP(D805,'1_Causas_Levantadas'!C:D,2,0),\"\")","v":0},"","",null,1,null,1,1,801]
[null,null,{"$f":"IFERROR(VLOOKUP(D806,'1_Causas_Levantadas'!C:D,2,0),\"\")","v":0},"","",null,1,null,1,1,802]
[null,null,{"$f":"IFERROR(VLOOKUP(D807,'1_Causas_Levantadas'!C:D,2,0),\"\")","v":0},"","",null,1,null,1,1,803]
[null,null,{"$f":"IFERROR(VLOOKUP(D808,'1_Causas_Levantadas'!C:D,2,0),\"\")","v":0},"","",null,1,null,1,1,804]
[null,null,{"$f":"IFERROR(VLOOKUP(D809,'1_Causas_Levantadas'!C:D,2,0),\"\")","v":0},"","",null,1,null,1,1,805]
[null,null,{"$f":"IFERROR(VLOOKUP(D810,'1_Causas_Levantadas'!C:D,2,0),\"\")","v":0},"","",null,1,null,1,1,806]
[null,null,{"$f":"IFERROR(VLOOKUP(D811,'1_Causas_Levantadas'!C:D,2,0),\"\")","v":0},"","",null,1,null,1,1,807]
[null,null,{"$f":"IFERROR(VLOOKUP(D812,'1_Causas_Levantadas'!C:D,2,0),\"\")","v":0},"","",null,1,null,1,1,808]
[null,null,{"$f":"IFERROR(VLOOKUP(D813,'1_Causas_Levantadas'!C:D,2,0),\"\")","v":0},"","",null,1,null,1,1,809]
[null,null,{"$f":"IFERROR(VLOOKUP(D814,'1_Causas_Levantadas'!C:D,2,0),\"\")","v":0},"","",null,1,null,1,1,810]
[null,null,{"$f":"IFERROR(VLOOKUP(D815,'1_Causas_Levantadas'!C:D,2,0),\"\")","v":0},"","",null,1,null,1,1,811]
[null,null,{"$f":"IFERROR(VLOOKUP(D816,'1_Causas_Levantadas'!C:D,2,0),\"\")","v":0},"","",null,1,null,1,1,812]
[null,null,{"$f":"IFERROR(VLOOKUP(D817,'1_Causas_Levantadas'!C:D,2,0),\"\")","v":0},"","",null,1,null,1,1,813]
[null,null,{"$f":"IFERROR(VLOOKUP(D818,'1_Causas_Levantadas'!C:D,2,0),\"\")","v":0},"","",null,1,null,1,1,814]
[null,null,{"$f":"IFERROR(VLOOKUP(D819,'1_Causas_Levantadas'!C:D,2,0),\"\")","v":0},"","",null,1,null,1,1,815]
[null,null,{"$f":"IFERROR(VLOOKUP(D820,'1_Causas_Levantadas'!C:D,2,0),\"\")","v":0},"","",null,1,null,1,1,816]
[null,null,{"$f":"IFERROR(VLOOKUP(D821,'1_Causas_Levantadas'!C:D,2,0),\"\")","v":0},"","",null,1,null,1,1,817]
[null,null,{"$f":"IFERROR(VLOOKUP(D822,'1_Causas_Levantadas'!C:D,2,0),\"\")","v":0},"","",null,1,null,1,1,818]
[null,null,{"$f":"IFERROR(VLOOKUP(D823,'1_Causas_Levantadas'!C:D,2,0),\"\")","v":0},"","",null,1,null,1,1,819]
[null,null,{"$f":"IFERROR(VLOOKUP(D824,'1_Causas_Levantadas'!C:D,2,0),\"\")","v":0},"","",null,1,null,1,1,820]
[null,null,{"$f":"IFERROR(VLOOKUP(D825,'1_Causas_Levantadas'!C:D,2,0),\"\")","v":0},"","",null,1,null,1,1,821]
[null,null,{"$f":"IFERROR(VLOOKUP(D826,'1_Causas_Levantadas'!C:D,2,0),\"\")","v":0},"","",null,1,null,1,1,822]
[null,null,{"$f":"IFERROR(VLOOKUP(D827,'1_Causas_Levantadas'!C:D,2,0),\"\")","v":0},"","",null,1,null,1,1,823]
[null,null,{"$f":"IFERROR(VLOOKUP(D828,'1_Causas_Levantadas'!C:D,2,0),\"\")","v":0},"","",null,1,null,1,1,824]
[null,null,{"$f":"IFERROR(VLOOKUP(D829,'1_Causas_Levantadas'!C:D,2,0),\"\")","v":0},"","",null,1,null,1,1,825]
[null,null,{"$f":"IFERROR(VLOOKUP(D830,'1_Causas_Levantadas'!C:D,2,0),\"\")","v":0},"","",null,1,null,1,1,826]
[null,null,{"$f":"IFERROR(VLOOKUP(D831,'1_Causas_Levantadas'!C:D,2,0),\"\")","v":0},"","",null,1,null,1,1,827]
[null,null,{"$f":"IFERROR(VLOOKUP(D832,'1_Causas_Levantadas'!C:D,2,0),\"\")","v":0},"","",null,1,null,1,1,828]
[null,null,{"$f":"IFERROR(VLOOKUP(D833,'1_Causas_Levantadas'!C:D,2,0),\"\")","v":0},"","",null,1,null,1,1,829]
[null,null,{"$f":"IFERROR(VLOOKUP(D834,'1_Causas_Levantadas'!C:D,2,0),\"\")","v":0},"","",null,1,null,1,1,830]
[null,null,{"$f":"IFERROR(VLOOKUP(D835,'1_Causas_Levantadas'!C:D,2,0),\"\")","v":0},"","",null,1,null,1,1,831]
[null,null,{"$f":"IFERROR(VLOOKUP(D836,'1_Causas_Levantadas'!C:D,2,0),\"\")","v":0},"","",null,1,null,1,1,832]
[null,null,{"$f":"IFERROR(VLOOKUP(D837,'1_Causas_Levantadas'!C:D,2,0),\"\")","v":0},"","",null,1,null,1,1,833]
[null,null,{"$f":"IFERROR(VLOOKUP(D838,'1_Causas_Levantadas'!C:D,2,0),\"\")","v":0},{"$f":"IF(K838<=$H$4,(IF(G837>0,G838,$G$5)),\"\")","v":""},{"$f":"IF(D838<>\"\",\"Participante \"&K838,\"\")","v":""},null,{"$f":"J838","v":1},null,{"$f":"IF(G838=$G$5,1,0)","v":1},1,{"$f":"I838+K837","v":834}]
[null,null,{"$f":"IFERROR(VLOOKUP(D839,'1_Causas_Levantadas'!C:D,2,0),\"\")","v":0},"","",null,1,null,1,{"$f":"IF(G838<$G$4,J838+1,1)","v":1},835]
[null,null,{"$f":"IFERROR(VLOOKUP(D840,'1_Causas_Levantadas'!C:D,2,0),\"\")","v":0},"","",null,1,null,1,1,836]
[null,null,{"$f":"IFERROR(VLOOKUP(D841,'1_Causas_Levantadas'!C:D,2,0),\"\")","v":0},"","",null,1,null,1,1,837]
[null,null,{"$f":"IFERROR(VLOOKUP(D842,'1_Causas_Levantadas'!C:D,2,0),\"\")","v":0},"","",null,1,null,1,1,838]
[null,null,{"$f":"IFERROR(VLOOKUP(D843,'1_Causas_Levantadas'!C:D,2,0),\"\")","v":0},"","",null,1,null,1,1,839]
[null,null,{"$f":"IFERROR(VLOOKUP(D844,'1_Causas_Levantadas'!C:D,2,0),\"\")","v":0},"","",null,1,null,1,1,840]
[null,null,{"$f":"IFERROR(VLOOKUP(D845,'1_Causas_Levantadas'!C:D,2,0),\"\")","v":0},"","",null,1,null,1,1,841]
[null,null,{"$f":"IFERROR(VLOOKUP(D846,'1_Causas_Levantadas'!C:D,2,0),\"\")","v":0},"","",null,1,null,1,1,842]
[null,null,{"$f":"IFERROR(VLOOKUP(D847,'1_Causas_Levantadas'!C:D,2,0),\"\")","v":0},"","",null,1,null,1,1,843]
[null,null,{"$f":"IFERROR(VLOOKUP(D848,'1_Causas_Levantadas'!C:D,2,0),\"\")","v":0},"","",null,1,null,1,1,844]
[null,null,{"$f":"IFERROR(VLOOKUP(D849,'1_Causas_Levantadas'!C:D,2,0),\"\")","v":0},"","",null,1,null,1,1,845]
[null,null,{"$f":"IFERROR(VLOOKUP(D850,'1_Causas_Levantadas'!C:D,2,0),\"\")","v":0},"","",null,1,null,1,1,846]
[null,null,{"$f":"IFERROR(VLOOKUP(D851,'1_Causas_Levantadas'!C:D,2,0),\"\")","v":0},"","",null,1,null,1,1,847]
[null,null,{"$f":"IFERROR(VLOOKUP(D852,'1_Causas_Levantadas'!C:D,2,0),\"\")","v":0},"","",null,1,null,1,1,848]
[null,null,{"$f":"IFERROR(VLOOKUP(D853,'1_Causas_Levantadas'!C:D,2,0),\"\")","v":0},"","",null,1,null,1,1,849]
[null,null,{"$f":"IFERROR(VLOOKUP(D854,'1_Causas_Levantadas'!C:D,2,0),\"\")","v":0},"","",null,1,null,1,1,850]
[null,null,{"$f":"IFERROR(VLOOKUP(D855,'1_Causas_Levantadas'!C:D,2,0),\"\")","v":0},"","",null,1,null,1,1,851]
[null,null,{"$f":"IFERROR(VLOOKUP(D856,'1_Causas_Levantadas'!C:D,2,0),\"\")","v":0},"","",null,1,null,1,1,852]
[null,null,{"$f":"IFERROR(VLOOKUP(D857,'1_Causas_Levantadas'!C:D,2,0),\"\")","v":0},"","",null,1,null,1,1,853]
[null,null,{"$f":"IFERROR(VLOOKUP(D858,'1_Causas_Levantadas'!C:D,2,0),\"\")","v":0},"","",null,1,null,1,1,854]
[null,null,{"$f":"IFERROR(VLOOKUP(D859,'1_Causas_Levantadas'!C:D,2,0),\"\")","v":0},"","",null,1,null,1,1,855]
[null,null,{"$f":"IFERROR(VLOOKUP(D860,'1_Causas_Levantadas'!C:D,2,0),\"\")","v":0},"","",null,1,null,1,1,856]
[null,null,{"$f":"IFERROR(VLOOKUP(D861,'1_Causas_Levantadas'!C:D,2,0),\"\")","v":0},"","",null,1,null,1,1,857]
[null,null,{"$f":"IFERROR(VLOOKUP(D862,'1_Causas_Levantadas'!C:D,2,0),\"\")","v":0},"","",null,1,null,1,1,858]
[null,null,{"$f":"IFERROR(VLOOKUP(D863,'1_Causas_Levantadas'!C:D,2,0),\"\")","v":0},"","",null,1,null,1,1,859]
[null,null,{"$f":"IFERROR(VLOOKUP(D864,'1_Causas_Levantadas'!C:D,2,0),\"\")","v":0},"","",null,1,null,1,1,860]
[null,null,{"$f":"IFERROR(VLOOKUP(D865,'1_Causas_Levantadas'!C:D,2,0),\"\")","v":0},"","",null,1,null,1,1,861]
[null,null,{"$f":"IFERROR(VLOOKUP(D866,'1_Causas_Levantadas'!C:D,2,0),\"\")","v":0},"","",null,1,null,1,1,862]
[null,null,{"$f":"IFERROR(VLOOKUP(D867,'1_Causas_Levantadas'!C:D,2,0),\"\")","v":0},"","",null,1,null,1,1,863]
[null,null,{"$f":"IFERROR(VLOOKUP(D868,'1_Causas_Levantadas'!C:D,2,0),\"\")","v":0},"","",null,1,null,1,1,864]
[null,null,{"$f":"IFERROR(VLOOKUP(D869,'1_Causas_Levantadas'!C:D,2,0),\"\")","v":0},"","",null,1,null,1,1,865]
[null,null,{"$f":"IFERROR(VLOOKUP(D870,'1_Causas_Levantadas'!C:D,2,0),\"\")","v":0},"","",null,1,null,1,1,866]
[null,null,{"$f":"IFERROR(VLOOKUP(D871,'1_Causas_Levantadas'!C:D,2,0),\"\")","v":0},"","",null,1,null,1,1,867]
[null,null,{"$f":"IFERROR(VLOOKUP(D872,'1_Causas_Levantadas'!C:D,2,0),\"\")","v":0},"","",null,1,null,1,1,868]
[null,null,{"$f":"IFERROR(VLOOKUP(D873,'1_Causas_Levantadas'!C:D,2,0),\"\")","v":0},"","",null,1,null,1,1,869]
[null,null,{"$f":"IFERROR(VLOOKUP(D874,'1_Causas_Levantadas'!C:D,2,0),\"\")","v":0},"","",null,1,null,1,1,870]
[null,null,{"$f":"IFERROR(VLOOKUP(D875,'1_Causas_Levantadas'!C:D,2,0),\"\")","v":0},"","",null,1,null,1,1,871]
[null,null,{"$f":"IFERROR(VLOOKUP(D876,'1_Causas_Levantadas'!C:D,2,0),\"\")","v":0},"","",null,1,null,1,1,872]
[null,null,{"$f":"IFERROR(VLOOKUP(D877,'1_Causas_Levantadas'!C:D,2,0),\"\")","v":0},"","",null,1,null,1,1,873]
[null,null,{"$f":"IFERROR(VLOOKUP(D878,'1_Causas_Levantadas'!C:D,2,0),\"\")","v":0},"","",null,1,null,1,1,874]
[null,null,{"$f":"IFERROR(VLOOKUP(D879,'1_Causas_Levantadas'!C:D,2,0),\"\")","v":0},"","",null,1,null,1,1,875]
[null,null,{"$f":"IFERROR(VLOOKUP(D880,'1_Causas_Levantadas'!C:D,2,0),\"\")","v":0},"","",null,1,null,1,1,876]
[null,null,{"$f":"IFERROR(VLOOKUP(D881,'1_Causas_Levantadas'!C:D,2,0),\"\")","v":0},"","",null,1,null,1,1,877]
[null,null,{"$f":"IFERROR(VLOOKUP(D882,'1_Causas_Levantadas'!C:D,2,0),\"\")","v":0},"","",null,1,null,1,1,878]
[null,null,{"$f":"IFERROR(VLOOKUP(D883,'1_Causas_Levantadas'!C:D,2,0),\"\")","v":0},"","",null,1,null,1,1,879]
[null,null,{"$f":"IFERROR(VLOOKUP(D884,'1_Causas_Levantadas'!C:D,2,0),\"\")","v":0},"","",null,1,null,1,1,880]
[null,null,{"$f":"IFERROR(VLOOKUP(D885,'1_Causas_Levantadas'!C:D,2,0),\"\")","v":0},"","",null,1,null,1,1,881]
[null,null,{"$f":"IFERROR(VLOOKUP(D886,'1_Causas_Levantadas'!C:D,2,0),\"\")","v":0},"","",null,1,null,1,1,882]
[null,null,{"$f":"IFERROR(VLOOKUP(D887,'1_Causas_Levantadas'!C:D,2,0),\"\")","v":0},"","",null,1,null,1,1,883]
[null,null,{"$f":"IFERROR(VLOOKUP(D888,'1_Causas_Levantadas'!C:D,2,0),\"\")","v":0},"","",null,1,null,1,1,884]
[null,null,{"$f":"IFERROR(VLOOKUP(D889,'1_Causas_Levantadas'!C:D,2,0),\"\")","v":0},"","",null,1,null,1,1,885]
[null,null,{"$f":"IFERROR(VLOOKUP(D890,'1_Causas_Levantadas'!C:D,2,0),\"\")","v":0},"","",null,1,null,1,1,886]
[null,null,{"$f":"IFERROR(VLOOKUP(D891,'1_Causas_Levantadas'!C:D,2,0),\"\")","v":0},"","",null,1,null,1,1,887]
[null,null,{"$f":"IFERROR(VLOOKUP(D892,'1_Causas_Levantadas'!C:D,2,0),\"\")","v":0},"","",null,1,null,1,1,888]
[null,null,{"$f":"IFERROR(VLOOKUP(D893,'1_Causas_Levantadas'!C:D,2,0),\"\")","v":0},"","",null,1,null,1,1,889]
[null,null,{"$f":"IFERROR(VLOOKUP(D894,'1_Causas_Levantadas'!C:D,2,0),\"\")","v":0},"","",null,1,null,1,1,890]
[null,null,{"$f":"IFERROR(VLOOKUP(D895,'1_Causas_Levantadas'!C:D,2,0),\"\")","v":0},"","",null,1,null,1,1,891]
[null,null,{"$f":"IFERROR(VLOOKUP(D896,'1_Causas_Levantadas'!C:D,2,0),\"\")","v":0},"","",null,1,null,1,1,892]
[null,null,{"$f":"IFERROR(VLOOKUP(D897,'1_Causas_Levantadas'!C:D,2,0),\"\")","v":0},"","",null,1,null,1,1,893]
[null,null,{"$f":"IFERROR(VLOOKUP(D898,'1_Causas_Levantadas'!C:D,2,0),\"\")","v":0},"","",null,1,null,1,1,894]
[null,null,{"$f":"IFERROR(VLOOKUP(D899,'1_Causas_Levantadas'!C:D,2,0),\"\")","v":0},"","",null,1,null,1,1,895]
[null,null,{"$f":"IFERROR(VLOOKUP(D900,'1_Causas_Levantadas'!C:D,2,0),\"\")","v":0},"","",null,1,null,1,1,896]
[null,null,{"$f":"IFERROR(VLOOKUP(D901,'1_Causas_Levantadas'!C:D,2,0),\"\")","v":0},"","",null,1,null,1,1,897]
[null,null,{"$f":"IFERROR(VLOOKUP(D902,'1_Causas_Levantadas'!C:D,2,0),\"\")","v":0},{"$f":"IF(K902<=$H$4,(IF(G901>0,G902,$G$5)),\"\")","v":""},{"$f":"IF(D902<>\"\",\"Participante \"&K902,\"\")","v":""},null,{"$f":"J902","v":1},null,{"$f":"IF(G902=$G$5,1,0)","v":1},1,{"$f":"I902+K901","v":898}]
[null,null,{"$f":"IFERROR(VLOOKUP(D903,'1_Causas_Levantadas'!C:D,2,0),\"\")","v":0},"","",null,1,null,1,{"$f":"IF(G902<$G$4,J902+1,1)","v":1},899]
[null,null,{"$f":"IFERROR(VLOOKUP(D904,'1_Causas_Levantadas'!C:D,2,0),\"\")","v":0},"","",null,1,null,1,1,900]
[null,null,{"$f":"IFERROR(VLOOKUP(D905,'1_Causas_Levantadas'!C:D,2,0),\"\")","v":0},"","",null,1,null,1,1,901]
[null,null,{"$f":"IFERROR(VLOOKUP(D906,'1_Causas_Levantadas'!C:D,2,0),\"\")","v":0},"","",null,1,null,1,1,902]
[null,null,{"$f":"IFERROR(VLOOKUP(D907,'1_Causas_Levantadas'!C:D,2,0),\"\")","v":0},"","",null,1,null,1,1,903]
[null,null,{"$f":"IFERROR(VLOOKUP(D908,'1_Causas_Levantadas'!C:D,2,0),\"\")","v":0},"","",null,1,null,1,1,904]
[null,null,{"$f":"IFERROR(VLOOKUP(D909,'1_Causas_Levantadas'!C:D,2,0),\"\")","v":0},"","",null,1,null,1,1,905]
[null,null,{"$f":"IFERROR(VLOOKUP(D910,'1_Causas_Levantadas'!C:D,2,0),\"\")","v":0},"","",null,1,null,1,1,906]
[null,null,{"$f":"IFERROR(VLOOKUP(D911,'1_Causas_Levantadas'!C:D,2,0),\"\")","v":0},"","",null,1,null,1,1,907]
[null,null,{"$f":"IFERROR(VLOOKUP(D912,'1_Causas_Levantadas'!C:D,2,0),\"\")","v":0},"","",null,1,null,1,1,908]
[null,null,{"$f":"IFERROR(VLOOKUP(D913,'1_Causas_Levantadas'!C:D,2,0),\"\")","v":0},"","",null,1,null,1,1,909]
[null,null,{"$f":"IFERROR(VLOOKUP(D914,'1_Causas_Levantadas'!C:D,2,0),\"\")","v":0},"","",null,1,null,1,1,910]
[null,null,{"$f":"IFERROR(VLOOKUP(D915,'1_Causas_Levantadas'!C:D,2,0),\"\")","v":0},"","",null,1,null,1,1,911]
[null,null,{"$f":"IFERROR(VLOOKUP(D916,'1_Causas_Levantadas'!C:D,2,0),\"\")","v":0},"","",null,1,null,1,1,912]
[null,null,{"$f":"IFERROR(VLOOKUP(D917,'1_Causas_Levantadas'!C:D,2,0),\"\")","v":0},"","",null,1,null,1,1,913]
[null,null,{"$f":"IFERROR(VLOOKUP(D918,'1_Causas_Levantadas'!C:D,2,0),\"\")","v":0},"","",null,1,null,1,1,914]
[null,null,{"$f":"IFERROR(VLOOKUP(D919,'1_Causas_Levantadas'!C:D,2,0),\"\")","v":0},"","",null,1,null,1,1,915]
[null,null,{"$f":"IFERROR(VLOOKUP(D920,'1_Causas_Levantadas'!C:D,2,0),\"\")","v":0},"","",null,1,null,1,1,916]
[null,null,{"$f":"IFERROR(VLOOKUP(D921,'1_Causas_Levantadas'!C:D,2,0),\"\")","v":0},"","",null,1,null,1,1,917]
[null,null,{"$f":"IFERROR(VLOOKUP(D922,'1_Causas_Levantadas'!C:D,2,0),\"\")","v":0},"","",null,1,null,1,1,918]
[null,null,{"$f":"IFERROR(VLOOKUP(D923,'1_Causas_Levantadas'!C:D,2,0),\"\")","v":0},"","",null,1,null,1,1,919]
[null,null,{"$f":"IFERROR(VLOOKUP(D924,'1_Causas_Levantadas'!C:D,2,0),\"\")","v":0},"","",null,1,null,1,1,920]
[null,null,{"$f":"IFERROR(VLOOKUP(D925,'1_Causas_Levantadas'!C:D,2,0),\"\")","v":0},"","",null,1,null,1,1,921]
[null,null,{"$f":"IFERROR(VLOOKUP(D926,'1_Causas_Levantadas'!C:D,2,0),\"\")","v":0},"","",null,1,null,1,1,922]
[null,null,{"$f":"IFERROR(VLOOKUP(D927,'1_Causas_Levantadas'!C:D,2,0),\"\")","v":0},"","",null,1,null,1,1,923]
[null,null,{"$f":"IFERROR(VLOOKUP(D928,'1_Causas_Levantadas'!C:D,2,0),\"\")","v":0},"","",null,1,null,1,1,924]
[null,null,{"$f":"IFERROR(VLOOKUP(D929,'1_Causas_Levantadas'!C:D,2,0),\"\")","v":0},"","",null,1,null,1,1,925]
[null,null,{"$f":"IFERROR(VLOOKUP(D930,'1_Causas_Levantadas'!C:D,2,0),\"\")","v":0},"","",null,1,null,1,1,926]
[null,null,{"$f":"IFERROR(VLOOKUP(D931,'1_Causas_Levantadas'!C:D,2,0),\"\")","v":0},"","",null,1,null,1,1,927]
[null,null,{"$f":"IFERROR(VLOOKUP(D932,'1_Causas_Levantadas'!C:D,2,0),\"\")","v":0},"","",null,1,null,1,1,928]
[null,null,{"$f":"IFERROR(VLOOKUP(D933,'1_Causas_Levantadas'!C:D,2,0),\"\")","v":0},"","",null,1,null,1,1,929]
[null,null,{"$f":"IFERROR(VLOOKUP(D934,'1_Causas_Levantadas'!C:D,2,0),\"\")","v":0},"","",null,1,null,1,1,930]
[null,null,{"$f":"IFERROR(VLOOKUP(D935,'1_Causas_Levantadas'!C:D,2,0),\"\")","v":0},"","",null,1,null,1,1,931]
[null,null,{"$f":"IFERROR(VLOOKUP(D936,'1_Causas_Levantadas'!C:D,2,0),\"\")","v":0},"","",null,1,null,1,1,932]
[null,null,{"$f":"IFERROR(VLOOKUP(D937,'1_Causas_Levantadas'!C:D,2,0),\"\")","v":0},"","",null,1,null,1,1,933]
[null,null,{"$f":"IFERROR(VLOOKUP(D938,'1_Causas_Levantadas'!C:D,2,0),\"\")","v":0},"","",null,1,null,1,1,934]
[null,null,{"$f":"IFERROR(VLOOKUP(D939,'1_Causas_Levantadas'!C:D,2,0),\"\")","v":0},"","",null,1,null,1,1,935]
[null,null,{"$f":"IFERROR(VLOOKUP(D940,'1_Causas_Levantadas'!C:D,2,0),\"\")","v":0},"","",null,1,null,1,1,936]
[null,null,{"$f":"IFERROR(VLOOKUP(D941,'1_Causas_Levantadas'!C:D,2,0),\"\")","v":0},"","",null,1,null,1,1,937]
[null,null,{"$f":"IFERROR(VLOOKUP(D942,'1_Causas_Levantadas'!C:D,2,0),\"\")","v":0},"","",null,1,null,1,1,938]
[null,null,{"$f":"IFERROR(VLOOKUP(D943,'1_Causas_Levantadas'!C:D,2,0),\"\")","v":0},"","",null,1,null,1,1,939]
[null,null,{"$f":"IFERROR(VLOOKUP(D944,'1_Causas_Levantadas'!C:D,2,0),\"\")","v":0},"","",null,1,null,1,1,940]
[null,null,{"$f":"IFERROR(VLOOKUP(D945,'1_Causas_Levantadas'!C:D,2,0),\"\")","v":0},"","",null,1,null,1,1,941]
[null,null,{"$f":"IFERROR(VLOOKUP(D946,'1_Causas_Levantadas'!C:D,2,0),\"\")","v":0},"","",null,1,null,1,1,942]
[null,null,{"$f":"IFERROR(VLOOKUP(D947,'1_Causas_Levantadas'!C:D,2,0),\"\")","v":0},"","",null,1,null,1,1,943]
[null,null,{"$f":"IFERROR(VLOOKUP(D948,'1_Causas_Levantadas'!C:D,2,0),\"\")","v":0},"","",null,1,null,1,1,944]
[null,null,{"$f":"IFERROR(VLOOKUP(D949,'1_Causas_Levantadas'!C:D,2,0),\"\")","v":0},"","",null,1,null,1,1,945]
[null,null,{"$f":"IFERROR(VLOOKUP(D950,'1_Causas_Levantadas'!C:D,2,0),\"\")","v":0},"","",null,1,null,1,1,946]
[null,null,{"$f":"IFERROR(VLOOKUP(D951,'1_Causas_Levantadas'!C:D,2,0),\"\")","v":0},"","",null,1,null,1,1,947]
[null,null,{"$f":"IFERROR(VLOOKUP(D952,'1_Causas_Levantadas'!C:D,2,0),\"\")","v":0},"","",null,1,null,1,1,948]
[null,null,{"$f":"IFERROR(VLOOKUP(D953,'1_Causas_Levantadas'!C:D,2,0),\"\")","v":0},"","",null,1,null,1,1,949]
[null,null,{"$f":"IFERROR(VLOOKUP(D954,'1_Causas_Levantadas'!C:D,2,0),\"\")","v":0},"","",null,1,null,1,1,950]
[null,null,{"$f":"IFERROR(VLOOKUP(D955,'1_Causas_Levantadas'!C:D,2,0),\"\")","v":0},"","",null,1,null,1,1,951]
[null,null,{"$f":"IFERROR(VLOOKUP(D956,'1_Causas_Levantadas'!C:D,2,0),\"\")","v":0},"","",null,1,null,1,1,952]
[null,null,{"$f":"IFERROR(VLOOKUP(D957,'1_Causas_Levantadas'!C:D,2,0),\"\")","v":0},"","",null,1,null,1,1,953]
[null,null,{"$f":"IFERROR(VLOOKUP(D958,'1_Causas_Levantadas'!C:D,2,0),\"\")","v":0},"","",null,1,null,1,1,954]
[null,null,{"$f":"IFERROR(VLOOKUP(D959,'1_Causas_Levantadas'!C:D,2,0),\"\")","v":0},"","",null,1,null,1,1,955]
[null,null,{"$f":"IFERROR(VLOOKUP(D960,'1_Causas_Levantadas'!C:D,2,0),\"\")","v":0},"","",null,1,null,1,1,956]
[null,null,{"$f":"IFERROR(VLOOKUP(D961,'1_Causas_Levantadas'!C:D,2,0),\"\")","v":0},"","",null,1,null,1,1,957]
[null,null,{"$f":"IFERROR(VLOOKUP(D962,'1_Causas_Levantadas'!C:D,2,0),\"\")","v":0},"","",null,1,null,1,1,958]
[null,null,{"$f":"IFERROR(VLOOKUP(D963,'1_Causas_Levantadas'!C:D,2,0),\"\")","v":0},"","",null,1,null,1,1,959]
[null,null,{"$f":"IFERROR(VLOOKUP(D964,'1_Causas_Levantadas'!C:D,2,0),\"\")","v":0},"","",null,1,null,1,1,960]
[null,null,{"$f":"IFERROR(VLOOKUP(D965,'1_Causas_Levantadas'!C:D,2,0),\"\")","v":0},"","",null,1,null,1,1,961]
[null,null,{"$f":"IFERROR(VLOOKUP(D966,'1_Causas_Levantadas'!C:D,2,0),\"\")","v":0},{"$f":"IF(K966<=$H$4,(IF(G965>0,G966,$G$5)),\"\")","v":""},{"$f":"IF(D966<>\"\",\"Participante \"&K966,\"\")","v":""},null,{"$f":"J966","v":1},null,{"$f":"IF(G966=$G$5,1,0)","v":1},1,{"$f":"I966+K965","v":962}]
[null,null,{"$f":"IFERROR(VLOOKUP(D967,'1_Causas_Levantadas'!C:D,2,0),\"\")","v":0},"","",null,1,null,1,{"$f":"IF(G966<$G$4,J966+1,1)","v":1},963]
[null,null,{"$f":"IFERROR(VLOOKUP(D968,'1_Causas_Levantadas'!C:D,2,0),\"\")","v":0},"","",null,1,null,1,1,964]
[null,null,{"$f":"IFERROR(VLOOKUP(D969,'1_Causas_Levantadas'!C:D,2,0),\"\")","v":0},"","",null,1,null,1,1,965]
[null,null,{"$f":"IFERROR(VLOOKUP(D970,'1_Causas_Levantadas'!C:D,2,0),\"\")","v":0},"","",null,1,null,1,1,966]
[null,null,{"$f":"IFERROR(VLOOKUP(D971,'1_Causas_Levantadas'!C:D,2,0),\"\")","v":0},"","",null,1,null,1,1,967]
[null,null,{"$f":"IFERROR(VLOOKUP(D972,'1_Causas_Levantadas'!C:D,2,0),\"\")","v":0},"","",null,1,null,1,1,968]
[null,null,{"$f":"IFERROR(VLOOKUP(D973,'1_Causas_Levantadas'!C:D,2,0),\"\")","v":0},"","",null,1,null,1,1,969]
[null,null,{"$f":"IFERROR(VLOOKUP(D974,'1_Causas_Levantadas'!C:D,2,0),\"\")","v":0},"","",null,1,null,1,1,970]
[null,null,{"$f":"IFERROR(VLOOKUP(D975,'1_Causas_Levantadas'!C:D,2,0),\"\")","v":0},"","",null,1,null,1,1,971]
[null,null,{"$f":"IFERROR(VLOOKUP(D976,'1_Causas_Levantadas'!C:D,2,0),\"\")","v":0},"","",null,1,null,1,1,972]
[null,null,{"$f":"IFERROR(VLOOKUP(D977,'1_Causas_Levantadas'!C:D,2,0),\"\")","v":0},"","",null,1,null,1,1,973]
[null,null,{"$f":"IFERROR(VLOOKUP(D978,'1_Causas_Levantadas'!C:D,2,0),\"\")","v":0},"","",null,1,null,1,1,974]
[null,null,{"$f":"IFERROR(VLOOKUP(D979,'1_Causas_Levantadas'!C:D,2,0),\"\")","v":0},"","",null,1,null,1,1,975]
[null,null,{"$f":"IFERROR(VLOOKUP(D980,'1_Causas_Levantadas'!C:D,2,0),\"\")","v":0},"","",null,1,null,1,1,976]
[null,null,{"$f":"IFERROR(VLOOKUP(D981,'1_Causas_Levantadas'!C:D,2,0),\"\")","v":0},"","",null,1,null,1,1,977]
[null,null,{"$f":"IFERROR(VLOOKUP(D982,'1_Causas_Levantadas'!C:D,2,0),\"\")","v":0},"","",null,1,null,1,1,978]
[null,null,{"$f":"IFERROR(VLOOKUP(D983,'1_Causas_Levantadas'!C:D,2,0),\"\")","v":0},"","",null,1,null,1,1,979]
[null,null,{"$f":"IFERROR(VLOOKUP(D984,'1_Causas_Levantadas'!C:D,2,0),\"\")","v":0},"","",null,1,null,1,1,980]
[null,null,{"$f":"IFERROR(VLOOKUP(D985,'1_Causas_Levantadas'!C:D,2,0),\"\")","v":0},"","",null,1,null,1,1,981]
[null,null,{"$f":"IFERROR(VLOOKUP(D986,'1_Causas_Levantadas'!C:D,2,0),\"\")","v":0},"","",null,1,null,1,1,982]
[null,null,{"$f":"IFERROR(VLOOKUP(D987,'1_Causas_Levantadas'!C:D,2,0),\"\")","v":0},"","",null,1,null,1,1,983]
[null,null,{"$f":"IFERROR(VLOOKUP(D988,'1_Causas_Levantadas'!C:D,2,0),\"\")","v":0},"","",null,1,null,1,1,984]
[null,null,{"$f":"IFERROR(VLOOKUP(D989,'1_Causas_Levantadas'!C:D,2,0),\"\")","v":0},"","",null,1,null,1,1,985]
[null,null,{"$f":"IFERROR(VLOOKUP(D990,'1_Causas_Levantadas'!C:D,2,0),\"\")","v":0},"","",null,1,null,1,1,986]
[null,null,{"$f":"IFERROR(VLOOKUP(D991,'1_Causas_Levantadas'!C:D,2,0),\"\")","v":0},"","",null,1,null,1,1,987]
[null,null,{"$f":"IFERROR(VLOOKUP(D992,'1_Causas_Levantadas'!C:D,2,0),\"\")","v":0},"","",null,1,null,1,1,988]
[null,null,{"$f":"IFERROR(VLOOKUP(D993,'1_Causas_Levantadas'!C:D,2,0),\"\")","v":0},"","",null,1,null,1,1,989]
[null,null,{"$f":"IFERROR(VLOOKUP(D994,'1_Causas_Levantadas'!C:D,2,0),\"\")","v":0},"","",null,1,null,1,1,990]
[null,null,{"$f":"IFERROR(VLOOKUP(D995,'1_Causas_Levantadas'!C:D,2,0),\"\")","v":0},"","",null,1,null,1,1,991]
[null,null,{"$f":"IFERROR(VLOOKUP(D996,'1_Causas_Levantadas'!C:D,2,0),\"\")","v":0},"","",null,1,null,1,1,992]
[null,null,{"$f":"IFERROR(VLOOKUP(D997,'1_Causas_Levantadas'!C:D,2,0),\"\")","v":0},"","",null,1,null,1,1,993]
[null,null,{"$f":"IFERROR(VLOOKUP(D998,'1_Causas_Levantadas'!C:D,2,0),\"\")","v":0},"","",null,1,null,1,1,994]
[null,null,{"$f":"IFERROR(VLOOKUP(D999,'1_Causas_Levantadas'!C:D,2,0),\"\")","v":0},"","",null,1,null,1,1,995]
[null,null,{"$f":"IFERROR(VLOOKUP(D1000,'1_Causas_Levantadas'!C:D,2,0),\"\")","v":0},"","",null,1,null,1,1,996]
[null,null,{"$f":"IFERROR(VLOOKUP(D1001,'1_Causas_Levantadas'!C:D,2,0),\"\")","v":0},"","",null,1,null,1,1,997]
[null,null,{"$f":"IFERROR(VLOOKUP(D1002,'1_Causas_Levantadas'!C:D,2,0),\"\")","v":0},"","",null,1,null,1,1,998]
[null,null,{"$f":"IFERROR(VLOOKUP(D1003,'1_Causas_Levantadas'!C:D,2,0),\"\")","v":0},"","",null,1,null,1,1,999]
[null,null,{"$f":"IFERROR(VLOOKUP(D1004,'1_Causas_Levantadas'!C:D,2,0),\"\")","v":0},"","",null,1,null,1,1,1000]
[null,null,{"$f":"IFERROR(VLOOKUP(D1005,'1_Causas_Levantadas'!C:D,2,0),\"\")","v":0},"","",null,1,null,1,1,1001]
[null,null,{"$f":"IFERROR(VLOOKUP(D1006,'1_Causas_Levantadas'!C:D,2,0),\"\")","v":0},"","",null,1,null,1,1,1002]
[null,null,{"$f":"IFERROR(VLOOKUP(D1007,'1_Causas_Levantadas'!C:D,2,0),\"\")","v":0},"","",null,1,null,1,1,1003]
[null,null,{"$f":"IFERROR(VLOOKUP(D1008,'1_Causas_Levantadas'!C:D,2,0),\"\")","v":0},"","",null,1,null,1,1,1004]
[null,null,{"$f":"IFERROR(VLOOKUP(D1009,'1_Causas_Levantadas'!C:D,2,0),\"\")","v":0},"","",null,1,null,1,1,1005]
[null,null,{"$f":"IFERROR(VLOOKUP(D1010,'1_Causas_Levantadas'!C:D,2,0),\"\")","v":0},"","",null,1,null,1,1,1006]
[null,null,{"$f":"IFERROR(VLOOKUP(D1011,'1_Causas_Levantadas'!C:D,2,0),\"\")","v":0},"","",null,1,null,1,1,1007]
[null,null,{"$f":"IFERROR(VLOOKUP(D1012,'1_Causas_Levantadas'!C:D,2,0),\"\")","v":0},"","",null,1,null,1,1,1008]
[null,null,{"$f":"IFERROR(VLOOKUP(D1013,'1_Causas_Levantadas'!C:D,2,0),\"\")","v":0},"","",null,1,null,1,1,1009]
[null,null,{"$f":"IFERROR(VLOOKUP(D1014,'1_Causas_Levantadas'!C:D,2,0),\"\")","v":0},"","",null,1,null,1,1,1010]
[null,null,{"$f":"IFERROR(VLOOKUP(D1015,'1_Causas_Levantadas'!C:D,2,0),\"\")","v":0},"","",null,1,null,1,1,1011]
[null,null,{"$f":"IFERROR(VLOOKUP(D1016,'1_Causas_Levantadas'!C:D,2,0),\"\")","v":0},"","",null,1,null,1,1,1012]
[null,null,{"$f":"IFERROR(VLOOKUP(D1017,'1_Causas_Levantadas'!C:D,2,0),\"\")","v":0},"","",null,1,null,1,1,1013]
[null,null,{"$f":"IFERROR(VLOOKUP(D1018,'1_Causas_Levantadas'!C:D,2,0),\"\")","v":0},"","",null,1,null,1,1,1014]
[null,null,{"$f":"IFERROR(VLOOKUP(D1019,'1_Causas_Levantadas'!C:D,2,0),\"\")","v":0},"","",null,1,null,1,1,1015]
[null,null,{"$f":"IFERROR(VLOOKUP(D1020,'1_Causas_Levantadas'!C:D,2,0),\"\")","v":0},"","",null,1,null,1,1,1016]
[null,null,{"$f":"IFERROR(VLOOKUP(D1021,'1_Causas_Levantadas'!C:D,2,0),\"\")","v":0},"","",null,1,null,1,1,1017]
[null,null,{"$f":"IFERROR(VLOOKUP(D1022,'1_Causas_Levantadas'!C:D,2,0),\"\")","v":0},"","",null,1,null,1,1,1018]
[null,null,{"$f":"IFERROR(VLOOKUP(D1023,'1_Causas_Levantadas'!C:D,2,0),\"\")","v":0},"","",null,1,null,1,1,1019]
[null,null,{"$f":"IFERROR(VLOOKUP(D1024,'1_Causas_Levantadas'!C:D,2,0),\"\")","v":0},"","",null,1,null,1,1,1020]
[null,null,{"$f":"IFERROR(VLOOKUP(D1025,'1_Causas_Levantadas'!C:D,2,0),\"\")","v":0},"","",null,1,null,1,1,1021]
[null,null,{"$f":"IFERROR(VLOOKUP(D1026,'1_Causas_Levantadas'!C:D,2,0),\"\")","v":0},"","",null,1,null,1,1,1022]
[null,null,{"$f":"IFERROR(VLOOKUP(D1027,'1_Causas_Levantadas'!C:D,2,0),\"\")","v":0},"","",null,1,null,1,1,1023]
[null,null,{"$f":"IFERROR(VLOOKUP(D1028,'1_Causas_Levantadas'!C:D,2,0),\"\")","v":0},"","",null,1,null,1,1,1024]
[null,null,{"$f":"IFERROR(VLOOKUP(D1029,'1_Causas_Levantadas'!C:D,2,0),\"\")","v":0},"","",null,1,null,1,1,1025]
[null,null,{"$f":"IFERROR(VLOOKUP(D1030,'1_Causas_Levantadas'!C:D,2,0),\"\")","v":0},{"$f":"IF(K1030<=$H$4,(IF(G1029>0,G1030,$G$5)),\"\")","v":""},{"$f":"IF(D1030<>\"\",\"Participante \"&K1030,\"\")","v":""},null,{"$f":"J1030","v":1},null,{"$f":"IF(G1030=$G$5,1,0)","v":1},1,{"$f":"I1030+K1029","v":1026}]
[null,null,{"$f":"IFERROR(VLOOKUP(D1031,'1_Causas_Levantadas'!C:D,2,0),\"\")","v":0},"","",null,1,null,1,{"$f":"IF(G1030<$G$4,J1030+1,1)","v":1},1027]
[null,null,{"$f":"IFERROR(VLOOKUP(D1032,'1_Causas_Levantadas'!C:D,2,0),\"\")","v":0},"","",null,1,null,1,1,1028]
[null,null,{"$f":"IFERROR(VLOOKUP(D1033,'1_Causas_Levantadas'!C:D,2,0),\"\")","v":0},"","",null,1,null,1,1,1029]
[null,null,{"$f":"IFERROR(VLOOKUP(D1034,'1_Causas_Levantadas'!C:D,2,0),\"\")","v":0},"","",null,1,null,1,1,1030]
[null,null,{"$f":"IFERROR(VLOOKUP(D1035,'1_Causas_Levantadas'!C:D,2,0),\"\")","v":0},"","",null,1,null,1,1,1031]
[null,null,{"$f":"IFERROR(VLOOKUP(D1036,'1_Causas_Levantadas'!C:D,2,0),\"\")","v":0},"","",null,1,null,1,1,1032]
[null,null,{"$f":"IFERROR(VLOOKUP(D1037,'1_Causas_Levantadas'!C:D,2,0),\"\")","v":0},"","",null,1,null,1,1,1033]
[null,null,{"$f":"IFERROR(VLOOKUP(D1038,'1_Causas_Levantadas'!C:D,2,0),\"\")","v":0},"","",null,1,null,1,1,1034]
[null,null,{"$f":"IFERROR(VLOOKUP(D1039,'1_Causas_Levantadas'!C:D,2,0),\"\")","v":0},"","",null,1,null,1,1,1035]
[null,null,{"$f":"IFERROR(VLOOKUP(D1040,'1_Causas_Levantadas'!C:D,2,0),\"\")","v":0},"","",null,1,null,1,1,1036]
[null,null,{"$f":"IFERROR(VLOOKUP(D1041,'1_Causas_Levantadas'!C:D,2,0),\"\")","v":0},"","",null,1,null,1,1,1037]
[null,null,{"$f":"IFERROR(VLOOKUP(D1042,'1_Causas_Levantadas'!C:D,2,0),\"\")","v":0},"","",null,1,null,1,1,1038]
[null,null,{"$f":"IFERROR(VLOOKUP(D1043,'1_Causas_Levantadas'!C:D,2,0),\"\")","v":0},"","",null,1,null,1,1,1039]
[null,null,{"$f":"IFERROR(VLOOKUP(D1044,'1_Causas_Levantadas'!C:D,2,0),\"\")","v":0},"","",null,1,null,1,1,1040]
[null,null,{"$f":"IFERROR(VLOOKUP(D1045,'1_Causas_Levantadas'!C:D,2,0),\"\")","v":0},"","",null,1,null,1,1,1041]
[null,null,{"$f":"IFERROR(VLOOKUP(D1046,'1_Causas_Levantadas'!C:D,2,0),\"\")","v":0},"","",null,1,null,1,1,1042]
[null,null,{"$f":"IFERROR(VLOOKUP(D1047,'1_Causas_Levantadas'!C:D,2,0),\"\")","v":0},"","",null,1,null,1,1,1043]
[null,null,{"$f":"IFERROR(VLOOKUP(D1048,'1_Causas_Levantadas'!C:D,2,0),\"\")","v":0},"","",null,1,null,1,1,1044]
[null,null,{"$f":"IFERROR(VLOOKUP(D1049,'1_Causas_Levantadas'!C:D,2,0),\"\")","v":0},"","",null,1,null,1,1,1045]
[null,null,{"$f":"IFERROR(VLOOKUP(D1050,'1_Causas_Levantadas'!C:D,2,0),\"\")","v":0},"","",null,1,null,1,1,1046]
[null,null,{"$f":"IFERROR(VLOOKUP(D1051,'1_Causas_Levantadas'!C:D,2,0),\"\")","v":0},"","",null,1,null,1,1,1047]
[null,null,{"$f":"IFERROR(VLOOKUP(D1052,'1_Causas_Levantadas'!C:D,2,0),\"\")","v":0},"","",null,1,null,1,1,1048]
[null,null,{"$f":"IFERROR(VLOOKUP(D1053,'1_Causas_Levantadas'!C:D,2,0),\"\")","v":0},"","",null,1,null,1,1,1049]
[null,null,{"$f":"IFERROR(VLOOKUP(D1054,'1_Causas_Levantadas'!C:D,2,0),\"\")","v":0},"","",null,1,null,1,1,1050]
[null,null,{"$f":"IFERROR(VLOOKUP(D1055,'1_Causas_Levantadas'!C:D,2,0),\"\")","v":0},"","",null,1,null,1,1,1051]
[null,null,{"$f":"IFERROR(VLOOKUP(D1056,'1_Causas_Levantadas'!C:D,2,0),\"\")","v":0},"","",null,1,null,1,1,1052]
[null,null,{"$f":"IFERROR(VLOOKUP(D1057,'1_Causas_Levantadas'!C:D,2,0),\"\")","v":0},"","",null,1,null,1,1,1053]
[null,null,{"$f":"IFERROR(VLOOKUP(D1058,'1_Causas_Levantadas'!C:D,2,0),\"\")","v":0},"","",null,1,null,1,1,1054]
[null,null,{"$f":"IFERROR(VLOOKUP(D1059,'1_Causas_Levantadas'!C:D,2,0),\"\")","v":0},"","",null,1,null,1,1,1055]
[null,null,{"$f":"IFERROR(VLOOKUP(D1060,'1_Causas_Levantadas'!C:D,2,0),\"\")","v":0},"","",null,1,null,1,1,1056]
[null,null,{"$f":"IFERROR(VLOOKUP(D1061,'1_Causas_Levantadas'!C:D,2,0),\"\")","v":0},"","",null,1,null,1,1,1057]
[null,null,{"$f":"IFERROR(VLOOKUP(D1062,'1_Causas_Levantadas'!C:D,2,0),\"\")","v":0},"","",null,1,null,1,1,1058]
[null,null,{"$f":"IFERROR(VLOOKUP(D1063,'1_Causas_Levantadas'!C:D,2,0),\"\")","v":0},"","",null,1,null,1,1,1059]
[null,null,{"$f":"IFERROR(VLOOKUP(D1064,'1_Causas_Levantadas'!C:D,2,0),\"\")","v":0},"","",null,1,null,1,1,1060]
[null,null,{"$f":"IFERROR(VLOOKUP(D1065,'1_Causas_Levantadas'!C:D,2,0),\"\")","v":0},"","",null,1,null,1,1,1061]
[null,null,{"$f":"IFERROR(VLOOKUP(D1066,'1_Causas_Levantadas'!C:D,2,0),\"\")","v":0},"","",null,1,null,1,1,1062]
[null,null,{"$f":"IFERROR(VLOOKUP(D1067,'1_Causas_Levantadas'!C:D,2,0),\"\")","v":0},"","",null,1,null,1,1,1063]
[null,null,{"$f":"IFERROR(VLOOKUP(D1068,'1_Causas_Levantadas'!C:D,2,0),\"\")","v":0},"","",null,1,null,1,1,1064]
[null,null,{"$f":"IFERROR(VLOOKUP(D1069,'1_Causas_Levantadas'!C:D,2,0),\"\")","v":0},"","",null,1,null,1,1,1065]
[null,null,{"$f":"IFERROR(VLOOKUP(D1070,'1_Causas_Levantadas'!C:D,2,0),\"\")","v":0},"","",null,1,null,1,1,1066]
[null,null,{"$f":"IFERROR(VLOOKUP(D1071,'1_Causas_Levantadas'!C:D,2,0),\"\")","v":0},"","",null,1,null,1,1,1067]
[null,null,{"$f":"IFERROR(VLOOKUP(D1072,'1_Causas_Levantadas'!C:D,2,0),\"\")","v":0},"","",null,1,null,1,1,1068]
[null,null,{"$f":"IFERROR(VLOOKUP(D1073,'1_Causas_Levantadas'!C:D,2,0),\"\")","v":0},"","",null,1,null,1,1,1069]
[null,null,{"$f":"IFERROR(VLOOKUP(D1074,'1_Causas_Levantadas'!C:D,2,0),\"\")","v":0},"","",null,1,null,1,1,1070]
[null,null,{"$f":"IFERROR(VLOOKUP(D1075,'1_Causas_Levantadas'!C:D,2,0),\"\")","v":0},"","",null,1,null,1,1,1071]
[null,null,{"$f":"IFERROR(VLOOKUP(D1076,'1_Causas_Levantadas'!C:D,2,0),\"\")","v":0},"","",null,1,null,1,1,1072]
[null,null,{"$f":"IFERROR(VLOOKUP(D1077,'1_Causas_Levantadas'!C:D,2,0),\"\")","v":0},"","",null,1,null,1,1,1073]
[null,null,{"$f":"IFERROR(VLOOKUP(D1078,'1_Causas_Levantadas'!C:D,2,0),\"\")","v":0},"","",null,1,null,1,1,1074]
[null,null,{"$f":"IFERROR(VLOOKUP(D1079,'1_Causas_Levantadas'!C:D,2,0),\"\")","v":0},"","",null,1,null,1,1,1075]
[null,null,{"$f":"IFERROR(VLOOKUP(D1080,'1_Causas_Levantadas'!C:D,2,0),\"\")","v":0},"","",null,1,null,1,1,1076]
[null,null,{"$f":"IFERROR(VLOOKUP(D1081,'1_Causas_Levantadas'!C:D,2,0),\"\")","v":0},"","",null,1,null,1,1,1077]
[null,null,{"$f":"IFERROR(VLOOKUP(D1082,'1_Causas_Levantadas'!C:D,2,0),\"\")","v":0},"","",null,1,null,1,1,1078]
[null,null,{"$f":"IFERROR(VLOOKUP(D1083,'1_Causas_Levantadas'!C:D,2,0),\"\")","v":0},"","",null,1,null,1,1,1079]
[null,null,{"$f":"IFERROR(VLOOKUP(D1084,'1_Causas_Levantadas'!C:D,2,0),\"\")","v":0},"","",null,1,null,1,1,1080]
[null,null,{"$f":"IFERROR(VLOOKUP(D1085,'1_Causas_Levantadas'!C:D,2,0),\"\")","v":0},"","",null,1,null,1,1,1081]
[null,null,{"$f":"IFERROR(VLOOKUP(D1086,'1_Causas_Levantadas'!C:D,2,0),\"\")","v":0},"","",null,1,null,1,1,1082]
[null,null,{"$f":"IFERROR(VLOOKUP(D1087,'1_Causas_Levantadas'!C:D,2,0),\"\")","v":0},"","",null,1,null,1,1,1083]
[null,null,{"$f":"IFERROR(VLOOKUP(D1088,'1_Causas_Levantadas'!C:D,2,0),\"\")","v":0},"","",null,1,null,1,1,1084]
[null,null,{"$f":"IFERROR(VLOOKUP(D1089,'1_Causas_Levantadas'!C:D,2,0),\"\")","v":0},"","",null,1,null,1,1,1085]
[null,null,{"$f":"IFERROR(VLOOKUP(D1090,'1_Causas_Levantadas'!C:D,2,0),\"\")","v":0},"","",null,1,null,1,1,1086]
[null,null,{"$f":"IFERROR(VLOOKUP(D1091,'1_Causas_Levantadas'!C:D,2,0),\"\")","v":0},"","",null,1,null,1,1,1087]
[null,null,{"$f":"IFERROR(VLOOKUP(D1092,'1_Causas_Levantadas'!C:D,2,0),\"\")","v":0},"","",null,1,null,1,1,1088]
[null,null,{"$f":"IFERROR(VLOOKUP(D1093,'1_Causas_Levantadas'!C:D,2,0),\"\")","v":0},"","",null,1,null,1,1,1089]
[null,null,{"$f":"IFERROR(VLOOKUP(D1094,'1_Causas_Levantadas'!C:D,2,0),\"\")","v":0},{"$f":"IF(K1094<=$H$4,(IF(G1093>0,G1094,$G$5)),\"\")","v":""},{"$f":"IF(D1094<>\"\",\"Participante \"&K1094,\"\")","v":""},null,{"$f":"J1094","v":1},null,{"$f":"IF(G1094=$G$5,1,0)","v":1},1,{"$f":"I1094+K1093","v":1090}]
[null,null,{"$f":"IFERROR(VLOOKUP(D1095,'1_Causas_Levantadas'!C:D,2,0),\"\")","v":0},"","",null,1,null,1,{"$f":"IF(G1094<$G$4,J1094+1,1)","v":1},1091]
[null,null,{"$f":"IFERROR(VLOOKUP(D1096,'1_Causas_Levantadas'!C:D,2,0),\"\")","v":0},"","",null,1,null,1,1,1092]
[null,null,{"$f":"IFERROR(VLOOKUP(D1097,'1_Causas_Levantadas'!C:D,2,0),\"\")","v":0},"","",null,1,null,1,1,1093]
[null,null,{"$f":"IFERROR(VLOOKUP(D1098,'1_Causas_Levantadas'!C:D,2,0),\"\")","v":0},"","",null,1,null,1,1,1094]
[null,null,{"$f":"IFERROR(VLOOKUP(D1099,'1_Causas_Levantadas'!C:D,2,0),\"\")","v":0},"","",null,1,null,1,1,1095]
[null,null,{"$f":"IFERROR(VLOOKUP(D1100,'1_Causas_Levantadas'!C:D,2,0),\"\")","v":0},"","",null,1,null,1,1,1096]
[null,null,{"$f":"IFERROR(VLOOKUP(D1101,'1_Causas_Levantadas'!C:D,2,0),\"\")","v":0},"","",null,1,null,1,1,1097]
[null,null,{"$f":"IFERROR(VLOOKUP(D1102,'1_Causas_Levantadas'!C:D,2,0),\"\")","v":0},"","",null,1,null,1,1,1098]
[null,null,{"$f":"IFERROR(VLOOKUP(D1103,'1_Causas_Levantadas'!C:D,2,0),\"\")","v":0},"","",null,1,null,1,1,1099]
[null,null,{"$f":"IFERROR(VLOOKUP(D1104,'1_Causas_Levantadas'!C:D,2,0),\"\")","v":0},"","",null,1,null,1,1,1100]
[null,null,{"$f":"IFERROR(VLOOKUP(D1105,'1_Causas_Levantadas'!C:D,2,0),\"\")","v":0},"","",null,1,null,1,1,1101]
[null,null,{"$f":"IFERROR(VLOOKUP(D1106,'1_Causas_Levantadas'!C:D,2,0),\"\")","v":0},"","",null,1,null,1,1,1102]
[null,null,{"$f":"IFERROR(VLOOKUP(D1107,'1_Causas_Levantadas'!C:D,2,0),\"\")","v":0},"","",null,1,null,1,1,1103]
[null,null,{"$f":"IFERROR(VLOOKUP(D1108,'1_Causas_Levantadas'!C:D,2,0),\"\")","v":0},"","",null,1,null,1,1,1104]
[null,null,{"$f":"IFERROR(VLOOKUP(D1109,'1_Causas_Levantadas'!C:D,2,0),\"\")","v":0},"","",null,1,null,1,1,1105]
[null,null,{"$f":"IFERROR(VLOOKUP(D1110,'1_Causas_Levantadas'!C:D,2,0),\"\")","v":0},"","",null,1,null,1,1,1106]
[null,null,{"$f":"IFERROR(VLOOKUP(D1111,'1_Causas_Levantadas'!C:D,2,0),\"\")","v":0},"","",null,1,null,1,1,1107]
[null,null,{"$f":"IFERROR(VLOOKUP(D1112,'1_Causas_Levantadas'!C:D,2,0),\"\")","v":0},"","",null,1,null,1,1,1108]
[null,null,{"$f":"IFERROR(VLOOKUP(D1113,'1_Causas_Levantadas'!C:D,2,0),\"\")","v":0},"","",null,1,null,1,1,1109]
[null,null,{"$f":"IFERROR(VLOOKUP(D1114,'1_Causas_Levantadas'!C:D,2,0),\"\")","v":0},"","",null,1,null,1,1,1110]
[null,null,{"$f":"IFERROR(VLOOKUP(D1115,'1_Causas_Levantadas'!C:D,2,0),\"\")","v":0},"","",null,1,null,1,1,1111]
[null,null,{"$f":"IFERROR(VLOOKUP(D1116,'1_Causas_Levantadas'!C:D,2,0),\"\")","v":0},"","",null,1,null,1,1,1112]
[null,null,{"$f":"IFERROR(VLOOKUP(D1117,'1_Causas_Levantadas'!C:D,2,0),\"\")","v":0},"","",null,1,null,1,1,1113]
[null,null,{"$f":"IFERROR(VLOOKUP(D1118,'1_Causas_Levantadas'!C:D,2,0),\"\")","v":0},"","",null,1,null,1,1,1114]
[null,null,{"$f":"IFERROR(VLOOKUP(D1119,'1_Causas_Levantadas'!C:D,2,0),\"\")","v":0},"","",null,1,null,1,1,1115]
[null,null,{"$f":"IFERROR(VLOOKUP(D1120,'1_Causas_Levantadas'!C:D,2,0),\"\")","v":0},"","",null,1,null,1,1,1116]
[null,null,{"$f":"IFERROR(VLOOKUP(D1121,'1_Causas_Levantadas'!C:D,2,0),\"\")","v":0},"","",null,1,null,1,1,1117]
[null,null,{"$f":"IFERROR(VLOOKUP(D1122,'1_Causas_Levantadas'!C:D,2,0),\"\")","v":0},"","",null,1,null,1,1,1118]
[null,null,{"$f":"IFERROR(VLOOKUP(D1123,'1_Causas_Levantadas'!C:D,2,0),\"\")","v":0},"","",null,1,null,1,1,1119]
[null,null,{"$f":"IFERROR(VLOOKUP(D1124,'1_Causas_Levantadas'!C:D,2,0),\"\")","v":0},"","",null,1,null,1,1,1120]
[null,null,{"$f":"IFERROR(VLOOKUP(D1125,'1_Causas_Levantadas'!C:D,2,0),\"\")","v":0},"","",null,1,null,1,1,1121]
[null,null,{"$f":"IFERROR(VLOOKUP(D1126,'1_Causas_Levantadas'!C:D,2,0),\"\")","v":0},"","",null,1,null,1,1,1122]
[null,null,{"$f":"IFERROR(VLOOKUP(D1127,'1_Causas_Levantadas'!C:D,2,0),\"\")","v":0},"","",null,1,null,1,1,1123]
[null,null,{"$f":"IFERROR(VLOOKUP(D1128,'1_Causas_Levantadas'!C:D,2,0),\"\")","v":0},"","",null,1,null,1,1,1124]
[null,null,{"$f":"IFERROR(VLOOKUP(D1129,'1_Causas_Levantadas'!C:D,2,0),\"\")","v":0},"","",null,1,null,1,1,1125]
[null,null,{"$f":"IFERROR(VLOOKUP(D1130,'1_Causas_Levantadas'!C:D,2,0),\"\")","v":0},"","",null,1,null,1,1,1126]
[null,null,{"$f":"IFERROR(VLOOKUP(D1131,'1_Causas_Levantadas'!C:D,2,0),\"\")","v":0},"","",null,1,null,1,1,1127]
[null,null,{"$f":"IFERROR(VLOOKUP(D1132,'1_Causas_Levantadas'!C:D,2,0),\"\")","v":0},"","",null,1,null,1,1,1128]
[null,null,{"$f":"IFERROR(VLOOKUP(D1133,'1_Causas_Levantadas'!C:D,2,0),\"\")","v":0},"","",null,1,null,1,1,1129]
[null,null,{"$f":"IFERROR(VLOOKUP(D1134,'1_Causas_Levantadas'!C:D,2,0),\"\")","v":0},"","",null,1,null,1,1,1130]
[null,null,{"$f":"IFERROR(VLOOKUP(D1135,'1_Causas_Levantadas'!C:D,2,0),\"\")","v":0},"","",null,1,null,1,1,1131]
[null,null,{"$f":"IFERROR(VLOOKUP(D1136,'1_Causas_Levantadas'!C:D,2,0),\"\")","v":0},"","",null,1,null,1,1,1132]
[null,null,{"$f":"IFERROR(VLOOKUP(D1137,'1_Causas_Levantadas'!C:D,2,0),\"\")","v":0},"","",null,1,null,1,1,1133]
[null,null,{"$f":"IFERROR(VLOOKUP(D1138,'1_Causas_Levantadas'!C:D,2,0),\"\")","v":0},"","",null,1,null,1,1,1134]
[null,null,{"$f":"IFERROR(VLOOKUP(D1139,'1_Causas_Levantadas'!C:D,2,0),\"\")","v":0},"","",null,1,null,1,1,1135]
[null,null,{"$f":"IFERROR(VLOOKUP(D1140,'1_Causas_Levantadas'!C:D,2,0),\"\")","v":0},"","",null,1,null,1,1,1136]
[null,null,{"$f":"IFERROR(VLOOKUP(D1141,'1_Causas_Levantadas'!C:D,2,0),\"\")","v":0},"","",null,1,null,1,1,1137]
[null,null,{"$f":"IFERROR(VLOOKUP(D1142,'1_Causas_Levantadas'!C:D,2,0),\"\")","v":0},"","",null,1,null,1,1,1138]
[null,null,{"$f":"IFERROR(VLOOKUP(D1143,'1_Causas_Levantadas'!C:D,2,0),\"\")","v":0},"","",null,1,null,1,1,1139]
[null,null,{"$f":"IFERROR(VLOOKUP(D1144,'1_Causas_Levantadas'!C:D,2,0),\"\")","v":0},"","",null,1,null,1,1,1140]
[null,null,{"$f":"IFERROR(VLOOKUP(D1145,'1_Causas_Levantadas'!C:D,2,0),\"\")","v":0},"","",null,1,null,1,1,1141]
[null,null,{"$f":"IFERROR(VLOOKUP(D1146,'1_Causas_Levantadas'!C:D,2,0),\"\")","v":0},"","",null,1,null,1,1,1142]
[null,null,{"$f":"IFERROR(VLOOKUP(D1147,'1_Causas_Levantadas'!C:D,2,0),\"\")","v":0},"","",null,1,null,1,1,1143]
[null,null,{"$f":"IFERROR(VLOOKUP(D1148,'1_Causas_Levantadas'!C:D,2,0),\"\")","v":0},"","",null,1,null,1,1,1144]
[null,null,{"$f":"IFERROR(VLOOKUP(D1149,'1_Causas_Levantadas'!C:D,2,0),\"\")","v":0},"","",null,1,null,1,1,1145]
[null,null,{"$f":"IFERROR(VLOOKUP(D1150,'1_Causas_Levantadas'!C:D,2,0),\"\")","v":0},"","",null,1,null,1,1,1146]
[null,null,{"$f":"IFERROR(VLOOKUP(D1151,'1_Causas_Levantadas'!C:D,2,0),\"\")","v":0},"","",null,1,null,1,1,1147]
[null,null,{"$f":"IFERROR(VLOOKUP(D1152,'1_Causas_Levantadas'!C:D,2,0),\"\")","v":0},"","",null,1,null,1,1,1148]
[null,null,{"$f":"IFERROR(VLOOKUP(D1153,'1_Causas_Levantadas'!C:D,2,0),\"\")","v":0},"","",null,1,null,1,1,1149]
[null,null,{"$f":"IFERROR(VLOOKUP(D1154,'1_Causas_Levantadas'!C:D,2,0),\"\")","v":0},"","",null,1,null,1,1,1150]
[null,null,{"$f":"IFERROR(VLOOKUP(D1155,'1_Causas_Levantadas'!C:D,2,0),\"\")","v":0},"","",null,1,null,1,1,1151]
[null,null,{"$f":"IFERROR(VLOOKUP(D1156,'1_Causas_Levantadas'!C:D,2,0),\"\")","v":0},"","",null,1,null,1,1,1152]
[null,null,{"$f":"IFERROR(VLOOKUP(D1157,'1_Causas_Levantadas'!C:D,2,0),\"\")","v":0},"","",null,1,null,1,1,1153]
[null,null,{"$f":"IFERROR(VLOOKUP(D1158,'1_Causas_Levantadas'!C:D,2,0),\"\")","v":0},{"$f":"IF(K1158<=$H$4,(IF(G1157>0,G1158,$G$5)),\"\")","v":""},{"$f":"IF(D1158<>\"\",\"Participante \"&K1158,\"\")","v":""},null,{"$f":"J1158","v":1},null,{"$f":"IF(G1158=$G$5,1,0)","v":1},1,{"$f":"I1158+K1157","v":1154}]
[null,null,{"$f":"IFERROR(VLOOKUP(D1159,'1_Causas_Levantadas'!C:D,2,0),\"\")","v":0},"","",null,1,null,1,{"$f":"IF(G1158<$G$4,J1158+1,1)","v":1},1155]
[null,null,{"$f":"IFERROR(VLOOKUP(D1160,'1_Causas_Levantadas'!C:D,2,0),\"\")","v":0},"","",null,1,null,1,1,1156]
[null,null,{"$f":"IFERROR(VLOOKUP(D1161,'1_Causas_Levantadas'!C:D,2,0),\"\")","v":0},"","",null,1,null,1,1,1157]
[null,null,{"$f":"IFERROR(VLOOKUP(D1162,'1_Causas_Levantadas'!C:D,2,0),\"\")","v":0},"","",null,1,null,1,1,1158]
[null,null,{"$f":"IFERROR(VLOOKUP(D1163,'1_Causas_Levantadas'!C:D,2,0),\"\")","v":0},"","",null,1,null,1,1,1159]
[null,null,{"$f":"IFERROR(VLOOKUP(D1164,'1_Causas_Levantadas'!C:D,2,0),\"\")","v":0},"","",null,1,null,1,1,1160]
[null,null,{"$f":"IFERROR(VLOOKUP(D1165,'1_Causas_Levantadas'!C:D,2,0),\"\")","v":0},"","",null,1,null,1,1,1161]
[null,null,{"$f":"IFERROR(VLOOKUP(D1166,'1_Causas_Levantadas'!C:D,2,0),\"\")","v":0},"","",null,1,null,1,1,1162]
[null,null,{"$f":"IFERROR(VLOOKUP(D1167,'1_Causas_Levantadas'!C:D,2,0),\"\")","v":0},"","",null,1,null,1,1,1163]
[null,null,{"$f":"IFERROR(VLOOKUP(D1168,'1_Causas_Levantadas'!C:D,2,0),\"\")","v":0},"","",null,1,null,1,1,1164]
[null,null,{"$f":"IFERROR(VLOOKUP(D1169,'1_Causas_Levantadas'!C:D,2,0),\"\")","v":0},"","",null,1,null,1,1,1165]
[null,null,{"$f":"IFERROR(VLOOKUP(D1170,'1_Causas_Levantadas'!C:D,2,0),\"\")","v":0},"","",null,1,null,1,1,1166]
[null,null,{"$f":"IFERROR(VLOOKUP(D1171,'1_Causas_Levantadas'!C:D,2,0),\"\")","v":0},"","",null,1,null,1,1,1167]
[null,null,{"$f":"IFERROR(VLOOKUP(D1172,'1_Causas_Levantadas'!C:D,2,0),\"\")","v":0},"","",null,1,null,1,1,1168]
[null,null,{"$f":"IFERROR(VLOOKUP(D1173,'1_Causas_Levantadas'!C:D,2,0),\"\")","v":0},"","",null,1,null,1,1,1169]
[null,null,{"$f":"IFERROR(VLOOKUP(D1174,'1_Causas_Levantadas'!C:D,2,0),\"\")","v":0},"","",null,1,null,1,1,1170]
[null,null,{"$f":"IFERROR(VLOOKUP(D1175,'1_Causas_Levantadas'!C:D,2,0),\"\")","v":0},"","",null,1,null,1,1,1171]
[null,null,{"$f":"IFERROR(VLOOKUP(D1176,'1_Causas_Levantadas'!C:D,2,0),\"\")","v":0},"","",null,1,null,1,1,1172]
[null,null,{"$f":"IFERROR(VLOOKUP(D1177,'1_Causas_Levantadas'!C:D,2,0),\"\")","v":0},"","",null,1,null,1,1,1173]
[null,null,{"$f":"IFERROR(VLOOKUP(D1178,'1_Causas_Levantadas'!C:D,2,0),\"\")","v":0},"","",null,1,null,1,1,1174]
[null,null,{"$f":"IFERROR(VLOOKUP(D1179,'1_Causas_Levantadas'!C:D,2,0),\"\")","v":0},"","",null,1,null,1,1,1175]
[null,null,{"$f":"IFERROR(VLOOKUP(D1180,'1_Causas_Levantadas'!C:D,2,0),\"\")","v":0},"","",null,1,null,1,1,1176]
[null,null,{"$f":"IFERROR(VLOOKUP(D1181,'1_Causas_Levantadas'!C:D,2,0),\"\")","v":0},"","",null,1,null,1,1,1177]
[null,null,{"$f":"IFERROR(VLOOKUP(D1182,'1_Causas_Levantadas'!C:D,2,0),\"\")","v":0},"","",null,1,null,1,1,1178]
[null,null,{"$f":"IFERROR(VLOOKUP(D1183,'1_Causas_Levantadas'!C:D,2,0),\"\")","v":0},"","",null,1,null,1,1,1179]
[null,null,{"$f":"IFERROR(VLOOKUP(D1184,'1_Causas_Levantadas'!C:D,2,0),\"\")","v":0},"","",null,1,null,1,1,1180]
[null,null,{"$f":"IFERROR(VLOOKUP(D1185,'1_Causas_Levantadas'!C:D,2,0),\"\")","v":0},"","",null,1,null,1,1,1181]
[null,null,{"$f":"IFERROR(VLOOKUP(D1186,'1_Causas_Levantadas'!C:D,2,0),\"\")","v":0},"","",null,1,null,1,1,1182]
[null,null,{"$f":"IFERROR(VLOOKUP(D1187,'1_Causas_Levantadas'!C:D,2,0),\"\")","v":0},"","",null,1,null,1,1,1183]
[null,null,{"$f":"IFERROR(VLOOKUP(D1188,'1_Causas_Levantadas'!C:D,2,0),\"\")","v":0},"","",null,1,null,1,1,1184]
[null,null,{"$f":"IFERROR(VLOOKUP(D1189,'1_Causas_Levantadas'!C:D,2,0),\"\")","v":0},"","",null,1,null,1,1,1185]
[null,null,{"$f":"IFERROR(VLOOKUP(D1190,'1_Causas_Levantadas'!C:D,2,0),\"\")","v":0},"","",null,1,null,1,1,1186]
[null,null,{"$f":"IFERROR(VLOOKUP(D1191,'1_Causas_Levantadas'!C:D,2,0),\"\")","v":0},"","",null,1,null,1,1,1187]
[null,null,{"$f":"IFERROR(VLOOKUP(D1192,'1_Causas_Levantadas'!C:D,2,0),\"\")","v":0},"","",null,1,null,1,1,1188]
[null,null,{"$f":"IFERROR(VLOOKUP(D1193,'1_Causas_Levantadas'!C:D,2,0),\"\")","v":0},"","",null,1,null,1,1,1189]
[null,null,{"$f":"IFERROR(VLOOKUP(D1194,'1_Causas_Levantadas'!C:D,2,0),\"\")","v":0},"","",null,1,null,1,1,1190]
[null,null,{"$f":"IFERROR(VLOOKUP(D1195,'1_Causas_Levantadas'!C:D,2,0),\"\")","v":0},"","",null,1,null,1,1,1191]
[null,null,{"$f":"IFERROR(VLOOKUP(D1196,'1_Causas_Levantadas'!C:D,2,0),\"\")","v":0},"","",null,1,null,1,1,1192]
[null,null,{"$f":"IFERROR(VLOOKUP(D1197,'1_Causas_Levantadas'!C:D,2,0),\"\")","v":0},"","",null,1,null,1,1,1193]
[null,null,{"$f":"IFERROR(VLOOKUP(D1198,'1_Causas_Levantadas'!C:D,2,0),\"\")","v":0},"","",null,1,null,1,1,1194]
[null,null,{"$f":"IFERROR(VLOOKUP(D1199,'1_Causas_Levantadas'!C:D,2,0),\"\")","v":0},"","",null,1,null,1,1,1195]
[null,null,{"$f":"IFERROR(VLOOKUP(D1200,'1_Causas_Levantadas'!C:D,2,0),\"\")","v":0},"","",null,1,null,1,1,1196]
[null,null,{"$f":"IFERROR(VLOOKUP(D1201,'1_Causas_Levantadas'!C:D,2,0),\"\")","v":0},"","",null,1,null,1,1,1197]
[null,null,{"$f":"IFERROR(VLOOKUP(D1202,'1_Causas_Levantadas'!C:D,2,0),\"\")","v":0},"","",null,1,null,1,1,1198]
[null,null,{"$f":"IFERROR(VLOOKUP(D1203,'1_Causas_Levantadas'!C:D,2,0),\"\")","v":0},"","",null,1,null,1,1,1199]
[null,null,{"$f":"IFERROR(VLOOKUP(D1204,'1_Causas_Levantadas'!C:D,2,0),\"\")","v":0},"","",null,1,null,1,1,1200]
[null,null,{"$f":"IFERROR(VLOOKUP(D1205,'1_Causas_Levantadas'!C:D,2,0),\"\")","v":0},"","",null,1,null,1,1,1201]
[null,null,{"$f":"IFERROR(VLOOKUP(D1206,'1_Causas_Levantadas'!C:D,2,0),\"\")","v":0},"","",null,1,null,1,1,1202]
[null,null,{"$f":"IFERROR(VLOOKUP(D1207,'1_Causas_Levantadas'!C:D,2,0),\"\")","v":0},"","",null,1,null,1,1,1203]
[null,null,{"$f":"IFERROR(VLOOKUP(D1208,'1_Causas_Levantadas'!C:D,2,0),\"\")","v":0},"","",null,1,null,1,1,1204]
[null,null,{"$f":"IFERROR(VLOOKUP(D1209,'1_Causas_Levantadas'!C:D,2,0),\"\")","v":0},"","",null,1,null,1,1,1205]
[null,null,{"$f":"IFERROR(VLOOKUP(D1210,'1_Causas_Levantadas'!C:D,2,0),\"\")","v":0},"","",null,1,null,1,1,1206]
[null,null,{"$f":"IFERROR(VLOOKUP(D1211,'1_Causas_Levantadas'!C:D,2,0),\"\")","v":0},"","",null,1,null,1,1,1207]
[null,null,{"$f":"IFERROR(VLOOKUP(D1212,'1_Causas_Levantadas'!C:D,2,0),\"\")","v":0},"","",null,1,null,1,1,1208]
[null,null,{"$f":"IFERROR(VLOOKUP(D1213,'1_Causas_Levantadas'!C:D,2,0),\"\")","v":0},"","",null,1,null,1,1,1209]
[null,null,{"$f":"IFERROR(VLOOKUP(D1214,'1_Causas_Levantadas'!C:D,2,0),\"\")","v":0},"","",null,1,null,1,1,1210]
[null,null,{"$f":"IFERROR(VLOOKUP(D1215,'1_Causas_Levantadas'!C:D,2,0),\"\")","v":0},"","",null,1,null,1,1,1211]
[null,null,{"$f":"IFERROR(VLOOKUP(D1216,'1_Causas_Levantadas'!C:D,2,0),\"\")","v":0},"","",null,1,null,1,1,1212]
[null,null,{"$f":"IFERROR(VLOOKUP(D1217,'1_Causas_Levantadas'!C:D,2,0),\"\")","v":0},"","",null,1,null,1,1,1213]
[null,null,{"$f":"IFERROR(VLOOKUP(D1218,'1_Causas_Levantadas'!C:D,2,0),\"\")","v":0},"","",null,1,null,1,1,1214]
[null,null,{"$f":"IFERROR(VLOOKUP(D1219,'1_Causas_Levantadas'!C:D,2,0),\"\")","v":0},"","",null,1,null,1,1,1215]
[null,null,{"$f":"IFERROR(VLOOKUP(D1220,'1_Causas_Levantadas'!C:D,2,0),\"\")","v":0},"","",null,1,null,1,1,1216]
[null,null,{"$f":"IFERROR(VLOOKUP(D1221,'1_Causas_Levantadas'!C:D,2,0),\"\")","v":0},"","",null,1,null,1,1,1217]
[null,null,{"$f":"IFERROR(VLOOKUP(D1222,'1_Causas_Levantadas'!C:D,2,0),\"\")","v":0},{"$f":"IF(K1222<=$H$4,(IF(G1221>0,G1222,$G$5)),\"\")","v":""},{"$f":"IF(D1222<>\"\",\"Participante \"&K1222,\"\")","v":""},null,{"$f":"J1222","v":1},null,{"$f":"IF(G1222=$G$5,1,0)","v":1},1,{"$f":"I1222+K1221","v":1218}]
[null,null,{"$f":"IFERROR(VLOOKUP(D1223,'1_Causas_Levantadas'!C:D,2,0),\"\")","v":0},"","",null,1,null,1,{"$f":"IF(G1222<$G$4,J1222+1,1)","v":1},1219]
[null,null,{"$f":"IFERROR(VLOOKUP(D1224,'1_Causas_Levantadas'!C:D,2,0),\"\")","v":0},"","",null,1,null,1,1,1220]
[null,null,{"$f":"IFERROR(VLOOKUP(D1225,'1_Causas_Levantadas'!C:D,2,0),\"\")","v":0},"","",null,1,null,1,1,1221]
[null,null,{"$f":"IFERROR(VLOOKUP(D1226,'1_Causas_Levantadas'!C:D,2,0),\"\")","v":0},"","",null,1,null,1,1,1222]
[null,null,{"$f":"IFERROR(VLOOKUP(D1227,'1_Causas_Levantadas'!C:D,2,0),\"\")","v":0},"","",null,1,null,1,1,1223]
[null,null,{"$f":"IFERROR(VLOOKUP(D1228,'1_Causas_Levantadas'!C:D,2,0),\"\")","v":0},"","",null,1,null,1,1,1224]
[null,null,{"$f":"IFERROR(VLOOKUP(D1229,'1_Causas_Levantadas'!C:D,2,0),\"\")","v":0},"","",null,1,null,1,1,1225]
[null,null,{"$f":"IFERROR(VLOOKUP(D1230,'1_Causas_Levantadas'!C:D,2,0),\"\")","v":0},"","",null,1,null,1,1,1226]
[null,null,{"$f":"IFERROR(VLOOKUP(D1231,'1_Causas_Levantadas'!C:D,2,0),\"\")","v":0},"","",null,1,null,1,1,1227]
[null,null,{"$f":"IFERROR(VLOOKUP(D1232,'1_Causas_Levantadas'!C:D,2,0),\"\")","v":0},"","",null,1,null,1,1,1228]
[null,null,{"$f":"IFERROR(VLOOKUP(D1233,'1_Causas_Levantadas'!C:D,2,0),\"\")","v":0},"","",null,1,null,1,1,1229]
[null,null,{"$f":"IFERROR(VLOOKUP(D1234,'1_Causas_Levantadas'!C:D,2,0),\"\")","v":0},"","",null,1,null,1,1,1230]
[null,null,{"$f":"IFERROR(VLOOKUP(D1235,'1_Causas_Levantadas'!C:D,2,0),\"\")","v":0},"","",null,1,null,1,1,1231]
[null,null,{"$f":"IFERROR(VLOOKUP(D1236,'1_Causas_Levantadas'!C:D,2,0),\"\")","v":0},"","",null,1,null,1,1,1232]
[null,null,{"$f":"IFERROR(VLOOKUP(D1237,'1_Causas_Levantadas'!C:D,2,0),\"\")","v":0},"","",null,1,null,1,1,1233]
[null,null,{"$f":"IFERROR(VLOOKUP(D1238,'1_Causas_Levantadas'!C:D,2,0),\"\")","v":0},"","",null,1,null,1,1,1234]
[null,null,{"$f":"IFERROR(VLOOKUP(D1239,'1_Causas_Levantadas'!C:D,2,0),\"\")","v":0},"","",null,1,null,1,1,1235]
[null,null,{"$f":"IFERROR(VLOOKUP(D1240,'1_Causas_Levantadas'!C:D,2,0),\"\")","v":0},"","",null,1,null,1,1,1236]
[null,null,{"$f":"IFERROR(VLOOKUP(D1241,'1_Causas_Levantadas'!C:D,2,0),\"\")","v":0},"","",null,1,null,1,1,1237]
[null,null,{"$f":"IFERROR(VLOOKUP(D1242,'1_Causas_Levantadas'!C:D,2,0),\"\")","v":0},"","",null,1,null,1,1,1238]
[null,null,{"$f":"IFERROR(VLOOKUP(D1243,'1_Causas_Levantadas'!C:D,2,0),\"\")","v":0},"","",null,1,null,1,1,1239]
[null,null,{"$f":"IFERROR(VLOOKUP(D1244,'1_Causas_Levantadas'!C:D,2,0),\"\")","v":0},"","",null,1,null,1,1,1240]
[null,null,{"$f":"IFERROR(VLOOKUP(D1245,'1_Causas_Levantadas'!C:D,2,0),\"\")","v":0},"","",null,1,null,1,1,1241]
[null,null,{"$f":"IFERROR(VLOOKUP(D1246,'1_Causas_Levantadas'!C:D,2,0),\"\")","v":0},"","",null,1,null,1,1,1242]
[null,null,{"$f":"IFERROR(VLOOKUP(D1247,'1_Causas_Levantadas'!C:D,2,0),\"\")","v":0},"","",null,1,null,1,1,1243]
[null,null,{"$f":"IFERROR(VLOOKUP(D1248,'1_Causas_Levantadas'!C:D,2,0),\"\")","v":0},"","",null,1,null,1,1,1244]
[null,null,{"$f":"IFERROR(VLOOKUP(D1249,'1_Causas_Levantadas'!C:D,2,0),\"\")","v":0},"","",null,1,null,1,1,1245]
[null,null,{"$f":"IFERROR(VLOOKUP(D1250,'1_Causas_Levantadas'!C:D,2,0),\"\")","v":0},"","",null,1,null,1,1,1246]
[null,null,{"$f":"IFERROR(VLOOKUP(D1251,'1_Causas_Levantadas'!C:D,2,0),\"\")","v":0},"","",null,1,null,1,1,1247]
[null,null,{"$f":"IFERROR(VLOOKUP(D1252,'1_Causas_Levantadas'!C:D,2,0),\"\")","v":0},"","",null,1,null,1,1,1248]
[null,null,{"$f":"IFERROR(VLOOKUP(D1253,'1_Causas_Levantadas'!C:D,2,0),\"\")","v":0},"","",null,1,null,1,1,1249]
[null,null,{"$f":"IFERROR(VLOOKUP(D1254,'1_Causas_Levantadas'!C:D,2,0),\"\")","v":0},"","",null,1,null,1,1,1250]
[null,null,{"$f":"IFERROR(VLOOKUP(D1255,'1_Causas_Levantadas'!C:D,2,0),\"\")","v":0},"","",null,1,null,1,1,1251]
[null,null,{"$f":"IFERROR(VLOOKUP(D1256,'1_Causas_Levantadas'!C:D,2,0),\"\")","v":0},"","",null,1,null,1,1,1252]
[null,null,{"$f":"IFERROR(VLOOKUP(D1257,'1_Causas_Levantadas'!C:D,2,0),\"\")","v":0},"","",null,1,null,1,1,1253]
[null,null,{"$f":"IFERROR(VLOOKUP(D1258,'1_Causas_Levantadas'!C:D,2,0),\"\")","v":0},"","",null,1,null,1,1,1254]
[null,null,{"$f":"IFERROR(VLOOKUP(D1259,'1_Causas_Levantadas'!C:D,2,0),\"\")","v":0},"","",null,1,null,1,1,1255]
[null,null,{"$f":"IFERROR(VLOOKUP(D1260,'1_Causas_Levantadas'!C:D,2,0),\"\")","v":0},"","",null,1,null,1,1,1256]
[null,null,{"$f":"IFERROR(VLOOKUP(D1261,'1_Causas_Levantadas'!C:D,2,0),\"\")","v":0},"","",null,1,null,1,1,1257]
[null,null,{"$f":"IFERROR(VLOOKUP(D1262,'1_Causas_Levantadas'!C:D,2,0),\"\")","v":0},"","",null,1,null,1,1,1258]
[null,null,{"$f":"IFERROR(VLOOKUP(D1263,'1_Causas_Levantadas'!C:D,2,0),\"\")","v":0},"","",null,1,null,1,1,1259]
[null,null,{"$f":"IFERROR(VLOOKUP(D1264,'1_Causas_Levantadas'!C:D,2,0),\"\")","v":0},"","",null,1,null,1,1,1260]
[null,null,{"$f":"IFERROR(VLOOKUP(D1265,'1_Causas_Levantadas'!C:D,2,0),\"\")","v":0},"","",null,1,null,1,1,1261]
[null,null,{"$f":"IFERROR(VLOOKUP(D1266,'1_Causas_Levantadas'!C:D,2,0),\"\")","v":0},"","",null,1,null,1,1,1262]
[null,null,{"$f":"IFERROR(VLOOKUP(D1267,'1_Causas_Levantadas'!C:D,2,0),\"\")","v":0},"","",null,1,null,1,1,1263]
[null,null,{"$f":"IFERROR(VLOOKUP(D1268,'1_Causas_Levantadas'!C:D,2,0),\"\")","v":0},"","",null,1,null,1,1,1264]
[null,null,{"$f":"IFERROR(VLOOKUP(D1269,'1_Causas_Levantadas'!C:D,2,0),\"\")","v":0},"","",null,1,null,1,1,1265]
[null,null,{"$f":"IFERROR(VLOOKUP(D1270,'1_Causas_Levantadas'!C:D,2,0),\"\")","v":0},"","",null,1,null,1,1,1266]
[null,null,{"$f":"IFERROR(VLOOKUP(D1271,'1_Causas_Levantadas'!C:D,2,0),\"\")","v":0},"","",null,1,null,1,1,1267]
[null,null,{"$f":"IFERROR(VLOOKUP(D1272,'1_Causas_Levantadas'!C:D,2,0),\"\")","v":0},"","",null,1,null,1,1,1268]
[null,null,{"$f":"IFERROR(VLOOKUP(D1273,'1_Causas_Levantadas'!C:D,2,0),\"\")","v":0},"","",null,1,null,1,1,1269]
[null,null,{"$f":"IFERROR(VLOOKUP(D1274,'1_Causas_Levantadas'!C:D,2,0),\"\")","v":0},"","",null,1,null,1,1,1270]
[null,null,{"$f":"IFERROR(VLOOKUP(D1275,'1_Causas_Levantadas'!C:D,2,0),\"\")","v":0},"","",null,1,null,1,1,1271]
[null,null,{"$f":"IFERROR(VLOOKUP(D1276,'1_Causas_Levantadas'!C:D,2,0),\"\")","v":0},"","",null,1,null,1,1,1272]
[null,null,{"$f":"IFERROR(VLOOKUP(D1277,'1_Causas_Levantadas'!C:D,2,0),\"\")","v":0},"","",null,1,null,1,1,1273]
[null,null,{"$f":"IFERROR(VLOOKUP(D1278,'1_Causas_Levantadas'!C:D,2,0),\"\")","v":0},"","",null,1,null,1,1,1274]
[null,null,{"$f":"IFERROR(VLOOKUP(D1279,'1_Causas_Levantadas'!C:D,2,0),\"\")","v":0},"","",null,1,null,1,1,1275]
[null,null,{"$f":"IFERROR(VLOOKUP(D1280,'1_Causas_Levantadas'!C:D,2,0),\"\")","v":0},"","",null,1,null,1,1,1276]
[null,null,{"$f":"IFERROR(VLOOKUP(D1281,'1_Causas_Levantadas'!C:D,2,0),\"\")","v":0},"","",null,1,null,1,1,1277]
[null,null,{"$f":"IFERROR(VLOOKUP(D1282,'1_Causas_Levantadas'!C:D,2,0),\"\")","v":0},"","",null,1,null,1,1,1278]
[null,null,{"$f":"IFERROR(VLOOKUP(D1283,'1_Causas_Levantadas'!C:D,2,0),\"\")","v":0},"","",null,1,null,1,1,1279]
[null,null,{"$f":"IFERROR(VLOOKUP(D1284,'1_Causas_Levantadas'!C:D,2,0),\"\")","v":0},"","",null,1,null,1,1,1280]
[null,null,{"$f":"IFERROR(VLOOKUP(D1285,'1_Causas_Levantadas'!C:D,2,0),\"\")","v":0},"","",null,1,null,1,1,1281]
[null,null,{"$f":"IFERROR(VLOOKUP(D1286,'1_Causas_Levantadas'!C:D,2,0),\"\")","v":0},{"$f":"IF(K1286<=$H$4,(IF(G1285>0,G1286,$G$5)),\"\")","v":""},{"$f":"IF(D1286<>\"\",\"Participante \"&K1286,\"\")","v":""},null,{"$f":"J1286","v":1},null,{"$f":"IF(G1286=$G$5,1,0)","v":1},1,{"$f":"I1286+K1285","v":1282}]
[null,null,{"$f":"IFERROR(VLOOKUP(D1287,'1_Causas_Levantadas'!C:D,2,0),\"\")","v":0},"","",null,1,null,1,{"$f":"IF(G1286<$G$4,J1286+1,1)","v":1},1283]
[null,null,{"$f":"IFERROR(VLOOKUP(D1288,'1_Causas_Levantadas'!C:D,2,0),\"\")","v":0},"","",null,1,null,1,1,1284]
[null,null,{"$f":"IFERROR(VLOOKUP(D1289,'1_Causas_Levantadas'!C:D,2,0),\"\")","v":0},"","",null,1,null,1,1,1285]
[null,null,{"$f":"IFERROR(VLOOKUP(D1290,'1_Causas_Levantadas'!C:D,2,0),\"\")","v":0},"","",null,1,null,1,1,1286]
[null,null,{"$f":"IFERROR(VLOOKUP(D1291,'1_Causas_Levantadas'!C:D,2,0),\"\")","v":0},"","",null,1,null,1,1,1287]
[null,null,{"$f":"IFERROR(VLOOKUP(D1292,'1_Causas_Levantadas'!C:D,2,0),\"\")","v":0},"","",null,1,null,1,1,1288]
[null,null,{"$f":"IFERROR(VLOOKUP(D1293,'1_Causas_Levantadas'!C:D,2,0),\"\")","v":0},"","",null,1,null,1,1,1289]
[null,null,{"$f":"IFERROR(VLOOKUP(D1294,'1_Causas_Levantadas'!C:D,2,0),\"\")","v":0},"","",null,1,null,1,1,1290]
[null,null,{"$f":"IFERROR(VLOOKUP(D1295,'1_Causas_Levantadas'!C:D,2,0),\"\")","v":0},"","",null,1,null,1,1,1291]
[null,null,{"$f":"IFERROR(VLOOKUP(D1296,'1_Causas_Levantadas'!C:D,2,0),\"\")","v":0},"","",null,1,null,1,1,1292]
[null,null,{"$f":"IFERROR(VLOOKUP(D1297,'1_Causas_Levantadas'!C:D,2,0),\"\")","v":0},"","",null,1,null,1,1,1293]
[null,null,{"$f":"IFERROR(VLOOKUP(D1298,'1_Causas_Levantadas'!C:D,2,0),\"\")","v":0},"","",null,1,null,1,1,1294]
[null,null,{"$f":"IFERROR(VLOOKUP(D1299,'1_Causas_Levantadas'!C:D,2,0),\"\")","v":0},"","",null,1,null,1,1,1295]
[null,null,{"$f":"IFERROR(VLOOKUP(D1300,'1_Causas_Levantadas'!C:D,2,0),\"\")","v":0},"","",null,1,null,1,1,1296]
[null,null,{"$f":"IFERROR(VLOOKUP(D1301,'1_Causas_Levantadas'!C:D,2,0),\"\")","v":0},"","",null,1,null,1,1,1297]
[null,null,{"$f":"IFERROR(VLOOKUP(D1302,'1_Causas_Levantadas'!C:D,2,0),\"\")","v":0},"","",null,1,null,1,1,1298]
[null,null,{"$f":"IFERROR(VLOOKUP(D1303,'1_Causas_Levantadas'!C:D,2,0),\"\")","v":0},"","",null,1,null,1,1,1299]
[null,null,{"$f":"IFERROR(VLOOKUP(D1304,'1_Causas_Levantadas'!C:D,2,0),\"\")","v":0},"","",null,1,null,1,1,1300]
[null,null,{"$f":"IFERROR(VLOOKUP(D1305,'1_Causas_Levantadas'!C:D,2,0),\"\")","v":0},"","",null,1,null,1,1,1301]
[null,null,{"$f":"IFERROR(VLOOKUP(D1306,'1_Causas_Levantadas'!C:D,2,0),\"\")","v":0},"","",null,1,null,1,1,1302]
[null,null,{"$f":"IFERROR(VLOOKUP(D1307,'1_Causas_Levantadas'!C:D,2,0),\"\")","v":0},"","",null,1,null,1,1,1303]
[null,null,{"$f":"IFERROR(VLOOKUP(D1308,'1_Causas_Levantadas'!C:D,2,0),\"\")","v":0},"","",null,1,null,1,1,1304]
[null,null,{"$f":"IFERROR(VLOOKUP(D1309,'1_Causas_Levantadas'!C:D,2,0),\"\")","v":0},"","",null,1,null,1,1,1305]
[null,null,{"$f":"IFERROR(VLOOKUP(D1310,'1_Causas_Levantadas'!C:D,2,0),\"\")","v":0},"","",null,1,null,1,1,1306]
[null,null,{"$f":"IFERROR(VLOOKUP(D1311,'1_Causas_Levantadas'!C:D,2,0),\"\")","v":0},"","",null,1,null,1,1,1307]
[null,null,{"$f":"IFERROR(VLOOKUP(D1312,'1_Causas_Levantadas'!C:D,2,0),\"\")","v":0},"","",null,1,null,1,1,1308]
[null,null,{"$f":"IFERROR(VLOOKUP(D1313,'1_Causas_Levantadas'!C:D,2,0),\"\")","v":0},"","",null,1,null,1,1,1309]
[null,null,{"$f":"IFERROR(VLOOKUP(D1314,'1_Causas_Levantadas'!C:D,2,0),\"\")","v":0},"","",null,1,null,1,1,1310]
[null,null,{"$f":"IFERROR(VLOOKUP(D1315,'1_Causas_Levantadas'!C:D,2,0),\"\")","v":0},"","",null,1,null,1,1,1311]
[null,null,{"$f":"IFERROR(VLOOKUP(D1316,'1_Causas_Levantadas'!C:D,2,0),\"\")","v":0},"","",null,1,null,1,1,1312]
[null,null,{"$f":"IFERROR(VLOOKUP(D1317,'1_Causas_Levantadas'!C:D,2,0),\"\")","v":0},"","",null,1,null,1,1,1313]
[null,null,{"$f":"IFERROR(VLOOKUP(D1318,'1_Causas_Levantadas'!C:D,2,0),\"\")","v":0},"","",null,1,null,1,1,1314]
[null,null,{"$f":"IFERROR(VLOOKUP(D1319,'1_Causas_Levantadas'!C:D,2,0),\"\")","v":0},"","",null,1,null,1,1,1315]
[null,null,{"$f":"IFERROR(VLOOKUP(D1320,'1_Causas_Levantadas'!C:D,2,0),\"\")","v":0},"","",null,1,null,1,1,1316]
[null,null,{"$f":"IFERROR(VLOOKUP(D1321,'1_Causas_Levantadas'!C:D,2,0),\"\")","v":0},"","",null,1,null,1,1,1317]
[null,null,{"$f":"IFERROR(VLOOKUP(D1322,'1_Causas_Levantadas'!C:D,2,0),\"\")","v":0},"","",null,1,null,1,1,1318]
[null,null,{"$f":"IFERROR(VLOOKUP(D1323,'1_Causas_Levantadas'!C:D,2,0),\"\")","v":0},"","",null,1,null,1,1,1319]
[null,null,{"$f":"IFERROR(VLOOKUP(D1324,'1_Causas_Levantadas'!C:D,2,0),\"\")","v":0},"","",null,1,null,1,1,1320]
[null,null,{"$f":"IFERROR(VLOOKUP(D1325,'1_Causas_Levantadas'!C:D,2,0),\"\")","v":0},"","",null,1,null,1,1,1321]
[null,null,{"$f":"IFERROR(VLOOKUP(D1326,'1_Causas_Levantadas'!C:D,2,0),\"\")","v":0},"","",null,1,null,1,1,1322]
[null,null,{"$f":"IFERROR(VLOOKUP(D1327,'1_Causas_Levantadas'!C:D,2,0),\"\")","v":0},"","",null,1,null,1,1,1323]
[null,null,{"$f":"IFERROR(VLOOKUP(D1328,'1_Causas_Levantadas'!C:D,2,0),\"\")","v":0},"","",null,1,null,1,1,1324]
[null,null,{"$f":"IFERROR(VLOOKUP(D1329,'1_Causas_Levantadas'!C:D,2,0),\"\")","v":0},"","",null,1,null,1,1,1325]
[null,null,{"$f":"IFERROR(VLOOKUP(D1330,'1_Causas_Levantadas'!C:D,2,0),\"\")","v":0},"","",null,1,null,1,1,1326]
[null,null,{"$f":"IFERROR(VLOOKUP(D1331,'1_Causas_Levantadas'!C:D,2,0),\"\")","v":0},"","",null,1,null,1,1,1327]
[null,null,{"$f":"IFERROR(VLOOKUP(D1332,'1_Causas_Levantadas'!C:D,2,0),\"\")","v":0},"","",null,1,null,1,1,1328]
[null,null,{"$f":"IFERROR(VLOOKUP(D1333,'1_Causas_Levantadas'!C:D,2,0),\"\")","v":0},"","",null,1,null,1,1,1329]
[null,null,{"$f":"IFERROR(VLOOKUP(D1334,'1_Causas_Levantadas'!C:D,2,0),\"\")","v":0},"","",null,1,null,1,1,1330]
[null,null,{"$f":"IFERROR(VLOOKUP(D1335,'1_Causas_Levantadas'!C:D,2,0),\"\")","v":0},"","",null,1,null,1,1,1331]
[null,null,{"$f":"IFERROR(VLOOKUP(D1336,'1_Causas_Levantadas'!C:D,2,0),\"\")","v":0},"","",null,1,null,1,1,1332]
[null,null,{"$f":"IFERROR(VLOOKUP(D1337,'1_Causas_Levantadas'!C:D,2,0),\"\")","v":0},"","",null,1,null,1,1,1333]
[null,null,{"$f":"IFERROR(VLOOKUP(D1338,'1_Causas_Levantadas'!C:D,2,0),\"\")","v":0},"","",null,1,null,1,1,1334]
[null,null,{"$f":"IFERROR(VLOOKUP(D1339,'1_Causas_Levantadas'!C:D,2,0),\"\")","v":0},"","",null,1,null,1,1,1335]
[null,null,{"$f":"IFERROR(VLOOKUP(D1340,'1_Causas_Levantadas'!C:D,2,0),\"\")","v":0},"","",null,1,null,1,1,1336]
[null,null,{"$f":"IFERROR(VLOOKUP(D1341,'1_Causas_Levantadas'!C:D,2,0),\"\")","v":0},"","",null,1,null,1,1,1337]
[null,null,{"$f":"IFERROR(VLOOKUP(D1342,'1_Causas_Levantadas'!C:D,2,0),\"\")","v":0},"","",null,1,null,1,1,1338]
[null,null,{"$f":"IFERROR(VLOOKUP(D1343,'1_Causas_Levantadas'!C:D,2,0),\"\")","v":0},"","",null,1,null,1,1,1339]
[null,null,{"$f":"IFERROR(VLOOKUP(D1344,'1_Causas_Levantadas'!C:D,2,0),\"\")","v":0},"","",null,1,null,1,1,1340]
[null,null,{"$f":"IFERROR(VLOOKUP(D1345,'1_Causas_Levantadas'!C:D,2,0),\"\")","v":0},"","",null,1,null,1,1,1341]
[null,null,{"$f":"IFERROR(VLOOKUP(D1346,'1_Causas_Levantadas'!C:D,2,0),\"\")","v":0},"","",null,1,null,1,1,1342]
[null,null,{"$f":"IFERROR(VLOOKUP(D1347,'1_Causas_Levantadas'!C:D,2,0),\"\")","v":0},"","",null,1,null,1,1,1343]
[null,null,{"$f":"IFERROR(VLOOKUP(D1348,'1_Causas_Levantadas'!C:D,2,0),\"\")","v":0},"","",null,1,null,1,1,1344]
[null,null,{"$f":"IFERROR(VLOOKUP(D1349,'1_Causas_Levantadas'!C:D,2,0),\"\")","v":0},"","",null,1,null,1,1,1345]
[null,null,{"$f":"IFERROR(VLOOKUP(D1350,'1_Causas_Levantadas'!C:D,2,0),\"\")","v":0},{"$f":"IF(K1350<=$H$4,(IF(G1349>0,G1350,$G$5)),\"\")","v":""},{"$f":"IF(D1350<>\"\",\"Participante \"&K1350,\"\")","v":""},null,{"$f":"J1350","v":1},null,{"$f":"IF(G1350=$G$5,1,0)","v":1},1,{"$f":"I1350+K1349","v":1346}]
[null,null,{"$f":"IFERROR(VLOOKUP(D1351,'1_Causas_Levantadas'!C:D,2,0),\"\")","v":0},"","",null,1,null,1,{"$f":"IF(G1350<$G$4,J1350+1,1)","v":1},1347]
[null,null,{"$f":"IFERROR(VLOOKUP(D1352,'1_Causas_Levantadas'!C:D,2,0),\"\")","v":0},"","",null,1,null,1,1,1348]
[null,null,{"$f":"IFERROR(VLOOKUP(D1353,'1_Causas_Levantadas'!C:D,2,0),\"\")","v":0},"","",null,1,null,1,1,1349]
[null,null,{"$f":"IFERROR(VLOOKUP(D1354,'1_Causas_Levantadas'!C:D,2,0),\"\")","v":0},"","",null,1,null,1,1,1350]
[null,null,{"$f":"IFERROR(VLOOKUP(D1355,'1_Causas_Levantadas'!C:D,2,0),\"\")","v":0},"","",null,1,null,1,1,1351]
[null,null,{"$f":"IFERROR(VLOOKUP(D1356,'1_Causas_Levantadas'!C:D,2,0),\"\")","v":0},"","",null,1,null,1,1,1352]
[null,null,{"$f":"IFERROR(VLOOKUP(D1357,'1_Causas_Levantadas'!C:D,2,0),\"\")","v":0},"","",null,1,null,1,1,1353]
[null,null,{"$f":"IFERROR(VLOOKUP(D1358,'1_Causas_Levantadas'!C:D,2,0),\"\")","v":0},"","",null,1,null,1,1,1354]
[null,null,{"$f":"IFERROR(VLOOKUP(D1359,'1_Causas_Levantadas'!C:D,2,0),\"\")","v":0},"","",null,1,null,1,1,1355]
[null,null,{"$f":"IFERROR(VLOOKUP(D1360,'1_Causas_Levantadas'!C:D,2,0),\"\")","v":0},"","",null,1,null,1,1,1356]
[null,null,{"$f":"IFERROR(VLOOKUP(D1361,'1_Causas_Levantadas'!C:D,2,0),\"\")","v":0},"","",null,1,null,1,1,1357]
[null,null,{"$f":"IFERROR(VLOOKUP(D1362,'1_Causas_Levantadas'!C:D,2,0),\"\")","v":0},"","",null,1,null,1,1,1358]
[null,null,{"$f":"IFERROR(VLOOKUP(D1363,'1_Causas_Levantadas'!C:D,2,0),\"\")","v":0},"","",null,1,null,1,1,1359]
[null,null,{"$f":"IFERROR(VLOOKUP(D1364,'1_Causas_Levantadas'!C:D,2,0),\"\")","v":0},"","",null,1,null,1,1,1360]
[null,null,{"$f":"IFERROR(VLOOKUP(D1365,'1_Causas_Levantadas'!C:D,2,0),\"\")","v":0},"","",null,1,null,1,1,1361]
[null,null,{"$f":"IFERROR(VLOOKUP(D1366,'1_Causas_Levantadas'!C:D,2,0),\"\")","v":0},"","",null,1,null,1,1,1362]
[null,null,{"$f":"IFERROR(VLOOKUP(D1367,'1_Causas_Levantadas'!C:D,2,0),\"\")","v":0},"","",null,1,null,1,1,1363]
[null,null,{"$f":"IFERROR(VLOOKUP(D1368,'1_Causas_Levantadas'!C:D,2,0),\"\")","v":0},"","",null,1,null,1,1,1364]
[null,null,{"$f":"IFERROR(VLOOKUP(D1369,'1_Causas_Levantadas'!C:D,2,0),\"\")","v":0},"","",null,1,null,1,1,1365]
[null,null,{"$f":"IFERROR(VLOOKUP(D1370,'1_Causas_Levantadas'!C:D,2,0),\"\")","v":0},"","",null,1,null,1,1,1366]
[null,null,{"$f":"IFERROR(VLOOKUP(D1371,'1_Causas_Levantadas'!C:D,2,0),\"\")","v":0},"","",null,1,null,1,1,1367]
[null,null,{"$f":"IFERROR(VLOOKUP(D1372,'1_Causas_Levantadas'!C:D,2,0),\"\")","v":0},"","",null,1,null,1,1,1368]
[null,null,{"$f":"IFERROR(VLOOKUP(D1373,'1_Causas_Levantadas'!C:D,2,0),\"\")","v":0},"","",null,1,null,1,1,1369]
[null,null,{"$f":"IFERROR(VLOOKUP(D1374,'1_Causas_Levantadas'!C:D,2,0),\"\")","v":0},"","",null,1,null,1,1,1370]
[null,null,{"$f":"IFERROR(VLOOKUP(D1375,'1_Causas_Levantadas'!C:D,2,0),\"\")","v":0},"","",null,1,null,1,1,1371]
[null,null,{"$f":"IFERROR(VLOOKUP(D1376,'1_Causas_Levantadas'!C:D,2,0),\"\")","v":0},"","",null,1,null,1,1,1372]
[null,null,{"$f":"IFERROR(VLOOKUP(D1377,'1_Causas_Levantadas'!C:D,2,0),\"\")","v":0},"","",null,1,null,1,1,1373]
[null,null,{"$f":"IFERROR(VLOOKUP(D1378,'1_Causas_Levantadas'!C:D,2,0),\"\")","v":0},"","",null,1,null,1,1,1374]
[null,null,{"$f":"IFERROR(VLOOKUP(D1379,'1_Causas_Levantadas'!C:D,2,0),\"\")","v":0},"","",null,1,null,1,1,1375]
[null,null,{"$f":"IFERROR(VLOOKUP(D1380,'1_Causas_Levantadas'!C:D,2,0),\"\")","v":0},"","",null,1,null,1,1,1376]
[null,null,{"$f":"IFERROR(VLOOKUP(D1381,'1_Causas_Levantadas'!C:D,2,0),\"\")","v":0},"","",null,1,null,1,1,1377]
[null,null,{"$f":"IFERROR(VLOOKUP(D1382,'1_Causas_Levantadas'!C:D,2,0),\"\")","v":0},"","",null,1,null,1,1,1378]
[null,null,{"$f":"IFERROR(VLOOKUP(D1383,'1_Causas_Levantadas'!C:D,2,0),\"\")","v":0},"","",null,1,null,1,1,1379]
[null,null,{"$f":"IFERROR(VLOOKUP(D1384,'1_Causas_Levantadas'!C:D,2,0),\"\")","v":0},"","",null,1,null,1,1,1380]
[null,null,{"$f":"IFERROR(VLOOKUP(D1385,'1_Causas_Levantadas'!C:D,2,0),\"\")","v":0},"","",null,1,null,1,1,1381]
[null,null,{"$f":"IFERROR(VLOOKUP(D1386,'1_Causas_Levantadas'!C:D,2,0),\"\")","v":0},"","",null,1,null,1,1,1382]
[null,null,{"$f":"IFERROR(VLOOKUP(D1387,'1_Causas_Levantadas'!C:D,2,0),\"\")","v":0},"","",null,1,null,1,1,1383]
[null,null,{"$f":"IFERROR(VLOOKUP(D1388,'1_Causas_Levantadas'!C:D,2,0),\"\")","v":0},"","",null,1,null,1,1,1384]
[null,null,{"$f":"IFERROR(VLOOKUP(D1389,'1_Causas_Levantadas'!C:D,2,0),\"\")","v":0},"","",null,1,null,1,1,1385]
[null,null,{"$f":"IFERROR(VLOOKUP(D1390,'1_Causas_Levantadas'!C:D,2,0),\"\")","v":0},"","",null,1,null,1,1,1386]
[null,null,{"$f":"IFERROR(VLOOKUP(D1391,'1_Causas_Levantadas'!C:D,2,0),\"\")","v":0},"","",null,1,null,1,1,1387]
[null,null,{"$f":"IFERROR(VLOOKUP(D1392,'1_Causas_Levantadas'!C:D,2,0),\"\")","v":0},"","",null,1,null,1,1,1388]
[null,null,{"$f":"IFERROR(VLOOKUP(D1393,'1_Causas_Levantadas'!C:D,2,0),\"\")","v":0},"","",null,1,null,1,1,1389]
[null,null,{"$f":"IFERROR(VLOOKUP(D1394,'1_Causas_Levantadas'!C:D,2,0),\"\")","v":0},"","",null,1,null,1,1,1390]
[null,null,{"$f":"IFERROR(VLOOKUP(D1395,'1_Causas_Levantadas'!C:D,2,0),\"\")","v":0},"","",null,1,null,1,1,1391]
[null,null,{"$f":"IFERROR(VLOOKUP(D1396,'1_Causas_Levantadas'!C:D,2,0),\"\")","v":0},"","",null,1,null,1,1,1392]
[null,null,{"$f":"IFERROR(VLOOKUP(D1397,'1_Causas_Levantadas'!C:D,2,0),\"\")","v":0},"","",null,1,null,1,1,1393]
[null,null,{"$f":"IFERROR(VLOOKUP(D1398,'1_Causas_Levantadas'!C:D,2,0),\"\")","v":0},"","",null,1,null,1,1,1394]
[null,null,{"$f":"IFERROR(VLOOKUP(D1399,'1_Causas_Levantadas'!C:D,2,0),\"\")","v":0},"","",null,1,null,1,1,1395]
[null,null,{"$f":"IFERROR(VLOOKUP(D1400,'1_Causas_Levantadas'!C:D,2,0),\"\")","v":0},"","",null,1,null,1,1,1396]
[null,null,{"$f":"IFERROR(VLOOKUP(D1401,'1_Causas_Levantadas'!C:D,2,0),\"\")","v":0},"","",null,1,null,1,1,1397]
[null,null,{"$f":"IFERROR(VLOOKUP(D1402,'1_Causas_Levantadas'!C:D,2,0),\"\")","v":0},"","",null,1,null,1,1,1398]
[null,null,{"$f":"IFERROR(VLOOKUP(D1403,'1_Causas_Levantadas'!C:D,2,0),\"\")","v":0},"","",null,1,null,1,1,1399]
[null,null,{"$f":"IFERROR(VLOOKUP(D1404,'1_Causas_Levantadas'!C:D,2,0),\"\")","v":0},"","",null,1,null,1,1,1400]
[null,null,{"$f":"IFERROR(VLOOKUP(D1405,'1_Causas_Levantadas'!C:D,2,0),\"\")","v":0},"","",null,1,null,1,1,1401]
[null,null,{"$f":"IFERROR(VLOOKUP(D1406,'1_Causas_Levantadas'!C:D,2,0),\"\")","v":0},"","",null,1,null,1,1,1402]
[null,null,{"$f":"IFERROR(VLOOKUP(D1407,'1_Causas_Levantadas'!C:D,2,0),\"\")","v":0},"","",null,1,null,1,1,1403]
[null,null,{"$f":"IFERROR(VLOOKUP(D1408,'1_Causas_Levantadas'!C:D,2,0),\"\")","v":0},"","",null,1,null,1,1,1404]
[null,null,{"$f":"IFERROR(VLOOKUP(D1409,'1_Causas_Levantadas'!C:D,2,0),\"\")","v":0},"","",null,1,null,1,1,1405]
[null,null,{"$f":"IFERROR(VLOOKUP(D1410,'1_Causas_Levantadas'!C:D,2,0),\"\")","v":0},"","",null,1,null,1,1,1406]
[null,null,{"$f":"IFERROR(VLOOKUP(D1411,'1_Causas_Levantadas'!C:D,2,0),\"\")","v":0},"","",null,1,null,1,1,1407]
[null,null,{"$f":"IFERROR(VLOOKUP(D1412,'1_Causas_Levantadas'!C:D,2,0),\"\")","v":0},"","",null,1,null,1,1,1408]
[null,null,{"$f":"IFERROR(VLOOKUP(D1413,'1_Causas_Levantadas'!C:D,2,0),\"\")","v":0},"","",null,1,null,1,1,1409]
[null,null,{"$f":"IFERROR(VLOOKUP(D1414,'1_Causas_Levantadas'!C:D,2,0),\"\")","v":0},{"$f":"IF(K1414<=$H$4,(IF(G1413>0,G1414,$G$5)),\"\")","v":""},{"$f":"IF(D1414<>\"\",\"Participante \"&K1414,\"\")","v":""},null,{"$f":"J1414","v":1},null,{"$f":"IF(G1414=$G$5,1,0)","v":1},1,{"$f":"I1414+K1413","v":1410}]
[null,null,{"$f":"IFERROR(VLOOKUP(D1415,'1_Causas_Levantadas'!C:D,2,0),\"\")","v":0},"","",null,1,null,1,{"$f":"IF(G1414<$G$4,J1414+1,1)","v":1},1411]
[null,null,{"$f":"IFERROR(VLOOKUP(D1416,'1_Causas_Levantadas'!C:D,2,0),\"\")","v":0},"","",null,1,null,1,1,1412]
[null,null,{"$f":"IFERROR(VLOOKUP(D1417,'1_Causas_Levantadas'!C:D,2,0),\"\")","v":0},"","",null,1,null,1,1,1413]
[null,null,{"$f":"IFERROR(VLOOKUP(D1418,'1_Causas_Levantadas'!C:D,2,0),\"\")","v":0},"","",null,1,null,1,1,1414]
[null,null,{"$f":"IFERROR(VLOOKUP(D1419,'1_Causas_Levantadas'!C:D,2,0),\"\")","v":0},"","",null,1,null,1,1,1415]
[null,null,{"$f":"IFERROR(VLOOKUP(D1420,'1_Causas_Levantadas'!C:D,2,0),\"\")","v":0},"","",null,1,null,1,1,1416]
[null,null,{"$f":"IFERROR(VLOOKUP(D1421,'1_Causas_Levantadas'!C:D,2,0),\"\")","v":0},"","",null,1,null,1,1,1417]
[null,null,{"$f":"IFERROR(VLOOKUP(D1422,'1_Causas_Levantadas'!C:D,2,0),\"\")","v":0},"","",null,1,null,1,1,1418]
[null,null,{"$f":"IFERROR(VLOOKUP(D1423,'1_Causas_Levantadas'!C:D,2,0),\"\")","v":0},"","",null,1,null,1,1,1419]
[null,null,{"$f":"IFERROR(VLOOKUP(D1424,'1_Causas_Levantadas'!C:D,2,0),\"\")","v":0},"","",null,1,null,1,1,1420]
[null,null,{"$f":"IFERROR(VLOOKUP(D1425,'1_Causas_Levantadas'!C:D,2,0),\"\")","v":0},"","",null,1,null,1,1,1421]
[null,null,{"$f":"IFERROR(VLOOKUP(D1426,'1_Causas_Levantadas'!C:D,2,0),\"\")","v":0},"","",null,1,null,1,1,1422]
[null,null,{"$f":"IFERROR(VLOOKUP(D1427,'1_Causas_Levantadas'!C:D,2,0),\"\")","v":0},"","",null,1,null,1,1,1423]
[null,null,{"$f":"IFERROR(VLOOKUP(D1428,'1_Causas_Levantadas'!C:D,2,0),\"\")","v":0},"","",null,1,null,1,1,1424]
[null,null,{"$f":"IFERROR(VLOOKUP(D1429,'1_Causas_Levantadas'!C:D,2,0),\"\")","v":0},"","",null,1,null,1,1,1425]
[null,null,{"$f":"IFERROR(VLOOKUP(D1430,'1_Causas_Levantadas'!C:D,2,0),\"\")","v":0},"","",null,1,null,1,1,1426]
[null,null,{"$f":"IFERROR(VLOOKUP(D1431,'1_Causas_Levantadas'!C:D,2,0),\"\")","v":0},"","",null,1,null,1,1,1427]
[null,null,{"$f":"IFERROR(VLOOKUP(D1432,'1_Causas_Levantadas'!C:D,2,0),\"\")","v":0},"","",null,1,null,1,1,1428]
[null,null,{"$f":"IFERROR(VLOOKUP(D1433,'1_Causas_Levantadas'!C:D,2,0),\"\")","v":0},"","",null,1,null,1,1,1429]
[null,null,{"$f":"IFERROR(VLOOKUP(D1434,'1_Causas_Levantadas'!C:D,2,0),\"\")","v":0},"","",null,1,null,1,1,1430]
[null,null,{"$f":"IFERROR(VLOOKUP(D1435,'1_Causas_Levantadas'!C:D,2,0),\"\")","v":0},"","",null,1,null,1,1,1431]
[null,null,{"$f":"IFERROR(VLOOKUP(D1436,'1_Causas_Levantadas'!C:D,2,0),\"\")","v":0},"","",null,1,null,1,1,1432]
[null,null,{"$f":"IFERROR(VLOOKUP(D1437,'1_Causas_Levantadas'!C:D,2,0),\"\")","v":0},"","",null,1,null,1,1,1433]
[null,null,{"$f":"IFERROR(VLOOKUP(D1438,'1_Causas_Levantadas'!C:D,2,0),\"\")","v":0},"","",null,1,null,1,1,1434]
[null,null,{"$f":"IFERROR(VLOOKUP(D1439,'1_Causas_Levantadas'!C:D,2,0),\"\")","v":0},"","",null,1,null,1,1,1435]
[null,null,{"$f":"IFERROR(VLOOKUP(D1440,'1_Causas_Levantadas'!C:D,2,0),\"\")","v":0},"","",null,1,null,1,1,1436]
[null,null,{"$f":"IFERROR(VLOOKUP(D1441,'1_Causas_Levantadas'!C:D,2,0),\"\")","v":0},"","",null,1,null,1,1,1437]
[null,null,{"$f":"IFERROR(VLOOKUP(D1442,'1_Causas_Levantadas'!C:D,2,0),\"\")","v":0},"","",null,1,null,1,1,1438]
[null,null,{"$f":"IFERROR(VLOOKUP(D1443,'1_Causas_Levantadas'!C:D,2,0),\"\")","v":0},"","",null,1,null,1,1,1439]
[null,null,{"$f":"IFERROR(VLOOKUP(D1444,'1_Causas_Levantadas'!C:D,2,0),\"\")","v":0},"","",null,1,null,1,1,1440]
[null,null,{"$f":"IFERROR(VLOOKUP(D1445,'1_Causas_Levantadas'!C:D,2,0),\"\")","v":0},"","",null,1,null,1,1,1441]
[null,null,{"$f":"IFERROR(VLOOKUP(D1446,'1_Causas_Levantadas'!C:D,2,0),\"\")","v":0},"","",null,1,null,1,1,1442]
[null,null,{"$f":"IFERROR(VLOOKUP(D1447,'1_Causas_Levantadas'!C:D,2,0),\"\")","v":0},"","",null,1,null,1,1,1443]
[null,null,{"$f":"IFERROR(VLOOKUP(D1448,'1_Causas_Levantadas'!C:D,2,0),\"\")","v":0},"","",null,1,null,1,1,1444]
[null,null,{"$f":"IFERROR(VLOOKUP(D1449,'1_Causas_Levantadas'!C:D,2,0),\"\")","v":0},"","",null,1,null,1,1,1445]
[null,null,{"$f":"IFERROR(VLOOKUP(D1450,'1_Causas_Levantadas'!C:D,2,0),\"\")","v":0},"","",null,1,null,1,1,1446]
[null,null,{"$f":"IFERROR(VLOOKUP(D1451,'1_Causas_Levantadas'!C:D,2,0),\"\")","v":0},"","",null,1,null,1,1,1447]
[null,null,{"$f":"IFERROR(VLOOKUP(D1452,'1_Causas_Levantadas'!C:D,2,0),\"\")","v":0},"","",null,1,null,1,1,1448]
[null,null,{"$f":"IFERROR(VLOOKUP(D1453,'1_Causas_Levantadas'!C:D,2,0),\"\")","v":0},"","",null,1,null,1,1,1449]
[null,null,{"$f":"IFERROR(VLOOKUP(D1454,'1_Causas_Levantadas'!C:D,2,0),\"\")","v":0},"","",null,1,null,1,1,1450]
[null,null,{"$f":"IFERROR(VLOOKUP(D1455,'1_Causas_Levantadas'!C:D,2,0),\"\")","v":0},"","",null,1,null,1,1,1451]
[null,null,{"$f":"IFERROR(VLOOKUP(D1456,'1_Causas_Levantadas'!C:D,2,0),\"\")","v":0},"","",null,1,null,1,1,1452]
[null,null,{"$f":"IFERROR(VLOOKUP(D1457,'1_Causas_Levantadas'!C:D,2,0),\"\")","v":0},"","",null,1,null,1,1,1453]
[null,null,{"$f":"IFERROR(VLOOKUP(D1458,'1_Causas_Levantadas'!C:D,2,0),\"\")","v":0},"","",null,1,null,1,1,1454]
[null,null,{"$f":"IFERROR(VLOOKUP(D1459,'1_Causas_Levantadas'!C:D,2,0),\"\")","v":0},"","",null,1,null,1,1,1455]
[null,null,{"$f":"IFERROR(VLOOKUP(D1460,'1_Causas_Levantadas'!C:D,2,0),\"\")","v":0},"","",null,1,null,1,1,1456]
[null,null,{"$f":"IFERROR(VLOOKUP(D1461,'1_Causas_Levantadas'!C:D,2,0),\"\")","v":0},"","",null,1,null,1,1,1457]
[null,null,{"$f":"IFERROR(VLOOKUP(D1462,'1_Causas_Levantadas'!C:D,2,0),\"\")","v":0},"","",null,1,null,1,1,1458]
[null,null,{"$f":"IFERROR(VLOOKUP(D1463,'1_Causas_Levantadas'!C:D,2,0),\"\")","v":0},"","",null,1,null,1,1,1459]
[null,null,{"$f":"IFERROR(VLOOKUP(D1464,'1_Causas_Levantadas'!C:D,2,0),\"\")","v":0},"","",null,1,null,1,1,1460]
[null,null,{"$f":"IFERROR(VLOOKUP(D1465,'1_Causas_Levantadas'!C:D,2,0),\"\")","v":0},"","",null,1,null,1,1,1461]
[null,null,{"$f":"IFERROR(VLOOKUP(D1466,'1_Causas_Levantadas'!C:D,2,0),\"\")","v":0},"","",null,1,null,1,1,1462]
[null,null,{"$f":"IFERROR(VLOOKUP(D1467,'1_Causas_Levantadas'!C:D,2,0),\"\")","v":0},"","",null,1,null,1,1,1463]
[null,null,{"$f":"IFERROR(VLOOKUP(D1468,'1_Causas_Levantadas'!C:D,2,0),\"\")","v":0},"","",null,1,null,1,1,1464]
[null,null,{"$f":"IFERROR(VLOOKUP(D1469,'1_Causas_Levantadas'!C:D,2,0),\"\")","v":0},"","",null,1,null,1,1,1465]
[null,null,{"$f":"IFERROR(VLOOKUP(D1470,'1_Causas_Levantadas'!C:D,2,0),\"\")","v":0},"","",null,1,null,1,1,1466]
[null,null,{"$f":"IFERROR(VLOOKUP(D1471,'1_Causas_Levantadas'!C:D,2,0),\"\")","v":0},"","",null,1,null,1,1,1467]
[null,null,{"$f":"IFERROR(VLOOKUP(D1472,'1_Causas_Levantadas'!C:D,2,0),\"\")","v":0},"","",null,1,null,1,1,1468]
[null,null,{"$f":"IFERROR(VLOOKUP(D1473,'1_Causas_Levantadas'!C:D,2,0),\"\")","v":0},"","",null,1,null,1,1,1469]
[null,null,{"$f":"IFERROR(VLOOKUP(D1474,'1_Causas_Levantadas'!C:D,2,0),\"\")","v":0},"","",null,1,null,1,1,1470]
[null,null,{"$f":"IFERROR(VLOOKUP(D1475,'1_Causas_Levantadas'!C:D,2,0),\"\")","v":0},"","",null,1,null,1,1,1471]
[null,null,{"$f":"IFERROR(VLOOKUP(D1476,'1_Causas_Levantadas'!C:D,2,0),\"\")","v":0},"","",null,1,null,1,1,1472]
[null,null,{"$f":"IFERROR(VLOOKUP(D1477,'1_Causas_Levantadas'!C:D,2,0),\"\")","v":0},"","",null,1,null,1,1,1473]
[null,null,{"$f":"IFERROR(VLOOKUP(D1478,'1_Causas_Levantadas'!C:D,2,0),\"\")","v":0},{"$f":"IF(K1478<=$H$4,(IF(G1477>0,G1478,$G$5)),\"\")","v":""},{"$f":"IF(D1478<>\"\",\"Participante \"&K1478,\"\")","v":""},null,{"$f":"J1478","v":1},null,{"$f":"IF(G1478=$G$5,1,0)","v":1},1,{"$f":"I1478+K1477","v":1474}]
[null,null,{"$f":"IFERROR(VLOOKUP(D1479,'1_Causas_Levantadas'!C:D,2,0),\"\")","v":0},"","",null,1,null,1,{"$f":"IF(G1478<$G$4,J1478+1,1)","v":1},1475]
[null,null,{"$f":"IFERROR(VLOOKUP(D1480,'1_Causas_Levantadas'!C:D,2,0),\"\")","v":0},"","",null,1,null,1,1,1476]
[null,null,{"$f":"IFERROR(VLOOKUP(D1481,'1_Causas_Levantadas'!C:D,2,0),\"\")","v":0},"","",null,1,null,1,1,1477]
[null,null,{"$f":"IFERROR(VLOOKUP(D1482,'1_Causas_Levantadas'!C:D,2,0),\"\")","v":0},"","",null,1,null,1,1,1478]
[null,null,{"$f":"IFERROR(VLOOKUP(D1483,'1_Causas_Levantadas'!C:D,2,0),\"\")","v":0},"","",null,1,null,1,1,1479]
[null,null,{"$f":"IFERROR(VLOOKUP(D1484,'1_Causas_Levantadas'!C:D,2,0),\"\")","v":0},"","",null,1,null,1,1,1480]
[null,null,{"$f":"IFERROR(VLOOKUP(D1485,'1_Causas_Levantadas'!C:D,2,0),\"\")","v":0},"","",null,1,null,1,1,1481]
[null,null,{"$f":"IFERROR(VLOOKUP(D1486,'1_Causas_Levantadas'!C:D,2,0),\"\")","v":0},"","",null,1,null,1,1,1482]
[null,null,{"$f":"IFERROR(VLOOKUP(D1487,'1_Causas_Levantadas'!C:D,2,0),\"\")","v":0},"","",null,1,null,1,1,1483]
[null,null,{"$f":"IFERROR(VLOOKUP(D1488,'1_Causas_Levantadas'!C:D,2,0),\"\")","v":0},"","",null,1,null,1,1,1484]
[null,null,{"$f":"IFERROR(VLOOKUP(D1489,'1_Causas_Levantadas'!C:D,2,0),\"\")","v":0},"","",null,1,null,1,1,1485]
[null,null,{"$f":"IFERROR(VLOOKUP(D1490,'1_Causas_Levantadas'!C:D,2,0),\"\")","v":0},"","",null,1,null,1,1,1486]
[null,null,{"$f":"IFERROR(VLOOKUP(D1491,'1_Causas_Levantadas'!C:D,2,0),\"\")","v":0},"","",null,1,null,1,1,1487]
[null,null,{"$f":"IFERROR(VLOOKUP(D1492,'1_Causas_Levantadas'!C:D,2,0),\"\")","v":0},"","",null,1,null,1,1,1488]
[null,null,{"$f":"IFERROR(VLOOKUP(D1493,'1_Causas_Levantadas'!C:D,2,0),\"\")","v":0},"","",null,1,null,1,1,1489]
[null,null,{"$f":"IFERROR(VLOOKUP(D1494,'1_Causas_Levantadas'!C:D,2,0),\"\")","v":0},"","",null,1,null,1,1,1490]
[null,null,{"$f":"IFERROR(VLOOKUP(D1495,'1_Causas_Levantadas'!C:D,2,0),\"\")","v":0},"","",null,1,null,1,1,1491]
[null,null,{"$f":"IFERROR(VLOOKUP(D1496,'1_Causas_Levantadas'!C:D,2,0),\"\")","v":0},"","",null,1,null,1,1,1492]
[null,null,{"$f":"IFERROR(VLOOKUP(D1497,'1_Causas_Levantadas'!C:D,2,0),\"\")","v":0},"","",null,1,null,1,1,1493]
[null,null,{"$f":"IFERROR(VLOOKUP(D1498,'1_Causas_Levantadas'!C:D,2,0),\"\")","v":0},"","",null,1,null,1,1,1494]
[null,null,{"$f":"IFERROR(VLOOKUP(D1499,'1_Causas_Levantadas'!C:D,2,0),\"\")","v":0},"","",null,1,null,1,1,1495]
[null,null,{"$f":"IFERROR(VLOOKUP(D1500,'1_Causas_Levantadas'!C:D,2,0),\"\")","v":0},"","",null,1,null,1,1,1496]
[null,null,{"$f":"IFERROR(VLOOKUP(D1501,'1_Causas_Levantadas'!C:D,2,0),\"\")","v":0},"","",null,1,null,1,1,1497]
[null,null,{"$f":"IFERROR(VLOOKUP(D1502,'1_Causas_Levantadas'!C:D,2,0),\"\")","v":0},"","",null,1,null,1,1,1498]
[null,null,{"$f":"IFERROR(VLOOKUP(D1503,'1_Causas_Levantadas'!C:D,2,0),\"\")","v":0},"","",null,1,null,1,1,1499]
[null,null,{"$f":"IFERROR(VLOOKUP(D1504,'1_Causas_Levantadas'!C:D,2,0),\"\")","v":0},"","",null,1,null,1,1,1500]
[null,null,{"$f":"IFERROR(VLOOKUP(D1505,'1_Causas_Levantadas'!C:D,2,0),\"\")","v":0},"","",null,1,null,1,1,1501]
[null,null,{"$f":"IFERROR(VLOOKUP(D1506,'1_Causas_Levantadas'!C:D,2,0),\"\")","v":0},"","",null,1,null,1,1,1502]
[null,null,{"$f":"IFERROR(VLOOKUP(D1507,'1_Causas_Levantadas'!C:D,2,0),\"\")","v":0},"","",null,1,null,1,1,1503]
[null,null,{"$f":"IFERROR(VLOOKUP(D1508,'1_Causas_Levantadas'!C:D,2,0),\"\")","v":0},"","",null,1,null,1,1,1504]
[null,null,{"$f":"IFERROR(VLOOKUP(D1509,'1_Causas_Levantadas'!C:D,2,0),\"\")","v":0},"","",null,1,null,1,1,1505]
[null,null,{"$f":"IFERROR(VLOOKUP(D1510,'1_Causas_Levantadas'!C:D,2,0),\"\")","v":0},"","",null,1,null,1,1,1506]
[null,null,{"$f":"IFERROR(VLOOKUP(D1511,'1_Causas_Levantadas'!C:D,2,0),\"\")","v":0},"","",null,1,null,1,1,1507]
[null,null,{"$f":"IFERROR(VLOOKUP(D1512,'1_Causas_Levantadas'!C:D,2,0),\"\")","v":0},"","",null,1,null,1,1,1508]
[null,null,{"$f":"IFERROR(VLOOKUP(D1513,'1_Causas_Levantadas'!C:D,2,0),\"\")","v":0},"","",null,1,null,1,1,1509]
[null,null,{"$f":"IFERROR(VLOOKUP(D1514,'1_Causas_Levantadas'!C:D,2,0),\"\")","v":0},"","",null,1,null,1,1,1510]
[null,null,{"$f":"IFERROR(VLOOKUP(D1515,'1_Causas_Levantadas'!C:D,2,0),\"\")","v":0},"","",null,1,null,1,1,1511]
[null,null,{"$f":"IFERROR(VLOOKUP(D1516,'1_Causas_Levantadas'!C:D,2,0),\"\")","v":0},"","",null,1,null,1,1,1512]
[null,null,{"$f":"IFERROR(VLOOKUP(D1517,'1_Causas_Levantadas'!C:D,2,0),\"\")","v":0},"","",null,1,null,1,1,1513]
[null,null,{"$f":"IFERROR(VLOOKUP(D1518,'1_Causas_Levantadas'!C:D,2,0),\"\")","v":0},"","",null,1,null,1,1,1514]
[null,null,{"$f":"IFERROR(VLOOKUP(D1519,'1_Causas_Levantadas'!C:D,2,0),\"\")","v":0},"","",null,1,null,1,1,1515]
[null,null,{"$f":"IFERROR(VLOOKUP(D1520,'1_Causas_Levantadas'!C:D,2,0),\"\")","v":0},"","",null,1,null,1,1,1516]
[null,null,{"$f":"IFERROR(VLOOKUP(D1521,'1_Causas_Levantadas'!C:D,2,0),\"\")","v":0},"","",null,1,null,1,1,1517]
[null,null,{"$f":"IFERROR(VLOOKUP(D1522,'1_Causas_Levantadas'!C:D,2,0),\"\")","v":0},"","",null,1,null,1,1,1518]
[null,null,{"$f":"IFERROR(VLOOKUP(D1523,'1_Causas_Levantadas'!C:D,2,0),\"\")","v":0},"","",null,1,null,1,1,1519]
[null,null,{"$f":"IFERROR(VLOOKUP(D1524,'1_Causas_Levantadas'!C:D,2,0),\"\")","v":0},"","",null,1,null,1,1,1520]
[null,null,{"$f":"IFERROR(VLOOKUP(D1525,'1_Causas_Levantadas'!C:D,2,0),\"\")","v":0},"","",null,1,null,1,1,1521]
[null,null,{"$f":"IFERROR(VLOOKUP(D1526,'1_Causas_Levantadas'!C:D,2,0),\"\")","v":0},"","",null,1,null,1,1,1522]
[null,null,{"$f":"IFERROR(VLOOKUP(D1527,'1_Causas_Levantadas'!C:D,2,0),\"\")","v":0},"","",null,1,null,1,1,1523]
[null,null,{"$f":"IFERROR(VLOOKUP(D1528,'1_Causas_Levantadas'!C:D,2,0),\"\")","v":0},"","",null,1,null,1,1,1524]
[null,null,{"$f":"IFERROR(VLOOKUP(D1529,'1_Causas_Levantadas'!C:D,2,0),\"\")","v":0},"","",null,1,null,1,1,1525]
[null,null,{"$f":"IFERROR(VLOOKUP(D1530,'1_Causas_Levantadas'!C:D,2,0),\"\")","v":0},"","",null,1,null,1,1,1526]
[null,null,{"$f":"IFERROR(VLOOKUP(D1531,'1_Causas_Levantadas'!C:D,2,0),\"\")","v":0},"","",null,1,null,1,1,1527]
[null,null,{"$f":"IFERROR(VLOOKUP(D1532,'1_Causas_Levantadas'!C:D,2,0),\"\")","v":0},"","",null,1,null,1,1,1528]
[null,null,{"$f":"IFERROR(VLOOKUP(D1533,'1_Causas_Levantadas'!C:D,2,0),\"\")","v":0},"","",null,1,null,1,1,1529]
[null,null,{"$f":"IFERROR(VLOOKUP(D1534,'1_Causas_Levantadas'!C:D,2,0),\"\")","v":0},"","",null,1,null,1,1,1530]
[null,null,{"$f":"IFERROR(VLOOKUP(D1535,'1_Causas_Levantadas'!C:D,2,0),\"\")","v":0},"","",null,1,null,1,1,1531]
[null,null,{"$f":"IFERROR(VLOOKUP(D1536,'1_Causas_Levantadas'!C:D,2,0),\"\")","v":0},"","",null,1,null,1,1,1532]
[null,null,{"$f":"IFERROR(VLOOKUP(D1537,'1_Causas_Levantadas'!C:D,2,0),\"\")","v":0},"","",null,1,null,1,1,1533]
[null,null,{"$f":"IFERROR(VLOOKUP(D1538,'1_Causas_Levantadas'!C:D,2,0),\"\")","v":0},"","",null,1,null,1,1,1534]
[null,null,{"$f":"IFERROR(VLOOKUP(D1539,'1_Causas_Levantadas'!C:D,2,0),\"\")","v":0},"","",null,1,null,1,1,1535]
[null,null,{"$f":"IFERROR(VLOOKUP(D1540,'1_Causas_Levantadas'!C:D,2,0),\"\")","v":0},"","",null,1,null,1,1,1536]
[null,null,{"$f":"IFERROR(VLOOKUP(D1541,'1_Causas_Levantadas'!C:D,2,0),\"\")","v":0},"","",null,1,null,1,1,1537]
[null,null,{"$f":"IFERROR(VLOOKUP(D1542,'1_Causas_Levantadas'!C:D,2,0),\"\")","v":0},{"$f":"IF(K1542<=$H$4,(IF(G1541>0,G1542,$G$5)),\"\")","v":""},{"$f":"IF(D1542<>\"\",\"Participante \"&K1542,\"\")","v":""},null,{"$f":"J1542","v":1},null,{"$f":"IF(G1542=$G$5,1,0)","v":1},1,{"$f":"I1542+K1541","v":1538}]
[null,null,{"$f":"IFERROR(VLOOKUP(D1543,'1_Causas_Levantadas'!C:D,2,0),\"\")","v":0},"","",null,1,null,1,{"$f":"IF(G1542<$G$4,J1542+1,1)","v":1},1539]
[null,null,{"$f":"IFERROR(VLOOKUP(D1544,'1_Causas_Levantadas'!C:D,2,0),\"\")","v":0},"","",null,1,null,1,1,1540]
[null,null,{"$f":"IFERROR(VLOOKUP(D1545,'1_Causas_Levantadas'!C:D,2,0),\"\")","v":0},"","",null,1,null,1,1,1541]
[null,null,{"$f":"IFERROR(VLOOKUP(D1546,'1_Causas_Levantadas'!C:D,2,0),\"\")","v":0},"","",null,1,null,1,1,1542]
[null,null,{"$f":"IFERROR(VLOOKUP(D1547,'1_Causas_Levantadas'!C:D,2,0),\"\")","v":0},"","",null,1,null,1,1,1543]
[null,null,{"$f":"IFERROR(VLOOKUP(D1548,'1_Causas_Levantadas'!C:D,2,0),\"\")","v":0},"","",null,1,null,1,1,1544]
[null,null,{"$f":"IFERROR(VLOOKUP(D1549,'1_Causas_Levantadas'!C:D,2,0),\"\")","v":0},"","",null,1,null,1,1,1545]
[null,null,{"$f":"IFERROR(VLOOKUP(D1550,'1_Causas_Levantadas'!C:D,2,0),\"\")","v":0},"","",null,1,null,1,1,1546]
[null,null,{"$f":"IFERROR(VLOOKUP(D1551,'1_Causas_Levantadas'!C:D,2,0),\"\")","v":0},"","",null,1,null,1,1,1547]
[null,null,{"$f":"IFERROR(VLOOKUP(D1552,'1_Causas_Levantadas'!C:D,2,0),\"\")","v":0},"","",null,1,null,1,1,1548]
[null,null,{"$f":"IFERROR(VLOOKUP(D1553,'1_Causas_Levantadas'!C:D,2,0),\"\")","v":0},"","",null,1,null,1,1,1549]
[null,null,{"$f":"IFERROR(VLOOKUP(D1554,'1_Causas_Levantadas'!C:D,2,0),\"\")","v":0},"","",null,1,null,1,1,1550]
[null,null,{"$f":"IFERROR(VLOOKUP(D1555,'1_Causas_Levantadas'!C:D,2,0),\"\")","v":0},"","",null,1,null,1,1,1551]
[null,null,{"$f":"IFERROR(VLOOKUP(D1556,'1_Causas_Levantadas'!C:D,2,0),\"\")","v":0},"","",null,1,null,1,1,1552]
[null,null,{"$f":"IFERROR(VLOOKUP(D1557,'1_Causas_Levantadas'!C:D,2,0),\"\")","v":0},"","",null,1,null,1,1,1553]
[null,null,{"$f":"IFERROR(VLOOKUP(D1558,'1_Causas_Levantadas'!C:D,2,0),\"\")","v":0},"","",null,1,null,1,1,1554]
[null,null,{"$f":"IFERROR(VLOOKUP(D1559,'1_Causas_Levantadas'!C:D,2,0),\"\")","v":0},"","",null,1,null,1,1,1555]
[null,null,{"$f":"IFERROR(VLOOKUP(D1560,'1_Causas_Levantadas'!C:D,2,0),\"\")","v":0},"","",null,1,null,1,1,1556]
[null,null,{"$f":"IFERROR(VLOOKUP(D1561,'1_Causas_Levantadas'!C:D,2,0),\"\")","v":0},"","",null,1,null,1,1,1557]
[null,null,{"$f":"IFERROR(VLOOKUP(D1562,'1_Causas_Levantadas'!C:D,2,0),\"\")","v":0},"","",null,1,null,1,1,1558]
[null,null,{"$f":"IFERROR(VLOOKUP(D1563,'1_Causas_Levantadas'!C:D,2,0),\"\")","v":0},"","",null,1,null,1,1,1559]
[null,null,{"$f":"IFERROR(VLOOKUP(D1564,'1_Causas_Levantadas'!C:D,2,0),\"\")","v":0},"","",null,1,null,1,1,1560]
[null,null,{"$f":"IFERROR(VLOOKUP(D1565,'1_Causas_Levantadas'!C:D,2,0),\"\")","v":0},"","",null,1,null,1,1,1561]
[null,null,{"$f":"IFERROR(VLOOKUP(D1566,'1_Causas_Levantadas'!C:D,2,0),\"\")","v":0},"","",null,1,null,1,1,1562]
[null,null,{"$f":"IFERROR(VLOOKUP(D1567,'1_Causas_Levantadas'!C:D,2,0),\"\")","v":0},"","",null,1,null,1,1,1563]
[null,null,{"$f":"IFERROR(VLOOKUP(D1568,'1_Causas_Levantadas'!C:D,2,0),\"\")","v":0},"","",null,1,null,1,1,1564]
[null,null,{"$f":"IFERROR(VLOOKUP(D1569,'1_Causas_Levantadas'!C:D,2,0),\"\")","v":0},"","",null,1,null,1,1,1565]
[null,null,{"$f":"IFERROR(VLOOKUP(D1570,'1_Causas_Levantadas'!C:D,2,0),\"\")","v":0},"","",null,1,null,1,1,1566]
[null,null,{"$f":"IFERROR(VLOOKUP(D1571,'1_Causas_Levantadas'!C:D,2,0),\"\")","v":0},"","",null,1,null,1,1,1567]
[null,null,{"$f":"IFERROR(VLOOKUP(D1572,'1_Causas_Levantadas'!C:D,2,0),\"\")","v":0},"","",null,1,null,1,1,1568]
[null,null,{"$f":"IFERROR(VLOOKUP(D1573,'1_Causas_Levantadas'!C:D,2,0),\"\")","v":0},"","",null,1,null,1,1,1569]
[null,null,{"$f":"IFERROR(VLOOKUP(D1574,'1_Causas_Levantadas'!C:D,2,0),\"\")","v":0},"","",null,1,null,1,1,1570]
[null,null,{"$f":"IFERROR(VLOOKUP(D1575,'1_Causas_Levantadas'!C:D,2,0),\"\")","v":0},"","",null,1,null,1,1,1571]
[null,null,{"$f":"IFERROR(VLOOKUP(D1576,'1_Causas_Levantadas'!C:D,2,0),\"\")","v":0},"","",null,1,null,1,1,1572]
[null,null,{"$f":"IFERROR(VLOOKUP(D1577,'1_Causas_Levantadas'!C:D,2,0),\"\")","v":0},"","",null,1,null,1,1,1573]
[null,null,{"$f":"IFERROR(VLOOKUP(D1578,'1_Causas_Levantadas'!C:D,2,0),\"\")","v":0},"","",null,1,null,1,1,1574]
[null,null,{"$f":"IFERROR(VLOOKUP(D1579,'1_Causas_Levantadas'!C:D,2,0),\"\")","v":0},"","",null,1,null,1,1,1575]
[null,null,{"$f":"IFERROR(VLOOKUP(D1580,'1_Causas_Levantadas'!C:D,2,0),\"\")","v":0},"","",null,1,null,1,1,1576]
[null,null,{"$f":"IFERROR(VLOOKUP(D1581,'1_Causas_Levantadas'!C:D,2,0),\"\")","v":0},"","",null,1,null,1,1,1577]
[null,null,{"$f":"IFERROR(VLOOKUP(D1582,'1_Causas_Levantadas'!C:D,2,0),\"\")","v":0},"","",null,1,null,1,1,1578]
[null,null,{"$f":"IFERROR(VLOOKUP(D1583,'1_Causas_Levantadas'!C:D,2,0),\"\")","v":0},"","",null,1,null,1,1,1579]
[null,null,{"$f":"IFERROR(VLOOKUP(D1584,'1_Causas_Levantadas'!C:D,2,0),\"\")","v":0},"","",null,1,null,1,1,1580]
[null,null,{"$f":"IFERROR(VLOOKUP(D1585,'1_Causas_Levantadas'!C:D,2,0),\"\")","v":0},"","",null,1,null,1,1,1581]
[null,null,{"$f":"IFERROR(VLOOKUP(D1586,'1_Causas_Levantadas'!C:D,2,0),\"\")","v":0},"","",null,1,null,1,1,1582]
[null,null,{"$f":"IFERROR(VLOOKUP(D1587,'1_Causas_Levantadas'!C:D,2,0),\"\")","v":0},"","",null,1,null,1,1,1583]
[null,null,{"$f":"IFERROR(VLOOKUP(D1588,'1_Causas_Levantadas'!C:D,2,0),\"\")","v":0},"","",null,1,null,1,1,1584]
[null,null,{"$f":"IFERROR(VLOOKUP(D1589,'1_Causas_Levantadas'!C:D,2,0),\"\")","v":0},"","",null,1,null,1,1,1585]
[null,null,{"$f":"IFERROR(VLOOKUP(D1590,'1_Causas_Levantadas'!C:D,2,0),\"\")","v":0},"","",null,1,null,1,1,1586]
[null,null,{"$f":"IFERROR(VLOOKUP(D1591,'1_Causas_Levantadas'!C:D,2,0),\"\")","v":0},"","",null,1,null,1,1,1587]
[null,null,{"$f":"IFERROR(VLOOKUP(D1592,'1_Causas_Levantadas'!C:D,2,0),\"\")","v":0},"","",null,1,null,1,1,1588]
[null,null,{"$f":"IFERROR(VLOOKUP(D1593,'1_Causas_Levantadas'!C:D,2,0),\"\")","v":0},"","",null,1,null,1,1,1589]
[null,null,{"$f":"IFERROR(VLOOKUP(D1594,'1_Causas_Levantadas'!C:D,2,0),\"\")","v":0},"","",null,1,null,1,1,1590]
[null,null,{"$f":"IFERROR(VLOOKUP(D1595,'1_Causas_Levantadas'!C:D,2,0),\"\")","v":0},"","",null,1,null,1,1,1591]
[null,null,{"$f":"IFERROR(VLOOKUP(D1596,'1_Causas_Levantadas'!C:D,2,0),\"\")","v":0},"","",null,1,null,1,1,1592]
[null,null,{"$f":"IFERROR(VLOOKUP(D1597,'1_Causas_Levantadas'!C:D,2,0),\"\")","v":0},"","",null,1,null,1,1,1593]
[null,null,{"$f":"IFERROR(VLOOKUP(D1598,'1_Causas_Levantadas'!C:D,2,0),\"\")","v":0},"","",null,1,null,1,1,1594]
[null,null,{"$f":"IFERROR(VLOOKUP(D1599,'1_Causas_Levantadas'!C:D,2,0),\"\")","v":0},"","",null,1,null,1,1,1595]
[null,null,{"$f":"IFERROR(VLOOKUP(D1600,'1_Causas_Levantadas'!C:D,2,0),\"\")","v":0},"","",null,1,null,1,1,1596]
[null,null,{"$f":"IFERROR(VLOOKUP(D1601,'1_Causas_Levantadas'!C:D,2,0),\"\")","v":0},"","",null,1,null,1,1,1597]
[null,null,{"$f":"IFERROR(VLOOKUP(D1602,'1_Causas_Levantadas'!C:D,2,0),\"\")","v":0},"","",null,1,null,1,1,1598]
[null,null,{"$f":"IFERROR(VLOOKUP(D1603,'1_Causas_Levantadas'!C:D,2,0),\"\")","v":0},"","",null,1,null,1,1,1599]
[null,null,{"$f":"IFERROR(VLOOKUP(D1604,'1_Causas_Levantadas'!C:D,2,0),\"\")","v":0},"","",null,1,null,1,1,1600]
[null,null,{"$f":"IFERROR(VLOOKUP(D1605,'1_Causas_Levantadas'!C:D,2,0),\"\")","v":0},"","",null,1,null,1,1,1601]
[null,null,{"$f":"IFERROR(VLOOKUP(D1606,'1_Causas_Levantadas'!C:D,2,0),\"\")","v":0},{"$f":"IF(K1606<=$H$4,(IF(G1605>0,G1606,$G$5)),\"\")","v":""},{"$f":"IF(D1606<>\"\",\"Participante \"&K1606,\"\")","v":""},null,{"$f":"J1606","v":1},null,{"$f":"IF(G1606=$G$5,1,0)","v":1},1,{"$f":"I1606+K1605","v":1602}]
[null,null,{"$f":"IFERROR(VLOOKUP(D1607,'1_Causas_Levantadas'!C:D,2,0),\"\")","v":0},"","",null,1,null,1,{"$f":"IF(G1606<$G$4,J1606+1,1)","v":1},1603]
[null,null,{"$f":"IFERROR(VLOOKUP(D1608,'1_Causas_Levantadas'!C:D,2,0),\"\")","v":0},"","",null,1,null,1,1,1604]
[null,null,{"$f":"IFERROR(VLOOKUP(D1609,'1_Causas_Levantadas'!C:D,2,0),\"\")","v":0},"","",null,1,null,1,1,1605]
[null,null,{"$f":"IFERROR(VLOOKUP(D1610,'1_Causas_Levantadas'!C:D,2,0),\"\")","v":0},"","",null,1,null,1,1,1606]
[null,null,{"$f":"IFERROR(VLOOKUP(D1611,'1_Causas_Levantadas'!C:D,2,0),\"\")","v":0},"","",null,1,null,1,1,1607]
[null,null,{"$f":"IFERROR(VLOOKUP(D1612,'1_Causas_Levantadas'!C:D,2,0),\"\")","v":0},"","",null,1,null,1,1,1608]
[null,null,{"$f":"IFERROR(VLOOKUP(D1613,'1_Causas_Levantadas'!C:D,2,0),\"\")","v":0},"","",null,1,null,1,1,1609]
[null,null,{"$f":"IFERROR(VLOOKUP(D1614,'1_Causas_Levantadas'!C:D,2,0),\"\")","v":0},"","",null,1,null,1,1,1610]
[null,null,{"$f":"IFERROR(VLOOKUP(D1615,'1_Causas_Levantadas'!C:D,2,0),\"\")","v":0},"","",null,1,null,1,1,1611]
[null,null,{"$f":"IFERROR(VLOOKUP(D1616,'1_Causas_Levantadas'!C:D,2,0),\"\")","v":0},"","",null,1,null,1,1,1612]
[null,null,{"$f":"IFERROR(VLOOKUP(D1617,'1_Causas_Levantadas'!C:D,2,0),\"\")","v":0},"","",null,1,null,1,1,1613]
[null,null,{"$f":"IFERROR(VLOOKUP(D1618,'1_Causas_Levantadas'!C:D,2,0),\"\")","v":0},"","",null,1,null,1,1,1614]
[null,null,{"$f":"IFERROR(VLOOKUP(D1619,'1_Causas_Levantadas'!C:D,2,0),\"\")","v":0},"","",null,1,null,1,1,1615]
[null,null,{"$f":"IFERROR(VLOOKUP(D1620,'1_Causas_Levantadas'!C:D,2,0),\"\")","v":0},"","",null,1,null,1,1,1616]
[null,null,{"$f":"IFERROR(VLOOKUP(D1621,'1_Causas_Levantadas'!C:D,2,0),\"\")","v":0},"","",null,1,null,1,1,1617]
[null,null,{"$f":"IFERROR(VLOOKUP(D1622,'1_Causas_Levantadas'!C:D,2,0),\"\")","v":0},"","",null,1,null,1,1,1618]
[null,null,{"$f":"IFERROR(VLOOKUP(D1623,'1_Causas_Levantadas'!C:D,2,0),\"\")","v":0},"","",null,1,null,1,1,1619]
[null,null,{"$f":"IFERROR(VLOOKUP(D1624,'1_Causas_Levantadas'!C:D,2,0),\"\")","v":0},"","",null,1,null,1,1,1620]
[null,null,{"$f":"IFERROR(VLOOKUP(D1625,'1_Causas_Levantadas'!C:D,2,0),\"\")","v":0},"","",null,1,null,1,1,1621]
[null,null,{"$f":"IFERROR(VLOOKUP(D1626,'1_Causas_Levantadas'!C:D,2,0),\"\")","v":0},"","",null,1,null,1,1,1622]
[null,null,{"$f":"IFERROR(VLOOKUP(D1627,'1_Causas_Levantadas'!C:D,2,0),\"\")","v":0},"","",null,1,null,1,1,1623]
[null,null,{"$f":"IFERROR(VLOOKUP(D1628,'1_Causas_Levantadas'!C:D,2,0),\"\")","v":0},"","",null,1,null,1,1,1624]
[null,null,{"$f":"IFERROR(VLOOKUP(D1629,'1_Causas_Levantadas'!C:D,2,0),\"\")","v":0},"","",null,1,null,1,1,1625]
[null,null,{"$f":"IFERROR(VLOOKUP(D1630,'1_Causas_Levantadas'!C:D,2,0),\"\")","v":0},"","",null,1,null,1,1,1626]
[null,null,{"$f":"IFERROR(VLOOKUP(D1631,'1_Causas_Levantadas'!C:D,2,0),\"\")","v":0},"","",null,1,null,1,1,1627]
[null,null,{"$f":"IFERROR(VLOOKUP(D1632,'1_Causas_Levantadas'!C:D,2,0),\"\")","v":0},"","",null,1,null,1,1,1628]
[null,null,{"$f":"IFERROR(VLOOKUP(D1633,'1_Causas_Levantadas'!C:D,2,0),\"\")","v":0},"","",null,1,null,1,1,1629]
[null,null,{"$f":"IFERROR(VLOOKUP(D1634,'1_Causas_Levantadas'!C:D,2,0),\"\")","v":0},"","",null,1,null,1,1,1630]
[null,null,{"$f":"IFERROR(VLOOKUP(D1635,'1_Causas_Levantadas'!C:D,2,0),\"\")","v":0},"","",null,1,null,1,1,1631]
[null,null,{"$f":"IFERROR(VLOOKUP(D1636,'1_Causas_Levantadas'!C:D,2,0),\"\")","v":0},"","",null,1,null,1,1,1632]
[null,null,{"$f":"IFERROR(VLOOKUP(D1637,'1_Causas_Levantadas'!C:D,2,0),\"\")","v":0},"","",null,1,null,1,1,1633]
[null,null,{"$f":"IFERROR(VLOOKUP(D1638,'1_Causas_Levantadas'!C:D,2,0),\"\")","v":0},"","",null,1,null,1,1,1634]
[null,null,{"$f":"IFERROR(VLOOKUP(D1639,'1_Causas_Levantadas'!C:D,2,0),\"\")","v":0},"","",null,1,null,1,1,1635]
[null,null,{"$f":"IFERROR(VLOOKUP(D1640,'1_Causas_Levantadas'!C:D,2,0),\"\")","v":0},"","",null,1,null,1,1,1636]
[null,null,{"$f":"IFERROR(VLOOKUP(D1641,'1_Causas_Levantadas'!C:D,2,0),\"\")","v":0},"","",null,1,null,1,1,1637]
[null,null,{"$f":"IFERROR(VLOOKUP(D1642,'1_Causas_Levantadas'!C:D,2,0),\"\")","v":0},"","",null,1,null,1,1,1638]
[null,null,{"$f":"IFERROR(VLOOKUP(D1643,'1_Causas_Levantadas'!C:D,2,0),\"\")","v":0},"","",null,1,null,1,1,1639]
[null,null,{"$f":"IFERROR(VLOOKUP(D1644,'1_Causas_Levantadas'!C:D,2,0),\"\")","v":0},"","",null,1,null,1,1,1640]
[null,null,{"$f":"IFERROR(VLOOKUP(D1645,'1_Causas_Levantadas'!C:D,2,0),\"\")","v":0},"","",null,1,null,1,1,1641]
[null,null,{"$f":"IFERROR(VLOOKUP(D1646,'1_Causas_Levantadas'!C:D,2,0),\"\")","v":0},"","",null,1,null,1,1,1642]
[null,null,{"$f":"IFERROR(VLOOKUP(D1647,'1_Causas_Levantadas'!C:D,2,0),\"\")","v":0},"","",null,1,null,1,1,1643]
[null,null,{"$f":"IFERROR(VLOOKUP(D1648,'1_Causas_Levantadas'!C:D,2,0),\"\")","v":0},"","",null,1,null,1,1,1644]
[null,null,{"$f":"IFERROR(VLOOKUP(D1649,'1_Causas_Levantadas'!C:D,2,0),\"\")","v":0},"","",null,1,null,1,1,1645]
[null,null,{"$f":"IFERROR(VLOOKUP(D1650,'1_Causas_Levantadas'!C:D,2,0),\"\")","v":0},"","",null,1,null,1,1,1646]
[null,null,{"$f":"IFERROR(VLOOKUP(D1651,'1_Causas_Levantadas'!C:D,2,0),\"\")","v":0},"","",null,1,null,1,1,1647]
[null,null,{"$f":"IFERROR(VLOOKUP(D1652,'1_Causas_Levantadas'!C:D,2,0),\"\")","v":0},"","",null,1,null,1,1,1648]
[null,null,{"$f":"IFERROR(VLOOKUP(D1653,'1_Causas_Levantadas'!C:D,2,0),\"\")","v":0},"","",null,1,null,1,1,1649]
[null,null,{"$f":"IFERROR(VLOOKUP(D1654,'1_Causas_Levantadas'!C:D,2,0),\"\")","v":0},"","",null,1,null,1,1,1650]
[null,null,{"$f":"IFERROR(VLOOKUP(D1655,'1_Causas_Levantadas'!C:D,2,0),\"\")","v":0},"","",null,1,null,1,1,1651]
[null,null,{"$f":"IFERROR(VLOOKUP(D1656,'1_Causas_Levantadas'!C:D,2,0),\"\")","v":0},"","",null,1,null,1,1,1652]
[null,null,{"$f":"IFERROR(VLOOKUP(D1657,'1_Causas_Levantadas'!C:D,2,0),\"\")","v":0},"","",null,1,null,1,1,1653]
[null,null,{"$f":"IFERROR(VLOOKUP(D1658,'1_Causas_Levantadas'!C:D,2,0),\"\")","v":0},"","",null,1,null,1,1,1654]
[null,null,{"$f":"IFERROR(VLOOKUP(D1659,'1_Causas_Levantadas'!C:D,2,0),\"\")","v":0},"","",null,1,null,1,1,1655]
[null,null,{"$f":"IFERROR(VLOOKUP(D1660,'1_Causas_Levantadas'!C:D,2,0),\"\")","v":0},"","",null,1,null,1,1,1656]
[null,null,{"$f":"IFERROR(VLOOKUP(D1661,'1_Causas_Levantadas'!C:D,2,0),\"\")","v":0},"","",null,1,null,1,1,1657]
[null,null,{"$f":"IFERROR(VLOOKUP(D1662,'1_Causas_Levantadas'!C:D,2,0),\"\")","v":0},"","",null,1,null,1,1,1658]
[null,null,{"$f":"IFERROR(VLOOKUP(D1663,'1_Causas_Levantadas'!C:D,2,0),\"\")","v":0},"","",null,1,null,1,1,1659]
[null,null,{"$f":"IFERROR(VLOOKUP(D1664,'1_Causas_Levantadas'!C:D,2,0),\"\")","v":0},"","",null,1,null,1,1,1660]
[null,null,{"$f":"IFERROR(VLOOKUP(D1665,'1_Causas_Levantadas'!C:D,2,0),\"\")","v":0},"","",null,1,null,1,1,1661]
[null,null,{"$f":"IFERROR(VLOOKUP(D1666,'1_Causas_Levantadas'!C:D,2,0),\"\")","v":0},"","",null,1,null,1,1,1662]
[null,null,{"$f":"IFERROR(VLOOKUP(D1667,'1_Causas_Levantadas'!C:D,2,0),\"\")","v":0},"","",null,1,null,1,1,1663]
[null,null,{"$f":"IFERROR(VLOOKUP(D1668,'1_Causas_Levantadas'!C:D,2,0),\"\")","v":0},"","",null,1,null,1,1,1664]
[null,null,{"$f":"IFERROR(VLOOKUP(D1669,'1_Causas_Levantadas'!C:D,2,0),\"\")","v":0},"","",null,1,null,1,1,1665]
[null,null,{"$f":"IFERROR(VLOOKUP(D1670,'1_Causas_Levantadas'!C:D,2,0),\"\")","v":0},{"$f":"IF(K1670<=$H$4,(IF(G1669>0,G1670,$G$5)),\"\")","v":""},{"$f":"IF(D1670<>\"\",\"Participante \"&K1670,\"\")","v":""},null,{"$f":"J1670","v":1},null,{"$f":"IF(G1670=$G$5,1,0)","v":1},1,{"$f":"I1670+K1669","v":1666}]
[null,null,{"$f":"IFERROR(VLOOKUP(D1671,'1_Causas_Levantadas'!C:D,2,0),\"\")","v":0},"","",null,1,null,1,{"$f":"IF(G1670<$G$4,J1670+1,1)","v":1},1667]
[null,null,{"$f":"IFERROR(VLOOKUP(D1672,'1_Causas_Levantadas'!C:D,2,0),\"\")","v":0},"","",null,1,null,1,1,1668]
[null,null,{"$f":"IFERROR(VLOOKUP(D1673,'1_Causas_Levantadas'!C:D,2,0),\"\")","v":0},"","",null,1,null,1,1,1669]
[null,null,{"$f":"IFERROR(VLOOKUP(D1674,'1_Causas_Levantadas'!C:D,2,0),\"\")","v":0},"","",null,1,null,1,1,1670]
[null,null,{"$f":"IFERROR(VLOOKUP(D1675,'1_Causas_Levantadas'!C:D,2,0),\"\")","v":0},"","",null,1,null,1,1,1671]
[null,null,{"$f":"IFERROR(VLOOKUP(D1676,'1_Causas_Levantadas'!C:D,2,0),\"\")","v":0},"","",null,1,null,1,1,1672]
[null,null,{"$f":"IFERROR(VLOOKUP(D1677,'1_Causas_Levantadas'!C:D,2,0),\"\")","v":0},"","",null,1,null,1,1,1673]
[null,null,{"$f":"IFERROR(VLOOKUP(D1678,'1_Causas_Levantadas'!C:D,2,0),\"\")","v":0},"","",null,1,null,1,1,1674]
[null,null,{"$f":"IFERROR(VLOOKUP(D1679,'1_Causas_Levantadas'!C:D,2,0),\"\")","v":0},"","",null,1,null,1,1,1675]
[null,null,{"$f":"IFERROR(VLOOKUP(D1680,'1_Causas_Levantadas'!C:D,2,0),\"\")","v":0},"","",null,1,null,1,1,1676]
[null,null,{"$f":"IFERROR(VLOOKUP(D1681,'1_Causas_Levantadas'!C:D,2,0),\"\")","v":0},"","",null,1,null,1,1,1677]
[null,null,{"$f":"IFERROR(VLOOKUP(D1682,'1_Causas_Levantadas'!C:D,2,0),\"\")","v":0},"","",null,1,null,1,1,1678]
[null,null,{"$f":"IFERROR(VLOOKUP(D1683,'1_Causas_Levantadas'!C:D,2,0),\"\")","v":0},"","",null,1,null,1,1,1679]
[null,null,{"$f":"IFERROR(VLOOKUP(D1684,'1_Causas_Levantadas'!C:D,2,0),\"\")","v":0},"","",null,1,null,1,1,1680]
[null,null,{"$f":"IFERROR(VLOOKUP(D1685,'1_Causas_Levantadas'!C:D,2,0),\"\")","v":0},"","",null,1,null,1,1,1681]
[null,null,{"$f":"IFERROR(VLOOKUP(D1686,'1_Causas_Levantadas'!C:D,2,0),\"\")","v":0},"","",null,1,null,1,1,1682]
[null,null,{"$f":"IFERROR(VLOOKUP(D1687,'1_Causas_Levantadas'!C:D,2,0),\"\")","v":0},"","",null,1,null,1,1,1683]
[null,null,{"$f":"IFERROR(VLOOKUP(D1688,'1_Causas_Levantadas'!C:D,2,0),\"\")","v":0},"","",null,1,null,1,1,1684]
[null,null,{"$f":"IFERROR(VLOOKUP(D1689,'1_Causas_Levantadas'!C:D,2,0),\"\")","v":0},"","",null,1,null,1,1,1685]
[null,null,{"$f":"IFERROR(VLOOKUP(D1690,'1_Causas_Levantadas'!C:D,2,0),\"\")","v":0},"","",null,1,null,1,1,1686]
[null,null,{"$f":"IFERROR(VLOOKUP(D1691,'1_Causas_Levantadas'!C:D,2,0),\"\")","v":0},"","",null,1,null,1,1,1687]
[null,null,{"$f":"IFERROR(VLOOKUP(D1692,'1_Causas_Levantadas'!C:D,2,0),\"\")","v":0},"","",null,1,null,1,1,1688]
[null,null,{"$f":"IFERROR(VLOOKUP(D1693,'1_Causas_Levantadas'!C:D,2,0),\"\")","v":0},"","",null,1,null,1,1,1689]
[null,null,{"$f":"IFERROR(VLOOKUP(D1694,'1_Causas_Levantadas'!C:D,2,0),\"\")","v":0},"","",null,1,null,1,1,1690]
[null,null,{"$f":"IFERROR(VLOOKUP(D1695,'1_Causas_Levantadas'!C:D,2,0),\"\")","v":0},"","",null,1,null,1,1,1691]
[null,null,{"$f":"IFERROR(VLOOKUP(D1696,'1_Causas_Levantadas'!C:D,2,0),\"\")","v":0},"","",null,1,null,1,1,1692]
[null,null,{"$f":"IFERROR(VLOOKUP(D1697,'1_Causas_Levantadas'!C:D,2,0),\"\")","v":0},"","",null,1,null,1,1,1693]
[null,null,{"$f":"IFERROR(VLOOKUP(D1698,'1_Causas_Levantadas'!C:D,2,0),\"\")","v":0},"","",null,1,null,1,1,1694]
[null,null,{"$f":"IFERROR(VLOOKUP(D1699,'1_Causas_Levantadas'!C:D,2,0),\"\")","v":0},"","",null,1,null,1,1,1695]
[null,null,{"$f":"IFERROR(VLOOKUP(D1700,'1_Causas_Levantadas'!C:D,2,0),\"\")","v":0},"","",null,1,null,1,1,1696]
[null,null,{"$f":"IFERROR(VLOOKUP(D1701,'1_Causas_Levantadas'!C:D,2,0),\"\")","v":0},"","",null,1,null,1,1,1697]
[null,null,{"$f":"IFERROR(VLOOKUP(D1702,'1_Causas_Levantadas'!C:D,2,0),\"\")","v":0},"","",null,1,null,1,1,1698]
[null,null,{"$f":"IFERROR(VLOOKUP(D1703,'1_Causas_Levantadas'!C:D,2,0),\"\")","v":0},"","",null,1,null,1,1,1699]
[null,null,{"$f":"IFERROR(VLOOKUP(D1704,'1_Causas_Levantadas'!C:D,2,0),\"\")","v":0},"","",null,1,null,1,1,1700]
[null,null,{"$f":"IFERROR(VLOOKUP(D1705,'1_Causas_Levantadas'!C:D,2,0),\"\")","v":0},"","",null,1,null,1,1,1701]
[null,null,{"$f":"IFERROR(VLOOKUP(D1706,'1_Causas_Levantadas'!C:D,2,0),\"\")","v":0},"","",null,1,null,1,1,1702]
[null,null,{"$f":"IFERROR(VLOOKUP(D1707,'1_Causas_Levantadas'!C:D,2,0),\"\")","v":0},"","",null,1,null,1,1,1703]
[null,null,{"$f":"IFERROR(VLOOKUP(D1708,'1_Causas_Levantadas'!C:D,2,0),\"\")","v":0},"","",null,1,null,1,1,1704]
[null,null,{"$f":"IFERROR(VLOOKUP(D1709,'1_Causas_Levantadas'!C:D,2,0),\"\")","v":0},"","",null,1,null,1,1,1705]
[null,null,{"$f":"IFERROR(VLOOKUP(D1710,'1_Causas_Levantadas'!C:D,2,0),\"\")","v":0},"","",null,1,null,1,1,1706]
[null,null,{"$f":"IFERROR(VLOOKUP(D1711,'1_Causas_Levantadas'!C:D,2,0),\"\")","v":0},"","",null,1,null,1,1,1707]
[null,null,{"$f":"IFERROR(VLOOKUP(D1712,'1_Causas_Levantadas'!C:D,2,0),\"\")","v":0},"","",null,1,null,1,1,1708]
[null,null,{"$f":"IFERROR(VLOOKUP(D1713,'1_Causas_Levantadas'!C:D,2,0),\"\")","v":0},"","",null,1,null,1,1,1709]
[null,null,{"$f":"IFERROR(VLOOKUP(D1714,'1_Causas_Levantadas'!C:D,2,0),\"\")","v":0},"","",null,1,null,1,1,1710]
[null,null,{"$f":"IFERROR(VLOOKUP(D1715,'1_Causas_Levantadas'!C:D,2,0),\"\")","v":0},"","",null,1,null,1,1,1711]
[null,null,{"$f":"IFERROR(VLOOKUP(D1716,'1_Causas_Levantadas'!C:D,2,0),\"\")","v":0},"","",null,1,null,1,1,1712]
[null,null,{"$f":"IFERROR(VLOOKUP(D1717,'1_Causas_Levantadas'!C:D,2,0),\"\")","v":0},"","",null,1,null,1,1,1713]
[null,null,{"$f":"IFERROR(VLOOKUP(D1718,'1_Causas_Levantadas'!C:D,2,0),\"\")","v":0},"","",null,1,null,1,1,1714]
[null,null,{"$f":"IFERROR(VLOOKUP(D1719,'1_Causas_Levantadas'!C:D,2,0),\"\")","v":0},"","",null,1,null,1,1,1715]
[null,null,{"$f":"IFERROR(VLOOKUP(D1720,'1_Causas_Levantadas'!C:D,2,0),\"\")","v":0},"","",null,1,null,1,1,1716]
[null,null,{"$f":"IFERROR(VLOOKUP(D1721,'1_Causas_Levantadas'!C:D,2,0),\"\")","v":0},"","",null,1,null,1,1,1717]
[null,null,{"$f":"IFERROR(VLOOKUP(D1722,'1_Causas_Levantadas'!C:D,2,0),\"\")","v":0},"","",null,1,null,1,1,1718]
[null,null,{"$f":"IFERROR(VLOOKUP(D1723,'1_Causas_Levantadas'!C:D,2,0),\"\")","v":0},"","",null,1,null,1,1,1719]
[null,null,{"$f":"IFERROR(VLOOKUP(D1724,'1_Causas_Levantadas'!C:D,2,0),\"\")","v":0},"","",null,1,null,1,1,1720]
[null,null,{"$f":"IFERROR(VLOOKUP(D1725,'1_Causas_Levantadas'!C:D,2,0),\"\")","v":0},"","",null,1,null,1,1,1721]
[null,null,{"$f":"IFERROR(VLOOKUP(D1726,'1_Causas_Levantadas'!C:D,2,0),\"\")","v":0},"","",null,1,null,1,1,1722]
[null,null,{"$f":"IFERROR(VLOOKUP(D1727,'1_Causas_Levantadas'!C:D,2,0),\"\")","v":0},"","",null,1,null,1,1,1723]
[null,null,{"$f":"IFERROR(VLOOKUP(D1728,'1_Causas_Levantadas'!C:D,2,0),\"\")","v":0},"","",null,1,null,1,1,1724]
[null,null,{"$f":"IFERROR(VLOOKUP(D1729,'1_Causas_Levantadas'!C:D,2,0),\"\")","v":0},"","",null,1,null,1,1,1725]
[null,null,{"$f":"IFERROR(VLOOKUP(D1730,'1_Causas_Levantadas'!C:D,2,0),\"\")","v":0},"","",null,1,null,1,1,1726]
[null,null,{"$f":"IFERROR(VLOOKUP(D1731,'1_Causas_Levantadas'!C:D,2,0),\"\")","v":0},"","",null,1,null,1,1,1727]
[null,null,{"$f":"IFERROR(VLOOKUP(D1732,'1_Causas_Levantadas'!C:D,2,0),\"\")","v":0},"","",null,1,null,1,1,1728]
[null,null,{"$f":"IFERROR(VLOOKUP(D1733,'1_Causas_Levantadas'!C:D,2,0),\"\")","v":0},"","",null,1,null,1,1,1729]
[null,null,{"$f":"IFERROR(VLOOKUP(D1734,'1_Causas_Levantadas'!C:D,2,0),\"\")","v":0},{"$f":"IF(K1734<=$H$4,(IF(G1733>0,G1734,$G$5)),\"\")","v":""},{"$f":"IF(D1734<>\"\",\"Participante \"&K1734,\"\")","v":""},null,{"$f":"J1734","v":1},null,{"$f":"IF(G1734=$G$5,1,0)","v":1},1,{"$f":"I1734+K1733","v":1730}]
[null,null,{"$f":"IFERROR(VLOOKUP(D1735,'1_Causas_Levantadas'!C:D,2,0),\"\")","v":0},"","",null,1,null,1,{"$f":"IF(G1734<$G$4,J1734+1,1)","v":1},1731]
[null,null,{"$f":"IFERROR(VLOOKUP(D1736,'1_Causas_Levantadas'!C:D,2,0),\"\")","v":0},"","",null,1,null,1,1,1732]
[null,null,{"$f":"IFERROR(VLOOKUP(D1737,'1_Causas_Levantadas'!C:D,2,0),\"\")","v":0},"","",null,1,null,1,1,1733]
[null,null,{"$f":"IFERROR(VLOOKUP(D1738,'1_Causas_Levantadas'!C:D,2,0),\"\")","v":0},"","",null,1,null,1,1,1734]
[null,null,{"$f":"IFERROR(VLOOKUP(D1739,'1_Causas_Levantadas'!C:D,2,0),\"\")","v":0},"","",null,1,null,1,1,1735]
[null,null,{"$f":"IFERROR(VLOOKUP(D1740,'1_Causas_Levantadas'!C:D,2,0),\"\")","v":0},"","",null,1,null,1,1,1736]
[null,null,{"$f":"IFERROR(VLOOKUP(D1741,'1_Causas_Levantadas'!C:D,2,0),\"\")","v":0},"","",null,1,null,1,1,1737]
[null,null,{"$f":"IFERROR(VLOOKUP(D1742,'1_Causas_Levantadas'!C:D,2,0),\"\")","v":0},"","",null,1,null,1,1,1738]
[null,null,{"$f":"IFERROR(VLOOKUP(D1743,'1_Causas_Levantadas'!C:D,2,0),\"\")","v":0},"","",null,1,null,1,1,1739]
[null,null,{"$f":"IFERROR(VLOOKUP(D1744,'1_Causas_Levantadas'!C:D,2,0),\"\")","v":0},"","",null,1,null,1,1,1740]
[null,null,{"$f":"IFERROR(VLOOKUP(D1745,'1_Causas_Levantadas'!C:D,2,0),\"\")","v":0},"","",null,1,null,1,1,1741]
[null,null,{"$f":"IFERROR(VLOOKUP(D1746,'1_Causas_Levantadas'!C:D,2,0),\"\")","v":0},"","",null,1,null,1,1,1742]
[null,null,{"$f":"IFERROR(VLOOKUP(D1747,'1_Causas_Levantadas'!C:D,2,0),\"\")","v":0},"","",null,1,null,1,1,1743]
[null,null,{"$f":"IFERROR(VLOOKUP(D1748,'1_Causas_Levantadas'!C:D,2,0),\"\")","v":0},"","",null,1,null,1,1,1744]
[null,null,{"$f":"IFERROR(VLOOKUP(D1749,'1_Causas_Levantadas'!C:D,2,0),\"\")","v":0},"","",null,1,null,1,1,1745]
[null,null,{"$f":"IFERROR(VLOOKUP(D1750,'1_Causas_Levantadas'!C:D,2,0),\"\")","v":0},"","",null,1,null,1,1,1746]
[null,null,{"$f":"IFERROR(VLOOKUP(D1751,'1_Causas_Levantadas'!C:D,2,0),\"\")","v":0},"","",null,1,null,1,1,1747]
[null,null,{"$f":"IFERROR(VLOOKUP(D1752,'1_Causas_Levantadas'!C:D,2,0),\"\")","v":0},"","",null,1,null,1,1,1748]
[null,null,{"$f":"IFERROR(VLOOKUP(D1753,'1_Causas_Levantadas'!C:D,2,0),\"\")","v":0},"","",null,1,null,1,1,1749]
[null,null,{"$f":"IFERROR(VLOOKUP(D1754,'1_Causas_Levantadas'!C:D,2,0),\"\")","v":0},"","",null,1,null,1,1,1750]
[null,null,{"$f":"IFERROR(VLOOKUP(D1755,'1_Causas_Levantadas'!C:D,2,0),\"\")","v":0},"","",null,1,null,1,1,1751]
[null,null,{"$f":"IFERROR(VLOOKUP(D1756,'1_Causas_Levantadas'!C:D,2,0),\"\")","v":0},"","",null,1,null,1,1,1752]
[null,null,{"$f":"IFERROR(VLOOKUP(D1757,'1_Causas_Levantadas'!C:D,2,0),\"\")","v":0},"","",null,1,null,1,1,1753]
[null,null,{"$f":"IFERROR(VLOOKUP(D1758,'1_Causas_Levantadas'!C:D,2,0),\"\")","v":0},"","",null,1,null,1,1,1754]
[null,null,{"$f":"IFERROR(VLOOKUP(D1759,'1_Causas_Levantadas'!C:D,2,0),\"\")","v":0},"","",null,1,null,1,1,1755]
[null,null,{"$f":"IFERROR(VLOOKUP(D1760,'1_Causas_Levantadas'!C:D,2,0),\"\")","v":0},"","",null,1,null,1,1,1756]
[null,null,{"$f":"IFERROR(VLOOKUP(D1761,'1_Causas_Levantadas'!C:D,2,0),\"\")","v":0},"","",null,1,null,1,1,1757]
[null,null,{"$f":"IFERROR(VLOOKUP(D1762,'1_Causas_Levantadas'!C:D,2,0),\"\")","v":0},"","",null,1,null,1,1,1758]
[null,null,{"$f":"IFERROR(VLOOKUP(D1763,'1_Causas_Levantadas'!C:D,2,0),\"\")","v":0},"","",null,1,null,1,1,1759]
[null,null,{"$f":"IFERROR(VLOOKUP(D1764,'1_Causas_Levantadas'!C:D,2,0),\"\")","v":0},"","",null,1,null,1,1,1760]
[null,null,{"$f":"IFERROR(VLOOKUP(D1765,'1_Causas_Levantadas'!C:D,2,0),\"\")","v":0},"","",null,1,null,1,1,1761]
[null,null,{"$f":"IFERROR(VLOOKUP(D1766,'1_Causas_Levantadas'!C:D,2,0),\"\")","v":0},"","",null,1,null,1,1,1762]
[null,null,{"$f":"IFERROR(VLOOKUP(D1767,'1_Causas_Levantadas'!C:D,2,0),\"\")","v":0},"","",null,1,null,1,1,1763]
[null,null,{"$f":"IFERROR(VLOOKUP(D1768,'1_Causas_Levantadas'!C:D,2,0),\"\")","v":0},"","",null,1,null,1,1,1764]
[null,null,{"$f":"IFERROR(VLOOKUP(D1769,'1_Causas_Levantadas'!C:D,2,0),\"\")","v":0},"","",null,1,null,1,1,1765]
[null,null,{"$f":"IFERROR(VLOOKUP(D1770,'1_Causas_Levantadas'!C:D,2,0),\"\")","v":0},"","",null,1,null,1,1,1766]
[null,null,{"$f":"IFERROR(VLOOKUP(D1771,'1_Causas_Levantadas'!C:D,2,0),\"\")","v":0},"","",null,1,null,1,1,1767]
[null,null,{"$f":"IFERROR(VLOOKUP(D1772,'1_Causas_Levantadas'!C:D,2,0),\"\")","v":0},"","",null,1,null,1,1,1768]
[null,null,{"$f":"IFERROR(VLOOKUP(D1773,'1_Causas_Levantadas'!C:D,2,0),\"\")","v":0},"","",null,1,null,1,1,1769]
[null,null,{"$f":"IFERROR(VLOOKUP(D1774,'1_Causas_Levantadas'!C:D,2,0),\"\")","v":0},"","",null,1,null,1,1,1770]
[null,null,{"$f":"IFERROR(VLOOKUP(D1775,'1_Causas_Levantadas'!C:D,2,0),\"\")","v":0},"","",null,1,null,1,1,1771]
[null,null,{"$f":"IFERROR(VLOOKUP(D1776,'1_Causas_Levantadas'!C:D,2,0),\"\")","v":0},"","",null,1,null,1,1,1772]
[null,null,{"$f":"IFERROR(VLOOKUP(D1777,'1_Causas_Levantadas'!C:D,2,0),\"\")","v":0},"","",null,1,null,1,1,1773]
[null,null,{"$f":"IFERROR(VLOOKUP(D1778,'1_Causas_Levantadas'!C:D,2,0),\"\")","v":0},"","",null,1,null,1,1,1774]
[null,null,{"$f":"IFERROR(VLOOKUP(D1779,'1_Causas_Levantadas'!C:D,2,0),\"\")","v":0},"","",null,1,null,1,1,1775]
[null,null,{"$f":"IFERROR(VLOOKUP(D1780,'1_Causas_Levantadas'!C:D,2,0),\"\")","v":0},"","",null,1,null,1,1,1776]
[null,null,{"$f":"IFERROR(VLOOKUP(D1781,'1_Causas_Levantadas'!C:D,2,0),\"\")","v":0},"","",null,1,null,1,1,1777]
[null,null,{"$f":"IFERROR(VLOOKUP(D1782,'1_Causas_Levantadas'!C:D,2,0),\"\")","v":0},"","",null,1,null,1,1,1778]
[null,null,{"$f":"IFERROR(VLOOKUP(D1783,'1_Causas_Levantadas'!C:D,2,0),\"\")","v":0},"","",null,1,null,1,1,1779]
[null,null,{"$f":"IFERROR(VLOOKUP(D1784,'1_Causas_Levantadas'!C:D,2,0),\"\")","v":0},"","",null,1,null,1,1,1780]
[null,null,{"$f":"IFERROR(VLOOKUP(D1785,'1_Causas_Levantadas'!C:D,2,0),\"\")","v":0},"","",null,1,null,1,1,1781]
[null,null,{"$f":"IFERROR(VLOOKUP(D1786,'1_Causas_Levantadas'!C:D,2,0),\"\")","v":0},"","",null,1,null,1,1,1782]
[null,null,{"$f":"IFERROR(VLOOKUP(D1787,'1_Causas_Levantadas'!C:D,2,0),\"\")","v":0},"","",null,1,null,1,1,1783]
[null,null,{"$f":"IFERROR(VLOOKUP(D1788,'1_Causas_Levantadas'!C:D,2,0),\"\")","v":0},"","",null,1,null,1,1,1784]
[null,null,{"$f":"IFERROR(VLOOKUP(D1789,'1_Causas_Levantadas'!C:D,2,0),\"\")","v":0},"","",null,1,null,1,1,1785]
[null,null,{"$f":"IFERROR(VLOOKUP(D1790,'1_Causas_Levantadas'!C:D,2,0),\"\")","v":0},"","",null,1,null,1,1,1786]
[null,null,{"$f":"IFERROR(VLOOKUP(D1791,'1_Causas_Levantadas'!C:D,2,0),\"\")","v":0},"","",null,1,null,1,1,1787]
[null,null,{"$f":"IFERROR(VLOOKUP(D1792,'1_Causas_Levantadas'!C:D,2,0),\"\")","v":0},"","",null,1,null,1,1,1788]
[null,null,{"$f":"IFERROR(VLOOKUP(D1793,'1_Causas_Levantadas'!C:D,2,0),\"\")","v":0},"","",null,1,null,1,1,1789]
[null,null,{"$f":"IFERROR(VLOOKUP(D1794,'1_Causas_Levantadas'!C:D,2,0),\"\")","v":0},"","",null,1,null,1,1,1790]
[null,null,{"$f":"IFERROR(VLOOKUP(D1795,'1_Causas_Levantadas'!C:D,2,0),\"\")","v":0},"","",null,1,null,1,1,1791]
[null,null,{"$f":"IFERROR(VLOOKUP(D1796,'1_Causas_Levantadas'!C:D,2,0),\"\")","v":0},"","",null,1,null,1,1,1792]
[null,null,{"$f":"IFERROR(VLOOKUP(D1797,'1_Causas_Levantadas'!C:D,2,0),\"\")","v":0},"","",null,1,null,1,1,1793]
[null,null,{"$f":"IFERROR(VLOOKUP(D1798,'1_Causas_Levantadas'!C:D,2,0),\"\")","v":0},{"$f":"IF(K1798<=$H$4,(IF(G1797>0,G1798,$G$5)),\"\")","v":""},{"$f":"IF(D1798<>\"\",\"Participante \"&K1798,\"\")","v":""},null,{"$f":"J1798","v":1},null,{"$f":"IF(G1798=$G$5,1,0)","v":1},1,{"$f":"I1798+K1797","v":1794}]
[null,null,{"$f":"IFERROR(VLOOKUP(D1799,'1_Causas_Levantadas'!C:D,2,0),\"\")","v":0},"","",null,1,null,1,{"$f":"IF(G1798<$G$4,J1798+1,1)","v":1},1795]
[null,null,{"$f":"IFERROR(VLOOKUP(D1800,'1_Causas_Levantadas'!C:D,2,0),\"\")","v":0},"","",null,1,null,1,1,1796]
[null,null,{"$f":"IFERROR(VLOOKUP(D1801,'1_Causas_Levantadas'!C:D,2,0),\"\")","v":0},"","",null,1,null,1,1,1797]
[null,null,{"$f":"IFERROR(VLOOKUP(D1802,'1_Causas_Levantadas'!C:D,2,0),\"\")","v":0},"","",null,1,null,1,1,1798]
[null,null,{"$f":"IFERROR(VLOOKUP(D1803,'1_Causas_Levantadas'!C:D,2,0),\"\")","v":0},"","",null,1,null,1,1,1799]
[null,null,{"$f":"IFERROR(VLOOKUP(D1804,'1_Causas_Levantadas'!C:D,2,0),\"\")","v":0},"","",null,1,null,1,1,1800]
[null,null,{"$f":"IFERROR(VLOOKUP(D1805,'1_Causas_Levantadas'!C:D,2,0),\"\")","v":0},"","",null,1,null,1,1,1801]
[null,null,{"$f":"IFERROR(VLOOKUP(D1806,'1_Causas_Levantadas'!C:D,2,0),\"\")","v":0},"","",null,1,null,1,1,1802]
[null,null,{"$f":"IFERROR(VLOOKUP(D1807,'1_Causas_Levantadas'!C:D,2,0),\"\")","v":0},"","",null,1,null,1,1,1803]
[null,null,{"$f":"IFERROR(VLOOKUP(D1808,'1_Causas_Levantadas'!C:D,2,0),\"\")","v":0},"","",null,1,null,1,1,1804]
[null,null,{"$f":"IFERROR(VLOOKUP(D1809,'1_Causas_Levantadas'!C:D,2,0),\"\")","v":0},"","",null,1,null,1,1,1805]
[null,null,{"$f":"IFERROR(VLOOKUP(D1810,'1_Causas_Levantadas'!C:D,2,0),\"\")","v":0},"","",null,1,null,1,1,1806]
[null,null,{"$f":"IFERROR(VLOOKUP(D1811,'1_Causas_Levantadas'!C:D,2,0),\"\")","v":0},"","",null,1,null,1,1,1807]
[null,null,{"$f":"IFERROR(VLOOKUP(D1812,'1_Causas_Levantadas'!C:D,2,0),\"\")","v":0},"","",null,1,null,1,1,1808]
[null,null,{"$f":"IFERROR(VLOOKUP(D1813,'1_Causas_Levantadas'!C:D,2,0),\"\")","v":0},"","",null,1,null,1,1,1809]
[null,null,{"$f":"IFERROR(VLOOKUP(D1814,'1_Causas_Levantadas'!C:D,2,0),\"\")","v":0},"","",null,1,null,1,1,1810]
[null,null,{"$f":"IFERROR(VLOOKUP(D1815,'1_Causas_Levantadas'!C:D,2,0),\"\")","v":0},"","",null,1,null,1,1,1811]
[null,null,{"$f":"IFERROR(VLOOKUP(D1816,'1_Causas_Levantadas'!C:D,2,0),\"\")","v":0},"","",null,1,null,1,1,1812]
[null,null,{"$f":"IFERROR(VLOOKUP(D1817,'1_Causas_Levantadas'!C:D,2,0),\"\")","v":0},"","",null,1,null,1,1,1813]
[null,null,{"$f":"IFERROR(VLOOKUP(D1818,'1_Causas_Levantadas'!C:D,2,0),\"\")","v":0},"","",null,1,null,1,1,1814]
[null,null,{"$f":"IFERROR(VLOOKUP(D1819,'1_Causas_Levantadas'!C:D,2,0),\"\")","v":0},"","",null,1,null,1,1,1815]
[null,null,{"$f":"IFERROR(VLOOKUP(D1820,'1_Causas_Levantadas'!C:D,2,0),\"\")","v":0},"","",null,1,null,1,1,1816]
[null,null,{"$f":"IFERROR(VLOOKUP(D1821,'1_Causas_Levantadas'!C:D,2,0),\"\")","v":0},"","",null,1,null,1,1,1817]
[null,null,{"$f":"IFERROR(VLOOKUP(D1822,'1_Causas_Levantadas'!C:D,2,0),\"\")","v":0},"","",null,1,null,1,1,1818]
[null,null,{"$f":"IFERROR(VLOOKUP(D1823,'1_Causas_Levantadas'!C:D,2,0),\"\")","v":0},"","",null,1,null,1,1,1819]
[null,null,{"$f":"IFERROR(VLOOKUP(D1824,'1_Causas_Levantadas'!C:D,2,0),\"\")","v":0},"","",null,1,null,1,1,1820]
[null,null,{"$f":"IFERROR(VLOOKUP(D1825,'1_Causas_Levantadas'!C:D,2,0),\"\")","v":0},"","",null,1,null,1,1,1821]
[null,null,{"$f":"IFERROR(VLOOKUP(D1826,'1_Causas_Levantadas'!C:D,2,0),\"\")","v":0},"","",null,1,null,1,1,1822]
[null,null,{"$f":"IFERROR(VLOOKUP(D1827,'1_Causas_Levantadas'!C:D,2,0),\"\")","v":0},"","",null,1,null,1,1,1823]
[null,null,{"$f":"IFERROR(VLOOKUP(D1828,'1_Causas_Levantadas'!C:D,2,0),\"\")","v":0},"","",null,1,null,1,1,1824]
[null,null,{"$f":"IFERROR(VLOOKUP(D1829,'1_Causas_Levantadas'!C:D,2,0),\"\")","v":0},"","",null,1,null,1,1,1825]
[null,null,{"$f":"IFERROR(VLOOKUP(D1830,'1_Causas_Levantadas'!C:D,2,0),\"\")","v":0},"","",null,1,null,1,1,1826]
[null,null,{"$f":"IFERROR(VLOOKUP(D1831,'1_Causas_Levantadas'!C:D,2,0),\"\")","v":0},"","",null,1,null,1,1,1827]
[null,null,{"$f":"IFERROR(VLOOKUP(D1832,'1_Causas_Levantadas'!C:D,2,0),\"\")","v":0},"","",null,1,null,1,1,1828]
[null,null,{"$f":"IFERROR(VLOOKUP(D1833,'1_Causas_Levantadas'!C:D,2,0),\"\")","v":0},"","",null,1,null,1,1,1829]
[null,null,{"$f":"IFERROR(VLOOKUP(D1834,'1_Causas_Levantadas'!C:D,2,0),\"\")","v":0},"","",null,1,null,1,1,1830]
[null,null,{"$f":"IFERROR(VLOOKUP(D1835,'1_Causas_Levantadas'!C:D,2,0),\"\")","v":0},"","",null,1,null,1,1,1831]
[null,null,{"$f":"IFERROR(VLOOKUP(D1836,'1_Causas_Levantadas'!C:D,2,0),\"\")","v":0},"","",null,1,null,1,1,1832]
[null,null,{"$f":"IFERROR(VLOOKUP(D1837,'1_Causas_Levantadas'!C:D,2,0),\"\")","v":0},"","",null,1,null,1,1,1833]
[null,null,{"$f":"IFERROR(VLOOKUP(D1838,'1_Causas_Levantadas'!C:D,2,0),\"\")","v":0},"","",null,1,null,1,1,1834]
[null,null,{"$f":"IFERROR(VLOOKUP(D1839,'1_Causas_Levantadas'!C:D,2,0),\"\")","v":0},"","",null,1,null,1,1,1835]
[null,null,{"$f":"IFERROR(VLOOKUP(D1840,'1_Causas_Levantadas'!C:D,2,0),\"\")","v":0},"","",null,1,null,1,1,1836]
[null,null,{"$f":"IFERROR(VLOOKUP(D1841,'1_Causas_Levantadas'!C:D,2,0),\"\")","v":0},"","",null,1,null,1,1,1837]
[null,null,{"$f":"IFERROR(VLOOKUP(D1842,'1_Causas_Levantadas'!C:D,2,0),\"\")","v":0},"","",null,1,null,1,1,1838]
[null,null,{"$f":"IFERROR(VLOOKUP(D1843,'1_Causas_Levantadas'!C:D,2,0),\"\")","v":0},"","",null,1,null,1,1,1839]
[null,null,{"$f":"IFERROR(VLOOKUP(D1844,'1_Causas_Levantadas'!C:D,2,0),\"\")","v":0},"","",null,1,null,1,1,1840]
[null,null,{"$f":"IFERROR(VLOOKUP(D1845,'1_Causas_Levantadas'!C:D,2,0),\"\")","v":0},"","",null,1,null,1,1,1841]
[null,null,{"$f":"IFERROR(VLOOKUP(D1846,'1_Causas_Levantadas'!C:D,2,0),\"\")","v":0},"","",null,1,null,1,1,1842]
[null,null,{"$f":"IFERROR(VLOOKUP(D1847,'1_Causas_Levantadas'!C:D,2,0),\"\")","v":0},"","",null,1,null,1,1,1843]
[null,null,{"$f":"IFERROR(VLOOKUP(D1848,'1_Causas_Levantadas'!C:D,2,0),\"\")","v":0},"","",null,1,null,1,1,1844]
[null,null,{"$f":"IFERROR(VLOOKUP(D1849,'1_Causas_Levantadas'!C:D,2,0),\"\")","v":0},"","",null,1,null,1,1,1845]
[null,null,{"$f":"IFERROR(VLOOKUP(D1850,'1_Causas_Levantadas'!C:D,2,0),\"\")","v":0},"","",null,1,null,1,1,1846]
[null,null,{"$f":"IFERROR(VLOOKUP(D1851,'1_Causas_Levantadas'!C:D,2,0),\"\")","v":0},"","",null,1,null,1,1,1847]
[null,null,{"$f":"IFERROR(VLOOKUP(D1852,'1_Causas_Levantadas'!C:D,2,0),\"\")","v":0},"","",null,1,null,1,1,1848]
[null,null,{"$f":"IFERROR(VLOOKUP(D1853,'1_Causas_Levantadas'!C:D,2,0),\"\")","v":0},"","",null,1,null,1,1,1849]
[null,null,{"$f":"IFERROR(VLOOKUP(D1854,'1_Causas_Levantadas'!C:D,2,0),\"\")","v":0},"","",null,1,null,1,1,1850]
[null,null,{"$f":"IFERROR(VLOOKUP(D1855,'1_Causas_Levantadas'!C:D,2,0),\"\")","v":0},"","",null,1,null,1,1,1851]
[null,null,{"$f":"IFERROR(VLOOKUP(D1856,'1_Causas_Levantadas'!C:D,2,0),\"\")","v":0},"","",null,1,null,1,1,1852]
[null,null,{"$f":"IFERROR(VLOOKUP(D1857,'1_Causas_Levantadas'!C:D,2,0),\"\")","v":0},"","",null,1,null,1,1,1853]
[null,null,{"$f":"IFERROR(VLOOKUP(D1858,'1_Causas_Levantadas'!C:D,2,0),\"\")","v":0},"","",null,1,null,1,1,1854]
[null,null,{"$f":"IFERROR(VLOOKUP(D1859,'1_Causas_Levantadas'!C:D,2,0),\"\")","v":0},"","",null,1,null,1,1,1855]
[null,null,{"$f":"IFERROR(VLOOKUP(D1860,'1_Causas_Levantadas'!C:D,2,0),\"\")","v":0},"","",null,1,null,1,1,1856]
[null,null,{"$f":"IFERROR(VLOOKUP(D1861,'1_Causas_Levantadas'!C:D,2,0),\"\")","v":0},"","",null,1,null,1,1,1857]
[null,null,{"$f":"IFERROR(VLOOKUP(D1862,'1_Causas_Levantadas'!C:D,2,0),\"\")","v":0},{"$f":"IF(K1862<=$H$4,(IF(G1861>0,G1862,$G$5)),\"\")","v":""},{"$f":"IF(D1862<>\"\",\"Participante \"&K1862,\"\")","v":""},null,{"$f":"J1862","v":1},null,{"$f":"IF(G1862=$G$5,1,0)","v":1},1,{"$f":"I1862+K1861","v":1858}]
[null,null,{"$f":"IFERROR(VLOOKUP(D1863,'1_Causas_Levantadas'!C:D,2,0),\"\")","v":0},"","",null,1,null,1,{"$f":"IF(G1862<$G$4,J1862+1,1)","v":1},1859]
[null,null,{"$f":"IFERROR(VLOOKUP(D1864,'1_Causas_Levantadas'!C:D,2,0),\"\")","v":0},"","",null,1,null,1,1,1860]
[null,null,{"$f":"IFERROR(VLOOKUP(D1865,'1_Causas_Levantadas'!C:D,2,0),\"\")","v":0},"","",null,1,null,1,1,1861]
[null,null,{"$f":"IFERROR(VLOOKUP(D1866,'1_Causas_Levantadas'!C:D,2,0),\"\")","v":0},"","",null,1,null,1,1,1862]
[null,null,{"$f":"IFERROR(VLOOKUP(D1867,'1_Causas_Levantadas'!C:D,2,0),\"\")","v":0},"","",null,1,null,1,1,1863]
[null,null,{"$f":"IFERROR(VLOOKUP(D1868,'1_Causas_Levantadas'!C:D,2,0),\"\")","v":0},"","",null,1,null,1,1,1864]
[null,null,{"$f":"IFERROR(VLOOKUP(D1869,'1_Causas_Levantadas'!C:D,2,0),\"\")","v":0},"","",null,1,null,1,1,1865]
[null,null,{"$f":"IFERROR(VLOOKUP(D1870,'1_Causas_Levantadas'!C:D,2,0),\"\")","v":0},"","",null,1,null,1,1,1866]
[null,null,{"$f":"IFERROR(VLOOKUP(D1871,'1_Causas_Levantadas'!C:D,2,0),\"\")","v":0},"","",null,1,null,1,1,1867]
[null,null,{"$f":"IFERROR(VLOOKUP(D1872,'1_Causas_Levantadas'!C:D,2,0),\"\")","v":0},"","",null,1,null,1,1,1868]
[null,null,{"$f":"IFERROR(VLOOKUP(D1873,'1_Causas_Levantadas'!C:D,2,0),\"\")","v":0},"","",null,1,null,1,1,1869]
[null,null,{"$f":"IFERROR(VLOOKUP(D1874,'1_Causas_Levantadas'!C:D,2,0),\"\")","v":0},"","",null,1,null,1,1,1870]
[null,null,{"$f":"IFERROR(VLOOKUP(D1875,'1_Causas_Levantadas'!C:D,2,0),\"\")","v":0},"","",null,1,null,1,1,1871]
[null,null,{"$f":"IFERROR(VLOOKUP(D1876,'1_Causas_Levantadas'!C:D,2,0),\"\")","v":0},"","",null,1,null,1,1,1872]
[null,null,{"$f":"IFERROR(VLOOKUP(D1877,'1_Causas_Levantadas'!C:D,2,0),\"\")","v":0},"","",null,1,null,1,1,1873]
[null,null,{"$f":"IFERROR(VLOOKUP(D1878,'1_Causas_Levantadas'!C:D,2,0),\"\")","v":0},"","",null,1,null,1,1,1874]
[null,null,{"$f":"IFERROR(VLOOKUP(D1879,'1_Causas_Levantadas'!C:D,2,0),\"\")","v":0},"","",null,1,null,1,1,1875]
[null,null,{"$f":"IFERROR(VLOOKUP(D1880,'1_Causas_Levantadas'!C:D,2,0),\"\")","v":0},"","",null,1,null,1,1,1876]
[null,null,{"$f":"IFERROR(VLOOKUP(D1881,'1_Causas_Levantadas'!C:D,2,0),\"\")","v":0},"","",null,1,null,1,1,1877]
[null,null,{"$f":"IFERROR(VLOOKUP(D1882,'1_Causas_Levantadas'!C:D,2,0),\"\")","v":0},"","",null,1,null,1,1,1878]
[null,null,{"$f":"IFERROR(VLOOKUP(D1883,'1_Causas_Levantadas'!C:D,2,0),\"\")","v":0},"","",null,1,null,1,1,1879]
[null,null,{"$f":"IFERROR(VLOOKUP(D1884,'1_Causas_Levantadas'!C:D,2,0),\"\")","v":0},"","",null,1,null,1,1,1880]
[null,null,{"$f":"IFERROR(VLOOKUP(D1885,'1_Causas_Levantadas'!C:D,2,0),\"\")","v":0},"","",null,1,null,1,1,1881]
[null,null,{"$f":"IFERROR(VLOOKUP(D1886,'1_Causas_Levantadas'!C:D,2,0),\"\")","v":0},"","",null,1,null,1,1,1882]
[null,null,{"$f":"IFERROR(VLOOKUP(D1887,'1_Causas_Levantadas'!C:D,2,0),\"\")","v":0},"","",null,1,null,1,1,1883]
[null,null,{"$f":"IFERROR(VLOOKUP(D1888,'1_Causas_Levantadas'!C:D,2,0),\"\")","v":0},"","",null,1,null,1,1,1884]
[null,null,{"$f":"IFERROR(VLOOKUP(D1889,'1_Causas_Levantadas'!C:D,2,0),\"\")","v":0},"","",null,1,null,1,1,1885]
[null,null,{"$f":"IFERROR(VLOOKUP(D1890,'1_Causas_Levantadas'!C:D,2,0),\"\")","v":0},"","",null,1,null,1,1,1886]
[null,null,{"$f":"IFERROR(VLOOKUP(D1891,'1_Causas_Levantadas'!C:D,2,0),\"\")","v":0},"","",null,1,null,1,1,1887]
[null,null,{"$f":"IFERROR(VLOOKUP(D1892,'1_Causas_Levantadas'!C:D,2,0),\"\")","v":0},"","",null,1,null,1,1,1888]
[null,null,{"$f":"IFERROR(VLOOKUP(D1893,'1_Causas_Levantadas'!C:D,2,0),\"\")","v":0},"","",null,1,null,1,1,1889]
[null,null,{"$f":"IFERROR(VLOOKUP(D1894,'1_Causas_Levantadas'!C:D,2,0),\"\")","v":0},"","",null,1,null,1,1,1890]
[null,null,{"$f":"IFERROR(VLOOKUP(D1895,'1_Causas_Levantadas'!C:D,2,0),\"\")","v":0},"","",null,1,null,1,1,1891]
[null,null,{"$f":"IFERROR(VLOOKUP(D1896,'1_Causas_Levantadas'!C:D,2,0),\"\")","v":0},"","",null,1,null,1,1,1892]
[null,null,{"$f":"IFERROR(VLOOKUP(D1897,'1_Causas_Levantadas'!C:D,2,0),\"\")","v":0},"","",null,1,null,1,1,1893]
[null,null,{"$f":"IFERROR(VLOOKUP(D1898,'1_Causas_Levantadas'!C:D,2,0),\"\")","v":0},"","",null,1,null,1,1,1894]
[null,null,{"$f":"IFERROR(VLOOKUP(D1899,'1_Causas_Levantadas'!C:D,2,0),\"\")","v":0},"","",null,1,null,1,1,1895]
[null,null,{"$f":"IFERROR(VLOOKUP(D1900,'1_Causas_Levantadas'!C:D,2,0),\"\")","v":0},"","",null,1,null,1,1,1896]
[null,null,{"$f":"IFERROR(VLOOKUP(D1901,'1_Causas_Levantadas'!C:D,2,0),\"\")","v":0},"","",null,1,null,1,1,1897]
[null,null,{"$f":"IFERROR(VLOOKUP(D1902,'1_Causas_Levantadas'!C:D,2,0),\"\")","v":0},"","",null,1,null,1,1,1898]
[null,null,{"$f":"IFERROR(VLOOKUP(D1903,'1_Causas_Levantadas'!C:D,2,0),\"\")","v":0},"","",null,1,null,1,1,1899]
[null,null,{"$f":"IFERROR(VLOOKUP(D1904,'1_Causas_Levantadas'!C:D,2,0),\"\")","v":0},"","",null,1,null,1,1,1900]
[null,null,{"$f":"IFERROR(VLOOKUP(D1905,'1_Causas_Levantadas'!C:D,2,0),\"\")","v":0},"","",null,1,null,1,1,1901]
[null,null,{"$f":"IFERROR(VLOOKUP(D1906,'1_Causas_Levantadas'!C:D,2,0),\"\")","v":0},"","",null,1,null,1,1,1902]
[null,null,{"$f":"IFERROR(VLOOKUP(D1907,'1_Causas_Levantadas'!C:D,2,0),\"\")","v":0},"","",null,1,null,1,1,1903]
[null,null,{"$f":"IFERROR(VLOOKUP(D1908,'1_Causas_Levantadas'!C:D,2,0),\"\")","v":0},"","",null,1,null,1,1,1904]
[null,null,{"$f":"IFERROR(VLOOKUP(D1909,'1_Causas_Levantadas'!C:D,2,0),\"\")","v":0},"","",null,1,null,1,1,1905]
[null,null,{"$f":"IFERROR(VLOOKUP(D1910,'1_Causas_Levantadas'!C:D,2,0),\"\")","v":0},"","",null,1,null,1,1,1906]
[null,null,{"$f":"IFERROR(VLOOKUP(D1911,'1_Causas_Levantadas'!C:D,2,0),\"\")","v":0},"","",null,1,null,1,1,1907]
[null,null,{"$f":"IFERROR(VLOOKUP(D1912,'1_Causas_Levantadas'!C:D,2,0),\"\")","v":0},"","",null,1,null,1,1,1908]
[null,null,{"$f":"IFERROR(VLOOKUP(D1913,'1_Causas_Levantadas'!C:D,2,0),\"\")","v":0},"","",null,1,null,1,1,1909]
[null,null,{"$f":"IFERROR(VLOOKUP(D1914,'1_Causas_Levantadas'!C:D,2,0),\"\")","v":0},"","",null,1,null,1,1,1910]
[null,null,{"$f":"IFERROR(VLOOKUP(D1915,'1_Causas_Levantadas'!C:D,2,0),\"\")","v":0},"","",null,1,null,1,1,1911]
[null,null,{"$f":"IFERROR(VLOOKUP(D1916,'1_Causas_Levantadas'!C:D,2,0),\"\")","v":0},"","",null,1,null,1,1,1912]
[null,null,{"$f":"IFERROR(VLOOKUP(D1917,'1_Causas_Levantadas'!C:D,2,0),\"\")","v":0},"","",null,1,null,1,1,1913]
[null,null,{"$f":"IFERROR(VLOOKUP(D1918,'1_Causas_Levantadas'!C:D,2,0),\"\")","v":0},"","",null,1,null,1,1,1914]
[null,null,{"$f":"IFERROR(VLOOKUP(D1919,'1_Causas_Levantadas'!C:D,2,0),\"\")","v":0},"","",null,1,null,1,1,1915]
[null,null,{"$f":"IFERROR(VLOOKUP(D1920,'1_Causas_Levantadas'!C:D,2,0),\"\")","v":0},"","",null,1,null,1,1,1916]
[null,null,{"$f":"IFERROR(VLOOKUP(D1921,'1_Causas_Levantadas'!C:D,2,0),\"\")","v":0},"","",null,1,null,1,1,1917]
[null,null,{"$f":"IFERROR(VLOOKUP(D1922,'1_Causas_Levantadas'!C:D,2,0),\"\")","v":0},"","",null,1,null,1,1,1918]
[null,null,{"$f":"IFERROR(VLOOKUP(D1923,'1_Causas_Levantadas'!C:D,2,0),\"\")","v":0},"","",null,1,null,1,1,1919]
[null,null,{"$f":"IFERROR(VLOOKUP(D1924,'1_Causas_Levantadas'!C:D,2,0),\"\")","v":0},"","",null,1,null,1,1,1920]
[null,null,{"$f":"IFERROR(VLOOKUP(D1925,'1_Causas_Levantadas'!C:D,2,0),\"\")","v":0},"","",null,1,null,1,1,1921]
[null,null,{"$f":"IFERROR(VLOOKUP(D1926,'1_Causas_Levantadas'!C:D,2,0),\"\")","v":0},{"$f":"IF(K1926<=$H$4,(IF(G1925>0,G1926,$G$5)),\"\")","v":""},{"$f":"IF(D1926<>\"\",\"Participante \"&K1926,\"\")","v":""},null,{"$f":"J1926","v":1},null,{"$f":"IF(G1926=$G$5,1,0)","v":1},1,{"$f":"I1926+K1925","v":1922}]
[null,null,{"$f":"IFERROR(VLOOKUP(D1927,'1_Causas_Levantadas'!C:D,2,0),\"\")","v":0},"","",null,1,null,1,{"$f":"IF(G1926<$G$4,J1926+1,1)","v":1},1923]
[null,null,{"$f":"IFERROR(VLOOKUP(D1928,'1_Causas_Levantadas'!C:D,2,0),\"\")","v":0},"","",null,1,null,1,1,1924]
[null,null,{"$f":"IFERROR(VLOOKUP(D1929,'1_Causas_Levantadas'!C:D,2,0),\"\")","v":0},"","",null,1,null,1,1,1925]
[null,null,{"$f":"IFERROR(VLOOKUP(D1930,'1_Causas_Levantadas'!C:D,2,0),\"\")","v":0},"","",null,1,null,1,1,1926]
[null,null,{"$f":"IFERROR(VLOOKUP(D1931,'1_Causas_Levantadas'!C:D,2,0),\"\")","v":0},"","",null,1,null,1,1,1927]
[null,null,{"$f":"IFERROR(VLOOKUP(D1932,'1_Causas_Levantadas'!C:D,2,0),\"\")","v":0},"","",null,1,null,1,1,1928]
[null,null,{"$f":"IFERROR(VLOOKUP(D1933,'1_Causas_Levantadas'!C:D,2,0),\"\")","v":0},"","",null,1,null,1,1,1929]
[null,null,{"$f":"IFERROR(VLOOKUP(D1934,'1_Causas_Levantadas'!C:D,2,0),\"\")","v":0},"","",null,1,null,1,1,1930]
[null,null,{"$f":"IFERROR(VLOOKUP(D1935,'1_Causas_Levantadas'!C:D,2,0),\"\")","v":0},"","",null,1,null,1,1,1931]
[null,null,{"$f":"IFERROR(VLOOKUP(D1936,'1_Causas_Levantadas'!C:D,2,0),\"\")","v":0},"","",null,1,null,1,1,1932]
[null,null,{"$f":"IFERROR(VLOOKUP(D1937,'1_Causas_Levantadas'!C:D,2,0),\"\")","v":0},"","",null,1,null,1,1,1933]
[null,null,{"$f":"IFERROR(VLOOKUP(D1938,'1_Causas_Levantadas'!C:D,2,0),\"\")","v":0},"","",null,1,null,1,1,1934]
[null,null,{"$f":"IFERROR(VLOOKUP(D1939,'1_Causas_Levantadas'!C:D,2,0),\"\")","v":0},"","",null,1,null,1,1,1935]
[null,null,{"$f":"IFERROR(VLOOKUP(D1940,'1_Causas_Levantadas'!C:D,2,0),\"\")","v":0},"","",null,1,null,1,1,1936]
[null,null,{"$f":"IFERROR(VLOOKUP(D1941,'1_Causas_Levantadas'!C:D,2,0),\"\")","v":0},"","",null,1,null,1,1,1937]
[null,null,{"$f":"IFERROR(VLOOKUP(D1942,'1_Causas_Levantadas'!C:D,2,0),\"\")","v":0},"","",null,1,null,1,1,1938]
[null,null,{"$f":"IFERROR(VLOOKUP(D1943,'1_Causas_Levantadas'!C:D,2,0),\"\")","v":0},"","",null,1,null,1,1,1939]
[null,null,{"$f":"IFERROR(VLOOKUP(D1944,'1_Causas_Levantadas'!C:D,2,0),\"\")","v":0},"","",null,1,null,1,1,1940]
[null,null,{"$f":"IFERROR(VLOOKUP(D1945,'1_Causas_Levantadas'!C:D,2,0),\"\")","v":0},"","",null,1,null,1,1,1941]
[null,null,{"$f":"IFERROR(VLOOKUP(D1946,'1_Causas_Levantadas'!C:D,2,0),\"\")","v":0},"","",null,1,null,1,1,1942]
[null,null,{"$f":"IFERROR(VLOOKUP(D1947,'1_Causas_Levantadas'!C:D,2,0),\"\")","v":0},"","",null,1,null,1,1,1943]
[null,null,{"$f":"IFERROR(VLOOKUP(D1948,'1_Causas_Levantadas'!C:D,2,0),\"\")","v":0},"","",null,1,null,1,1,1944]
[null,null,{"$f":"IFERROR(VLOOKUP(D1949,'1_Causas_Levantadas'!C:D,2,0),\"\")","v":0},"","",null,1,null,1,1,1945]
[null,null,{"$f":"IFERROR(VLOOKUP(D1950,'1_Causas_Levantadas'!C:D,2,0),\"\")","v":0},"","",null,1,null,1,1,1946]
[null,null,{"$f":"IFERROR(VLOOKUP(D1951,'1_Causas_Levantadas'!C:D,2,0),\"\")","v":0},"","",null,1,null,1,1,1947]
[null,null,{"$f":"IFERROR(VLOOKUP(D1952,'1_Causas_Levantadas'!C:D,2,0),\"\")","v":0},"","",null,1,null,1,1,1948]
[null,null,{"$f":"IFERROR(VLOOKUP(D1953,'1_Causas_Levantadas'!C:D,2,0),\"\")","v":0},"","",null,1,null,1,1,1949]
[null,null,{"$f":"IFERROR(VLOOKUP(D1954,'1_Causas_Levantadas'!C:D,2,0),\"\")","v":0},"","",null,1,null,1,1,1950]
[null,null,{"$f":"IFERROR(VLOOKUP(D1955,'1_Causas_Levantadas'!C:D,2,0),\"\")","v":0},"","",null,1,null,1,1,1951]
[null,null,{"$f":"IFERROR(VLOOKUP(D1956,'1_Causas_Levantadas'!C:D,2,0),\"\")","v":0},"","",null,1,null,1,1,1952]
[null,null,{"$f":"IFERROR(VLOOKUP(D1957,'1_Causas_Levantadas'!C:D,2,0),\"\")","v":0},"","",null,1,null,1,1,1953]
[null,null,{"$f":"IFERROR(VLOOKUP(D1958,'1_Causas_Levantadas'!C:D,2,0),\"\")","v":0},"","",null,1,null,1,1,1954]
[null,null,{"$f":"IFERROR(VLOOKUP(D1959,'1_Causas_Levantadas'!C:D,2,0),\"\")","v":0},"","",null,1,null,1,1,1955]
[null,null,{"$f":"IFERROR(VLOOKUP(D1960,'1_Causas_Levantadas'!C:D,2,0),\"\")","v":0},"","",null,1,null,1,1,1956]
[null,null,{"$f":"IFERROR(VLOOKUP(D1961,'1_Causas_Levantadas'!C:D,2,0),\"\")","v":0},"","",null,1,null,1,1,1957]
[null,null,{"$f":"IFERROR(VLOOKUP(D1962,'1_Causas_Levantadas'!C:D,2,0),\"\")","v":0},"","",null,1,null,1,1,1958]
[null,null,{"$f":"IFERROR(VLOOKUP(D1963,'1_Causas_Levantadas'!C:D,2,0),\"\")","v":0},"","",null,1,null,1,1,1959]
[null,null,{"$f":"IFERROR(VLOOKUP(D1964,'1_Causas_Levantadas'!C:D,2,0),\"\")","v":0},"","",null,1,null,1,1,1960]
[null,null,{"$f":"IFERROR(VLOOKUP(D1965,'1_Causas_Levantadas'!C:D,2,0),\"\")","v":0},"","",null,1,null,1,1,1961]
[null,null,{"$f":"IFERROR(VLOOKUP(D1966,'1_Causas_Levantadas'!C:D,2,0),\"\")","v":0},"","",null,1,null,1,1,1962]
[null,null,{"$f":"IFERROR(VLOOKUP(D1967,'1_Causas_Levantadas'!C:D,2,0),\"\")","v":0},"","",null,1,null,1,1,1963]
[null,null,{"$f":"IFERROR(VLOOKUP(D1968,'1_Causas_Levantadas'!C:D,2,0),\"\")","v":0},"","",null,1,null,1,1,1964]
[null,null,{"$f":"IFERROR(VLOOKUP(D1969,'1_Causas_Levantadas'!C:D,2,0),\"\")","v":0},"","",null,1,null,1,1,1965]
[null,null,{"$f":"IFERROR(VLOOKUP(D1970,'1_Causas_Levantadas'!C:D,2,0),\"\")","v":0},"","",null,1,null,1,1,1966]
[null,null,{"$f":"IFERROR(VLOOKUP(D1971,'1_Causas_Levantadas'!C:D,2,0),\"\")","v":0},"","",null,1,null,1,1,1967]
[null,null,{"$f":"IFERROR(VLOOKUP(D1972,'1_Causas_Levantadas'!C:D,2,0),\"\")","v":0},"","",null,1,null,1,1,1968]
[null,null,{"$f":"IFERROR(VLOOKUP(D1973,'1_Causas_Levantadas'!C:D,2,0),\"\")","v":0},"","",null,1,null,1,1,1969]
[null,null,{"$f":"IFERROR(VLOOKUP(D1974,'1_Causas_Levantadas'!C:D,2,0),\"\")","v":0},"","",null,1,null,1,1,1970]
[null,null,{"$f":"IFERROR(VLOOKUP(D1975,'1_Causas_Levantadas'!C:D,2,0),\"\")","v":0},"","",null,1,null,1,1,1971]
[null,null,{"$f":"IFERROR(VLOOKUP(D1976,'1_Causas_Levantadas'!C:D,2,0),\"\")","v":0},"","",null,1,null,1,1,1972]
[null,null,{"$f":"IFERROR(VLOOKUP(D1977,'1_Causas_Levantadas'!C:D,2,0),\"\")","v":0},"","",null,1,null,1,1,1973]
[null,null,{"$f":"IFERROR(VLOOKUP(D1978,'1_Causas_Levantadas'!C:D,2,0),\"\")","v":0},"","",null,1,null,1,1,1974]
[null,null,{"$f":"IFERROR(VLOOKUP(D1979,'1_Causas_Levantadas'!C:D,2,0),\"\")","v":0},"","",null,1,null,1,1,1975]
[null,null,{"$f":"IFERROR(VLOOKUP(D1980,'1_Causas_Levantadas'!C:D,2,0),\"\")","v":0},"","",null,1,null,1,1,1976]
[null,null,{"$f":"IFERROR(VLOOKUP(D1981,'1_Causas_Levantadas'!C:D,2,0),\"\")","v":0},"","",null,1,null,1,1,1977]
[null,null,{"$f":"IFERROR(VLOOKUP(D1982,'1_Causas_Levantadas'!C:D,2,0),\"\")","v":0},"","",null,1,null,1,1,1978]
[null,null,{"$f":"IFERROR(VLOOKUP(D1983,'1_Causas_Levantadas'!C:D,2,0),\"\")","v":0},"","",null,1,null,1,1,1979]
[null,null,{"$f":"IFERROR(VLOOKUP(D1984,'1_Causas_Levantadas'!C:D,2,0),\"\")","v":0},"","",null,1,null,1,1,1980]
[null,null,{"$f":"IFERROR(VLOOKUP(D1985,'1_Causas_Levantadas'!C:D,2,0),\"\")","v":0},"","",null,1,null,1,1,1981]
[null,null,{"$f":"IFERROR(VLOOKUP(D1986,'1_Causas_Levantadas'!C:D,2,0),\"\")","v":0},"","",null,1,null,1,1,1982]
[null,null,{"$f":"IFERROR(VLOOKUP(D1987,'1_Causas_Levantadas'!C:D,2,0),\"\")","v":0},"","",null,1,null,1,1,1983]
[null,null,{"$f":"IFERROR(VLOOKUP(D1988,'1_Causas_Levantadas'!C:D,2,0),\"\")","v":0},"","",null,1,null,1,1,1984]
[null,null,{"$f":"IFERROR(VLOOKUP(D1989,'1_Causas_Levantadas'!C:D,2,0),\"\")","v":0},"","",null,1,null,1,1,1985]
[null,null,{"$f":"IFERROR(VLOOKUP(D1990,'1_Causas_Levantadas'!C:D,2,0),\"\")","v":0},{"$f":"IF(K1990<=$H$4,(IF(G1989>0,G1990,$G$5)),\"\")","v":""},{"$f":"IF(D1990<>\"\",\"Participante \"&K1990,\"\")","v":""},null,{"$f":"J1990","v":1},null,{"$f":"IF(G1990=$G$5,1,0)","v":1},1,{"$f":"I1990+K1989","v":1986}]
[null,null,{"$f":"IFERROR(VLOOKUP(D1991,'1_Causas_Levantadas'!C:D,2,0),\"\")","v":0},"","",null,1,null,1,{"$f":"IF(G1990<$G$4,J1990+1,1)","v":1},1987]
[null,null,{"$f":"IFERROR(VLOOKUP(D1992,'1_Causas_Levantadas'!C:D,2,0),\"\")","v":0},"","",null,1,null,1,1,1988]
[null,null,{"$f":"IFERROR(VLOOKUP(D1993,'1_Causas_Levantadas'!C:D,2,0),\"\")","v":0},"","",null,1,null,1,1,1989]
[null,null,{"$f":"IFERROR(VLOOKUP(D1994,'1_Causas_Levantadas'!C:D,2,0),\"\")","v":0},"","",null,1,null,1,1,1990]
[null,null,{"$f":"IFERROR(VLOOKUP(D1995,'1_Causas_Levantadas'!C:D,2,0),\"\")","v":0},"","",null,1,null,1,1,1991]
[null,null,{"$f":"IFERROR(VLOOKUP(D1996,'1_Causas_Levantadas'!C:D,2,0),\"\")","v":0},"","",null,1,null,1,1,1992]
[null,null,{"$f":"IFERROR(VLOOKUP(D1997,'1_Causas_Levantadas'!C:D,2,0),\"\")","v":0},"","",null,1,null,1,1,1993]
[null,null,{"$f":"IFERROR(VLOOKUP(D1998,'1_Causas_Levantadas'!C:D,2,0),\"\")","v":0},"","",null,1,null,1,1,1994]
[null,null,{"$f":"IFERROR(VLOOKUP(D1999,'1_Causas_Levantadas'!C:D,2,0),\"\")","v":0},"","",null,1,null,1,1,1995]
[null,null,{"$f":"IFERROR(VLOOKUP(D2000,'1_Causas_Levantadas'!C:D,2,0),\"\")","v":0},"","",null,1,null,1,1,1996]
[null,null,{"$f":"IFERROR(VLOOKUP(D2001,'1_Causas_Levantadas'!C:D,2,0),\"\")","v":0},"","",null,1,null,1,1,1997]
[null,null,{"$f":"IFERROR(VLOOKUP(D2002,'1_Causas_Levantadas'!C:D,2,0),\"\")","v":0},"","",null,1,null,1,1,1998]
[null,null,{"$f":"IFERROR(VLOOKUP(D2003,'1_Causas_Levantadas'!C:D,2,0),\"\")","v":0},"","",null,1,null,1,1,1999]
[null,null,{"$f":"IFERROR(VLOOKUP(D2004,'1_Causas_Levantadas'!C:D,2,0),\"\")","v":0},"","",null,1,null,1,1,2000]
[null,null,{"$f":"IFERROR(VLOOKUP(D2005,'1_Causas_Levantadas'!C:D,2,0),\"\")","v":0},"","",null,1,null,1,1,2001]
[null,null,{"$f":"IFERROR(VLOOKUP(D2006,'1_Causas_Levantadas'!C:D,2,0),\"\")","v":0},"","",null,1,null,1,1,2002]
[null,null,{"$f":"IFERROR(VLOOKUP(D2007,'1_Causas_Levantadas'!C:D,2,0),\"\")","v":0},"","",null,1,null,1,1,2003]
[null,null,{"$f":"IFERROR(VLOOKUP(D2008,'1_Causas_Levantadas'!C:D,2,0),\"\")","v":0},"","",null,1,null,1,1,2004]
[null,null,{"$f":"IFERROR(VLOOKUP(D2009,'1_Causas_Levantadas'!C:D,2,0),\"\")","v":0},"","",null,1,null,1,1,2005]
[null,null,{"$f":"IFERROR(VLOOKUP(D2010,'1_Causas_Levantadas'!C:D,2,0),\"\")","v":0},"","",null,1,null,1,1,2006]
[null,null,{"$f":"IFERROR(VLOOKUP(D2011,'1_Causas_Levantadas'!C:D,2,0),\"\")","v":0},"","",null,1,null,1,1,2007]
[null,null,{"$f":"IFERROR(VLOOKUP(D2012,'1_Causas_Levantadas'!C:D,2,0),\"\")","v":0},"","",null,1,null,1,1,2008]
[null,null,{"$f":"IFERROR(VLOOKUP(D2013,'1_Causas_Levantadas'!C:D,2,0),\"\")","v":0},"","",null,1,null,1,1,2009]
[null,null,{"$f":"IFERROR(VLOOKUP(D2014,'1_Causas_Levantadas'!C:D,2,0),\"\")","v":0},"","",null,1,null,1,1,2010]
[null,null,{"$f":"IFERROR(VLOOKUP(D2015,'1_Causas_Levantadas'!C:D,2,0),\"\")","v":0},"","",null,1,null,1,1,2011]
[null,null,{"$f":"IFERROR(VLOOKUP(D2016,'1_Causas_Levantadas'!C:D,2,0),\"\")","v":0},"","",null,1,null,1,1,2012]
[null,null,{"$f":"IFERROR(VLOOKUP(D2017,'1_Causas_Levantadas'!C:D,2,0),\"\")","v":0},"","",null,1,null,1,1,2013]
[null,null,{"$f":"IFERROR(VLOOKUP(D2018,'1_Causas_Levantadas'!C:D,2,0),\"\")","v":0},"","",null,1,null,1,1,2014]
[null,null,{"$f":"IFERROR(VLOOKUP(D2019,'1_Causas_Levantadas'!C:D,2,0),\"\")","v":0},"","",null,1,null,1,1,2015]
[null,null,{"$f":"IFERROR(VLOOKUP(D2020,'1_Causas_Levantadas'!C:D,2,0),\"\")","v":0},"","",null,1,null,1,1,2016]
[null,null,{"$f":"IFERROR(VLOOKUP(D2021,'1_Causas_Levantadas'!C:D,2,0),\"\")","v":0},"","",null,1,null,1,1,2017]
[null,null,{"$f":"IFERROR(VLOOKUP(D2022,'1_Causas_Levantadas'!C:D,2,0),\"\")","v":0},"","",null,1,null,1,1,2018]
[null,null,{"$f":"IFERROR(VLOOKUP(D2023,'1_Causas_Levantadas'!C:D,2,0),\"\")","v":0},"","",null,1,null,1,1,2019]
[null,null,{"$f":"IFERROR(VLOOKUP(D2024,'1_Causas_Levantadas'!C:D,2,0),\"\")","v":0},"","",null,1,null,1,1,2020]
[null,null,{"$f":"IFERROR(VLOOKUP(D2025,'1_Causas_Levantadas'!C:D,2,0),\"\")","v":0},"","",null,1,null,1,1,2021]
[null,null,{"$f":"IFERROR(VLOOKUP(D2026,'1_Causas_Levantadas'!C:D,2,0),\"\")","v":0},"","",null,1,null,1,1,2022]
[null,null,{"$f":"IFERROR(VLOOKUP(D2027,'1_Causas_Levantadas'!C:D,2,0),\"\")","v":0},"","",null,1,null,1,1,2023]
[null,null,{"$f":"IFERROR(VLOOKUP(D2028,'1_Causas_Levantadas'!C:D,2,0),\"\")","v":0},"","",null,1,null,1,1,2024]
[null,null,{"$f":"IFERROR(VLOOKUP(D2029,'1_Causas_Levantadas'!C:D,2,0),\"\")","v":0},"","",null,1,null,1,1,2025]
[null,null,{"$f":"IFERROR(VLOOKUP(D2030,'1_Causas_Levantadas'!C:D,2,0),\"\")","v":0},"","",null,1,null,1,1,2026]
[null,null,{"$f":"IFERROR(VLOOKUP(D2031,'1_Causas_Levantadas'!C:D,2,0),\"\")","v":0},"","",null,1,null,1,1,2027]
[null,null,{"$f":"IFERROR(VLOOKUP(D2032,'1_Causas_Levantadas'!C:D,2,0),\"\")","v":0},"","",null,1,null,1,1,2028]
[null,null,{"$f":"IFERROR(VLOOKUP(D2033,'1_Causas_Levantadas'!C:D,2,0),\"\")","v":0},"","",null,1,null,1,1,2029]
[null,null,{"$f":"IFERROR(VLOOKUP(D2034,'1_Causas_Levantadas'!C:D,2,0),\"\")","v":0},"","",null,1,null,1,1,2030]
[null,null,{"$f":"IFERROR(VLOOKUP(D2035,'1_Causas_Levantadas'!C:D,2,0),\"\")","v":0},"","",null,1,null,1,1,2031]
[null,null,{"$f":"IFERROR(VLOOKUP(D2036,'1_Causas_Levantadas'!C:D,2,0),\"\")","v":0},"","",null,1,null,1,1,2032]
[null,null,{"$f":"IFERROR(VLOOKUP(D2037,'1_Causas_Levantadas'!C:D,2,0),\"\")","v":0},"","",null,1,null,1,1,2033]
[null,null,{"$f":"IFERROR(VLOOKUP(D2038,'1_Causas_Levantadas'!C:D,2,0),\"\")","v":0},"","",null,1,null,1,1,2034]
[null,null,{"$f":"IFERROR(VLOOKUP(D2039,'1_Causas_Levantadas'!C:D,2,0),\"\")","v":0},"","",null,1,null,1,1,2035]
[null,null,{"$f":"IFERROR(VLOOKUP(D2040,'1_Causas_Levantadas'!C:D,2,0),\"\")","v":0},"","",null,1,null,1,1,2036]
[null,null,{"$f":"IFERROR(VLOOKUP(D2041,'1_Causas_Levantadas'!C:D,2,0),\"\")","v":0},"","",null,1,null,1,1,2037]
[null,null,{"$f":"IFERROR(VLOOKUP(D2042,'1_Causas_Levantadas'!C:D,2,0),\"\")","v":0},"","",null,1,null,1,1,2038]
[null,null,{"$f":"IFERROR(VLOOKUP(D2043,'1_Causas_Levantadas'!C:D,2,0),\"\")","v":0},"","",null,1,null,1,1,2039]
[null,null,{"$f":"IFERROR(VLOOKUP(D2044,'1_Causas_Levantadas'!C:D,2,0),\"\")","v":0},"","",null,1,null,1,1,2040]
[null,null,{"$f":"IFERROR(VLOOKUP(D2045,'1_Causas_Levantadas'!C:D,2,0),\"\")","v":0},"","",null,1,null,1,1,2041]
[null,null,{"$f":"IFERROR(VLOOKUP(D2046,'1_Causas_Levantadas'!C:D,2,0),\"\")","v":0},"","",null,1,null,1,1,2042]
[null,null,{"$f":"IFERROR(VLOOKUP(D2047,'1_Causas_Levantadas'!C:D,2,0),\"\")","v":0},"","",null,1,null,1,1,2043]
[null,null,{"$f":"IFERROR(VLOOKUP(D2048,'1_Causas_Levantadas'!C:D,2,0),\"\")","v":0},"","",null,1,null,1,1,2044]
[null,null,{"$f":"IFERROR(VLOOKUP(D2049,'1_Causas_Levantadas'!C:D,2,0),\"\")","v":0},"","",null,1,null,1,1,2045]
[null,null,{"$f":"IFERROR(VLOOKUP(D2050,'1_Causas_Levantadas'!C:D,2,0),\"\")","v":0},"","",null,1,null,1,1,2046]
[null,null,{"$f":"IFERROR(VLOOKUP(D2051,'1_Causas_Levantadas'!C:D,2,0),\"\")","v":0},"","",null,1,null,1,1,2047]
[null,null,{"$f":"IFERROR(VLOOKUP(D2052,'1_Causas_Levantadas'!C:D,2,0),\"\")","v":0},"","",null,1,null,1,1,2048]
[null,null,{"$f":"IFERROR(VLOOKUP(D2053,'1_Causas_Levantadas'!C:D,2,0),\"\")","v":0},"","",null,1,null,1,1,2049]
[null,null,{"$f":"IFERROR(VLOOKUP(D2054,'1_Causas_Levantadas'!C:D,2,0),\"\")","v":0},{"$f":"IF(K2054<=$H$4,(IF(G2053>0,G2054,$G$5)),\"\")","v":""},{"$f":"IF(D2054<>\"\",\"Participante \"&K2054,\"\")","v":""},null,{"$f":"J2054","v":1},null,{"$f":"IF(G2054=$G$5,1,0)","v":1},1,{"$f":"I2054+K2053","v":2050}]
[null,null,{"$f":"IFERROR(VLOOKUP(D2055,'1_Causas_Levantadas'!C:D,2,0),\"\")","v":0},"","",null,1,null,1,{"$f":"IF(G2054<$G$4,J2054+1,1)","v":1},2051]
[null,null,{"$f":"IFERROR(VLOOKUP(D2056,'1_Causas_Levantadas'!C:D,2,0),\"\")","v":0},"","",null,1,null,1,1,2052]
[null,null,{"$f":"IFERROR(VLOOKUP(D2057,'1_Causas_Levantadas'!C:D,2,0),\"\")","v":0},"","",null,1,null,1,1,2053]
[null,null,{"$f":"IFERROR(VLOOKUP(D2058,'1_Causas_Levantadas'!C:D,2,0),\"\")","v":0},"","",null,1,null,1,1,2054]
[null,null,{"$f":"IFERROR(VLOOKUP(D2059,'1_Causas_Levantadas'!C:D,2,0),\"\")","v":0},"","",null,1,null,1,1,2055]
[null,null,{"$f":"IFERROR(VLOOKUP(D2060,'1_Causas_Levantadas'!C:D,2,0),\"\")","v":0},"","",null,1,null,1,1,2056]
[null,null,{"$f":"IFERROR(VLOOKUP(D2061,'1_Causas_Levantadas'!C:D,2,0),\"\")","v":0},"","",null,1,null,1,1,2057]
[null,null,{"$f":"IFERROR(VLOOKUP(D2062,'1_Causas_Levantadas'!C:D,2,0),\"\")","v":0},"","",null,1,null,1,1,2058]
[null,null,{"$f":"IFERROR(VLOOKUP(D2063,'1_Causas_Levantadas'!C:D,2,0),\"\")","v":0},"","",null,1,null,1,1,2059]
[null,null,{"$f":"IFERROR(VLOOKUP(D2064,'1_Causas_Levantadas'!C:D,2,0),\"\")","v":0},"","",null,1,null,1,1,2060]
[null,null,{"$f":"IFERROR(VLOOKUP(D2065,'1_Causas_Levantadas'!C:D,2,0),\"\")","v":0},"","",null,1,null,1,1,2061]
[null,null,{"$f":"IFERROR(VLOOKUP(D2066,'1_Causas_Levantadas'!C:D,2,0),\"\")","v":0},"","",null,1,null,1,1,2062]
[null,null,{"$f":"IFERROR(VLOOKUP(D2067,'1_Causas_Levantadas'!C:D,2,0),\"\")","v":0},"","",null,1,null,1,1,2063]
[null,null,{"$f":"IFERROR(VLOOKUP(D2068,'1_Causas_Levantadas'!C:D,2,0),\"\")","v":0},"","",null,1,null,1,1,2064]
[null,null,{"$f":"IFERROR(VLOOKUP(D2069,'1_Causas_Levantadas'!C:D,2,0),\"\")","v":0},"","",null,1,null,1,1,2065]
[null,null,{"$f":"IFERROR(VLOOKUP(D2070,'1_Causas_Levantadas'!C:D,2,0),\"\")","v":0},"","",null,1,null,1,1,2066]
[null,null,{"$f":"IFERROR(VLOOKUP(D2071,'1_Causas_Levantadas'!C:D,2,0),\"\")","v":0},"","",null,1,null,1,1,2067]
[null,null,{"$f":"IFERROR(VLOOKUP(D2072,'1_Causas_Levantadas'!C:D,2,0),\"\")","v":0},"","",null,1,null,1,1,2068]
[null,null,{"$f":"IFERROR(VLOOKUP(D2073,'1_Causas_Levantadas'!C:D,2,0),\"\")","v":0},"","",null,1,null,1,1,2069]
[null,null,{"$f":"IFERROR(VLOOKUP(D2074,'1_Causas_Levantadas'!C:D,2,0),\"\")","v":0},"","",null,1,null,1,1,2070]
[null,null,{"$f":"IFERROR(VLOOKUP(D2075,'1_Causas_Levantadas'!C:D,2,0),\"\")","v":0},"","",null,1,null,1,1,2071]
[null,null,{"$f":"IFERROR(VLOOKUP(D2076,'1_Causas_Levantadas'!C:D,2,0),\"\")","v":0},"","",null,1,null,1,1,2072]
[null,null,{"$f":"IFERROR(VLOOKUP(D2077,'1_Causas_Levantadas'!C:D,2,0),\"\")","v":0},"","",null,1,null,1,1,2073]
[null,null,{"$f":"IFERROR(VLOOKUP(D2078,'1_Causas_Levantadas'!C:D,2,0),\"\")","v":0},"","",null,1,null,1,1,2074]
[null,null,{"$f":"IFERROR(VLOOKUP(D2079,'1_Causas_Levantadas'!C:D,2,0),\"\")","v":0},"","",null,1,null,1,1,2075]
[null,null,{"$f":"IFERROR(VLOOKUP(D2080,'1_Causas_Levantadas'!C:D,2,0),\"\")","v":0},"","",null,1,null,1,1,2076]
[null,null,{"$f":"IFERROR(VLOOKUP(D2081,'1_Causas_Levantadas'!C:D,2,0),\"\")","v":0},"","",null,1,null,1,1,2077]
[null,null,{"$f":"IFERROR(VLOOKUP(D2082,'1_Causas_Levantadas'!C:D,2,0),\"\")","v":0},"","",null,1,null,1,1,2078]
[null,null,{"$f":"IFERROR(VLOOKUP(D2083,'1_Causas_Levantadas'!C:D,2,0),\"\")","v":0},"","",null,1,null,1,1,2079]
[null,null,{"$f":"IFERROR(VLOOKUP(D2084,'1_Causas_Levantadas'!C:D,2,0),\"\")","v":0},"","",null,1,null,1,1,2080]
[null,null,{"$f":"IFERROR(VLOOKUP(D2085,'1_Causas_Levantadas'!C:D,2,0),\"\")","v":0},"","",null,1,null,1,1,2081]
[null,null,{"$f":"IFERROR(VLOOKUP(D2086,'1_Causas_Levantadas'!C:D,2,0),\"\")","v":0},"","",null,1,null,1,1,2082]
[null,null,{"$f":"IFERROR(VLOOKUP(D2087,'1_Causas_Levantadas'!C:D,2,0),\"\")","v":0},"","",null,1,null,1,1,2083]
[null,null,{"$f":"IFERROR(VLOOKUP(D2088,'1_Causas_Levantadas'!C:D,2,0),\"\")","v":0},"","",null,1,null,1,1,2084]
[null,null,{"$f":"IFERROR(VLOOKUP(D2089,'1_Causas_Levantadas'!C:D,2,0),\"\")","v":0},"","",null,1,null,1,1,2085]
[null,null,{"$f":"IFERROR(VLOOKUP(D2090,'1_Causas_Levantadas'!C:D,2,0),\"\")","v":0},"","",null,1,null,1,1,2086]
[null,null,{"$f":"IFERROR(VLOOKUP(D2091,'1_Causas_Levantadas'!C:D,2,0),\"\")","v":0},"","",null,1,null,1,1,2087]
[null,null,{"$f":"IFERROR(VLOOKUP(D2092,'1_Causas_Levantadas'!C:D,2,0),\"\")","v":0},"","",null,1,null,1,1,2088]
[null,null,{"$f":"IFERROR(VLOOKUP(D2093,'1_Causas_Levantadas'!C:D,2,0),\"\")","v":0},"","",null,1,null,1,1,2089]
[null,null,{"$f":"IFERROR(VLOOKUP(D2094,'1_Causas_Levantadas'!C:D,2,0),\"\")","v":0},"","",null,1,null,1,1,2090]
[null,null,{"$f":"IFERROR(VLOOKUP(D2095,'1_Causas_Levantadas'!C:D,2,0),\"\")","v":0},"","",null,1,null,1,1,2091]
[null,null,{"$f":"IFERROR(VLOOKUP(D2096,'1_Causas_Levantadas'!C:D,2,0),\"\")","v":0},"","",null,1,null,1,1,2092]
[null,null,{"$f":"IFERROR(VLOOKUP(D2097,'1_Causas_Levantadas'!C:D,2,0),\"\")","v":0},"","",null,1,null,1,1,2093]
[null,null,{"$f":"IFERROR(VLOOKUP(D2098,'1_Causas_Levantadas'!C:D,2,0),\"\")","v":0},"","",null,1,null,1,1,2094]
[null,null,{"$f":"IFERROR(VLOOKUP(D2099,'1_Causas_Levantadas'!C:D,2,0),\"\")","v":0},"","",null,1,null,1,1,2095]
[null,null,{"$f":"IFERROR(VLOOKUP(D2100,'1_Causas_Levantadas'!C:D,2,0),\"\")","v":0},"","",null,1,null,1,1,2096]
[null,null,{"$f":"IFERROR(VLOOKUP(D2101,'1_Causas_Levantadas'!C:D,2,0),\"\")","v":0},"","",null,1,null,1,1,2097]
[null,null,{"$f":"IFERROR(VLOOKUP(D2102,'1_Causas_Levantadas'!C:D,2,0),\"\")","v":0},"","",null,1,null,1,1,2098]
[null,null,{"$f":"IFERROR(VLOOKUP(D2103,'1_Causas_Levantadas'!C:D,2,0),\"\")","v":0},"","",null,1,null,1,1,2099]
[null,null,{"$f":"IFERROR(VLOOKUP(D2104,'1_Causas_Levantadas'!C:D,2,0),\"\")","v":0},"","",null,1,null,1,1,2100]
[null,null,{"$f":"IFERROR(VLOOKUP(D2105,'1_Causas_Levantadas'!C:D,2,0),\"\")","v":0},"","",null,1,null,1,1,2101]
[null,null,{"$f":"IFERROR(VLOOKUP(D2106,'1_Causas_Levantadas'!C:D,2,0),\"\")","v":0},"","",null,1,null,1,1,2102]
[null,null,{"$f":"IFERROR(VLOOKUP(D2107,'1_Causas_Levantadas'!C:D,2,0),\"\")","v":0},"","",null,1,null,1,1,2103]
[null,null,{"$f":"IFERROR(VLOOKUP(D2108,'1_Causas_Levantadas'!C:D,2,0),\"\")","v":0},"","",null,1,null,1,1,2104]
[null,null,{"$f":"IFERROR(VLOOKUP(D2109,'1_Causas_Levantadas'!C:D,2,0),\"\")","v":0},"","",null,1,null,1,1,2105]
[null,null,{"$f":"IFERROR(VLOOKUP(D2110,'1_Causas_Levantadas'!C:D,2,0),\"\")","v":0},"","",null,1,null,1,1,2106]
[null,null,{"$f":"IFERROR(VLOOKUP(D2111,'1_Causas_Levantadas'!C:D,2,0),\"\")","v":0},"","",null,1,null,1,1,2107]
[null,null,{"$f":"IFERROR(VLOOKUP(D2112,'1_Causas_Levantadas'!C:D,2,0),\"\")","v":0},"","",null,1,null,1,1,2108]
[null,null,{"$f":"IFERROR(VLOOKUP(D2113,'1_Causas_Levantadas'!C:D,2,0),\"\")","v":0},"","",null,1,null,1,1,2109]
[null,null,{"$f":"IFERROR(VLOOKUP(D2114,'1_Causas_Levantadas'!C:D,2,0),\"\")","v":0},"","",null,1,null,1,1,2110]
[null,null,{"$f":"IFERROR(VLOOKUP(D2115,'1_Causas_Levantadas'!C:D,2,0),\"\")","v":0},"","",null,1,null,1,1,2111]
[null,null,{"$f":"IFERROR(VLOOKUP(D2116,'1_Causas_Levantadas'!C:D,2,0),\"\")","v":0},"","",null,1,null,1,1,2112]
[null,null,{"$f":"IFERROR(VLOOKUP(D2117,'1_Causas_Levantadas'!C:D,2,0),\"\")","v":0},"","",null,1,null,1,1,2113]
[null,null,{"$f":"IFERROR(VLOOKUP(D2118,'1_Causas_Levantadas'!C:D,2,0),\"\")","v":0},{"$f":"IF(K2118<=$H$4,(IF(G2117>0,G2118,$G$5)),\"\")","v":""},{"$f":"IF(D2118<>\"\",\"Participante \"&K2118,\"\")","v":""},null,{"$f":"J2118","v":1},null,{"$f":"IF(G2118=$G$5,1,0)","v":1},1,{"$f":"I2118+K2117","v":2114}]
[null,null,{"$f":"IFERROR(VLOOKUP(D2119,'1_Causas_Levantadas'!C:D,2,0),\"\")","v":0},"","",null,1,null,1,{"$f":"IF(G2118<$G$4,J2118+1,1)","v":1},2115]
[null,null,{"$f":"IFERROR(VLOOKUP(D2120,'1_Causas_Levantadas'!C:D,2,0),\"\")","v":0},"","",null,1,null,1,1,2116]
[null,null,{"$f":"IFERROR(VLOOKUP(D2121,'1_Causas_Levantadas'!C:D,2,0),\"\")","v":0},"","",null,1,null,1,1,2117]
[null,null,{"$f":"IFERROR(VLOOKUP(D2122,'1_Causas_Levantadas'!C:D,2,0),\"\")","v":0},"","",null,1,null,1,1,2118]
[null,null,{"$f":"IFERROR(VLOOKUP(D2123,'1_Causas_Levantadas'!C:D,2,0),\"\")","v":0},"","",null,1,null,1,1,2119]
[null,null,{"$f":"IFERROR(VLOOKUP(D2124,'1_Causas_Levantadas'!C:D,2,0),\"\")","v":0},"","",null,1,null,1,1,2120]
[null,null,{"$f":"IFERROR(VLOOKUP(D2125,'1_Causas_Levantadas'!C:D,2,0),\"\")","v":0},"","",null,1,null,1,1,2121]
[null,null,{"$f":"IFERROR(VLOOKUP(D2126,'1_Causas_Levantadas'!C:D,2,0),\"\")","v":0},"","",null,1,null,1,1,2122]
[null,null,{"$f":"IFERROR(VLOOKUP(D2127,'1_Causas_Levantadas'!C:D,2,0),\"\")","v":0},"","",null,1,null,1,1,2123]
[null,null,{"$f":"IFERROR(VLOOKUP(D2128,'1_Causas_Levantadas'!C:D,2,0),\"\")","v":0},"","",null,1,null,1,1,2124]
[null,null,{"$f":"IFERROR(VLOOKUP(D2129,'1_Causas_Levantadas'!C:D,2,0),\"\")","v":0},"","",null,1,null,1,1,2125]
[null,null,{"$f":"IFERROR(VLOOKUP(D2130,'1_Causas_Levantadas'!C:D,2,0),\"\")","v":0},"","",null,1,null,1,1,2126]
[null,null,{"$f":"IFERROR(VLOOKUP(D2131,'1_Causas_Levantadas'!C:D,2,0),\"\")","v":0},"","",null,1,null,1,1,2127]
[null,null,{"$f":"IFERROR(VLOOKUP(D2132,'1_Causas_Levantadas'!C:D,2,0),\"\")","v":0},"","",null,1,null,1,1,2128]
[null,null,{"$f":"IFERROR(VLOOKUP(D2133,'1_Causas_Levantadas'!C:D,2,0),\"\")","v":0},"","",null,1,null,1,1,2129]
[null,null,{"$f":"IFERROR(VLOOKUP(D2134,'1_Causas_Levantadas'!C:D,2,0),\"\")","v":0},"","",null,1,null,1,1,2130]
[null,null,{"$f":"IFERROR(VLOOKUP(D2135,'1_Causas_Levantadas'!C:D,2,0),\"\")","v":0},"","",null,1,null,1,1,2131]
[null,null,{"$f":"IFERROR(VLOOKUP(D2136,'1_Causas_Levantadas'!C:D,2,0),\"\")","v":0},"","",null,1,null,1,1,2132]
[null,null,{"$f":"IFERROR(VLOOKUP(D2137,'1_Causas_Levantadas'!C:D,2,0),\"\")","v":0},"","",null,1,null,1,1,2133]
[null,null,{"$f":"IFERROR(VLOOKUP(D2138,'1_Causas_Levantadas'!C:D,2,0),\"\")","v":0},"","",null,1,null,1,1,2134]
[null,null,{"$f":"IFERROR(VLOOKUP(D2139,'1_Causas_Levantadas'!C:D,2,0),\"\")","v":0},"","",null,1,null,1,1,2135]
[null,null,{"$f":"IFERROR(VLOOKUP(D2140,'1_Causas_Levantadas'!C:D,2,0),\"\")","v":0},"","",null,1,null,1,1,2136]
[null,null,{"$f":"IFERROR(VLOOKUP(D2141,'1_Causas_Levantadas'!C:D,2,0),\"\")","v":0},"","",null,1,null,1,1,2137]
[null,null,{"$f":"IFERROR(VLOOKUP(D2142,'1_Causas_Levantadas'!C:D,2,0),\"\")","v":0},"","",null,1,null,1,1,2138]
[null,null,{"$f":"IFERROR(VLOOKUP(D2143,'1_Causas_Levantadas'!C:D,2,0),\"\")","v":0},"","",null,1,null,1,1,2139]
[null,null,{"$f":"IFERROR(VLOOKUP(D2144,'1_Causas_Levantadas'!C:D,2,0),\"\")","v":0},"","",null,1,null,1,1,2140]
[null,null,{"$f":"IFERROR(VLOOKUP(D2145,'1_Causas_Levantadas'!C:D,2,0),\"\")","v":0},"","",null,1,null,1,1,2141]
[null,null,{"$f":"IFERROR(VLOOKUP(D2146,'1_Causas_Levantadas'!C:D,2,0),\"\")","v":0},"","",null,1,null,1,1,2142]
[null,null,{"$f":"IFERROR(VLOOKUP(D2147,'1_Causas_Levantadas'!C:D,2,0),\"\")","v":0},"","",null,1,null,1,1,2143]
[null,null,{"$f":"IFERROR(VLOOKUP(D2148,'1_Causas_Levantadas'!C:D,2,0),\"\")","v":0},"","",null,1,null,1,1,2144]
[null,null,{"$f":"IFERROR(VLOOKUP(D2149,'1_Causas_Levantadas'!C:D,2,0),\"\")","v":0},"","",null,1,null,1,1,2145]
[null,null,{"$f":"IFERROR(VLOOKUP(D2150,'1_Causas_Levantadas'!C:D,2,0),\"\")","v":0},"","",null,1,null,1,1,2146]
[null,null,{"$f":"IFERROR(VLOOKUP(D2151,'1_Causas_Levantadas'!C:D,2,0),\"\")","v":0},"","",null,1,null,1,1,2147]
[null,null,{"$f":"IFERROR(VLOOKUP(D2152,'1_Causas_Levantadas'!C:D,2,0),\"\")","v":0},"","",null,1,null,1,1,2148]
[null,null,{"$f":"IFERROR(VLOOKUP(D2153,'1_Causas_Levantadas'!C:D,2,0),\"\")","v":0},"","",null,1,null,1,1,2149]
[null,null,{"$f":"IFERROR(VLOOKUP(D2154,'1_Causas_Levantadas'!C:D,2,0),\"\")","v":0},"","",null,1,null,1,1,2150]
[null,null,{"$f":"IFERROR(VLOOKUP(D2155,'1_Causas_Levantadas'!C:D,2,0),\"\")","v":0},"","",null,1,null,1,1,2151]
[null,null,{"$f":"IFERROR(VLOOKUP(D2156,'1_Causas_Levantadas'!C:D,2,0),\"\")","v":0},"","",null,1,null,1,1,2152]
[null,null,{"$f":"IFERROR(VLOOKUP(D2157,'1_Causas_Levantadas'!C:D,2,0),\"\")","v":0},"","",null,1,null,1,1,2153]
[null,null,{"$f":"IFERROR(VLOOKUP(D2158,'1_Causas_Levantadas'!C:D,2,0),\"\")","v":0},"","",null,1,null,1,1,2154]
[null,null,{"$f":"IFERROR(VLOOKUP(D2159,'1_Causas_Levantadas'!C:D,2,0),\"\")","v":0},"","",null,1,null,1,1,2155]
[null,null,{"$f":"IFERROR(VLOOKUP(D2160,'1_Causas_Levantadas'!C:D,2,0),\"\")","v":0},"","",null,1,null,1,1,2156]
[null,null,{"$f":"IFERROR(VLOOKUP(D2161,'1_Causas_Levantadas'!C:D,2,0),\"\")","v":0},"","",null,1,null,1,1,2157]
[null,null,{"$f":"IFERROR(VLOOKUP(D2162,'1_Causas_Levantadas'!C:D,2,0),\"\")","v":0},"","",null,1,null,1,1,2158]
[null,null,{"$f":"IFERROR(VLOOKUP(D2163,'1_Causas_Levantadas'!C:D,2,0),\"\")","v":0},"","",null,1,null,1,1,2159]
[null,null,{"$f":"IFERROR(VLOOKUP(D2164,'1_Causas_Levantadas'!C:D,2,0),\"\")","v":0},"","",null,1,null,1,1,2160]
[null,null,{"$f":"IFERROR(VLOOKUP(D2165,'1_Causas_Levantadas'!C:D,2,0),\"\")","v":0},"","",null,1,null,1,1,2161]
[null,null,{"$f":"IFERROR(VLOOKUP(D2166,'1_Causas_Levantadas'!C:D,2,0),\"\")","v":0},"","",null,1,null,1,1,2162]
[null,null,{"$f":"IFERROR(VLOOKUP(D2167,'1_Causas_Levantadas'!C:D,2,0),\"\")","v":0},"","",null,1,null,1,1,2163]
[null,null,{"$f":"IFERROR(VLOOKUP(D2168,'1_Causas_Levantadas'!C:D,2,0),\"\")","v":0},"","",null,1,null,1,1,2164]
[null,null,{"$f":"IFERROR(VLOOKUP(D2169,'1_Causas_Levantadas'!C:D,2,0),\"\")","v":0},"","",null,1,null,1,1,2165]
[null,null,{"$f":"IFERROR(VLOOKUP(D2170,'1_Causas_Levantadas'!C:D,2,0),\"\")","v":0},"","",null,1,null,1,1,2166]
[null,null,{"$f":"IFERROR(VLOOKUP(D2171,'1_Causas_Levantadas'!C:D,2,0),\"\")","v":0},"","",null,1,null,1,1,2167]
[null,null,{"$f":"IFERROR(VLOOKUP(D2172,'1_Causas_Levantadas'!C:D,2,0),\"\")","v":0},"","",null,1,null,1,1,2168]
[null,null,{"$f":"IFERROR(VLOOKUP(D2173,'1_Causas_Levantadas'!C:D,2,0),\"\")","v":0},"","",null,1,null,1,1,2169]
[null,null,{"$f":"IFERROR(VLOOKUP(D2174,'1_Causas_Levantadas'!C:D,2,0),\"\")","v":0},"","",null,1,null,1,1,2170]
[null,null,{"$f":"IFERROR(VLOOKUP(D2175,'1_Causas_Levantadas'!C:D,2,0),\"\")","v":0},"","",null,1,null,1,1,2171]
[null,null,{"$f":"IFERROR(VLOOKUP(D2176,'1_Causas_Levantadas'!C:D,2,0),\"\")","v":0},"","",null,1,null,1,1,2172]
[null,null,{"$f":"IFERROR(VLOOKUP(D2177,'1_Causas_Levantadas'!C:D,2,0),\"\")","v":0},"","",null,1,null,1,1,2173]
[null,null,{"$f":"IFERROR(VLOOKUP(D2178,'1_Causas_Levantadas'!C:D,2,0),\"\")","v":0},"","",null,1,null,1,1,2174]
[null,null,{"$f":"IFERROR(VLOOKUP(D2179,'1_Causas_Levantadas'!C:D,2,0),\"\")","v":0},"","",null,1,null,1,1,2175]
[null,null,{"$f":"IFERROR(VLOOKUP(D2180,'1_Causas_Levantadas'!C:D,2,0),\"\")","v":0},"","",null,1,null,1,1,2176]
[null,null,{"$f":"IFERROR(VLOOKUP(D2181,'1_Causas_Levantadas'!C:D,2,0),\"\")","v":0},"","",null,1,null,1,1,2177]
[null,null,{"$f":"IFERROR(VLOOKUP(D2182,'1_Causas_Levantadas'!C:D,2,0),\"\")","v":0},{"$f":"IF(K2182<=$H$4,(IF(G2181>0,G2182,$G$5)),\"\")","v":""},{"$f":"IF(D2182<>\"\",\"Participante \"&K2182,\"\")","v":""},null,{"$f":"J2182","v":1},null,{"$f":"IF(G2182=$G$5,1,0)","v":1},1,{"$f":"I2182+K2181","v":2178}]
[null,null,{"$f":"IFERROR(VLOOKUP(D2183,'1_Causas_Levantadas'!C:D,2,0),\"\")","v":0},"","",null,1,null,1,{"$f":"IF(G2182<$G$4,J2182+1,1)","v":1},2179]
[null,null,{"$f":"IFERROR(VLOOKUP(D2184,'1_Causas_Levantadas'!C:D,2,0),\"\")","v":0},"","",null,1,null,1,1,2180]
[null,null,{"$f":"IFERROR(VLOOKUP(D2185,'1_Causas_Levantadas'!C:D,2,0),\"\")","v":0},"","",null,1,null,1,1,2181]
[null,null,{"$f":"IFERROR(VLOOKUP(D2186,'1_Causas_Levantadas'!C:D,2,0),\"\")","v":0},"","",null,1,null,1,1,2182]
[null,null,{"$f":"IFERROR(VLOOKUP(D2187,'1_Causas_Levantadas'!C:D,2,0),\"\")","v":0},"","",null,1,null,1,1,2183]
[null,null,{"$f":"IFERROR(VLOOKUP(D2188,'1_Causas_Levantadas'!C:D,2,0),\"\")","v":0},"","",null,1,null,1,1,2184]
[null,null,{"$f":"IFERROR(VLOOKUP(D2189,'1_Causas_Levantadas'!C:D,2,0),\"\")","v":0},"","",null,1,null,1,1,2185]
[null,null,{"$f":"IFERROR(VLOOKUP(D2190,'1_Causas_Levantadas'!C:D,2,0),\"\")","v":0},"","",null,1,null,1,1,2186]
[null,null,{"$f":"IFERROR(VLOOKUP(D2191,'1_Causas_Levantadas'!C:D,2,0),\"\")","v":0},"","",null,1,null,1,1,2187]
[null,null,{"$f":"IFERROR(VLOOKUP(D2192,'1_Causas_Levantadas'!C:D,2,0),\"\")","v":0},"","",null,1,null,1,1,2188]
[null,null,{"$f":"IFERROR(VLOOKUP(D2193,'1_Causas_Levantadas'!C:D,2,0),\"\")","v":0},"","",null,1,null,1,1,2189]
[null,null,{"$f":"IFERROR(VLOOKUP(D2194,'1_Causas_Levantadas'!C:D,2,0),\"\")","v":0},"","",null,1,null,1,1,2190]
[null,null,{"$f":"IFERROR(VLOOKUP(D2195,'1_Causas_Levantadas'!C:D,2,0),\"\")","v":0},"","",null,1,null,1,1,2191]
[null,null,{"$f":"IFERROR(VLOOKUP(D2196,'1_Causas_Levantadas'!C:D,2,0),\"\")","v":0},"","",null,1,null,1,1,2192]
[null,null,{"$f":"IFERROR(VLOOKUP(D2197,'1_Causas_Levantadas'!C:D,2,0),\"\")","v":0},"","",null,1,null,1,1,2193]
[null,null,{"$f":"IFERROR(VLOOKUP(D2198,'1_Causas_Levantadas'!C:D,2,0),\"\")","v":0},"","",null,1,null,1,1,2194]
[null,null,{"$f":"IFERROR(VLOOKUP(D2199,'1_Causas_Levantadas'!C:D,2,0),\"\")","v":0},"","",null,1,null,1,1,2195]
[null,null,{"$f":"IFERROR(VLOOKUP(D2200,'1_Causas_Levantadas'!C:D,2,0),\"\")","v":0},"","",null,1,null,1,1,2196]
[null,null,{"$f":"IFERROR(VLOOKUP(D2201,'1_Causas_Levantadas'!C:D,2,0),\"\")","v":0},"","",null,1,null,1,1,2197]
[null,null,{"$f":"IFERROR(VLOOKUP(D2202,'1_Causas_Levantadas'!C:D,2,0),\"\")","v":0},"","",null,1,null,1,1,2198]
[null,null,{"$f":"IFERROR(VLOOKUP(D2203,'1_Causas_Levantadas'!C:D,2,0),\"\")","v":0},"","",null,1,null,1,1,2199]
[null,null,{"$f":"IFERROR(VLOOKUP(D2204,'1_Causas_Levantadas'!C:D,2,0),\"\")","v":0},"","",null,1,null,1,1,2200]
[null,null,{"$f":"IFERROR(VLOOKUP(D2205,'1_Causas_Levantadas'!C:D,2,0),\"\")","v":0},"","",null,1,null,1,1,2201]
[null,null,{"$f":"IFERROR(VLOOKUP(D2206,'1_Causas_Levantadas'!C:D,2,0),\"\")","v":0},"","",null,1,null,1,1,2202]
[null,null,{"$f":"IFERROR(VLOOKUP(D2207,'1_Causas_Levantadas'!C:D,2,0),\"\")","v":0},"","",null,1,null,1,1,2203]
[null,null,{"$f":"IFERROR(VLOOKUP(D2208,'1_Causas_Levantadas'!C:D,2,0),\"\")","v":0},"","",null,1,null,1,1,2204]
[null,null,{"$f":"IFERROR(VLOOKUP(D2209,'1_Causas_Levantadas'!C:D,2,0),\"\")","v":0},"","",null,1,null,1,1,2205]
[null,null,{"$f":"IFERROR(VLOOKUP(D2210,'1_Causas_Levantadas'!C:D,2,0),\"\")","v":0},"","",null,1,null,1,1,2206]
[null,null,{"$f":"IFERROR(VLOOKUP(D2211,'1_Causas_Levantadas'!C:D,2,0),\"\")","v":0},"","",null,1,null,1,1,2207]
[null,null,{"$f":"IFERROR(VLOOKUP(D2212,'1_Causas_Levantadas'!C:D,2,0),\"\")","v":0},"","",null,1,null,1,1,2208]
[null,null,{"$f":"IFERROR(VLOOKUP(D2213,'1_Causas_Levantadas'!C:D,2,0),\"\")","v":0},"","",null,1,null,1,1,2209]
[null,null,{"$f":"IFERROR(VLOOKUP(D2214,'1_Causas_Levantadas'!C:D,2,0),\"\")","v":0},"","",null,1,null,1,1,2210]
[null,null,{"$f":"IFERROR(VLOOKUP(D2215,'1_Causas_Levantadas'!C:D,2,0),\"\")","v":0},"","",null,1,null,1,1,2211]
[null,null,{"$f":"IFERROR(VLOOKUP(D2216,'1_Causas_Levantadas'!C:D,2,0),\"\")","v":0},"","",null,1,null,1,1,2212]
[null,null,{"$f":"IFERROR(VLOOKUP(D2217,'1_Causas_Levantadas'!C:D,2,0),\"\")","v":0},"","",null,1,null,1,1,2213]
[null,null,{"$f":"IFERROR(VLOOKUP(D2218,'1_Causas_Levantadas'!C:D,2,0),\"\")","v":0},"","",null,1,null,1,1,2214]
[null,null,{"$f":"IFERROR(VLOOKUP(D2219,'1_Causas_Levantadas'!C:D,2,0),\"\")","v":0},"","",null,1,null,1,1,2215]
[null,null,{"$f":"IFERROR(VLOOKUP(D2220,'1_Causas_Levantadas'!C:D,2,0),\"\")","v":0},"","",null,1,null,1,1,2216]
[null,null,{"$f":"IFERROR(VLOOKUP(D2221,'1_Causas_Levantadas'!C:D,2,0),\"\")","v":0},"","",null,1,null,1,1,2217]
[null,null,{"$f":"IFERROR(VLOOKUP(D2222,'1_Causas_Levantadas'!C:D,2,0),\"\")","v":0},"","",null,1,null,1,1,2218]
[null,null,{"$f":"IFERROR(VLOOKUP(D2223,'1_Causas_Levantadas'!C:D,2,0),\"\")","v":0},"","",null,1,null,1,1,2219]
[null,null,{"$f":"IFERROR(VLOOKUP(D2224,'1_Causas_Levantadas'!C:D,2,0),\"\")","v":0},"","",null,1,null,1,1,2220]
[null,null,{"$f":"IFERROR(VLOOKUP(D2225,'1_Causas_Levantadas'!C:D,2,0),\"\")","v":0},"","",null,1,null,1,1,2221]
[null,null,{"$f":"IFERROR(VLOOKUP(D2226,'1_Causas_Levantadas'!C:D,2,0),\"\")","v":0},"","",null,1,null,1,1,2222]
[null,null,{"$f":"IFERROR(VLOOKUP(D2227,'1_Causas_Levantadas'!C:D,2,0),\"\")","v":0},"","",null,1,null,1,1,2223]
[null,null,{"$f":"IFERROR(VLOOKUP(D2228,'1_Causas_Levantadas'!C:D,2,0),\"\")","v":0},"","",null,1,null,1,1,2224]
[null,null,{"$f":"IFERROR(VLOOKUP(D2229,'1_Causas_Levantadas'!C:D,2,0),\"\")","v":0},"","",null,1,null,1,1,2225]
[null,null,{"$f":"IFERROR(VLOOKUP(D2230,'1_Causas_Levantadas'!C:D,2,0),\"\")","v":0},"","",null,1,null,1,1,2226]
[null,null,{"$f":"IFERROR(VLOOKUP(D2231,'1_Causas_Levantadas'!C:D,2,0),\"\")","v":0},"","",null,1,null,1,1,2227]
[null,null,{"$f":"IFERROR(VLOOKUP(D2232,'1_Causas_Levantadas'!C:D,2,0),\"\")","v":0},"","",null,1,null,1,1,2228]
[null,null,{"$f":"IFERROR(VLOOKUP(D2233,'1_Causas_Levantadas'!C:D,2,0),\"\")","v":0},"","",null,1,null,1,1,2229]
[null,null,{"$f":"IFERROR(VLOOKUP(D2234,'1_Causas_Levantadas'!C:D,2,0),\"\")","v":0},"","",null,1,null,1,1,2230]
[null,null,{"$f":"IFERROR(VLOOKUP(D2235,'1_Causas_Levantadas'!C:D,2,0),\"\")","v":0},"","",null,1,null,1,1,2231]
[null,null,{"$f":"IFERROR(VLOOKUP(D2236,'1_Causas_Levantadas'!C:D,2,0),\"\")","v":0},"","",null,1,null,1,1,2232]
[null,null,{"$f":"IFERROR(VLOOKUP(D2237,'1_Causas_Levantadas'!C:D,2,0),\"\")","v":0},"","",null,1,null,1,1,2233]
[null,null,{"$f":"IFERROR(VLOOKUP(D2238,'1_Causas_Levantadas'!C:D,2,0),\"\")","v":0},"","",null,1,null,1,1,2234]
[null,null,{"$f":"IFERROR(VLOOKUP(D2239,'1_Causas_Levantadas'!C:D,2,0),\"\")","v":0},"","",null,1,null,1,1,2235]
[null,null,{"$f":"IFERROR(VLOOKUP(D2240,'1_Causas_Levantadas'!C:D,2,0),\"\")","v":0},"","",null,1,null,1,1,2236]
[null,null,{"$f":"IFERROR(VLOOKUP(D2241,'1_Causas_Levantadas'!C:D,2,0),\"\")","v":0},"","",null,1,null,1,1,2237]
[null,null,{"$f":"IFERROR(VLOOKUP(D2242,'1_Causas_Levantadas'!C:D,2,0),\"\")","v":0},"","",null,1,null,1,1,2238]
[null,null,{"$f":"IFERROR(VLOOKUP(D2243,'1_Causas_Levantadas'!C:D,2,0),\"\")","v":0},"","",null,1,null,1,1,2239]
[null,null,{"$f":"IFERROR(VLOOKUP(D2244,'1_Causas_Levantadas'!C:D,2,0),\"\")","v":0},"","",null,1,null,1,1,2240]
[null,null,{"$f":"IFERROR(VLOOKUP(D2245,'1_Causas_Levantadas'!C:D,2,0),\"\")","v":0},"","",null,1,null,1,1,2241]
[null,null,{"$f":"IFERROR(VLOOKUP(D2246,'1_Causas_Levantadas'!C:D,2,0),\"\")","v":0},{"$f":"IF(K2246<=$H$4,(IF(G2245>0,G2246,$G$5)),\"\")","v":""},{"$f":"IF(D2246<>\"\",\"Participante \"&K2246,\"\")","v":""},null,{"$f":"J2246","v":1},null,{"$f":"IF(G2246=$G$5,1,0)","v":1},1,{"$f":"I2246+K2245","v":2242}]
[null,null,{"$f":"IFERROR(VLOOKUP(D2247,'1_Causas_Levantadas'!C:D,2,0),\"\")","v":0},"","",null,1,null,1,{"$f":"IF(G2246<$G$4,J2246+1,1)","v":1},2243]
[null,null,{"$f":"IFERROR(VLOOKUP(D2248,'1_Causas_Levantadas'!C:D,2,0),\"\")","v":0},"","",null,1,null,1,1,2244]
[null,null,{"$f":"IFERROR(VLOOKUP(D2249,'1_Causas_Levantadas'!C:D,2,0),\"\")","v":0},"","",null,1,null,1,1,2245]
[null,null,{"$f":"IFERROR(VLOOKUP(D2250,'1_Causas_Levantadas'!C:D,2,0),\"\")","v":0},"","",null,1,null,1,1,2246]
[null,null,{"$f":"IFERROR(VLOOKUP(D2251,'1_Causas_Levantadas'!C:D,2,0),\"\")","v":0},"","",null,1,null,1,1,2247]
[null,null,{"$f":"IFERROR(VLOOKUP(D2252,'1_Causas_Levantadas'!C:D,2,0),\"\")","v":0},"","",null,1,null,1,1,2248]
[null,null,{"$f":"IFERROR(VLOOKUP(D2253,'1_Causas_Levantadas'!C:D,2,0),\"\")","v":0},"","",null,1,null,1,1,2249]
[null,null,{"$f":"IFERROR(VLOOKUP(D2254,'1_Causas_Levantadas'!C:D,2,0),\"\")","v":0},"","",null,1,null,1,1,2250]
[null,null,{"$f":"IFERROR(VLOOKUP(D2255,'1_Causas_Levantadas'!C:D,2,0),\"\")","v":0},"","",null,1,null,1,1,2251]
[null,null,{"$f":"IFERROR(VLOOKUP(D2256,'1_Causas_Levantadas'!C:D,2,0),\"\")","v":0},"","",null,1,null,1,1,2252]
[null,null,{"$f":"IFERROR(VLOOKUP(D2257,'1_Causas_Levantadas'!C:D,2,0),\"\")","v":0},"","",null,1,null,1,1,2253]
[null,null,{"$f":"IFERROR(VLOOKUP(D2258,'1_Causas_Levantadas'!C:D,2,0),\"\")","v":0},"","",null,1,null,1,1,2254]
[null,null,{"$f":"IFERROR(VLOOKUP(D2259,'1_Causas_Levantadas'!C:D,2,0),\"\")","v":0},"","",null,1,null,1,1,2255]
[null,null,{"$f":"IFERROR(VLOOKUP(D2260,'1_Causas_Levantadas'!C:D,2,0),\"\")","v":0},"","",null,1,null,1,1,2256]
[null,null,{"$f":"IFERROR(VLOOKUP(D2261,'1_Causas_Levantadas'!C:D,2,0),\"\")","v":0},"","",null,1,null,1,1,2257]
[null,null,{"$f":"IFERROR(VLOOKUP(D2262,'1_Causas_Levantadas'!C:D,2,0),\"\")","v":0},"","",null,1,null,1,1,2258]
[null,null,{"$f":"IFERROR(VLOOKUP(D2263,'1_Causas_Levantadas'!C:D,2,0),\"\")","v":0},"","",null,1,null,1,1,2259]
[null,null,{"$f":"IFERROR(VLOOKUP(D2264,'1_Causas_Levantadas'!C:D,2,0),\"\")","v":0},"","",null,1,null,1,1,2260]
[null,null,{"$f":"IFERROR(VLOOKUP(D2265,'1_Causas_Levantadas'!C:D,2,0),\"\")","v":0},"","",null,1,null,1,1,2261]
[null,null,{"$f":"IFERROR(VLOOKUP(D2266,'1_Causas_Levantadas'!C:D,2,0),\"\")","v":0},"","",null,1,null,1,1,2262]
[null,null,{"$f":"IFERROR(VLOOKUP(D2267,'1_Causas_Levantadas'!C:D,2,0),\"\")","v":0},"","",null,1,null,1,1,2263]
[null,null,{"$f":"IFERROR(VLOOKUP(D2268,'1_Causas_Levantadas'!C:D,2,0),\"\")","v":0},"","",null,1,null,1,1,2264]
[null,null,{"$f":"IFERROR(VLOOKUP(D2269,'1_Causas_Levantadas'!C:D,2,0),\"\")","v":0},"","",null,1,null,1,1,2265]
[null,null,{"$f":"IFERROR(VLOOKUP(D2270,'1_Causas_Levantadas'!C:D,2,0),\"\")","v":0},"","",null,1,null,1,1,2266]
[null,null,{"$f":"IFERROR(VLOOKUP(D2271,'1_Causas_Levantadas'!C:D,2,0),\"\")","v":0},"","",null,1,null,1,1,2267]
[null,null,{"$f":"IFERROR(VLOOKUP(D2272,'1_Causas_Levantadas'!C:D,2,0),\"\")","v":0},"","",null,1,null,1,1,2268]
[null,null,{"$f":"IFERROR(VLOOKUP(D2273,'1_Causas_Levantadas'!C:D,2,0),\"\")","v":0},"","",null,1,null,1,1,2269]
[null,null,{"$f":"IFERROR(VLOOKUP(D2274,'1_Causas_Levantadas'!C:D,2,0),\"\")","v":0},"","",null,1,null,1,1,2270]
[null,null,{"$f":"IFERROR(VLOOKUP(D2275,'1_Causas_Levantadas'!C:D,2,0),\"\")","v":0},"","",null,1,null,1,1,2271]
[null,null,{"$f":"IFERROR(VLOOKUP(D2276,'1_Causas_Levantadas'!C:D,2,0),\"\")","v":0},"","",null,1,null,1,1,2272]
[null,null,{"$f":"IFERROR(VLOOKUP(D2277,'1_Causas_Levantadas'!C:D,2,0),\"\")","v":0},"","",null,1,null,1,1,2273]
[null,null,{"$f":"IFERROR(VLOOKUP(D2278,'1_Causas_Levantadas'!C:D,2,0),\"\")","v":0},"","",null,1,null,1,1,2274]
[null,null,{"$f":"IFERROR(VLOOKUP(D2279,'1_Causas_Levantadas'!C:D,2,0),\"\")","v":0},"","",null,1,null,1,1,2275]
[null,null,{"$f":"IFERROR(VLOOKUP(D2280,'1_Causas_Levantadas'!C:D,2,0),\"\")","v":0},"","",null,1,null,1,1,2276]
[null,null,{"$f":"IFERROR(VLOOKUP(D2281,'1_Causas_Levantadas'!C:D,2,0),\"\")","v":0},"","",null,1,null,1,1,2277]
[null,null,{"$f":"IFERROR(VLOOKUP(D2282,'1_Causas_Levantadas'!C:D,2,0),\"\")","v":0},"","",null,1,null,1,1,2278]
[null,null,{"$f":"IFERROR(VLOOKUP(D2283,'1_Causas_Levantadas'!C:D,2,0),\"\")","v":0},"","",null,1,null,1,1,2279]
[null,null,{"$f":"IFERROR(VLOOKUP(D2284,'1_Causas_Levantadas'!C:D,2,0),\"\")","v":0},"","",null,1,null,1,1,2280]
[null,null,{"$f":"IFERROR(VLOOKUP(D2285,'1_Causas_Levantadas'!C:D,2,0),\"\")","v":0},"","",null,1,null,1,1,2281]
[null,null,{"$f":"IFERROR(VLOOKUP(D2286,'1_Causas_Levantadas'!C:D,2,0),\"\")","v":0},"","",null,1,null,1,1,2282]
[null,null,{"$f":"IFERROR(VLOOKUP(D2287,'1_Causas_Levantadas'!C:D,2,0),\"\")","v":0},"","",null,1,null,1,1,2283]
[null,null,{"$f":"IFERROR(VLOOKUP(D2288,'1_Causas_Levantadas'!C:D,2,0),\"\")","v":0},"","",null,1,null,1,1,2284]
[null,null,{"$f":"IFERROR(VLOOKUP(D2289,'1_Causas_Levantadas'!C:D,2,0),\"\")","v":0},"","",null,1,null,1,1,2285]
[null,null,{"$f":"IFERROR(VLOOKUP(D2290,'1_Causas_Levantadas'!C:D,2,0),\"\")","v":0},"","",null,1,null,1,1,2286]
[null,null,{"$f":"IFERROR(VLOOKUP(D2291,'1_Causas_Levantadas'!C:D,2,0),\"\")","v":0},"","",null,1,null,1,1,2287]
[null,null,{"$f":"IFERROR(VLOOKUP(D2292,'1_Causas_Levantadas'!C:D,2,0),\"\")","v":0},"","",null,1,null,1,1,2288]
[null,null,{"$f":"IFERROR(VLOOKUP(D2293,'1_Causas_Levantadas'!C:D,2,0),\"\")","v":0},"","",null,1,null,1,1,2289]
[null,null,{"$f":"IFERROR(VLOOKUP(D2294,'1_Causas_Levantadas'!C:D,2,0),\"\")","v":0},"","",null,1,null,1,1,2290]
[null,null,{"$f":"IFERROR(VLOOKUP(D2295,'1_Causas_Levantadas'!C:D,2,0),\"\")","v":0},"","",null,1,null,1,1,2291]
[null,null,{"$f":"IFERROR(VLOOKUP(D2296,'1_Causas_Levantadas'!C:D,2,0),\"\")","v":0},"","",null,1,null,1,1,2292]
[null,null,{"$f":"IFERROR(VLOOKUP(D2297,'1_Causas_Levantadas'!C:D,2,0),\"\")","v":0},"","",null,1,null,1,1,2293]
[null,null,{"$f":"IFERROR(VLOOKUP(D2298,'1_Causas_Levantadas'!C:D,2,0),\"\")","v":0},"","",null,1,null,1,1,2294]
[null,null,{"$f":"IFERROR(VLOOKUP(D2299,'1_Causas_Levantadas'!C:D,2,0),\"\")","v":0},"","",null,1,null,1,1,2295]
[null,null,{"$f":"IFERROR(VLOOKUP(D2300,'1_Causas_Levantadas'!C:D,2,0),\"\")","v":0},"","",null,1,null,1,1,2296]
[null,null,{"$f":"IFERROR(VLOOKUP(D2301,'1_Causas_Levantadas'!C:D,2,0),\"\")","v":0},"","",null,1,null,1,1,2297]
[null,null,{"$f":"IFERROR(VLOOKUP(D2302,'1_Causas_Levantadas'!C:D,2,0),\"\")","v":0},"","",null,1,null,1,1,2298]
[null,null,{"$f":"IFERROR(VLOOKUP(D2303,'1_Causas_Levantadas'!C:D,2,0),\"\")","v":0},"","",null,1,null,1,1,2299]
[null,null,{"$f":"IFERROR(VLOOKUP(D2304,'1_Causas_Levantadas'!C:D,2,0),\"\")","v":0},"","",null,1,null,1,1,2300]
[null,null,{"$f":"IFERROR(VLOOKUP(D2305,'1_Causas_Levantadas'!C:D,2,0),\"\")","v":0},"","",null,1,null,1,1,2301]
[null,null,{"$f":"IFERROR(VLOOKUP(D2306,'1_Causas_Levantadas'!C:D,2,0),\"\")","v":0},"","",null,1,null,1,1,2302]
[null,null,{"$f":"IFERROR(VLOOKUP(D2307,'1_Causas_Levantadas'!C:D,2,0),\"\")","v":0},"","",null,1,null,1,1,2303]
[null,null,{"$f":"IFERROR(VLOOKUP(D2308,'1_Causas_Levantadas'!C:D,2,0),\"\")","v":0},"","",null,1,null,1,1,2304]
[null,null,{"$f":"IFERROR(VLOOKUP(D2309,'1_Causas_Levantadas'!C:D,2,0),\"\")","v":0},"","",null,1,null,1,1,2305]
[null,null,{"$f":"IFERROR(VLOOKUP(D2310,'1_Causas_Levantadas'!C:D,2,0),\"\")","v":0},{"$f":"IF(K2310<=$H$4,(IF(G2309>0,G2310,$G$5)),\"\")","v":""},{"$f":"IF(D2310<>\"\",\"Participante \"&K2310,\"\")","v":""},null,{"$f":"J2310","v":1},null,{"$f":"IF(G2310=$G$5,1,0)","v":1},1,{"$f":"I2310+K2309","v":2306}]
[null,null,{"$f":"IFERROR(VLOOKUP(D2311,'1_Causas_Levantadas'!C:D,2,0),\"\")","v":0},"","",null,1,null,1,{"$f":"IF(G2310<$G$4,J2310+1,1)","v":1},2307]
[null,null,{"$f":"IFERROR(VLOOKUP(D2312,'1_Causas_Levantadas'!C:D,2,0),\"\")","v":0},"","",null,1,null,1,1,2308]
[null,null,{"$f":"IFERROR(VLOOKUP(D2313,'1_Causas_Levantadas'!C:D,2,0),\"\")","v":0},"","",null,1,null,1,1,2309]
[null,null,{"$f":"IFERROR(VLOOKUP(D2314,'1_Causas_Levantadas'!C:D,2,0),\"\")","v":0},"","",null,1,null,1,1,2310]
[null,null,{"$f":"IFERROR(VLOOKUP(D2315,'1_Causas_Levantadas'!C:D,2,0),\"\")","v":0},"","",null,1,null,1,1,2311]
[null,null,{"$f":"IFERROR(VLOOKUP(D2316,'1_Causas_Levantadas'!C:D,2,0),\"\")","v":0},"","",null,1,null,1,1,2312]
[null,null,{"$f":"IFERROR(VLOOKUP(D2317,'1_Causas_Levantadas'!C:D,2,0),\"\")","v":0},"","",null,1,null,1,1,2313]
[null,null,{"$f":"IFERROR(VLOOKUP(D2318,'1_Causas_Levantadas'!C:D,2,0),\"\")","v":0},"","",null,1,null,1,1,2314]
[null,null,{"$f":"IFERROR(VLOOKUP(D2319,'1_Causas_Levantadas'!C:D,2,0),\"\")","v":0},"","",null,1,null,1,1,2315]
[null,null,{"$f":"IFERROR(VLOOKUP(D2320,'1_Causas_Levantadas'!C:D,2,0),\"\")","v":0},"","",null,1,null,1,1,2316]
[null,null,{"$f":"IFERROR(VLOOKUP(D2321,'1_Causas_Levantadas'!C:D,2,0),\"\")","v":0},"","",null,1,null,1,1,2317]
[null,null,{"$f":"IFERROR(VLOOKUP(D2322,'1_Causas_Levantadas'!C:D,2,0),\"\")","v":0},"","",null,1,null,1,1,2318]
[null,null,{"$f":"IFERROR(VLOOKUP(D2323,'1_Causas_Levantadas'!C:D,2,0),\"\")","v":0},"","",null,1,null,1,1,2319]
[null,null,{"$f":"IFERROR(VLOOKUP(D2324,'1_Causas_Levantadas'!C:D,2,0),\"\")","v":0},"","",null,1,null,1,1,2320]
[null,null,{"$f":"IFERROR(VLOOKUP(D2325,'1_Causas_Levantadas'!C:D,2,0),\"\")","v":0},"","",null,1,null,1,1,2321]
[null,null,{"$f":"IFERROR(VLOOKUP(D2326,'1_Causas_Levantadas'!C:D,2,0),\"\")","v":0},"","",null,1,null,1,1,2322]
[null,null,{"$f":"IFERROR(VLOOKUP(D2327,'1_Causas_Levantadas'!C:D,2,0),\"\")","v":0},"","",null,1,null,1,1,2323]
[null,null,{"$f":"IFERROR(VLOOKUP(D2328,'1_Causas_Levantadas'!C:D,2,0),\"\")","v":0},"","",null,1,null,1,1,2324]
[null,null,{"$f":"IFERROR(VLOOKUP(D2329,'1_Causas_Levantadas'!C:D,2,0),\"\")","v":0},"","",null,1,null,1,1,2325]
[null,null,{"$f":"IFERROR(VLOOKUP(D2330,'1_Causas_Levantadas'!C:D,2,0),\"\")","v":0},"","",null,1,null,1,1,2326]
[null,null,{"$f":"IFERROR(VLOOKUP(D2331,'1_Causas_Levantadas'!C:D,2,0),\"\")","v":0},"","",null,1,null,1,1,2327]
[null,null,{"$f":"IFERROR(VLOOKUP(D2332,'1_Causas_Levantadas'!C:D,2,0),\"\")","v":0},"","",null,1,null,1,1,2328]
[null,null,{"$f":"IFERROR(VLOOKUP(D2333,'1_Causas_Levantadas'!C:D,2,0),\"\")","v":0},"","",null,1,null,1,1,2329]
[null,null,{"$f":"IFERROR(VLOOKUP(D2334,'1_Causas_Levantadas'!C:D,2,0),\"\")","v":0},"","",null,1,null,1,1,2330]
[null,null,{"$f":"IFERROR(VLOOKUP(D2335,'1_Causas_Levantadas'!C:D,2,0),\"\")","v":0},"","",null,1,null,1,1,2331]
[null,null,{"$f":"IFERROR(VLOOKUP(D2336,'1_Causas_Levantadas'!C:D,2,0),\"\")","v":0},"","",null,1,null,1,1,2332]
[null,null,{"$f":"IFERROR(VLOOKUP(D2337,'1_Causas_Levantadas'!C:D,2,0),\"\")","v":0},"","",null,1,null,1,1,2333]
[null,null,{"$f":"IFERROR(VLOOKUP(D2338,'1_Causas_Levantadas'!C:D,2,0),\"\")","v":0},"","",null,1,null,1,1,2334]
[null,null,{"$f":"IFERROR(VLOOKUP(D2339,'1_Causas_Levantadas'!C:D,2,0),\"\")","v":0},"","",null,1,null,1,1,2335]
[null,null,{"$f":"IFERROR(VLOOKUP(D2340,'1_Causas_Levantadas'!C:D,2,0),\"\")","v":0},"","",null,1,null,1,1,2336]
[null,null,{"$f":"IFERROR(VLOOKUP(D2341,'1_Causas_Levantadas'!C:D,2,0),\"\")","v":0},"","",null,1,null,1,1,2337]
[null,null,{"$f":"IFERROR(VLOOKUP(D2342,'1_Causas_Levantadas'!C:D,2,0),\"\")","v":0},"","",null,1,null,1,1,2338]
[null,null,{"$f":"IFERROR(VLOOKUP(D2343,'1_Causas_Levantadas'!C:D,2,0),\"\")","v":0},"","",null,1,null,1,1,2339]
[null,null,{"$f":"IFERROR(VLOOKUP(D2344,'1_Causas_Levantadas'!C:D,2,0),\"\")","v":0},"","",null,1,null,1,1,2340]
[null,null,{"$f":"IFERROR(VLOOKUP(D2345,'1_Causas_Levantadas'!C:D,2,0),\"\")","v":0},"","",null,1,null,1,1,2341]
[null,null,{"$f":"IFERROR(VLOOKUP(D2346,'1_Causas_Levantadas'!C:D,2,0),\"\")","v":0},"","",null,1,null,1,1,2342]
[null,null,{"$f":"IFERROR(VLOOKUP(D2347,'1_Causas_Levantadas'!C:D,2,0),\"\")","v":0},"","",null,1,null,1,1,2343]
[null,null,{"$f":"IFERROR(VLOOKUP(D2348,'1_Causas_Levantadas'!C:D,2,0),\"\")","v":0},"","",null,1,null,1,1,2344]
[null,null,{"$f":"IFERROR(VLOOKUP(D2349,'1_Causas_Levantadas'!C:D,2,0),\"\")","v":0},"","",null,1,null,1,1,2345]
[null,null,{"$f":"IFERROR(VLOOKUP(D2350,'1_Causas_Levantadas'!C:D,2,0),\"\")","v":0},"","",null,1,null,1,1,2346]
[null,null,{"$f":"IFERROR(VLOOKUP(D2351,'1_Causas_Levantadas'!C:D,2,0),\"\")","v":0},"","",null,1,null,1,1,2347]
[null,null,{"$f":"IFERROR(VLOOKUP(D2352,'1_Causas_Levantadas'!C:D,2,0),\"\")","v":0},"","",null,1,null,1,1,2348]
[null,null,{"$f":"IFERROR(VLOOKUP(D2353,'1_Causas_Levantadas'!C:D,2,0),\"\")","v":0},"","",null,1,null,1,1,2349]
[null,null,{"$f":"IFERROR(VLOOKUP(D2354,'1_Causas_Levantadas'!C:D,2,0),\"\")","v":0},"","",null,1,null,1,1,2350]
[null,null,{"$f":"IFERROR(VLOOKUP(D2355,'1_Causas_Levantadas'!C:D,2,0),\"\")","v":0},"","",null,1,null,1,1,2351]
[null,null,{"$f":"IFERROR(VLOOKUP(D2356,'1_Causas_Levantadas'!C:D,2,0),\"\")","v":0},"","",null,1,null,1,1,2352]
[null,null,{"$f":"IFERROR(VLOOKUP(D2357,'1_Causas_Levantadas'!C:D,2,0),\"\")","v":0},"","",null,1,null,1,1,2353]
[null,null,{"$f":"IFERROR(VLOOKUP(D2358,'1_Causas_Levantadas'!C:D,2,0),\"\")","v":0},"","",null,1,null,1,1,2354]
[null,null,{"$f":"IFERROR(VLOOKUP(D2359,'1_Causas_Levantadas'!C:D,2,0),\"\")","v":0},"","",null,1,null,1,1,2355]
[null,null,{"$f":"IFERROR(VLOOKUP(D2360,'1_Causas_Levantadas'!C:D,2,0),\"\")","v":0},"","",null,1,null,1,1,2356]
[null,null,{"$f":"IFERROR(VLOOKUP(D2361,'1_Causas_Levantadas'!C:D,2,0),\"\")","v":0},"","",null,1,null,1,1,2357]
[null,null,{"$f":"IFERROR(VLOOKUP(D2362,'1_Causas_Levantadas'!C:D,2,0),\"\")","v":0},"","",null,1,null,1,1,2358]
[null,null,{"$f":"IFERROR(VLOOKUP(D2363,'1_Causas_Levantadas'!C:D,2,0),\"\")","v":0},"","",null,1,null,1,1,2359]
[null,null,{"$f":"IFERROR(VLOOKUP(D2364,'1_Causas_Levantadas'!C:D,2,0),\"\")","v":0},"","",null,1,null,1,1,2360]
[null,null,{"$f":"IFERROR(VLOOKUP(D2365,'1_Causas_Levantadas'!C:D,2,0),\"\")","v":0},"","",null,1,null,1,1,2361]
[null,null,{"$f":"IFERROR(VLOOKUP(D2366,'1_Causas_Levantadas'!C:D,2,0),\"\")","v":0},"","",null,1,null,1,1,2362]
[null,null,{"$f":"IFERROR(VLOOKUP(D2367,'1_Causas_Levantadas'!C:D,2,0),\"\")","v":0},"","",null,1,null,1,1,2363]
[null,null,{"$f":"IFERROR(VLOOKUP(D2368,'1_Causas_Levantadas'!C:D,2,0),\"\")","v":0},"","",null,1,null,1,1,2364]
[null,null,{"$f":"IFERROR(VLOOKUP(D2369,'1_Causas_Levantadas'!C:D,2,0),\"\")","v":0},"","",null,1,null,1,1,2365]
[null,null,{"$f":"IFERROR(VLOOKUP(D2370,'1_Causas_Levantadas'!C:D,2,0),\"\")","v":0},"","",null,1,null,1,1,2366]
[null,null,{"$f":"IFERROR(VLOOKUP(D2371,'1_Causas_Levantadas'!C:D,2,0),\"\")","v":0},"","",null,1,null,1,1,2367]
[null,null,{"$f":"IFERROR(VLOOKUP(D2372,'1_Causas_Levantadas'!C:D,2,0),\"\")","v":0},"","",null,1,null,1,1,2368]
[null,null,{"$f":"IFERROR(VLOOKUP(D2373,'1_Causas_Levantadas'!C:D,2,0),\"\")","v":0},"","",null,1,null,1,1,2369]
[null,null,{"$f":"IFERROR(VLOOKUP(D2374,'1_Causas_Levantadas'!C:D,2,0),\"\")","v":0},{"$f":"IF(K2374<=$H$4,(IF(G2373>0,G2374,$G$5)),\"\")","v":""},{"$f":"IF(D2374<>\"\",\"Participante \"&K2374,\"\")","v":""},null,{"$f":"J2374","v":1},null,{"$f":"IF(G2374=$G$5,1,0)","v":1},1,{"$f":"I2374+K2373","v":2370}]
[null,null,{"$f":"IFERROR(VLOOKUP(D2375,'1_Causas_Levantadas'!C:D,2,0),\"\")","v":0},"","",null,1,null,1,{"$f":"IF(G2374<$G$4,J2374+1,1)","v":1},2371]
[null,null,{"$f":"IFERROR(VLOOKUP(D2376,'1_Causas_Levantadas'!C:D,2,0),\"\")","v":0},"","",null,1,null,1,1,2372]
[null,null,{"$f":"IFERROR(VLOOKUP(D2377,'1_Causas_Levantadas'!C:D,2,0),\"\")","v":0},"","",null,1,null,1,1,2373]
[null,null,{"$f":"IFERROR(VLOOKUP(D2378,'1_Causas_Levantadas'!C:D,2,0),\"\")","v":0},"","",null,1,null,1,1,2374]
[null,null,{"$f":"IFERROR(VLOOKUP(D2379,'1_Causas_Levantadas'!C:D,2,0),\"\")","v":0},"","",null,1,null,1,1,2375]
[null,null,{"$f":"IFERROR(VLOOKUP(D2380,'1_Causas_Levantadas'!C:D,2,0),\"\")","v":0},"","",null,1,null,1,1,2376]
[null,null,{"$f":"IFERROR(VLOOKUP(D2381,'1_Causas_Levantadas'!C:D,2,0),\"\")","v":0},"","",null,1,null,1,1,2377]
[null,null,{"$f":"IFERROR(VLOOKUP(D2382,'1_Causas_Levantadas'!C:D,2,0),\"\")","v":0},"","",null,1,null,1,1,2378]
[null,null,{"$f":"IFERROR(VLOOKUP(D2383,'1_Causas_Levantadas'!C:D,2,0),\"\")","v":0},"","",null,1,null,1,1,2379]
[null,null,{"$f":"IFERROR(VLOOKUP(D2384,'1_Causas_Levantadas'!C:D,2,0),\"\")","v":0},"","",null,1,null,1,1,2380]
[null,null,{"$f":"IFERROR(VLOOKUP(D2385,'1_Causas_Levantadas'!C:D,2,0),\"\")","v":0},"","",null,1,null,1,1,2381]
[null,null,{"$f":"IFERROR(VLOOKUP(D2386,'1_Causas_Levantadas'!C:D,2,0),\"\")","v":0},"","",null,1,null,1,1,2382]
[null,null,{"$f":"IFERROR(VLOOKUP(D2387,'1_Causas_Levantadas'!C:D,2,0),\"\")","v":0},"","",null,1,null,1,1,2383]
[null,null,{"$f":"IFERROR(VLOOKUP(D2388,'1_Causas_Levantadas'!C:D,2,0),\"\")","v":0},"","",null,1,null,1,1,2384]
[null,null,{"$f":"IFERROR(VLOOKUP(D2389,'1_Causas_Levantadas'!C:D,2,0),\"\")","v":0},"","",null,1,null,1,1,2385]
[null,null,{"$f":"IFERROR(VLOOKUP(D2390,'1_Causas_Levantadas'!C:D,2,0),\"\")","v":0},"","",null,1,null,1,1,2386]
[null,null,{"$f":"IFERROR(VLOOKUP(D2391,'1_Causas_Levantadas'!C:D,2,0),\"\")","v":0},"","",null,1,null,1,1,2387]
[null,null,{"$f":"IFERROR(VLOOKUP(D2392,'1_Causas_Levantadas'!C:D,2,0),\"\")","v":0},"","",null,1,null,1,1,2388]
[null,null,{"$f":"IFERROR(VLOOKUP(D2393,'1_Causas_Levantadas'!C:D,2,0),\"\")","v":0},"","",null,1,null,1,1,2389]
[null,null,{"$f":"IFERROR(VLOOKUP(D2394,'1_Causas_Levantadas'!C:D,2,0),\"\")","v":0},"","",null,1,null,1,1,2390]
[null,null,{"$f":"IFERROR(VLOOKUP(D2395,'1_Causas_Levantadas'!C:D,2,0),\"\")","v":0},"","",null,1,null,1,1,2391]
[null,null,{"$f":"IFERROR(VLOOKUP(D2396,'1_Causas_Levantadas'!C:D,2,0),\"\")","v":0},"","",null,1,null,1,1,2392]
[null,null,{"$f":"IFERROR(VLOOKUP(D2397,'1_Causas_Levantadas'!C:D,2,0),\"\")","v":0},"","",null,1,null,1,1,2393]
[null,null,{"$f":"IFERROR(VLOOKUP(D2398,'1_Causas_Levantadas'!C:D,2,0),\"\")","v":0},"","",null,1,null,1,1,2394]
[null,null,{"$f":"IFERROR(VLOOKUP(D2399,'1_Causas_Levantadas'!C:D,2,0),\"\")","v":0},"","",null,1,null,1,1,2395]
[null,null,{"$f":"IFERROR(VLOOKUP(D2400,'1_Causas_Levantadas'!C:D,2,0),\"\")","v":0},"","",null,1,null,1,1,2396]
[null,null,{"$f":"IFERROR(VLOOKUP(D2401,'1_Causas_Levantadas'!C:D,2,0),\"\")","v":0},"","",null,1,null,1,1,2397]
[null,null,{"$f":"IFERROR(VLOOKUP(D2402,'1_Causas_Levantadas'!C:D,2,0),\"\")","v":0},"","",null,1,null,1,1,2398]
[null,null,{"$f":"IFERROR(VLOOKUP(D2403,'1_Causas_Levantadas'!C:D,2,0),\"\")","v":0},"","",null,1,null,1,1,2399]
[null,null,{"$f":"IFERROR(VLOOKUP(D2404,'1_Causas_Levantadas'!C:D,2,0),\"\")","v":0},"","",null,1,null,1,1,2400]
[null,null,{"$f":"IFERROR(VLOOKUP(D2405,'1_Causas_Levantadas'!C:D,2,0),\"\")","v":0},"","",null,1,null,1,1,2401]
[null,null,{"$f":"IFERROR(VLOOKUP(D2406,'1_Causas_Levantadas'!C:D,2,0),\"\")","v":0},"","",null,1,null,1,1,2402]
[null,null,{"$f":"IFERROR(VLOOKUP(D2407,'1_Causas_Levantadas'!C:D,2,0),\"\")","v":0},"","",null,1,null,1,1,2403]
[null,null,{"$f":"IFERROR(VLOOKUP(D2408,'1_Causas_Levantadas'!C:D,2,0),\"\")","v":0},"","",null,1,null,1,1,2404]
[null,null,{"$f":"IFERROR(VLOOKUP(D2409,'1_Causas_Levantadas'!C:D,2,0),\"\")","v":0},"","",null,1,null,1,1,2405]
[null,null,{"$f":"IFERROR(VLOOKUP(D2410,'1_Causas_Levantadas'!C:D,2,0),\"\")","v":0},"","",null,1,null,1,1,2406]
[null,null,{"$f":"IFERROR(VLOOKUP(D2411,'1_Causas_Levantadas'!C:D,2,0),\"\")","v":0},"","",null,1,null,1,1,2407]
[null,null,{"$f":"IFERROR(VLOOKUP(D2412,'1_Causas_Levantadas'!C:D,2,0),\"\")","v":0},"","",null,1,null,1,1,2408]
[null,null,{"$f":"IFERROR(VLOOKUP(D2413,'1_Causas_Levantadas'!C:D,2,0),\"\")","v":0},"","",null,1,null,1,1,2409]
[null,null,{"$f":"IFERROR(VLOOKUP(D2414,'1_Causas_Levantadas'!C:D,2,0),\"\")","v":0},"","",null,1,null,1,1,2410]
[null,null,{"$f":"IFERROR(VLOOKUP(D2415,'1_Causas_Levantadas'!C:D,2,0),\"\")","v":0},"","",null,1,null,1,1,2411]
[null,null,{"$f":"IFERROR(VLOOKUP(D2416,'1_Causas_Levantadas'!C:D,2,0),\"\")","v":0},"","",null,1,null,1,1,2412]
[null,null,{"$f":"IFERROR(VLOOKUP(D2417,'1_Causas_Levantadas'!C:D,2,0),\"\")","v":0},"","",null,1,null,1,1,2413]
[null,null,{"$f":"IFERROR(VLOOKUP(D2418,'1_Causas_Levantadas'!C:D,2,0),\"\")","v":0},"","",null,1,null,1,1,2414]
[null,null,{"$f":"IFERROR(VLOOKUP(D2419,'1_Causas_Levantadas'!C:D,2,0),\"\")","v":0},"","",null,1,null,1,1,2415]
[null,null,{"$f":"IFERROR(VLOOKUP(D2420,'1_Causas_Levantadas'!C:D,2,0),\"\")","v":0},"","",null,1,null,1,1,2416]
[null,null,{"$f":"IFERROR(VLOOKUP(D2421,'1_Causas_Levantadas'!C:D,2,0),\"\")","v":0},"","",null,1,null,1,1,2417]
[null,null,{"$f":"IFERROR(VLOOKUP(D2422,'1_Causas_Levantadas'!C:D,2,0),\"\")","v":0},"","",null,1,null,1,1,2418]
[null,null,{"$f":"IFERROR(VLOOKUP(D2423,'1_Causas_Levantadas'!C:D,2,0),\"\")","v":0},"","",null,1,null,1,1,2419]
[null,null,{"$f":"IFERROR(VLOOKUP(D2424,'1_Causas_Levantadas'!C:D,2,0),\"\")","v":0},"","",null,1,null,1,1,2420]
[null,null,{"$f":"IFERROR(VLOOKUP(D2425,'1_Causas_Levantadas'!C:D,2,0),\"\")","v":0},"","",null,1,null,1,1,2421]
[null,null,{"$f":"IFERROR(VLOOKUP(D2426,'1_Causas_Levantadas'!C:D,2,0),\"\")","v":0},"","",null,1,null,1,1,2422]
[null,null,{"$f":"IFERROR(VLOOKUP(D2427,'1_Causas_Levantadas'!C:D,2,0),\"\")","v":0},"","",null,1,null,1,1,2423]
[null,null,{"$f":"IFERROR(VLOOKUP(D2428,'1_Causas_Levantadas'!C:D,2,0),\"\")","v":0},"","",null,1,null,1,1,2424]
[null,null,{"$f":"IFERROR(VLOOKUP(D2429,'1_Causas_Levantadas'!C:D,2,0),\"\")","v":0},"","",null,1,null,1,1,2425]
[null,null,{"$f":"IFERROR(VLOOKUP(D2430,'1_Causas_Levantadas'!C:D,2,0),\"\")","v":0},"","",null,1,null,1,1,2426]
[null,null,{"$f":"IFERROR(VLOOKUP(D2431,'1_Causas_Levantadas'!C:D,2,0),\"\")","v":0},"","",null,1,null,1,1,2427]
[null,null,{"$f":"IFERROR(VLOOKUP(D2432,'1_Causas_Levantadas'!C:D,2,0),\"\")","v":0},"","",null,1,null,1,1,2428]
[null,null,{"$f":"IFERROR(VLOOKUP(D2433,'1_Causas_Levantadas'!C:D,2,0),\"\")","v":0},"","",null,1,null,1,1,2429]
[null,null,{"$f":"IFERROR(VLOOKUP(D2434,'1_Causas_Levantadas'!C:D,2,0),\"\")","v":0},"","",null,1,null,1,1,2430]
[null,null,{"$f":"IFERROR(VLOOKUP(D2435,'1_Causas_Levantadas'!C:D,2,0),\"\")","v":0},"","",null,1,null,1,1,2431]
[null,null,{"$f":"IFERROR(VLOOKUP(D2436,'1_Causas_Levantadas'!C:D,2,0),\"\")","v":0},"","",null,1,null,1,1,2432]
[null,null,{"$f":"IFERROR(VLOOKUP(D2437,'1_Causas_Levantadas'!C:D,2,0),\"\")","v":0},"","",null,1,null,1,1,2433]
[null,null,{"$f":"IFERROR(VLOOKUP(D2438,'1_Causas_Levantadas'!C:D,2,0),\"\")","v":0},{"$f":"IF(K2438<=$H$4,(IF(G2437>0,G2438,$G$5)),\"\")","v":""},{"$f":"IF(D2438<>\"\",\"Participante \"&K2438,\"\")","v":""},null,{"$f":"J2438","v":1},null,{"$f":"IF(G2438=$G$5,1,0)","v":1},1,{"$f":"I2438+K2437","v":2434}]
[null,null,{"$f":"IFERROR(VLOOKUP(D2439,'1_Causas_Levantadas'!C:D,2,0),\"\")","v":0},"","",null,1,null,1,{"$f":"IF(G2438<$G$4,J2438+1,1)","v":1},2435]
[null,null,{"$f":"IFERROR(VLOOKUP(D2440,'1_Causas_Levantadas'!C:D,2,0),\"\")","v":0},"","",null,1,null,1,1,2436]
[null,null,{"$f":"IFERROR(VLOOKUP(D2441,'1_Causas_Levantadas'!C:D,2,0),\"\")","v":0},"","",null,1,null,1,1,2437]
[null,null,{"$f":"IFERROR(VLOOKUP(D2442,'1_Causas_Levantadas'!C:D,2,0),\"\")","v":0},"","",null,1,null,1,1,2438]
[null,null,{"$f":"IFERROR(VLOOKUP(D2443,'1_Causas_Levantadas'!C:D,2,0),\"\")","v":0},"","",null,1,null,1,1,2439]
[null,null,{"$f":"IFERROR(VLOOKUP(D2444,'1_Causas_Levantadas'!C:D,2,0),\"\")","v":0},"","",null,1,null,1,1,2440]
[null,null,{"$f":"IFERROR(VLOOKUP(D2445,'1_Causas_Levantadas'!C:D,2,0),\"\")","v":0},"","",null,1,null,1,1,2441]
[null,null,{"$f":"IFERROR(VLOOKUP(D2446,'1_Causas_Levantadas'!C:D,2,0),\"\")","v":0},"","",null,1,null,1,1,2442]
[null,null,{"$f":"IFERROR(VLOOKUP(D2447,'1_Causas_Levantadas'!C:D,2,0),\"\")","v":0},"","",null,1,null,1,1,2443]
[null,null,{"$f":"IFERROR(VLOOKUP(D2448,'1_Causas_Levantadas'!C:D,2,0),\"\")","v":0},"","",null,1,null,1,1,2444]
[null,null,{"$f":"IFERROR(VLOOKUP(D2449,'1_Causas_Levantadas'!C:D,2,0),\"\")","v":0},"","",null,1,null,1,1,2445]
[null,null,{"$f":"IFERROR(VLOOKUP(D2450,'1_Causas_Levantadas'!C:D,2,0),\"\")","v":0},"","",null,1,null,1,1,2446]
[null,null,{"$f":"IFERROR(VLOOKUP(D2451,'1_Causas_Levantadas'!C:D,2,0),\"\")","v":0},"","",null,1,null,1,1,2447]
[null,null,{"$f":"IFERROR(VLOOKUP(D2452,'1_Causas_Levantadas'!C:D,2,0),\"\")","v":0},"","",null,1,null,1,1,2448]
[null,null,{"$f":"IFERROR(VLOOKUP(D2453,'1_Causas_Levantadas'!C:D,2,0),\"\")","v":0},"","",null,1,null,1,1,2449]
[null,null,{"$f":"IFERROR(VLOOKUP(D2454,'1_Causas_Levantadas'!C:D,2,0),\"\")","v":0},"","",null,1,null,1,1,2450]
[null,null,{"$f":"IFERROR(VLOOKUP(D2455,'1_Causas_Levantadas'!C:D,2,0),\"\")","v":0},"","",null,1,null,1,1,2451]
[null,null,{"$f":"IFERROR(VLOOKUP(D2456,'1_Causas_Levantadas'!C:D,2,0),\"\")","v":0},"","",null,1,null,1,1,2452]
[null,null,{"$f":"IFERROR(VLOOKUP(D2457,'1_Causas_Levantadas'!C:D,2,0),\"\")","v":0},"","",null,1,null,1,1,2453]
[null,null,{"$f":"IFERROR(VLOOKUP(D2458,'1_Causas_Levantadas'!C:D,2,0),\"\")","v":0},"","",null,1,null,1,1,2454]
[null,null,{"$f":"IFERROR(VLOOKUP(D2459,'1_Causas_Levantadas'!C:D,2,0),\"\")","v":0},"","",null,1,null,1,1,2455]
[null,null,{"$f":"IFERROR(VLOOKUP(D2460,'1_Causas_Levantadas'!C:D,2,0),\"\")","v":0},"","",null,1,null,1,1,2456]
[null,null,{"$f":"IFERROR(VLOOKUP(D2461,'1_Causas_Levantadas'!C:D,2,0),\"\")","v":0},"","",null,1,null,1,1,2457]
[null,null,{"$f":"IFERROR(VLOOKUP(D2462,'1_Causas_Levantadas'!C:D,2,0),\"\")","v":0},"","",null,1,null,1,1,2458]
[null,null,{"$f":"IFERROR(VLOOKUP(D2463,'1_Causas_Levantadas'!C:D,2,0),\"\")","v":0},"","",null,1,null,1,1,2459]
[null,null,{"$f":"IFERROR(VLOOKUP(D2464,'1_Causas_Levantadas'!C:D,2,0),\"\")","v":0},"","",null,1,null,1,1,2460]
[null,null,{"$f":"IFERROR(VLOOKUP(D2465,'1_Causas_Levantadas'!C:D,2,0),\"\")","v":0},"","",null,1,null,1,1,2461]
[null,null,{"$f":"IFERROR(VLOOKUP(D2466,'1_Causas_Levantadas'!C:D,2,0),\"\")","v":0},"","",null,1,null,1,1,2462]
[null,null,{"$f":"IFERROR(VLOOKUP(D2467,'1_Causas_Levantadas'!C:D,2,0),\"\")","v":0},"","",null,1,null,1,1,2463]
[null,null,{"$f":"IFERROR(VLOOKUP(D2468,'1_Causas_Levantadas'!C:D,2,0),\"\")","v":0},"","",null,1,null,1,1,2464]
[null,null,{"$f":"IFERROR(VLOOKUP(D2469,'1_Causas_Levantadas'!C:D,2,0),\"\")","v":0},"","",null,1,null,1,1,2465]
[null,null,{"$f":"IFERROR(VLOOKUP(D2470,'1_Causas_Levantadas'!C:D,2,0),\"\")","v":0},"","",null,1,null,1,1,2466]
[null,null,{"$f":"IFERROR(VLOOKUP(D2471,'1_Causas_Levantadas'!C:D,2,0),\"\")","v":0},"","",null,1,null,1,1,2467]
[null,null,{"$f":"IFERROR(VLOOKUP(D2472,'1_Causas_Levantadas'!C:D,2,0),\"\")","v":0},"","",null,1,null,1,1,2468]
[null,null,{"$f":"IFERROR(VLOOKUP(D2473,'1_Causas_Levantadas'!C:D,2,0),\"\")","v":0},"","",null,1,null,1,1,2469]
[null,null,{"$f":"IFERROR(VLOOKUP(D2474,'1_Causas_Levantadas'!C:D,2,0),\"\")","v":0},"","",null,1,null,1,1,2470]
[null,null,{"$f":"IFERROR(VLOOKUP(D2475,'1_Causas_Levantadas'!C:D,2,0),\"\")","v":0},"","",null,1,null,1,1,2471]
[null,null,{"$f":"IFERROR(VLOOKUP(D2476,'1_Causas_Levantadas'!C:D,2,0),\"\")","v":0},"","",null,1,null,1,1,2472]
[null,null,{"$f":"IFERROR(VLOOKUP(D2477,'1_Causas_Levantadas'!C:D,2,0),\"\")","v":0},"","",null,1,null,1,1,2473]
[null,null,{"$f":"IFERROR(VLOOKUP(D2478,'1_Causas_Levantadas'!C:D,2,0),\"\")","v":0},"","",null,1,null,1,1,2474]
[null,null,{"$f":"IFERROR(VLOOKUP(D2479,'1_Causas_Levantadas'!C:D,2,0),\"\")","v":0},"","",null,1,null,1,1,2475]
[null,null,{"$f":"IFERROR(VLOOKUP(D2480,'1_Causas_Levantadas'!C:D,2,0),\"\")","v":0},"","",null,1,null,1,1,2476]
[null,null,{"$f":"IFERROR(VLOOKUP(D2481,'1_Causas_Levantadas'!C:D,2,0),\"\")","v":0},"","",null,1,null,1,1,2477]
[null,null,{"$f":"IFERROR(VLOOKUP(D2482,'1_Causas_Levantadas'!C:D,2,0),\"\")","v":0},"","",null,1,null,1,1,2478]
[null,null,{"$f":"IFERROR(VLOOKUP(D2483,'1_Causas_Levantadas'!C:D,2,0),\"\")","v":0},"","",null,1,null,1,1,2479]
[null,null,{"$f":"IFERROR(VLOOKUP(D2484,'1_Causas_Levantadas'!C:D,2,0),\"\")","v":0},"","",null,1,null,1,1,2480]
[null,null,{"$f":"IFERROR(VLOOKUP(D2485,'1_Causas_Levantadas'!C:D,2,0),\"\")","v":0},"","",null,1,null,1,1,2481]
[null,null,{"$f":"IFERROR(VLOOKUP(D2486,'1_Causas_Levantadas'!C:D,2,0),\"\")","v":0},"","",null,1,null,1,1,2482]
[null,null,{"$f":"IFERROR(VLOOKUP(D2487,'1_Causas_Levantadas'!C:D,2,0),\"\")","v":0},"","",null,1,null,1,1,2483]
[null,null,{"$f":"IFERROR(VLOOKUP(D2488,'1_Causas_Levantadas'!C:D,2,0),\"\")","v":0},"","",null,1,null,1,1,2484]
[null,null,{"$f":"IFERROR(VLOOKUP(D2489,'1_Causas_Levantadas'!C:D,2,0),\"\")","v":0},"","",null,1,null,1,1,2485]
[null,null,{"$f":"IFERROR(VLOOKUP(D2490,'1_Causas_Levantadas'!C:D,2,0),\"\")","v":0},"","",null,1,null,1,1,2486]
[null,null,{"$f":"IFERROR(VLOOKUP(D2491,'1_Causas_Levantadas'!C:D,2,0),\"\")","v":0},"","",null,1,null,1,1,2487]
[null,null,{"$f":"IFERROR(VLOOKUP(D2492,'1_Causas_Levantadas'!C:D,2,0),\"\")","v":0},"","",null,1,null,1,1,2488]
[null,null,{"$f":"IFERROR(VLOOKUP(D2493,'1_Causas_Levantadas'!C:D,2,0),\"\")","v":0},"","",null,1,null,1,1,2489]
[null,null,{"$f":"IFERROR(VLOOKUP(D2494,'1_Causas_Levantadas'!C:D,2,0),\"\")","v":0},"","",null,1,null,1,1,2490]
[null,null,{"$f":"IFERROR(VLOOKUP(D2495,'1_Causas_Levantadas'!C:D,2,0),\"\")","v":0},"","",null,1,null,1,1,2491]
[null,null,{"$f":"IFERROR(VLOOKUP(D2496,'1_Causas_Levantadas'!C:D,2,0),\"\")","v":0},"","",null,1,null,1,1,2492]
[null,null,{"$f":"IFERROR(VLOOKUP(D2497,'1_Causas_Levantadas'!C:D,2,0),\"\")","v":0},"","",null,1,null,1,1,2493]
[null,null,{"$f":"IFERROR(VLOOKUP(D2498,'1_Causas_Levantadas'!C:D,2,0),\"\")","v":0},"","",null,1,null,1,1,2494]
[null,null,{"$f":"IFERROR(VLOOKUP(D2499,'1_Causas_Levantadas'!C:D,2,0),\"\")","v":0},"","",null,1,null,1,1,2495]
[null,null,{"$f":"IFERROR(VLOOKUP(D2500,'1_Causas_Levantadas'!C:D,2,0),\"\")","v":0},"","",null,1,null,1,1,2496]
[null,null,{"$f":"IFERROR(VLOOKUP(D2501,'1_Causas_Levantadas'!C:D,2,0),\"\")","v":0},"","",null,1,null,1,1,2497]
[null,null,{"$f":"IFERROR(VLOOKUP(D2502,'1_Causas_Levantadas'!C:D,2,0),\"\")","v":0},{"$f":"IF(K2502<=$H$4,(IF(G2501>0,G2502,$G$5)),\"\")","v":""},{"$f":"IF(D2502<>\"\",\"Participante \"&K2502,\"\")","v":""},null,{"$f":"J2502","v":1},null,{"$f":"IF(G2502=$G$5,1,0)","v":1},1,{"$f":"I2502+K2501","v":2498}]
[null,null,{"$f":"IFERROR(VLOOKUP(D2503,'1_Causas_Levantadas'!C:D,2,0),\"\")","v":0},"","",null,1,null,1,{"$f":"IF(G2502<$G$4,J2502+1,1)","v":1},2499]
[null,null,{"$f":"IFERROR(VLOOKUP(D2504,'1_Causas_Levantadas'!C:D,2,0),\"\")","v":0},"","",null,1,null,1,1,2500]
[null,null,{"$f":"IFERROR(VLOOKUP(D2505,'1_Causas_Levantadas'!C:D,2,0),\"\")","v":0},"","",null,1,null,1,1,2501]
[null,null,{"$f":"IFERROR(VLOOKUP(D2506,'1_Causas_Levantadas'!C:D,2,0),\"\")","v":0},"","",null,1,null,1,1,2502]
[null,null,{"$f":"IFERROR(VLOOKUP(D2507,'1_Causas_Levantadas'!C:D,2,0),\"\")","v":0},"","",null,1,null,1,1,2503]
[null,null,{"$f":"IFERROR(VLOOKUP(D2508,'1_Causas_Levantadas'!C:D,2,0),\"\")","v":0},"","",null,1,null,1,1,2504]
[null,null,{"$f":"IFERROR(VLOOKUP(D2509,'1_Causas_Levantadas'!C:D,2,0),\"\")","v":0},"","",null,1,null,1,1,2505]
[null,null,{"$f":"IFERROR(VLOOKUP(D2510,'1_Causas_Levantadas'!C:D,2,0),\"\")","v":0},"","",null,1,null,1,1,2506]
[null,null,{"$f":"IFERROR(VLOOKUP(D2511,'1_Causas_Levantadas'!C:D,2,0),\"\")","v":0},"","",null,1,null,1,1,2507]
[null,null,{"$f":"IFERROR(VLOOKUP(D2512,'1_Causas_Levantadas'!C:D,2,0),\"\")","v":0},"","",null,1,null,1,1,2508]
[null,null,{"$f":"IFERROR(VLOOKUP(D2513,'1_Causas_Levantadas'!C:D,2,0),\"\")","v":0},"","",null,1,null,1,1,2509]
[null,null,{"$f":"IFERROR(VLOOKUP(D2514,'1_Causas_Levantadas'!C:D,2,0),\"\")","v":0},"","",null,1,null,1,1,2510]
[null,null,{"$f":"IFERROR(VLOOKUP(D2515,'1_Causas_Levantadas'!C:D,2,0),\"\")","v":0},"","",null,1,null,1,1,2511]
[null,null,{"$f":"IFERROR(VLOOKUP(D2516,'1_Causas_Levantadas'!C:D,2,0),\"\")","v":0},"","",null,1,null,1,1,2512]
[null,null,{"$f":"IFERROR(VLOOKUP(D2517,'1_Causas_Levantadas'!C:D,2,0),\"\")","v":0},"","",null,1,null,1,1,2513]
[null,null,{"$f":"IFERROR(VLOOKUP(D2518,'1_Causas_Levantadas'!C:D,2,0),\"\")","v":0},"","",null,1,null,1,1,2514]
[null,null,{"$f":"IFERROR(VLOOKUP(D2519,'1_Causas_Levantadas'!C:D,2,0),\"\")","v":0},"","",null,1,null,1,1,2515]
[null,null,{"$f":"IFERROR(VLOOKUP(D2520,'1_Causas_Levantadas'!C:D,2,0),\"\")","v":0},"","",null,1,null,1,1,2516]
[null,null,{"$f":"IFERROR(VLOOKUP(D2521,'1_Causas_Levantadas'!C:D,2,0),\"\")","v":0},"","",null,1,null,1,1,2517]
[null,null,{"$f":"IFERROR(VLOOKUP(D2522,'1_Causas_Levantadas'!C:D,2,0),\"\")","v":0},"","",null,1,null,1,1,2518]
[null,null,{"$f":"IFERROR(VLOOKUP(D2523,'1_Causas_Levantadas'!C:D,2,0),\"\")","v":0},"","",null,1,null,1,1,2519]
[null,null,{"$f":"IFERROR(VLOOKUP(D2524,'1_Causas_Levantadas'!C:D,2,0),\"\")","v":0},"","",null,1,null,1,1,2520]
[null,null,{"$f":"IFERROR(VLOOKUP(D2525,'1_Causas_Levantadas'!C:D,2,0),\"\")","v":0},"","",null,1,null,1,1,2521]
[null,null,{"$f":"IFERROR(VLOOKUP(D2526,'1_Causas_Levantadas'!C:D,2,0),\"\")","v":0},"","",null,1,null,1,1,2522]
[null,null,{"$f":"IFERROR(VLOOKUP(D2527,'1_Causas_Levantadas'!C:D,2,0),\"\")","v":0},"","",null,1,null,1,1,2523]
[null,null,{"$f":"IFERROR(VLOOKUP(D2528,'1_Causas_Levantadas'!C:D,2,0),\"\")","v":0},"","",null,1,null,1,1,2524]
[null,null,{"$f":"IFERROR(VLOOKUP(D2529,'1_Causas_Levantadas'!C:D,2,0),\"\")","v":0},"","",null,1,null,1,1,2525]
[null,null,{"$f":"IFERROR(VLOOKUP(D2530,'1_Causas_Levantadas'!C:D,2,0),\"\")","v":0},"","",null,1,null,1,1,2526]
[null,null,{"$f":"IFERROR(VLOOKUP(D2531,'1_Causas_Levantadas'!C:D,2,0),\"\")","v":0},"","",null,1,null,1,1,2527]
[null,null,{"$f":"IFERROR(VLOOKUP(D2532,'1_Causas_Levantadas'!C:D,2,0),\"\")","v":0},"","",null,1,null,1,1,2528]
[null,null,{"$f":"IFERROR(VLOOKUP(D2533,'1_Causas_Levantadas'!C:D,2,0),\"\")","v":0},"","",null,1,null,1,1,2529]
[null,null,{"$f":"IFERROR(VLOOKUP(D2534,'1_Causas_Levantadas'!C:D,2,0),\"\")","v":0},"","",null,1,null,1,1,2530]
[null,null,{"$f":"IFERROR(VLOOKUP(D2535,'1_Causas_Levantadas'!C:D,2,0),\"\")","v":0},"","",null,1,null,1,1,2531]
[null,null,{"$f":"IFERROR(VLOOKUP(D2536,'1_Causas_Levantadas'!C:D,2,0),\"\")","v":0},"","",null,1,null,1,1,2532]
[null,null,{"$f":"IFERROR(VLOOKUP(D2537,'1_Causas_Levantadas'!C:D,2,0),\"\")","v":0},"","",null,1,null,1,1,2533]
[null,null,{"$f":"IFERROR(VLOOKUP(D2538,'1_Causas_Levantadas'!C:D,2,0),\"\")","v":0},"","",null,1,null,1,1,2534]
[null,null,{"$f":"IFERROR(VLOOKUP(D2539,'1_Causas_Levantadas'!C:D,2,0),\"\")","v":0},"","",null,1,null,1,1,2535]
[null,null,{"$f":"IFERROR(VLOOKUP(D2540,'1_Causas_Levantadas'!C:D,2,0),\"\")","v":0},"","",null,1,null,1,1,2536]
[null,null,{"$f":"IFERROR(VLOOKUP(D2541,'1_Causas_Levantadas'!C:D,2,0),\"\")","v":0},"","",null,1,null,1,1,2537]
[null,null,{"$f":"IFERROR(VLOOKUP(D2542,'1_Causas_Levantadas'!C:D,2,0),\"\")","v":0},"","",null,1,null,1,1,2538]
[null,null,{"$f":"IFERROR(VLOOKUP(D2543,'1_Causas_Levantadas'!C:D,2,0),\"\")","v":0},"","",null,1,null,1,1,2539]
[null,null,{"$f":"IFERROR(VLOOKUP(D2544,'1_Causas_Levantadas'!C:D,2,0),\"\")","v":0},"","",null,1,null,1,1,2540]
[null,null,{"$f":"IFERROR(VLOOKUP(D2545,'1_Causas_Levantadas'!C:D,2,0),\"\")","v":0},"","",null,1,null,1,1,2541]
[null,null,{"$f":"IFERROR(VLOOKUP(D2546,'1_Causas_Levantadas'!C:D,2,0),\"\")","v":0},"","",null,1,null,1,1,2542]
[null,null,{"$f":"IFERROR(VLOOKUP(D2547,'1_Causas_Levantadas'!C:D,2,0),\"\")","v":0},"","",null,1,null,1,1,2543]
[null,null,{"$f":"IFERROR(VLOOKUP(D2548,'1_Causas_Levantadas'!C:D,2,0),\"\")","v":0},"","",null,1,null,1,1,2544]
[null,null,{"$f":"IFERROR(VLOOKUP(D2549,'1_Causas_Levantadas'!C:D,2,0),\"\")","v":0},"","",null,1,null,1,1,2545]
[null,null,{"$f":"IFERROR(VLOOKUP(D2550,'1_Causas_Levantadas'!C:D,2,0),\"\")","v":0},"","",null,1,null,1,1,2546]
[null,null,{"$f":"IFERROR(VLOOKUP(D2551,'1_Causas_Levantadas'!C:D,2,0),\"\")","v":0},"","",null,1,null,1,1,2547]
[null,null,{"$f":"IFERROR(VLOOKUP(D2552,'1_Causas_Levantadas'!C:D,2,0),\"\")","v":0},"","",null,1,null,1,1,2548]
[null,null,{"$f":"IFERROR(VLOOKUP(D2553,'1_Causas_Levantadas'!C:D,2,0),\"\")","v":0},"","",null,1,null,1,1,2549]
[null,null,{"$f":"IFERROR(VLOOKUP(D2554,'1_Causas_Levantadas'!C:D,2,0),\"\")","v":0},"","",null,1,null,1,1,2550]
[null,null,{"$f":"IFERROR(VLOOKUP(D2555,'1_Causas_Levantadas'!C:D,2,0),\"\")","v":0},"","",null,1,null,1,1,2551]
[null,null,{"$f":"IFERROR(VLOOKUP(D2556,'1_Causas_Levantadas'!C:D,2,0),\"\")","v":0},"","",null,1,null,1,1,2552]
[null,null,{"$f":"IFERROR(VLOOKUP(D2557,'1_Causas_Levantadas'!C:D,2,0),\"\")","v":0},"","",null,1,null,1,1,2553]
[null,null,{"$f":"IFERROR(VLOOKUP(D2558,'1_Causas_Levantadas'!C:D,2,0),\"\")","v":0},"","",null,1,null,1,1,2554]
[null,null,{"$f":"IFERROR(VLOOKUP(D2559,'1_Causas_Levantadas'!C:D,2,0),\"\")","v":0},"","",null,1,null,1,1,2555]
[null,null,{"$f":"IFERROR(VLOOKUP(D2560,'1_Causas_Levantadas'!C:D,2,0),\"\")","v":0},"","",null,1,null,1,1,2556]
[null,null,{"$f":"IFERROR(VLOOKUP(D2561,'1_Causas_Levantadas'!C:D,2,0),\"\")","v":0},"","",null,1,null,1,1,2557]
[null,null,{"$f":"IFERROR(VLOOKUP(D2562,'1_Causas_Levantadas'!C:D,2,0),\"\")","v":0},"","",null,1,null,1,1,2558]
[null,null,{"$f":"IFERROR(VLOOKUP(D2563,'1_Causas_Levantadas'!C:D,2,0),\"\")","v":0},"","",null,1,null,1,1,2559]
[null,null,{"$f":"IFERROR(VLOOKUP(D2564,'1_Causas_Levantadas'!C:D,2,0),\"\")","v":0},"","",null,1,null,1,1,2560]
[null,null,{"$f":"IFERROR(VLOOKUP(D2565,'1_Causas_Levantadas'!C:D,2,0),\"\")","v":0},"","",null,1,null,1,1,2561]
[null,null,{"$f":"IFERROR(VLOOKUP(D2566,'1_Causas_Levantadas'!C:D,2,0),\"\")","v":0},{"$f":"IF(K2566<=$H$4,(IF(G2565>0,G2566,$G$5)),\"\")","v":""},{"$f":"IF(D2566<>\"\",\"Participante \"&K2566,\"\")","v":""},null,{"$f":"J2566","v":1},null,{"$f":"IF(G2566=$G$5,1,0)","v":1},1,{"$f":"I2566+K2565","v":2562}]
[null,null,{"$f":"IFERROR(VLOOKUP(D2567,'1_Causas_Levantadas'!C:D,2,0),\"\")","v":0},"","",null,1,null,1,{"$f":"IF(G2566<$G$4,J2566+1,1)","v":1},2563]
[null,null,{"$f":"IFERROR(VLOOKUP(D2568,'1_Causas_Levantadas'!C:D,2,0),\"\")","v":0},"","",null,1,null,1,1,2564]
[null,null,{"$f":"IFERROR(VLOOKUP(D2569,'1_Causas_Levantadas'!C:D,2,0),\"\")","v":0},"","",null,1,null,1,1,2565]
[null,null,{"$f":"IFERROR(VLOOKUP(D2570,'1_Causas_Levantadas'!C:D,2,0),\"\")","v":0},"","",null,1,null,1,1,2566]
[null,null,{"$f":"IFERROR(VLOOKUP(D2571,'1_Causas_Levantadas'!C:D,2,0),\"\")","v":0},"","",null,1,null,1,1,2567]
[null,null,{"$f":"IFERROR(VLOOKUP(D2572,'1_Causas_Levantadas'!C:D,2,0),\"\")","v":0},"","",null,1,null,1,1,2568]
[null,null,{"$f":"IFERROR(VLOOKUP(D2573,'1_Causas_Levantadas'!C:D,2,0),\"\")","v":0},"","",null,1,null,1,1,2569]
[null,null,{"$f":"IFERROR(VLOOKUP(D2574,'1_Causas_Levantadas'!C:D,2,0),\"\")","v":0},"","",null,1,null,1,1,2570]
[null,null,{"$f":"IFERROR(VLOOKUP(D2575,'1_Causas_Levantadas'!C:D,2,0),\"\")","v":0},"","",null,1,null,1,1,2571]
[null,null,{"$f":"IFERROR(VLOOKUP(D2576,'1_Causas_Levantadas'!C:D,2,0),\"\")","v":0},"","",null,1,null,1,1,2572]
[null,null,{"$f":"IFERROR(VLOOKUP(D2577,'1_Causas_Levantadas'!C:D,2,0),\"\")","v":0},"","",null,1,null,1,1,2573]
[null,null,{"$f":"IFERROR(VLOOKUP(D2578,'1_Causas_Levantadas'!C:D,2,0),\"\")","v":0},"","",null,1,null,1,1,2574]
[null,null,{"$f":"IFERROR(VLOOKUP(D2579,'1_Causas_Levantadas'!C:D,2,0),\"\")","v":0},"","",null,1,null,1,1,2575]
[null,null,{"$f":"IFERROR(VLOOKUP(D2580,'1_Causas_Levantadas'!C:D,2,0),\"\")","v":0},"","",null,1,null,1,1,2576]
[null,null,{"$f":"IFERROR(VLOOKUP(D2581,'1_Causas_Levantadas'!C:D,2,0),\"\")","v":0},"","",null,1,null,1,1,2577]
[null,null,{"$f":"IFERROR(VLOOKUP(D2582,'1_Causas_Levantadas'!C:D,2,0),\"\")","v":0},"","",null,1,null,1,1,2578]
[null,null,{"$f":"IFERROR(VLOOKUP(D2583,'1_Causas_Levantadas'!C:D,2,0),\"\")","v":0},"","",null,1,null,1,1,2579]
[null,null,{"$f":"IFERROR(VLOOKUP(D2584,'1_Causas_Levantadas'!C:D,2,0),\"\")","v":0},"","",null,1,null,1,1,2580]
[null,null,{"$f":"IFERROR(VLOOKUP(D2585,'1_Causas_Levantadas'!C:D,2,0),\"\")","v":0},"","",null,1,null,1,1,2581]
[null,null,{"$f":"IFERROR(VLOOKUP(D2586,'1_Causas_Levantadas'!C:D,2,0),\"\")","v":0},"","",null,1,null,1,1,2582]
[null,null,{"$f":"IFERROR(VLOOKUP(D2587,'1_Causas_Levantadas'!C:D,2,0),\"\")","v":0},"","",null,1,null,1,1,2583]
[null,null,{"$f":"IFERROR(VLOOKUP(D2588,'1_Causas_Levantadas'!C:D,2,0),\"\")","v":0},"","",null,1,null,1,1,2584]
[null,null,{"$f":"IFERROR(VLOOKUP(D2589,'1_Causas_Levantadas'!C:D,2,0),\"\")","v":0},"","",null,1,null,1,1,2585]
[null,null,{"$f":"IFERROR(VLOOKUP(D2590,'1_Causas_Levantadas'!C:D,2,0),\"\")","v":0},"","",null,1,null,1,1,2586]
[null,null,{"$f":"IFERROR(VLOOKUP(D2591,'1_Causas_Levantadas'!C:D,2,0),\"\")","v":0},"","",null,1,null,1,1,2587]
[null,null,{"$f":"IFERROR(VLOOKUP(D2592,'1_Causas_Levantadas'!C:D,2,0),\"\")","v":0},"","",null,1,null,1,1,2588]
[null,null,{"$f":"IFERROR(VLOOKUP(D2593,'1_Causas_Levantadas'!C:D,2,0),\"\")","v":0},"","",null,1,null,1,1,2589]
[null,null,{"$f":"IFERROR(VLOOKUP(D2594,'1_Causas_Levantadas'!C:D,2,0),\"\")","v":0},"","",null,1,null,1,1,2590]
[null,null,{"$f":"IFERROR(VLOOKUP(D2595,'1_Causas_Levantadas'!C:D,2,0),\"\")","v":0},"","",null,1,null,1,1,2591]
[null,null,{"$f":"IFERROR(VLOOKUP(D2596,'1_Causas_Levantadas'!C:D,2,0),\"\")","v":0},"","",null,1,null,1,1,2592]
[null,null,{"$f":"IFERROR(VLOOKUP(D2597,'1_Causas_Levantadas'!C:D,2,0),\"\")","v":0},"","",null,1,null,1,1,2593]
[null,null,{"$f":"IFERROR(VLOOKUP(D2598,'1_Causas_Levantadas'!C:D,2,0),\"\")","v":0},"","",null,1,null,1,1,2594]
[null,null,{"$f":"IFERROR(VLOOKUP(D2599,'1_Causas_Levantadas'!C:D,2,0),\"\")","v":0},"","",null,1,null,1,1,2595]
[null,null,{"$f":"IFERROR(VLOOKUP(D2600,'1_Causas_Levantadas'!C:D,2,0),\"\")","v":0},"","",null,1,null,1,1,2596]
[null,null,{"$f":"IFERROR(VLOOKUP(D2601,'1_Causas_Levantadas'!C:D,2,0),\"\")","v":0},"","",null,1,null,1,1,2597]
[null,null,{"$f":"IFERROR(VLOOKUP(D2602,'1_Causas_Levantadas'!C:D,2,0),\"\")","v":0},"","",null,1,null,1,1,2598]
[null,null,{"$f":"IFERROR(VLOOKUP(D2603,'1_Causas_Levantadas'!C:D,2,0),\"\")","v":0},"","",null,1,null,1,1,2599]
[null,null,{"$f":"IFERROR(VLOOKUP(D2604,'1_Causas_Levantadas'!C:D,2,0),\"\")","v":0},"","",null,1,null,1,1,2600]
[null,null,{"$f":"IFERROR(VLOOKUP(D2605,'1_Causas_Levantadas'!C:D,2,0),\"\")","v":0},"","",null,1,null,1,1,2601]
[null,null,{"$f":"IFERROR(VLOOKUP(D2606,'1_Causas_Levantadas'!C:D,2,0),\"\")","v":0},"","",null,1,null,1,1,2602]
[null,null,{"$f":"IFERROR(VLOOKUP(D2607,'1_Causas_Levantadas'!C:D,2,0),\"\")","v":0},"","",null,1,null,1,1,2603]
[null,null,{"$f":"IFERROR(VLOOKUP(D2608,'1_Causas_Levantadas'!C:D,2,0),\"\")","v":0},"","",null,1,null,1,1,2604]
[null,null,{"$f":"IFERROR(VLOOKUP(D2609,'1_Causas_Levantadas'!C:D,2,0),\"\")","v":0},"","",null,1,null,1,1,2605]
[null,null,{"$f":"IFERROR(VLOOKUP(D2610,'1_Causas_Levantadas'!C:D,2,0),\"\")","v":0},"","",null,1,null,1,1,2606]
[null,null,{"$f":"IFERROR(VLOOKUP(D2611,'1_Causas_Levantadas'!C:D,2,0),\"\")","v":0},"","",null,1,null,1,1,2607]
[null,null,{"$f":"IFERROR(VLOOKUP(D2612,'1_Causas_Levantadas'!C:D,2,0),\"\")","v":0},"","",null,1,null,1,1,2608]
[null,null,{"$f":"IFERROR(VLOOKUP(D2613,'1_Causas_Levantadas'!C:D,2,0),\"\")","v":0},"","",null,1,null,1,1,2609]
[null,null,{"$f":"IFERROR(VLOOKUP(D2614,'1_Causas_Levantadas'!C:D,2,0),\"\")","v":0},"","",null,1,null,1,1,2610]
[null,null,{"$f":"IFERROR(VLOOKUP(D2615,'1_Causas_Levantadas'!C:D,2,0),\"\")","v":0},"","",null,1,null,1,1,2611]
[null,null,{"$f":"IFERROR(VLOOKUP(D2616,'1_Causas_Levantadas'!C:D,2,0),\"\")","v":0},"","",null,1,null,1,1,2612]
[null,null,{"$f":"IFERROR(VLOOKUP(D2617,'1_Causas_Levantadas'!C:D,2,0),\"\")","v":0},"","",null,1,null,1,1,2613]
[null,null,{"$f":"IFERROR(VLOOKUP(D2618,'1_Causas_Levantadas'!C:D,2,0),\"\")","v":0},"","",null,1,null,1,1,2614]
[null,null,{"$f":"IFERROR(VLOOKUP(D2619,'1_Causas_Levantadas'!C:D,2,0),\"\")","v":0},"","",null,1,null,1,1,2615]
[null,null,{"$f":"IFERROR(VLOOKUP(D2620,'1_Causas_Levantadas'!C:D,2,0),\"\")","v":0},"","",null,1,null,1,1,2616]
[null,null,{"$f":"IFERROR(VLOOKUP(D2621,'1_Causas_Levantadas'!C:D,2,0),\"\")","v":0},"","",null,1,null,1,1,2617]
[null,null,{"$f":"IFERROR(VLOOKUP(D2622,'1_Causas_Levantadas'!C:D,2,0),\"\")","v":0},"","",null,1,null,1,1,2618]
[null,null,{"$f":"IFERROR(VLOOKUP(D2623,'1_Causas_Levantadas'!C:D,2,0),\"\")","v":0},"","",null,1,null,1,1,2619]
[null,null,{"$f":"IFERROR(VLOOKUP(D2624,'1_Causas_Levantadas'!C:D,2,0),\"\")","v":0},"","",null,1,null,1,1,2620]
[null,null,{"$f":"IFERROR(VLOOKUP(D2625,'1_Causas_Levantadas'!C:D,2,0),\"\")","v":0},"","",null,1,null,1,1,2621]
[null,null,{"$f":"IFERROR(VLOOKUP(D2626,'1_Causas_Levantadas'!C:D,2,0),\"\")","v":0},"","",null,1,null,1,1,2622]
[null,null,{"$f":"IFERROR(VLOOKUP(D2627,'1_Causas_Levantadas'!C:D,2,0),\"\")","v":0},"","",null,1,null,1,1,2623]
[null,null,{"$f":"IFERROR(VLOOKUP(D2628,'1_Causas_Levantadas'!C:D,2,0),\"\")","v":0},"","",null,1,null,1,1,2624]
[null,null,{"$f":"IFERROR(VLOOKUP(D2629,'1_Causas_Levantadas'!C:D,2,0),\"\")","v":0},"","",null,1,null,1,1,2625]
[null,null,{"$f":"IFERROR(VLOOKUP(D2630,'1_Causas_Levantadas'!C:D,2,0),\"\")","v":0},{"$f":"IF(K2630<=$H$4,(IF(G2629>0,G2630,$G$5)),\"\")","v":""},{"$f":"IF(D2630<>\"\",\"Participante \"&K2630,\"\")","v":""},null,{"$f":"J2630","v":1},null,{"$f":"IF(G2630=$G$5,1,0)","v":1},1,{"$f":"I2630+K2629","v":2626}]
[null,null,{"$f":"IFERROR(VLOOKUP(D2631,'1_Causas_Levantadas'!C:D,2,0),\"\")","v":0},"","",null,1,null,1,{"$f":"IF(G2630<$G$4,J2630+1,1)","v":1},2627]
[null,null,{"$f":"IFERROR(VLOOKUP(D2632,'1_Causas_Levantadas'!C:D,2,0),\"\")","v":0},"","",null,1,null,1,1,2628]
[null,null,{"$f":"IFERROR(VLOOKUP(D2633,'1_Causas_Levantadas'!C:D,2,0),\"\")","v":0},"","",null,1,null,1,1,2629]
[null,null,{"$f":"IFERROR(VLOOKUP(D2634,'1_Causas_Levantadas'!C:D,2,0),\"\")","v":0},"","",null,1,null,1,1,2630]
[null,null,{"$f":"IFERROR(VLOOKUP(D2635,'1_Causas_Levantadas'!C:D,2,0),\"\")","v":0},"","",null,1,null,1,1,2631]
[null,null,{"$f":"IFERROR(VLOOKUP(D2636,'1_Causas_Levantadas'!C:D,2,0),\"\")","v":0},"","",null,1,null,1,1,2632]
[null,null,{"$f":"IFERROR(VLOOKUP(D2637,'1_Causas_Levantadas'!C:D,2,0),\"\")","v":0},"","",null,1,null,1,1,2633]
[null,null,{"$f":"IFERROR(VLOOKUP(D2638,'1_Causas_Levantadas'!C:D,2,0),\"\")","v":0},"","",null,1,null,1,1,2634]
[null,null,{"$f":"IFERROR(VLOOKUP(D2639,'1_Causas_Levantadas'!C:D,2,0),\"\")","v":0},"","",null,1,null,1,1,2635]
[null,null,{"$f":"IFERROR(VLOOKUP(D2640,'1_Causas_Levantadas'!C:D,2,0),\"\")","v":0},"","",null,1,null,1,1,2636]
[null,null,{"$f":"IFERROR(VLOOKUP(D2641,'1_Causas_Levantadas'!C:D,2,0),\"\")","v":0},"","",null,1,null,1,1,2637]
[null,null,{"$f":"IFERROR(VLOOKUP(D2642,'1_Causas_Levantadas'!C:D,2,0),\"\")","v":0},"","",null,1,null,1,1,2638]
[null,null,{"$f":"IFERROR(VLOOKUP(D2643,'1_Causas_Levantadas'!C:D,2,0),\"\")","v":0},"","",null,1,null,1,1,2639]
[null,null,{"$f":"IFERROR(VLOOKUP(D2644,'1_Causas_Levantadas'!C:D,2,0),\"\")","v":0},"","",null,1,null,1,1,2640]
[null,null,{"$f":"IFERROR(VLOOKUP(D2645,'1_Causas_Levantadas'!C:D,2,0),\"\")","v":0},"","",null,1,null,1,1,2641]
[null,null,{"$f":"IFERROR(VLOOKUP(D2646,'1_Causas_Levantadas'!C:D,2,0),\"\")","v":0},"","",null,1,null,1,1,2642]
[null,null,{"$f":"IFERROR(VLOOKUP(D2647,'1_Causas_Levantadas'!C:D,2,0),\"\")","v":0},"","",null,1,null,1,1,2643]
[null,null,{"$f":"IFERROR(VLOOKUP(D2648,'1_Causas_Levantadas'!C:D,2,0),\"\")","v":0},"","",null,1,null,1,1,2644]
[null,null,{"$f":"IFERROR(VLOOKUP(D2649,'1_Causas_Levantadas'!C:D,2,0),\"\")","v":0},"","",null,1,null,1,1,2645]
[null,null,{"$f":"IFERROR(VLOOKUP(D2650,'1_Causas_Levantadas'!C:D,2,0),\"\")","v":0},"","",null,1,null,1,1,2646]
[null,null,{"$f":"IFERROR(VLOOKUP(D2651,'1_Causas_Levantadas'!C:D,2,0),\"\")","v":0},"","",null,1,null,1,1,2647]
[null,null,{"$f":"IFERROR(VLOOKUP(D2652,'1_Causas_Levantadas'!C:D,2,0),\"\")","v":0},"","",null,1,null,1,1,2648]
[null,null,{"$f":"IFERROR(VLOOKUP(D2653,'1_Causas_Levantadas'!C:D,2,0),\"\")","v":0},"","",null,1,null,1,1,2649]
[null,null,{"$f":"IFERROR(VLOOKUP(D2654,'1_Causas_Levantadas'!C:D,2,0),\"\")","v":0},"","",null,1,null,1,1,2650]
[null,null,{"$f":"IFERROR(VLOOKUP(D2655,'1_Causas_Levantadas'!C:D,2,0),\"\")","v":0},"","",null,1,null,1,1,2651]
[null,null,{"$f":"IFERROR(VLOOKUP(D2656,'1_Causas_Levantadas'!C:D,2,0),\"\")","v":0},"","",null,1,null,1,1,2652]
[null,null,{"$f":"IFERROR(VLOOKUP(D2657,'1_Causas_Levantadas'!C:D,2,0),\"\")","v":0},"","",null,1,null,1,1,2653]
[null,null,{"$f":"IFERROR(VLOOKUP(D2658,'1_Causas_Levantadas'!C:D,2,0),\"\")","v":0},"","",null,1,null,1,1,2654]
[null,null,{"$f":"IFERROR(VLOOKUP(D2659,'1_Causas_Levantadas'!C:D,2,0),\"\")","v":0},"","",null,1,null,1,1,2655]
[null,null,{"$f":"IFERROR(VLOOKUP(D2660,'1_Causas_Levantadas'!C:D,2,0),\"\")","v":0},"","",null,1,null,1,1,2656]
[null,null,{"$f":"IFERROR(VLOOKUP(D2661,'1_Causas_Levantadas'!C:D,2,0),\"\")","v":0},"","",null,1,null,1,1,2657]
[null,null,{"$f":"IFERROR(VLOOKUP(D2662,'1_Causas_Levantadas'!C:D,2,0),\"\")","v":0},"","",null,1,null,1,1,2658]
[null,null,{"$f":"IFERROR(VLOOKUP(D2663,'1_Causas_Levantadas'!C:D,2,0),\"\")","v":0},"","",null,1,null,1,1,2659]
[null,null,{"$f":"IFERROR(VLOOKUP(D2664,'1_Causas_Levantadas'!C:D,2,0),\"\")","v":0},"","",null,1,null,1,1,2660]
[null,null,{"$f":"IFERROR(VLOOKUP(D2665,'1_Causas_Levantadas'!C:D,2,0),\"\")","v":0},"","",null,1,null,1,1,2661]
[null,null,{"$f":"IFERROR(VLOOKUP(D2666,'1_Causas_Levantadas'!C:D,2,0),\"\")","v":0},"","",null,1,null,1,1,2662]
[null,null,{"$f":"IFERROR(VLOOKUP(D2667,'1_Causas_Levantadas'!C:D,2,0),\"\")","v":0},"","",null,1,null,1,1,2663]
[null,null,{"$f":"IFERROR(VLOOKUP(D2668,'1_Causas_Levantadas'!C:D,2,0),\"\")","v":0},"","",null,1,null,1,1,2664]
[null,null,{"$f":"IFERROR(VLOOKUP(D2669,'1_Causas_Levantadas'!C:D,2,0),\"\")","v":0},"","",null,1,null,1,1,2665]
[null,null,{"$f":"IFERROR(VLOOKUP(D2670,'1_Causas_Levantadas'!C:D,2,0),\"\")","v":0},"","",null,1,null,1,1,2666]
[null,null,{"$f":"IFERROR(VLOOKUP(D2671,'1_Causas_Levantadas'!C:D,2,0),\"\")","v":0},"","",null,1,null,1,1,2667]
[null,null,{"$f":"IFERROR(VLOOKUP(D2672,'1_Causas_Levantadas'!C:D,2,0),\"\")","v":0},"","",null,1,null,1,1,2668]
[null,null,{"$f":"IFERROR(VLOOKUP(D2673,'1_Causas_Levantadas'!C:D,2,0),\"\")","v":0},"","",null,1,null,1,1,2669]
[null,null,{"$f":"IFERROR(VLOOKUP(D2674,'1_Causas_Levantadas'!C:D,2,0),\"\")","v":0},"","",null,1,null,1,1,2670]
[null,null,{"$f":"IFERROR(VLOOKUP(D2675,'1_Causas_Levantadas'!C:D,2,0),\"\")","v":0},"","",null,1,null,1,1,2671]
[null,null,{"$f":"IFERROR(VLOOKUP(D2676,'1_Causas_Levantadas'!C:D,2,0),\"\")","v":0},"","",null,1,null,1,1,2672]
[null,null,{"$f":"IFERROR(VLOOKUP(D2677,'1_Causas_Levantadas'!C:D,2,0),\"\")","v":0},"","",null,1,null,1,1,2673]
[null,null,{"$f":"IFERROR(VLOOKUP(D2678,'1_Causas_Levantadas'!C:D,2,0),\"\")","v":0},"","",null,1,null,1,1,2674]
[null,null,{"$f":"IFERROR(VLOOKUP(D2679,'1_Causas_Levantadas'!C:D,2,0),\"\")","v":0},"","",null,1,null,1,1,2675]
[null,null,{"$f":"IFERROR(VLOOKUP(D2680,'1_Causas_Levantadas'!C:D,2,0),\"\")","v":0},"","",null,1,null,1,1,2676]
[null,null,{"$f":"IFERROR(VLOOKUP(D2681,'1_Causas_Levantadas'!C:D,2,0),\"\")","v":0},"","",null,1,null,1,1,2677]
[null,null,{"$f":"IFERROR(VLOOKUP(D2682,'1_Causas_Levantadas'!C:D,2,0),\"\")","v":0},"","",null,1,null,1,1,2678]
[null,null,{"$f":"IFERROR(VLOOKUP(D2683,'1_Causas_Levantadas'!C:D,2,0),\"\")","v":0},"","",null,1,null,1,1,2679]
[null,null,{"$f":"IFERROR(VLOOKUP(D2684,'1_Causas_Levantadas'!C:D,2,0),\"\")","v":0},"","",null,1,null,1,1,2680]
[null,null,{"$f":"IFERROR(VLOOKUP(D2685,'1_Causas_Levantadas'!C:D,2,0),\"\")","v":0},"","",null,1,null,1,1,2681]
[null,null,{"$f":"IFERROR(VLOOKUP(D2686,'1_Causas_Levantadas'!C:D,2,0),\"\")","v":0},"","",null,1,null,1,1,2682]
[null,null,{"$f":"IFERROR(VLOOKUP(D2687,'1_Causas_Levantadas'!C:D,2,0),\"\")","v":0},"","",null,1,null,1,1,2683]
[null,null,{"$f":"IFERROR(VLOOKUP(D2688,'1_Causas_Levantadas'!C:D,2,0),\"\")","v":0},"","",null,1,null,1,1,2684]
[null,null,{"$f":"IFERROR(VLOOKUP(D2689,'1_Causas_Levantadas'!C:D,2,0),\"\")","v":0},"","",null,1,null,1,1,2685]
[null,null,{"$f":"IFERROR(VLOOKUP(D2690,'1_Causas_Levantadas'!C:D,2,0),\"\")","v":0},"","",null,1,null,1,1,2686]
[null,null,{"$f":"IFERROR(VLOOKUP(D2691,'1_Causas_Levantadas'!C:D,2,0),\"\")","v":0},"","",null,1,null,1,1,2687]
[null,null,{"$f":"IFERROR(VLOOKUP(D2692,'1_Causas_Levantadas'!C:D,2,0),\"\")","v":0},"","",null,1,null,1,1,2688]
[null,null,{"$f":"IFERROR(VLOOKUP(D2693,'1_Causas_Levantadas'!C:D,2,0),\"\")","v":0},"","",null,1,null,1,1,2689]
[null,null,{"$f":"IFERROR(VLOOKUP(D2694,'1_Causas_Levantadas'!C:D,2,0),\"\")","v":0},{"$f":"IF(K2694<=$H$4,(IF(G2693>0,G2694,$G$5)),\"\")","v":""},{"$f":"IF(D2694<>\"\",\"Participante \"&K2694,\"\")","v":""},null,{"$f":"J2694","v":1},null,{"$f":"IF(G2694=$G$5,1,0)","v":1},1,{"$f":"I2694+K2693","v":2690}]
[null,null,{"$f":"IFERROR(VLOOKUP(D2695,'1_Causas_Levantadas'!C:D,2,0),\"\")","v":0},"","",null,1,null,1,{"$f":"IF(G2694<$G$4,J2694+1,1)","v":1},2691]
[null,null,{"$f":"IFERROR(VLOOKUP(D2696,'1_Causas_Levantadas'!C:D,2,0),\"\")","v":0},"","",null,1,null,1,1,2692]
[null,null,{"$f":"IFERROR(VLOOKUP(D2697,'1_Causas_Levantadas'!C:D,2,0),\"\")","v":0},"","",null,1,null,1,1,2693]
[null,null,{"$f":"IFERROR(VLOOKUP(D2698,'1_Causas_Levantadas'!C:D,2,0),\"\")","v":0},"","",null,1,null,1,1,2694]
[null,null,{"$f":"IFERROR(VLOOKUP(D2699,'1_Causas_Levantadas'!C:D,2,0),\"\")","v":0},"","",null,1,null,1,1,2695]
[null,null,{"$f":"IFERROR(VLOOKUP(D2700,'1_Causas_Levantadas'!C:D,2,0),\"\")","v":0},"","",null,1,null,1,1,2696]
[null,null,{"$f":"IFERROR(VLOOKUP(D2701,'1_Causas_Levantadas'!C:D,2,0),\"\")","v":0},"","",null,1,null,1,1,2697]
[null,null,{"$f":"IFERROR(VLOOKUP(D2702,'1_Causas_Levantadas'!C:D,2,0),\"\")","v":0},"","",null,1,null,1,1,2698]
[null,null,{"$f":"IFERROR(VLOOKUP(D2703,'1_Causas_Levantadas'!C:D,2,0),\"\")","v":0},"","",null,1,null,1,1,2699]
[null,null,{"$f":"IFERROR(VLOOKUP(D2704,'1_Causas_Levantadas'!C:D,2,0),\"\")","v":0},"","",null,1,null,1,1,2700]
[null,null,{"$f":"IFERROR(VLOOKUP(D2705,'1_Causas_Levantadas'!C:D,2,0),\"\")","v":0},"","",null,1,null,1,1,2701]
[null,null,{"$f":"IFERROR(VLOOKUP(D2706,'1_Causas_Levantadas'!C:D,2,0),\"\")","v":0},"","",null,1,null,1,1,2702]
[null,null,{"$f":"IFERROR(VLOOKUP(D2707,'1_Causas_Levantadas'!C:D,2,0),\"\")","v":0},"","",null,1,null,1,1,2703]
[null,null,{"$f":"IFERROR(VLOOKUP(D2708,'1_Causas_Levantadas'!C:D,2,0),\"\")","v":0},"","",null,1,null,1,1,2704]
[null,null,{"$f":"IFERROR(VLOOKUP(D2709,'1_Causas_Levantadas'!C:D,2,0),\"\")","v":0},"","",null,1,null,1,1,2705]
[null,null,{"$f":"IFERROR(VLOOKUP(D2710,'1_Causas_Levantadas'!C:D,2,0),\"\")","v":0},"","",null,1,null,1,1,2706]
[null,null,{"$f":"IFERROR(VLOOKUP(D2711,'1_Causas_Levantadas'!C:D,2,0),\"\")","v":0},"","",null,1,null,1,1,2707]
[null,null,{"$f":"IFERROR(VLOOKUP(D2712,'1_Causas_Levantadas'!C:D,2,0),\"\")","v":0},"","",null,1,null,1,1,2708]
[null,null,{"$f":"IFERROR(VLOOKUP(D2713,'1_Causas_Levantadas'!C:D,2,0),\"\")","v":0},"","",null,1,null,1,1,2709]
[null,null,{"$f":"IFERROR(VLOOKUP(D2714,'1_Causas_Levantadas'!C:D,2,0),\"\")","v":0},"","",null,1,null,1,1,2710]
[null,null,{"$f":"IFERROR(VLOOKUP(D2715,'1_Causas_Levantadas'!C:D,2,0),\"\")","v":0},"","",null,1,null,1,1,2711]
[null,null,{"$f":"IFERROR(VLOOKUP(D2716,'1_Causas_Levantadas'!C:D,2,0),\"\")","v":0},"","",null,1,null,1,1,2712]
[null,null,{"$f":"IFERROR(VLOOKUP(D2717,'1_Causas_Levantadas'!C:D,2,0),\"\")","v":0},"","",null,1,null,1,1,2713]
[null,null,{"$f":"IFERROR(VLOOKUP(D2718,'1_Causas_Levantadas'!C:D,2,0),\"\")","v":0},"","",null,1,null,1,1,2714]
[null,null,{"$f":"IFERROR(VLOOKUP(D2719,'1_Causas_Levantadas'!C:D,2,0),\"\")","v":0},"","",null,1,null,1,1,2715]
[null,null,{"$f":"IFERROR(VLOOKUP(D2720,'1_Causas_Levantadas'!C:D,2,0),\"\")","v":0},"","",null,1,null,1,1,2716]
[null,null,{"$f":"IFERROR(VLOOKUP(D2721,'1_Causas_Levantadas'!C:D,2,0),\"\")","v":0},"","",null,1,null,1,1,2717]
[null,null,{"$f":"IFERROR(VLOOKUP(D2722,'1_Causas_Levantadas'!C:D,2,0),\"\")","v":0},"","",null,1,null,1,1,2718]
[null,null,{"$f":"IFERROR(VLOOKUP(D2723,'1_Causas_Levantadas'!C:D,2,0),\"\")","v":0},"","",null,1,null,1,1,2719]
[null,null,{"$f":"IFERROR(VLOOKUP(D2724,'1_Causas_Levantadas'!C:D,2,0),\"\")","v":0},"","",null,1,null,1,1,2720]
[null,null,{"$f":"IFERROR(VLOOKUP(D2725,'1_Causas_Levantadas'!C:D,2,0),\"\")","v":0},"","",null,1,null,1,1,2721]
[null,null,{"$f":"IFERROR(VLOOKUP(D2726,'1_Causas_Levantadas'!C:D,2,0),\"\")","v":0},"","",null,1,null,1,1,2722]
[null,null,{"$f":"IFERROR(VLOOKUP(D2727,'1_Causas_Levantadas'!C:D,2,0),\"\")","v":0},"","",null,1,null,1,1,2723]
[null,null,{"$f":"IFERROR(VLOOKUP(D2728,'1_Causas_Levantadas'!C:D,2,0),\"\")","v":0},"","",null,1,null,1,1,2724]
[null,null,{"$f":"IFERROR(VLOOKUP(D2729,'1_Causas_Levantadas'!C:D,2,0),\"\")","v":0},"","",null,1,null,1,1,2725]
[null,null,{"$f":"IFERROR(VLOOKUP(D2730,'1_Causas_Levantadas'!C:D,2,0),\"\")","v":0},"","",null,1,null,1,1,2726]
[null,null,{"$f":"IFERROR(VLOOKUP(D2731,'1_Causas_Levantadas'!C:D,2,0),\"\")","v":0},"","",null,1,null,1,1,2727]
[null,null,{"$f":"IFERROR(VLOOKUP(D2732,'1_Causas_Levantadas'!C:D,2,0),\"\")","v":0},"","",null,1,null,1,1,2728]
[null,null,{"$f":"IFERROR(VLOOKUP(D2733,'1_Causas_Levantadas'!C:D,2,0),\"\")","v":0},"","",null,1,null,1,1,2729]
[null,null,{"$f":"IFERROR(VLOOKUP(D2734,'1_Causas_Levantadas'!C:D,2,0),\"\")","v":0},"","",null,1,null,1,1,2730]
[null,null,{"$f":"IFERROR(VLOOKUP(D2735,'1_Causas_Levantadas'!C:D,2,0),\"\")","v":0},"","",null,1,null,1,1,2731]
[null,null,{"$f":"IFERROR(VLOOKUP(D2736,'1_Causas_Levantadas'!C:D,2,0),\"\")","v":0},"","",null,1,null,1,1,2732]
[null,null,{"$f":"IFERROR(VLOOKUP(D2737,'1_Causas_Levantadas'!C:D,2,0),\"\")","v":0},"","",null,1,null,1,1,2733]
[null,null,{"$f":"IFERROR(VLOOKUP(D2738,'1_Causas_Levantadas'!C:D,2,0),\"\")","v":0},"","",null,1,null,1,1,2734]
[null,null,{"$f":"IFERROR(VLOOKUP(D2739,'1_Causas_Levantadas'!C:D,2,0),\"\")","v":0},"","",null,1,null,1,1,2735]
[null,null,{"$f":"IFERROR(VLOOKUP(D2740,'1_Causas_Levantadas'!C:D,2,0),\"\")","v":0},"","",null,1,null,1,1,2736]
[null,null,{"$f":"IFERROR(VLOOKUP(D2741,'1_Causas_Levantadas'!C:D,2,0),\"\")","v":0},"","",null,1,null,1,1,2737]
[null,null,{"$f":"IFERROR(VLOOKUP(D2742,'1_Causas_Levantadas'!C:D,2,0),\"\")","v":0},"","",null,1,null,1,1,2738]
[null,null,{"$f":"IFERROR(VLOOKUP(D2743,'1_Causas_Levantadas'!C:D,2,0),\"\")","v":0},"","",null,1,null,1,1,2739]
[null,null,{"$f":"IFERROR(VLOOKUP(D2744,'1_Causas_Levantadas'!C:D,2,0),\"\")","v":0},"","",null,1,null,1,1,2740]
[null,null,{"$f":"IFERROR(VLOOKUP(D2745,'1_Causas_Levantadas'!C:D,2,0),\"\")","v":0},"","",null,1,null,1,1,2741]
[null,null,{"$f":"IFERROR(VLOOKUP(D2746,'1_Causas_Levantadas'!C:D,2,0),\"\")","v":0},"","",null,1,null,1,1,2742]
[null,null,{"$f":"IFERROR(VLOOKUP(D2747,'1_Causas_Levantadas'!C:D,2,0),\"\")","v":0},"","",null,1,null,1,1,2743]
[null,null,{"$f":"IFERROR(VLOOKUP(D2748,'1_Causas_Levantadas'!C:D,2,0),\"\")","v":0},"","",null,1,null,1,1,2744]
[null,null,{"$f":"IFERROR(VLOOKUP(D2749,'1_Causas_Levantadas'!C:D,2,0),\"\")","v":0},"","",null,1,null,1,1,2745]
[null,null,{"$f":"IFERROR(VLOOKUP(D2750,'1_Causas_Levantadas'!C:D,2,0),\"\")","v":0},"","",null,1,null,1,1,2746]
[null,null,{"$f":"IFERROR(VLOOKUP(D2751,'1_Causas_Levantadas'!C:D,2,0),\"\")","v":0},"","",null,1,null,1,1,2747]
[null,null,{"$f":"IFERROR(VLOOKUP(D2752,'1_Causas_Levantadas'!C:D,2,0),\"\")","v":0},"","",null,1,null,1,1,2748]
[null,null,{"$f":"IFERROR(VLOOKUP(D2753,'1_Causas_Levantadas'!C:D,2,0),\"\")","v":0},"","",null,1,null,1,1,2749]
[null,null,{"$f":"IFERROR(VLOOKUP(D2754,'1_Causas_Levantadas'!C:D,2,0),\"\")","v":0},"","",null,1,null,1,1,2750]
[null,null,{"$f":"IFERROR(VLOOKUP(D2755,'1_Causas_Levantadas'!C:D,2,0),\"\")","v":0},"","",null,1,null,1,1,2751]
[null,null,{"$f":"IFERROR(VLOOKUP(D2756,'1_Causas_Levantadas'!C:D,2,0),\"\")","v":0},"","",null,1,null,1,1,2752]
[null,null,{"$f":"IFERROR(VLOOKUP(D2757,'1_Causas_Levantadas'!C:D,2,0),\"\")","v":0},"","",null,1,null,1,1,2753]
[null,null,{"$f":"IFERROR(VLOOKUP(D2758,'1_Causas_Levantadas'!C:D,2,0),\"\")","v":0},{"$f":"IF(K2758<=$H$4,(IF(G2757>0,G2758,$G$5)),\"\")","v":""},{"$f":"IF(D2758<>\"\",\"Participante \"&K2758,\"\")","v":""},null,{"$f":"J2758","v":1},null,{"$f":"IF(G2758=$G$5,1,0)","v":1},1,{"$f":"I2758+K2757","v":2754}]
[null,null,{"$f":"IFERROR(VLOOKUP(D2759,'1_Causas_Levantadas'!C:D,2,0),\"\")","v":0},"","",null,1,null,1,{"$f":"IF(G2758<$G$4,J2758+1,1)","v":1},2755]
[null,null,{"$f":"IFERROR(VLOOKUP(D2760,'1_Causas_Levantadas'!C:D,2,0),\"\")","v":0},"","",null,1,null,1,1,2756]
[null,null,{"$f":"IFERROR(VLOOKUP(D2761,'1_Causas_Levantadas'!C:D,2,0),\"\")","v":0},"","",null,1,null,1,1,2757]
[null,null,{"$f":"IFERROR(VLOOKUP(D2762,'1_Causas_Levantadas'!C:D,2,0),\"\")","v":0},"","",null,1,null,1,1,2758]
[null,null,{"$f":"IFERROR(VLOOKUP(D2763,'1_Causas_Levantadas'!C:D,2,0),\"\")","v":0},"","",null,1,null,1,1,2759]
[null,null,{"$f":"IFERROR(VLOOKUP(D2764,'1_Causas_Levantadas'!C:D,2,0),\"\")","v":0},"","",null,1,null,1,1,2760]
[null,null,{"$f":"IFERROR(VLOOKUP(D2765,'1_Causas_Levantadas'!C:D,2,0),\"\")","v":0},"","",null,1,null,1,1,2761]
[null,null,{"$f":"IFERROR(VLOOKUP(D2766,'1_Causas_Levantadas'!C:D,2,0),\"\")","v":0},"","",null,1,null,1,1,2762]
[null,null,{"$f":"IFERROR(VLOOKUP(D2767,'1_Causas_Levantadas'!C:D,2,0),\"\")","v":0},"","",null,1,null,1,1,2763]
[null,null,{"$f":"IFERROR(VLOOKUP(D2768,'1_Causas_Levantadas'!C:D,2,0),\"\")","v":0},"","",null,1,null,1,1,2764]
[null,null,{"$f":"IFERROR(VLOOKUP(D2769,'1_Causas_Levantadas'!C:D,2,0),\"\")","v":0},"","",null,1,null,1,1,2765]
[null,null,{"$f":"IFERROR(VLOOKUP(D2770,'1_Causas_Levantadas'!C:D,2,0),\"\")","v":0},"","",null,1,null,1,1,2766]
[null,null,{"$f":"IFERROR(VLOOKUP(D2771,'1_Causas_Levantadas'!C:D,2,0),\"\")","v":0},"","",null,1,null,1,1,2767]
[null,null,{"$f":"IFERROR(VLOOKUP(D2772,'1_Causas_Levantadas'!C:D,2,0),\"\")","v":0},"","",null,1,null,1,1,2768]
[null,null,{"$f":"IFERROR(VLOOKUP(D2773,'1_Causas_Levantadas'!C:D,2,0),\"\")","v":0},"","",null,1,null,1,1,2769]
[null,null,{"$f":"IFERROR(VLOOKUP(D2774,'1_Causas_Levantadas'!C:D,2,0),\"\")","v":0},"","",null,1,null,1,1,2770]
[null,null,{"$f":"IFERROR(VLOOKUP(D2775,'1_Causas_Levantadas'!C:D,2,0),\"\")","v":0},"","",null,1,null,1,1,2771]
[null,null,{"$f":"IFERROR(VLOOKUP(D2776,'1_Causas_Levantadas'!C:D,2,0),\"\")","v":0},"","",null,1,null,1,1,2772]
[null,null,{"$f":"IFERROR(VLOOKUP(D2777,'1_Causas_Levantadas'!C:D,2,0),\"\")","v":0},"","",null,1,null,1,1,2773]
[null,null,{"$f":"IFERROR(VLOOKUP(D2778,'1_Causas_Levantadas'!C:D,2,0),\"\")","v":0},"","",null,1,null,1,1,2774]
[null,null,{"$f":"IFERROR(VLOOKUP(D2779,'1_Causas_Levantadas'!C:D,2,0),\"\")","v":0},"","",null,1,null,1,1,2775]
[null,null,{"$f":"IFERROR(VLOOKUP(D2780,'1_Causas_Levantadas'!C:D,2,0),\"\")","v":0},"","",null,1,null,1,1,2776]
[null,null,{"$f":"IFERROR(VLOOKUP(D2781,'1_Causas_Levantadas'!C:D,2,0),\"\")","v":0},"","",null,1,null,1,1,2777]
[null,null,{"$f":"IFERROR(VLOOKUP(D2782,'1_Causas_Levantadas'!C:D,2,0),\"\")","v":0},"","",null,1,null,1,1,2778]
[null,null,{"$f":"IFERROR(VLOOKUP(D2783,'1_Causas_Levantadas'!C:D,2,0),\"\")","v":0},"","",null,1,null,1,1,2779]
[null,null,{"$f":"IFERROR(VLOOKUP(D2784,'1_Causas_Levantadas'!C:D,2,0),\"\")","v":0},"","",null,1,null,1,1,2780]
[null,null,{"$f":"IFERROR(VLOOKUP(D2785,'1_Causas_Levantadas'!C:D,2,0),\"\")","v":0},"","",null,1,null,1,1,2781]
[null,null,{"$f":"IFERROR(VLOOKUP(D2786,'1_Causas_Levantadas'!C:D,2,0),\"\")","v":0},"","",null,1,null,1,1,2782]
[null,null,{"$f":"IFERROR(VLOOKUP(D2787,'1_Causas_Levantadas'!C:D,2,0),\"\")","v":0},"","",null,1,null,1,1,2783]
[null,null,{"$f":"IFERROR(VLOOKUP(D2788,'1_Causas_Levantadas'!C:D,2,0),\"\")","v":0},"","",null,1,null,1,1,2784]
[null,null,{"$f":"IFERROR(VLOOKUP(D2789,'1_Causas_Levantadas'!C:D,2,0),\"\")","v":0},"","",null,1,null,1,1,2785]
[null,null,{"$f":"IFERROR(VLOOKUP(D2790,'1_Causas_Levantadas'!C:D,2,0),\"\")","v":0},"","",null,1,null,1,1,2786]
[null,null,{"$f":"IFERROR(VLOOKUP(D2791,'1_Causas_Levantadas'!C:D,2,0),\"\")","v":0},"","",null,1,null,1,1,2787]
[null,null,{"$f":"IFERROR(VLOOKUP(D2792,'1_Causas_Levantadas'!C:D,2,0),\"\")","v":0},"","",null,1,null,1,1,2788]
[null,null,{"$f":"IFERROR(VLOOKUP(D2793,'1_Causas_Levantadas'!C:D,2,0),\"\")","v":0},"","",null,1,null,1,1,2789]
[null,null,{"$f":"IFERROR(VLOOKUP(D2794,'1_Causas_Levantadas'!C:D,2,0),\"\")","v":0},"","",null,1,null,1,1,2790]
[null,null,{"$f":"IFERROR(VLOOKUP(D2795,'1_Causas_Levantadas'!C:D,2,0),\"\")","v":0},"","",null,1,null,1,1,2791]
[null,null,{"$f":"IFERROR(VLOOKUP(D2796,'1_Causas_Levantadas'!C:D,2,0),\"\")","v":0},"","",null,1,null,1,1,2792]
[null,null,{"$f":"IFERROR(VLOOKUP(D2797,'1_Causas_Levantadas'!C:D,2,0),\"\")","v":0},"","",null,1,null,1,1,2793]
[null,null,{"$f":"IFERROR(VLOOKUP(D2798,'1_Causas_Levantadas'!C:D,2,0),\"\")","v":0},"","",null,1,null,1,1,2794]
[null,null,{"$f":"IFERROR(VLOOKUP(D2799,'1_Causas_Levantadas'!C:D,2,0),\"\")","v":0},"","",null,1,null,1,1,2795]
[null,null,{"$f":"IFERROR(VLOOKUP(D2800,'1_Causas_Levantadas'!C:D,2,0),\"\")","v":0},"","",null,1,null,1,1,2796]
[null,null,{"$f":"IFERROR(VLOOKUP(D2801,'1_Causas_Levantadas'!C:D,2,0),\"\")","v":0},"","",null,1,null,1,1,2797]
[null,null,{"$f":"IFERROR(VLOOKUP(D2802,'1_Causas_Levantadas'!C:D,2,0),\"\")","v":0},"","",null,1,null,1,1,2798]
[null,null,{"$f":"IFERROR(VLOOKUP(D2803,'1_Causas_Levantadas'!C:D,2,0),\"\")","v":0},"","",null,1,null,1,1,2799]
[null,null,{"$f":"IFERROR(VLOOKUP(D2804,'1_Causas_Levantadas'!C:D,2,0),\"\")","v":0},"","",null,1,null,1,1,2800]
[null,null,{"$f":"IFERROR(VLOOKUP(D2805,'1_Causas_Levantadas'!C:D,2,0),\"\")","v":0},"","",null,1,null,1,1,2801]
[null,null,{"$f":"IFERROR(VLOOKUP(D2806,'1_Causas_Levantadas'!C:D,2,0),\"\")","v":0},"","",null,1,null,1,1,2802]
[null,null,{"$f":"IFERROR(VLOOKUP(D2807,'1_Causas_Levantadas'!C:D,2,0),\"\")","v":0},"","",null,1,null,1,1,2803]
[null,null,{"$f":"IFERROR(VLOOKUP(D2808,'1_Causas_Levantadas'!C:D,2,0),\"\")","v":0},"","",null,1,null,1,1,2804]
[null,null,{"$f":"IFERROR(VLOOKUP(D2809,'1_Causas_Levantadas'!C:D,2,0),\"\")","v":0},"","",null,1,null,1,1,2805]
[null,null,{"$f":"IFERROR(VLOOKUP(D2810,'1_Causas_Levantadas'!C:D,2,0),\"\")","v":0},"","",null,1,null,1,1,2806]
[null,null,{"$f":"IFERROR(VLOOKUP(D2811,'1_Causas_Levantadas'!C:D,2,0),\"\")","v":0},"","",null,1,null,1,1,2807]
[null,null,{"$f":"IFERROR(VLOOKUP(D2812,'1_Causas_Levantadas'!C:D,2,0),\"\")","v":0},"","",null,1,null,1,1,2808]
[null,null,{"$f":"IFERROR(VLOOKUP(D2813,'1_Causas_Levantadas'!C:D,2,0),\"\")","v":0},"","",null,1,null,1,1,2809]
[null,null,{"$f":"IFERROR(VLOOKUP(D2814,'1_Causas_Levantadas'!C:D,2,0),\"\")","v":0},"","",null,1,null,1,1,2810]
[null,null,{"$f":"IFERROR(VLOOKUP(D2815,'1_Causas_Levantadas'!C:D,2,0),\"\")","v":0},"","",null,1,null,1,1,2811]
[null,null,{"$f":"IFERROR(VLOOKUP(D2816,'1_Causas_Levantadas'!C:D,2,0),\"\")","v":0},"","",null,1,null,1,1,2812]
[null,null,{"$f":"IFERROR(VLOOKUP(D2817,'1_Causas_Levantadas'!C:D,2,0),\"\")","v":0},"","",null,1,null,1,1,2813]
[null,null,{"$f":"IFERROR(VLOOKUP(D2818,'1_Causas_Levantadas'!C:D,2,0),\"\")","v":0},"","",null,1,null,1,1,2814]
[null,null,{"$f":"IFERROR(VLOOKUP(D2819,'1_Causas_Levantadas'!C:D,2,0),\"\")","v":0},"","",null,1,null,1,1,2815]
[null,null,{"$f":"IFERROR(VLOOKUP(D2820,'1_Causas_Levantadas'!C:D,2,0),\"\")","v":0},"","",null,1,null,1,1,2816]
[null,null,{"$f":"IFERROR(VLOOKUP(D2821,'1_Causas_Levantadas'!C:D,2,0),\"\")","v":0},"","",null,1,null,1,1,2817]
[null,null,{"$f":"IFERROR(VLOOKUP(D2822,'1_Causas_Levantadas'!C:D,2,0),\"\")","v":0},{"$f":"IF(K2822<=$H$4,(IF(G2821>0,G2822,$G$5)),\"\")","v":""},{"$f":"IF(D2822<>\"\",\"Participante \"&K2822,\"\")","v":""},null,{"$f":"J2822","v":1},null,{"$f":"IF(G2822=$G$5,1,0)","v":1},1,{"$f":"I2822+K2821","v":2818}]
[null,null,{"$f":"IFERROR(VLOOKUP(D2823,'1_Causas_Levantadas'!C:D,2,0),\"\")","v":0},"","",null,1,null,1,{"$f":"IF(G2822<$G$4,J2822+1,1)","v":1},2819]
[null,null,{"$f":"IFERROR(VLOOKUP(D2824,'1_Causas_Levantadas'!C:D,2,0),\"\")","v":0},"","",null,1,null,1,1,2820]
[null,null,{"$f":"IFERROR(VLOOKUP(D2825,'1_Causas_Levantadas'!C:D,2,0),\"\")","v":0},"","",null,1,null,1,1,2821]
[null,null,{"$f":"IFERROR(VLOOKUP(D2826,'1_Causas_Levantadas'!C:D,2,0),\"\")","v":0},"","",null,1,null,1,1,2822]
[null,null,{"$f":"IFERROR(VLOOKUP(D2827,'1_Causas_Levantadas'!C:D,2,0),\"\")","v":0},"","",null,1,null,1,1,2823]
[null,null,{"$f":"IFERROR(VLOOKUP(D2828,'1_Causas_Levantadas'!C:D,2,0),\"\")","v":0},"","",null,1,null,1,1,2824]
[null,null,{"$f":"IFERROR(VLOOKUP(D2829,'1_Causas_Levantadas'!C:D,2,0),\"\")","v":0},"","",null,1,null,1,1,2825]
[null,null,{"$f":"IFERROR(VLOOKUP(D2830,'1_Causas_Levantadas'!C:D,2,0),\"\")","v":0},"","",null,1,null,1,1,2826]
[null,null,{"$f":"IFERROR(VLOOKUP(D2831,'1_Causas_Levantadas'!C:D,2,0),\"\")","v":0},"","",null,1,null,1,1,2827]
[null,null,{"$f":"IFERROR(VLOOKUP(D2832,'1_Causas_Levantadas'!C:D,2,0),\"\")","v":0},"","",null,1,null,1,1,2828]
[null,null,{"$f":"IFERROR(VLOOKUP(D2833,'1_Causas_Levantadas'!C:D,2,0),\"\")","v":0},"","",null,1,null,1,1,2829]
[null,null,{"$f":"IFERROR(VLOOKUP(D2834,'1_Causas_Levantadas'!C:D,2,0),\"\")","v":0},"","",null,1,null,1,1,2830]
[null,null,{"$f":"IFERROR(VLOOKUP(D2835,'1_Causas_Levantadas'!C:D,2,0),\"\")","v":0},"","",null,1,null,1,1,2831]
[null,null,{"$f":"IFERROR(VLOOKUP(D2836,'1_Causas_Levantadas'!C:D,2,0),\"\")","v":0},"","",null,1,null,1,1,2832]
[null,null,{"$f":"IFERROR(VLOOKUP(D2837,'1_Causas_Levantadas'!C:D,2,0),\"\")","v":0},"","",null,1,null,1,1,2833]
[null,null,{"$f":"IFERROR(VLOOKUP(D2838,'1_Causas_Levantadas'!C:D,2,0),\"\")","v":0},"","",null,1,null,1,1,2834]
[null,null,{"$f":"IFERROR(VLOOKUP(D2839,'1_Causas_Levantadas'!C:D,2,0),\"\")","v":0},"","",null,1,null,1,1,2835]
[null,null,{"$f":"IFERROR(VLOOKUP(D2840,'1_Causas_Levantadas'!C:D,2,0),\"\")","v":0},"","",null,1,null,1,1,2836]
[null,null,{"$f":"IFERROR(VLOOKUP(D2841,'1_Causas_Levantadas'!C:D,2,0),\"\")","v":0},"","",null,1,null,1,1,2837]
[null,null,{"$f":"IFERROR(VLOOKUP(D2842,'1_Causas_Levantadas'!C:D,2,0),\"\")","v":0},"","",null,1,null,1,1,2838]
[null,null,{"$f":"IFERROR(VLOOKUP(D2843,'1_Causas_Levantadas'!C:D,2,0),\"\")","v":0},"","",null,1,null,1,1,2839]
[null,null,{"$f":"IFERROR(VLOOKUP(D2844,'1_Causas_Levantadas'!C:D,2,0),\"\")","v":0},"","",null,1,null,1,1,2840]
[null,null,{"$f":"IFERROR(VLOOKUP(D2845,'1_Causas_Levantadas'!C:D,2,0),\"\")","v":0},"","",null,1,null,1,1,2841]
[null,null,{"$f":"IFERROR(VLOOKUP(D2846,'1_Causas_Levantadas'!C:D,2,0),\"\")","v":0},"","",null,1,null,1,1,2842]
[null,null,{"$f":"IFERROR(VLOOKUP(D2847,'1_Causas_Levantadas'!C:D,2,0),\"\")","v":0},"","",null,1,null,1,1,2843]
[null,null,{"$f":"IFERROR(VLOOKUP(D2848,'1_Causas_Levantadas'!C:D,2,0),\"\")","v":0},"","",null,1,null,1,1,2844]
[null,null,{"$f":"IFERROR(VLOOKUP(D2849,'1_Causas_Levantadas'!C:D,2,0),\"\")","v":0},"","",null,1,null,1,1,2845]
[null,null,{"$f":"IFERROR(VLOOKUP(D2850,'1_Causas_Levantadas'!C:D,2,0),\"\")","v":0},"","",null,1,null,1,1,2846]
[null,null,{"$f":"IFERROR(VLOOKUP(D2851,'1_Causas_Levantadas'!C:D,2,0),\"\")","v":0},"","",null,1,null,1,1,2847]
[null,null,{"$f":"IFERROR(VLOOKUP(D2852,'1_Causas_Levantadas'!C:D,2,0),\"\")","v":0},"","",null,1,null,1,1,2848]
[null,null,{"$f":"IFERROR(VLOOKUP(D2853,'1_Causas_Levantadas'!C:D,2,0),\"\")","v":0},"","",null,1,null,1,1,2849]
[null,null,{"$f":"IFERROR(VLOOKUP(D2854,'1_Causas_Levantadas'!C:D,2,0),\"\")","v":0},"","",null,1,null,1,1,2850]
[null,null,{"$f":"IFERROR(VLOOKUP(D2855,'1_Causas_Levantadas'!C:D,2,0),\"\")","v":0},"","",null,1,null,1,1,2851]
[null,null,{"$f":"IFERROR(VLOOKUP(D2856,'1_Causas_Levantadas'!C:D,2,0),\"\")","v":0},"","",null,1,null,1,1,2852]
[null,null,{"$f":"IFERROR(VLOOKUP(D2857,'1_Causas_Levantadas'!C:D,2,0),\"\")","v":0},"","",null,1,null,1,1,2853]
[null,null,{"$f":"IFERROR(VLOOKUP(D2858,'1_Causas_Levantadas'!C:D,2,0),\"\")","v":0},"","",null,1,null,1,1,2854]
[null,null,{"$f":"IFERROR(VLOOKUP(D2859,'1_Causas_Levantadas'!C:D,2,0),\"\")","v":0},"","",null,1,null,1,1,2855]
[null,null,{"$f":"IFERROR(VLOOKUP(D2860,'1_Causas_Levantadas'!C:D,2,0),\"\")","v":0},"","",null,1,null,1,1,2856]
[null,null,{"$f":"IFERROR(VLOOKUP(D2861,'1_Causas_Levantadas'!C:D,2,0),\"\")","v":0},"","",null,1,null,1,1,2857]
[null,null,{"$f":"IFERROR(VLOOKUP(D2862,'1_Causas_Levantadas'!C:D,2,0),\"\")","v":0},"","",null,1,null,1,1,2858]
[null,null,{"$f":"IFERROR(VLOOKUP(D2863,'1_Causas_Levantadas'!C:D,2,0),\"\")","v":0},"","",null,1,null,1,1,2859]
[null,null,{"$f":"IFERROR(VLOOKUP(D2864,'1_Causas_Levantadas'!C:D,2,0),\"\")","v":0},"","",null,1,null,1,1,2860]
[null,null,{"$f":"IFERROR(VLOOKUP(D2865,'1_Causas_Levantadas'!C:D,2,0),\"\")","v":0},"","",null,1,null,1,1,2861]
[null,null,{"$f":"IFERROR(VLOOKUP(D2866,'1_Causas_Levantadas'!C:D,2,0),\"\")","v":0},"","",null,1,null,1,1,2862]
[null,null,{"$f":"IFERROR(VLOOKUP(D2867,'1_Causas_Levantadas'!C:D,2,0),\"\")","v":0},"","",null,1,null,1,1,2863]
[null,null,{"$f":"IFERROR(VLOOKUP(D2868,'1_Causas_Levantadas'!C:D,2,0),\"\")","v":0},"","",null,1,null,1,1,2864]
[null,null,{"$f":"IFERROR(VLOOKUP(D2869,'1_Causas_Levantadas'!C:D,2,0),\"\")","v":0},"","",null,1,null,1,1,2865]
[null,null,{"$f":"IFERROR(VLOOKUP(D2870,'1_Causas_Levantadas'!C:D,2,0),\"\")","v":0},"","",null,1,null,1,1,2866]
[null,null,{"$f":"IFERROR(VLOOKUP(D2871,'1_Causas_Levantadas'!C:D,2,0),\"\")","v":0},"","",null,1,null,1,1,2867]
[null,null,{"$f":"IFERROR(VLOOKUP(D2872,'1_Causas_Levantadas'!C:D,2,0),\"\")","v":0},"","",null,1,null,1,1,2868]
[null,null,{"$f":"IFERROR(VLOOKUP(D2873,'1_Causas_Levantadas'!C:D,2,0),\"\")","v":0},"","",null,1,null,1,1,2869]
[null,null,{"$f":"IFERROR(VLOOKUP(D2874,'1_Causas_Levantadas'!C:D,2,0),\"\")","v":0},"","",null,1,null,1,1,2870]
[null,null,{"$f":"IFERROR(VLOOKUP(D2875,'1_Causas_Levantadas'!C:D,2,0),\"\")","v":0},"","",null,1,null,1,1,2871]
[null,null,{"$f":"IFERROR(VLOOKUP(D2876,'1_Causas_Levantadas'!C:D,2,0),\"\")","v":0},"","",null,1,null,1,1,2872]
[null,null,{"$f":"IFERROR(VLOOKUP(D2877,'1_Causas_Levantadas'!C:D,2,0),\"\")","v":0},"","",null,1,null,1,1,2873]
[null,null,{"$f":"IFERROR(VLOOKUP(D2878,'1_Causas_Levantadas'!C:D,2,0),\"\")","v":0},"","",null,1,null,1,1,2874]
[null,null,{"$f":"IFERROR(VLOOKUP(D2879,'1_Causas_Levantadas'!C:D,2,0),\"\")","v":0},"","",null,1,null,1,1,2875]
[null,null,{"$f":"IFERROR(VLOOKUP(D2880,'1_Causas_Levantadas'!C:D,2,0),\"\")","v":0},"","",null,1,null,1,1,2876]
[null,null,{"$f":"IFERROR(VLOOKUP(D2881,'1_Causas_Levantadas'!C:D,2,0),\"\")","v":0},"","",null,1,null,1,1,2877]
[null,null,{"$f":"IFERROR(VLOOKUP(D2882,'1_Causas_Levantadas'!C:D,2,0),\"\")","v":0},"","",null,1,null,1,1,2878]
[null,null,{"$f":"IFERROR(VLOOKUP(D2883,'1_Causas_Levantadas'!C:D,2,0),\"\")","v":0},"","",null,1,null,1,1,2879]
[null,null,{"$f":"IFERROR(VLOOKUP(D2884,'1_Causas_Levantadas'!C:D,2,0),\"\")","v":0},"","",null,1,null,1,1,2880]
[null,null,{"$f":"IFERROR(VLOOKUP(D2885,'1_Causas_Levantadas'!C:D,2,0),\"\")","v":0},"","",null,1,null,1,1,2881]
[null,null,{"$f":"IFERROR(VLOOKUP(D2886,'1_Causas_Levantadas'!C:D,2,0),\"\")","v":0},{"$f":"IF(K2886<=$H$4,(IF(G2885>0,G2886,$G$5)),\"\")","v":""},{"$f":"IF(D2886<>\"\",\"Participante \"&K2886,\"\")","v":""},null,{"$f":"J2886","v":1},null,{"$f":"IF(G2886=$G$5,1,0)","v":1},1,{"$f":"I2886+K2885","v":2882}]
[null,null,{"$f":"IFERROR(VLOOKUP(D2887,'1_Causas_Levantadas'!C:D,2,0),\"\")","v":0},"","",null,1,null,1,{"$f":"IF(G2886<$G$4,J2886+1,1)","v":1},2883]
[null,null,{"$f":"IFERROR(VLOOKUP(D2888,'1_Causas_Levantadas'!C:D,2,0),\"\")","v":0},"","",null,1,null,1,1,2884]
[null,null,{"$f":"IFERROR(VLOOKUP(D2889,'1_Causas_Levantadas'!C:D,2,0),\"\")","v":0},"","",null,1,null,1,1,2885]
[null,null,{"$f":"IFERROR(VLOOKUP(D2890,'1_Causas_Levantadas'!C:D,2,0),\"\")","v":0},"","",null,1,null,1,1,2886]
[null,null,{"$f":"IFERROR(VLOOKUP(D2891,'1_Causas_Levantadas'!C:D,2,0),\"\")","v":0},"","",null,1,null,1,1,2887]
[null,null,{"$f":"IFERROR(VLOOKUP(D2892,'1_Causas_Levantadas'!C:D,2,0),\"\")","v":0},"","",null,1,null,1,1,2888]
[null,null,{"$f":"IFERROR(VLOOKUP(D2893,'1_Causas_Levantadas'!C:D,2,0),\"\")","v":0},"","",null,1,null,1,1,2889]
[null,null,{"$f":"IFERROR(VLOOKUP(D2894,'1_Causas_Levantadas'!C:D,2,0),\"\")","v":0},"","",null,1,null,1,1,2890]
[null,null,{"$f":"IFERROR(VLOOKUP(D2895,'1_Causas_Levantadas'!C:D,2,0),\"\")","v":0},"","",null,1,null,1,1,2891]
[null,null,{"$f":"IFERROR(VLOOKUP(D2896,'1_Causas_Levantadas'!C:D,2,0),\"\")","v":0},"","",null,1,null,1,1,2892]
[null,null,{"$f":"IFERROR(VLOOKUP(D2897,'1_Causas_Levantadas'!C:D,2,0),\"\")","v":0},"","",null,1,null,1,1,2893]
[null,null,{"$f":"IFERROR(VLOOKUP(D2898,'1_Causas_Levantadas'!C:D,2,0),\"\")","v":0},"","",null,1,null,1,1,2894]
[null,null,{"$f":"IFERROR(VLOOKUP(D2899,'1_Causas_Levantadas'!C:D,2,0),\"\")","v":0},"","",null,1,null,1,1,2895]
[null,null,{"$f":"IFERROR(VLOOKUP(D2900,'1_Causas_Levantadas'!C:D,2,0),\"\")","v":0},"","",null,1,null,1,1,2896]
[null,null,{"$f":"IFERROR(VLOOKUP(D2901,'1_Causas_Levantadas'!C:D,2,0),\"\")","v":0},"","",null,1,null,1,1,2897]
[null,null,{"$f":"IFERROR(VLOOKUP(D2902,'1_Causas_Levantadas'!C:D,2,0),\"\")","v":0},"","",null,1,null,1,1,2898]
[null,null,{"$f":"IFERROR(VLOOKUP(D2903,'1_Causas_Levantadas'!C:D,2,0),\"\")","v":0},"","",null,1,null,1,1,2899]
[null,null,{"$f":"IFERROR(VLOOKUP(D2904,'1_Causas_Levantadas'!C:D,2,0),\"\")","v":0},"","",null,1,null,1,1,2900]
[null,null,{"$f":"IFERROR(VLOOKUP(D2905,'1_Causas_Levantadas'!C:D,2,0),\"\")","v":0},"","",null,1,null,1,1,2901]
[null,null,{"$f":"IFERROR(VLOOKUP(D2906,'1_Causas_Levantadas'!C:D,2,0),\"\")","v":0},"","",null,1,null,1,1,2902]
[null,null,{"$f":"IFERROR(VLOOKUP(D2907,'1_Causas_Levantadas'!C:D,2,0),\"\")","v":0},"","",null,1,null,1,1,2903]
[null,null,{"$f":"IFERROR(VLOOKUP(D2908,'1_Causas_Levantadas'!C:D,2,0),\"\")","v":0},"","",null,1,null,1,1,2904]
[null,null,{"$f":"IFERROR(VLOOKUP(D2909,'1_Causas_Levantadas'!C:D,2,0),\"\")","v":0},"","",null,1,null,1,1,2905]
[null,null,{"$f":"IFERROR(VLOOKUP(D2910,'1_Causas_Levantadas'!C:D,2,0),\"\")","v":0},"","",null,1,null,1,1,2906]
[null,null,{"$f":"IFERROR(VLOOKUP(D2911,'1_Causas_Levantadas'!C:D,2,0),\"\")","v":0},"","",null,1,null,1,1,2907]
[null,null,{"$f":"IFERROR(VLOOKUP(D2912,'1_Causas_Levantadas'!C:D,2,0),\"\")","v":0},"","",null,1,null,1,1,2908]
[null,null,{"$f":"IFERROR(VLOOKUP(D2913,'1_Causas_Levantadas'!C:D,2,0),\"\")","v":0},"","",null,1,null,1,1,2909]
[null,null,{"$f":"IFERROR(VLOOKUP(D2914,'1_Causas_Levantadas'!C:D,2,0),\"\")","v":0},"","",null,1,null,1,1,2910]
[null,null,{"$f":"IFERROR(VLOOKUP(D2915,'1_Causas_Levantadas'!C:D,2,0),\"\")","v":0},"","",null,1,null,1,1,2911]
[null,null,{"$f":"IFERROR(VLOOKUP(D2916,'1_Causas_Levantadas'!C:D,2,0),\"\")","v":0},"","",null,1,null,1,1,2912]
[null,null,{"$f":"IFERROR(VLOOKUP(D2917,'1_Causas_Levantadas'!C:D,2,0),\"\")","v":0},"","",null,1,null,1,1,2913]
[null,null,{"$f":"IFERROR(VLOOKUP(D2918,'1_Causas_Levantadas'!C:D,2,0),\"\")","v":0},"","",null,1,null,1,1,2914]
[null,null,{"$f":"IFERROR(VLOOKUP(D2919,'1_Causas_Levantadas'!C:D,2,0),\"\")","v":0},"","",null,1,null,1,1,2915]
[null,null,{"$f":"IFERROR(VLOOKUP(D2920,'1_Causas_Levantadas'!C:D,2,0),\"\")","v":0},"","",null,1,null,1,1,2916]
[null,null,{"$f":"IFERROR(VLOOKUP(D2921,'1_Causas_Levantadas'!C:D,2,0),\"\")","v":0},"","",null,1,null,1,1,2917]
[null,null,{"$f":"IFERROR(VLOOKUP(D2922,'1_Causas_Levantadas'!C:D,2,0),\"\")","v":0},"","",null,1,null,1,1,2918]
[null,null,{"$f":"IFERROR(VLOOKUP(D2923,'1_Causas_Levantadas'!C:D,2,0),\"\")","v":0},"","",null,1,null,1,1,2919]
[null,null,{"$f":"IFERROR(VLOOKUP(D2924,'1_Causas_Levantadas'!C:D,2,0),\"\")","v":0},"","",null,1,null,1,1,2920]
[null,null,{"$f":"IFERROR(VLOOKUP(D2925,'1_Causas_Levantadas'!C:D,2,0),\"\")","v":0},"","",null,1,null,1,1,2921]
[null,null,{"$f":"IFERROR(VLOOKUP(D2926,'1_Causas_Levantadas'!C:D,2,0),\"\")","v":0},"","",null,1,null,1,1,2922]
[null,null,{"$f":"IFERROR(VLOOKUP(D2927,'1_Causas_Levantadas'!C:D,2,0),\"\")","v":0},"","",null,1,null,1,1,2923]
[null,null,{"$f":"IFERROR(VLOOKUP(D2928,'1_Causas_Levantadas'!C:D,2,0),\"\")","v":0},"","",null,1,null,1,1,2924]
[null,null,{"$f":"IFERROR(VLOOKUP(D2929,'1_Causas_Levantadas'!C:D,2,0),\"\")","v":0},"","",null,1,null,1,1,2925]
[null,null,{"$f":"IFERROR(VLOOKUP(D2930,'1_Causas_Levantadas'!C:D,2,0),\"\")","v":0},"","",null,1,null,1,1,2926]
[null,null,{"$f":"IFERROR(VLOOKUP(D2931,'1_Causas_Levantadas'!C:D,2,0),\"\")","v":0},"","",null,1,null,1,1,2927]
[null,null,{"$f":"IFERROR(VLOOKUP(D2932,'1_Causas_Levantadas'!C:D,2,0),\"\")","v":0},"","",null,1,null,1,1,2928]
[null,null,{"$f":"IFERROR(VLOOKUP(D2933,'1_Causas_Levantadas'!C:D,2,0),\"\")","v":0},"","",null,1,null,1,1,2929]
[null,null,{"$f":"IFERROR(VLOOKUP(D2934,'1_Causas_Levantadas'!C:D,2,0),\"\")","v":0},"","",null,1,null,1,1,2930]
[null,null,{"$f":"IFERROR(VLOOKUP(D2935,'1_Causas_Levantadas'!C:D,2,0),\"\")","v":0},"","",null,1,null,1,1,2931]
[null,null,{"$f":"IFERROR(VLOOKUP(D2936,'1_Causas_Levantadas'!C:D,2,0),\"\")","v":0},"","",null,1,null,1,1,2932]
[null,null,{"$f":"IFERROR(VLOOKUP(D2937,'1_Causas_Levantadas'!C:D,2,0),\"\")","v":0},"","",null,1,null,1,1,2933]
[null,null,{"$f":"IFERROR(VLOOKUP(D2938,'1_Causas_Levantadas'!C:D,2,0),\"\")","v":0},"","",null,1,null,1,1,2934]
[null,null,{"$f":"IFERROR(VLOOKUP(D2939,'1_Causas_Levantadas'!C:D,2,0),\"\")","v":0},"","",null,1,null,1,1,2935]
[null,null,{"$f":"IFERROR(VLOOKUP(D2940,'1_Causas_Levantadas'!C:D,2,0),\"\")","v":0},"","",null,1,null,1,1,2936]
[null,null,{"$f":"IFERROR(VLOOKUP(D2941,'1_Causas_Levantadas'!C:D,2,0),\"\")","v":0},"","",null,1,null,1,1,2937]
[null,null,{"$f":"IFERROR(VLOOKUP(D2942,'1_Causas_Levantadas'!C:D,2,0),\"\")","v":0},"","",null,1,null,1,1,2938]
[null,null,{"$f":"IFERROR(VLOOKUP(D2943,'1_Causas_Levantadas'!C:D,2,0),\"\")","v":0},"","",null,1,null,1,1,2939]
[null,null,{"$f":"IFERROR(VLOOKUP(D2944,'1_Causas_Levantadas'!C:D,2,0),\"\")","v":0},"","",null,1,null,1,1,2940]
[null,null,{"$f":"IFERROR(VLOOKUP(D2945,'1_Causas_Levantadas'!C:D,2,0),\"\")","v":0},"","",null,1,null,1,1,2941]
[null,null,{"$f":"IFERROR(VLOOKUP(D2946,'1_Causas_Levantadas'!C:D,2,0),\"\")","v":0},"","",null,1,null,1,1,2942]
[null,null,{"$f":"IFERROR(VLOOKUP(D2947,'1_Causas_Levantadas'!C:D,2,0),\"\")","v":0},"","",null,1,null,1,1,2943]
[null,null,{"$f":"IFERROR(VLOOKUP(D2948,'1_Causas_Levantadas'!C:D,2,0),\"\")","v":0},"","",null,1,null,1,1,2944]
[null,null,{"$f":"IFERROR(VLOOKUP(D2949,'1_Causas_Levantadas'!C:D,2,0),\"\")","v":0},"","",null,1,null,1,1,2945]
[null,null,{"$f":"IFERROR(VLOOKUP(D2950,'1_Causas_Levantadas'!C:D,2,0),\"\")","v":0},{"$f":"IF(K2950<=$H$4,(IF(G2949>0,G2950,$G$5)),\"\")","v":""},{"$f":"IF(D2950<>\"\",\"Participante \"&K2950,\"\")","v":""},null,{"$f":"J2950","v":1},null,{"$f":"IF(G2950=$G$5,1,0)","v":1},1,{"$f":"I2950+K2949","v":2946}]
[null,null,{"$f":"IFERROR(VLOOKUP(D2951,'1_Causas_Levantadas'!C:D,2,0),\"\")","v":0},"","",null,1,null,1,{"$f":"IF(G2950<$G$4,J2950+1,1)","v":1},2947]
[null,null,{"$f":"IFERROR(VLOOKUP(D2952,'1_Causas_Levantadas'!C:D,2,0),\"\")","v":0},"","",null,1,null,1,1,2948]
[null,null,{"$f":"IFERROR(VLOOKUP(D2953,'1_Causas_Levantadas'!C:D,2,0),\"\")","v":0},"","",null,1,null,1,1,2949]
[null,null,{"$f":"IFERROR(VLOOKUP(D2954,'1_Causas_Levantadas'!C:D,2,0),\"\")","v":0},"","",null,1,null,1,1,2950]
[null,null,{"$f":"IFERROR(VLOOKUP(D2955,'1_Causas_Levantadas'!C:D,2,0),\"\")","v":0},"","",null,1,null,1,1,2951]
[null,null,{"$f":"IFERROR(VLOOKUP(D2956,'1_Causas_Levantadas'!C:D,2,0),\"\")","v":0},"","",null,1,null,1,1,2952]
[null,null,{"$f":"IFERROR(VLOOKUP(D2957,'1_Causas_Levantadas'!C:D,2,0),\"\")","v":0},"","",null,1,null,1,1,2953]
[null,null,{"$f":"IFERROR(VLOOKUP(D2958,'1_Causas_Levantadas'!C:D,2,0),\"\")","v":0},"","",null,1,null,1,1,2954]
[null,null,{"$f":"IFERROR(VLOOKUP(D2959,'1_Causas_Levantadas'!C:D,2,0),\"\")","v":0},"","",null,1,null,1,1,2955]
[null,null,{"$f":"IFERROR(VLOOKUP(D2960,'1_Causas_Levantadas'!C:D,2,0),\"\")","v":0},"","",null,1,null,1,1,2956]
[null,null,{"$f":"IFERROR(VLOOKUP(D2961,'1_Causas_Levantadas'!C:D,2,0),\"\")","v":0},"","",null,1,null,1,1,2957]
[null,null,{"$f":"IFERROR(VLOOKUP(D2962,'1_Causas_Levantadas'!C:D,2,0),\"\")","v":0},"","",null,1,null,1,1,2958]
[null,null,{"$f":"IFERROR(VLOOKUP(D2963,'1_Causas_Levantadas'!C:D,2,0),\"\")","v":0},"","",null,1,null,1,1,2959]
[null,null,{"$f":"IFERROR(VLOOKUP(D2964,'1_Causas_Levantadas'!C:D,2,0),\"\")","v":0},"","",null,1,null,1,1,2960]
[null,null,{"$f":"IFERROR(VLOOKUP(D2965,'1_Causas_Levantadas'!C:D,2,0),\"\")","v":0},"","",null,1,null,1,1,2961]
[null,null,{"$f":"IFERROR(VLOOKUP(D2966,'1_Causas_Levantadas'!C:D,2,0),\"\")","v":0},"","",null,1,null,1,1,2962]
[null,null,{"$f":"IFERROR(VLOOKUP(D2967,'1_Causas_Levantadas'!C:D,2,0),\"\")","v":0},"","",null,1,null,1,1,2963]
[null,null,{"$f":"IFERROR(VLOOKUP(D2968,'1_Causas_Levantadas'!C:D,2,0),\"\")","v":0},"","",null,1,null,1,1,2964]
[null,null,{"$f":"IFERROR(VLOOKUP(D2969,'1_Causas_Levantadas'!C:D,2,0),\"\")","v":0},"","",null,1,null,1,1,2965]
[null,null,{"$f":"IFERROR(VLOOKUP(D2970,'1_Causas_Levantadas'!C:D,2,0),\"\")","v":0},"","",null,1,null,1,1,2966]
[null,null,{"$f":"IFERROR(VLOOKUP(D2971,'1_Causas_Levantadas'!C:D,2,0),\"\")","v":0},"","",null,1,null,1,1,2967]
[null,null,{"$f":"IFERROR(VLOOKUP(D2972,'1_Causas_Levantadas'!C:D,2,0),\"\")","v":0},"","",null,1,null,1,1,2968]
[null,null,{"$f":"IFERROR(VLOOKUP(D2973,'1_Causas_Levantadas'!C:D,2,0),\"\")","v":0},"","",null,1,null,1,1,2969]
[null,null,{"$f":"IFERROR(VLOOKUP(D2974,'1_Causas_Levantadas'!C:D,2,0),\"\")","v":0},"","",null,1,null,1,1,2970]
[null,null,{"$f":"IFERROR(VLOOKUP(D2975,'1_Causas_Levantadas'!C:D,2,0),\"\")","v":0},"","",null,1,null,1,1,2971]
[null,null,{"$f":"IFERROR(VLOOKUP(D2976,'1_Causas_Levantadas'!C:D,2,0),\"\")","v":0},"","",null,1,null,1,1,2972]
[null,null,{"$f":"IFERROR(VLOOKUP(D2977,'1_Causas_Levantadas'!C:D,2,0),\"\")","v":0},"","",null,1,null,1,1,2973]
[null,null,{"$f":"IFERROR(VLOOKUP(D2978,'1_Causas_Levantadas'!C:D,2,0),\"\")","v":0},"","",null,1,null,1,1,2974]
[null,null,{"$f":"IFERROR(VLOOKUP(D2979,'1_Causas_Levantadas'!C:D,2,0),\"\")","v":0},"","",null,1,null,1,1,2975]
[null,null,{"$f":"IFERROR(VLOOKUP(D2980,'1_Causas_Levantadas'!C:D,2,0),\"\")","v":0},"","",null,1,null,1,1,2976]
[null,null,{"$f":"IFERROR(VLOOKUP(D2981,'1_Causas_Levantadas'!C:D,2,0),\"\")","v":0},"","",null,1,null,1,1,2977]
[null,null,{"$f":"IFERROR(VLOOKUP(D2982,'1_Causas_Levantadas'!C:D,2,0),\"\")","v":0},"","",null,1,null,1,1,2978]
[null,null,{"$f":"IFERROR(VLOOKUP(D2983,'1_Causas_Levantadas'!C:D,2,0),\"\")","v":0},"","",null,1,null,1,1,2979]
[null,null,{"$f":"IFERROR(VLOOKUP(D2984,'1_Causas_Levantadas'!C:D,2,0),\"\")","v":0},"","",null,1,null,1,1,2980]
[null,null,{"$f":"IFERROR(VLOOKUP(D2985,'1_Causas_Levantadas'!C:D,2,0),\"\")","v":0},"","",null,1,null,1,1,2981]
[null,null,{"$f":"IFERROR(VLOOKUP(D2986,'1_Causas_Levantadas'!C:D,2,0),\"\")","v":0},"","",null,1,null,1,1,2982]
[null,null,{"$f":"IFERROR(VLOOKUP(D2987,'1_Causas_Levantadas'!C:D,2,0),\"\")","v":0},"","",null,1,null,1,1,2983]
[null,null,{"$f":"IFERROR(VLOOKUP(D2988,'1_Causas_Levantadas'!C:D,2,0),\"\")","v":0},"","",null,1,null,1,1,2984]
[null,null,{"$f":"IFERROR(VLOOKUP(D2989,'1_Causas_Levantadas'!C:D,2,0),\"\")","v":0},"","",null,1,null,1,1,2985]
[null,null,{"$f":"IFERROR(VLOOKUP(D2990,'1_Causas_Levantadas'!C:D,2,0),\"\")","v":0},"","",null,1,null,1,1,2986]
[null,null,{"$f":"IFERROR(VLOOKUP(D2991,'1_Causas_Levantadas'!C:D,2,0),\"\")","v":0},"","",null,1,null,1,1,2987]
[null,null,{"$f":"IFERROR(VLOOKUP(D2992,'1_Causas_Levantadas'!C:D,2,0),\"\")","v":0},"","",null,1,null,1,1,2988]
[null,null,{"$f":"IFERROR(VLOOKUP(D2993,'1_Causas_Levantadas'!C:D,2,0),\"\")","v":0},"","",null,1,null,1,1,2989]
[null,null,{"$f":"IFERROR(VLOOKUP(D2994,'1_Causas_Levantadas'!C:D,2,0),\"\")","v":0},"","",null,1,null,1,1,2990]
[null,null,{"$f":"IFERROR(VLOOKUP(D2995,'1_Causas_Levantadas'!C:D,2,0),\"\")","v":0},"","",null,1,null,1,1,2991]
[null,null,{"$f":"IFERROR(VLOOKUP(D2996,'1_Causas_Levantadas'!C:D,2,0),\"\")","v":0},"","",null,1,null,1,1,2992]
[null,null,{"$f":"IFERROR(VLOOKUP(D2997,'1_Causas_Levantadas'!C:D,2,0),\"\")","v":0},"","",null,1,null,1,1,2993]
[null,null,{"$f":"IFERROR(VLOOKUP(D2998,'1_Causas_Levantadas'!C:D,2,0),\"\")","v":0},"","",null,1,null,1,1,2994]
[null,null,{"$f":"IFERROR(VLOOKUP(D2999,'1_Causas_Levantadas'!C:D,2,0),\"\")","v":0},"","",null,1,null,1,1,2995]
[null,null,{"$f":"IFERROR(VLOOKUP(D3000,'1_Causas_Levantadas'!C:D,2,0),\"\")","v":0},"","",null,1,null,1,1,2996]
[null,null,{"$f":"IFERROR(VLOOKUP(D3001,'1_Causas_Levantadas'!C:D,2,0),\"\")","v":0},"","",null,1,null,1,1,2997]
[null,null,{"$f":"IFERROR(VLOOKUP(D3002,'1_Causas_Levantadas'!C:D,2,0),\"\")","v":0},"","",null,1,null,1,1,2998]
[null,null,{"$f":"IFERROR(VLOOKUP(D3003,'1_Causas_Levantadas'!C:D,2,0),\"\")","v":0},"","",null,1,null,1,1,2999]
[null,null,{"$f":"IFERROR(VLOOKUP(D3004,'1_Causas_Levantadas'!C:D,2,0),\"\")","v":0},"","",null,1,null,1,1,3000]
[null,null,{"$f":"IFERROR(VLOOKUP(D3005,'1_Causas_Levantadas'!C:D,2,0),\"\")","v":0},"","",null,1,null,1,1,3001]
[null,null,{"$f":"IFERROR(VLOOKUP(D3006,'1_Causas_Levantadas'!C:D,2,0),\"\")","v":0},"","",null,1,null,1,1,3002]
[null,null,{"$f":"IFERROR(VLOOKUP(D3007,'1_Causas_Levantadas'!C:D,2,0),\"\")","v":0},"","",null,1,null,1,1,3003]
[null,null,{"$f":"IFERROR(VLOOKUP(D3008,'1_Causas_Levantadas'!C:D,2,0),\"\")","v":0},"","",null,1,null,1,1,3004]
[null,null,{"$f":"IFERROR(VLOOKUP(D3009,'1_Causas_Levantadas'!C:D,2,0),\"\")","v":0},"","",null,1,null,1,1,3005]
[null,null,{"$f":"IFERROR(VLOOKUP(D3010,'1_Causas_Levantadas'!C:D,2,0),\"\")","v":0},"","",null,1,null,1,1,3006]
[null,null,{"$f":"IFERROR(VLOOKUP(D3011,'1_Causas_Levantadas'!C:D,2,0),\"\")","v":0},"","",null,1,null,1,1,3007]
[null,null,{"$f":"IFERROR(VLOOKUP(D3012,'1_Causas_Levantadas'!C:D,2,0),\"\")","v":0},"","",null,1,null,1,1,3008]
[null,null,{"$f":"IFERROR(VLOOKUP(D3013,'1_Causas_Levantadas'!C:D,2,0),\"\")","v":0},"","",null,1,null,1,1,3009]
[null,null,{"$f":"IFERROR(VLOOKUP(D3014,'1_Causas_Levantadas'!C:D,2,0),\"\")","v":0},{"$f":"IF(K3014<=$H$4,(IF(G3013>0,G3014,$G$5)),\"\")","v":""},{"$f":"IF(D3014<>\"\",\"Participante \"&K3014,\"\")","v":""},null,{"$f":"J3014","v":1},null,{"$f":"IF(G3014=$G$5,1,0)","v":1},1,{"$f":"I3014+K3013","v":3010}]
[null,null,{"$f":"IFERROR(VLOOKUP(D3015,'1_Causas_Levantadas'!C:D,2,0),\"\")","v":0},"","",null,1,null,1,{"$f":"IF(G3014<$G$4,J3014+1,1)","v":1},3011]
[null,null,{"$f":"IFERROR(VLOOKUP(D3016,'1_Causas_Levantadas'!C:D,2,0),\"\")","v":0},"","",null,1,null,1,1,3012]
[null,null,{"$f":"IFERROR(VLOOKUP(D3017,'1_Causas_Levantadas'!C:D,2,0),\"\")","v":0},"","",null,1,null,1,1,3013]
[null,null,{"$f":"IFERROR(VLOOKUP(D3018,'1_Causas_Levantadas'!C:D,2,0),\"\")","v":0},"","",null,1,null,1,1,3014]
[null,null,{"$f":"IFERROR(VLOOKUP(D3019,'1_Causas_Levantadas'!C:D,2,0),\"\")","v":0},"","",null,1,null,1,1,3015]
[null,null,{"$f":"IFERROR(VLOOKUP(D3020,'1_Causas_Levantadas'!C:D,2,0),\"\")","v":0},"","",null,1,null,1,1,3016]
[null,null,{"$f":"IFERROR(VLOOKUP(D3021,'1_Causas_Levantadas'!C:D,2,0),\"\")","v":0},"","",null,1,null,1,1,3017]
[null,null,{"$f":"IFERROR(VLOOKUP(D3022,'1_Causas_Levantadas'!C:D,2,0),\"\")","v":0},"","",null,1,null,1,1,3018]
[null,null,{"$f":"IFERROR(VLOOKUP(D3023,'1_Causas_Levantadas'!C:D,2,0),\"\")","v":0},"","",null,1,null,1,1,3019]
[null,null,{"$f":"IFERROR(VLOOKUP(D3024,'1_Causas_Levantadas'!C:D,2,0),\"\")","v":0},"","",null,1,null,1,1,3020]
[null,null,{"$f":"IFERROR(VLOOKUP(D3025,'1_Causas_Levantadas'!C:D,2,0),\"\")","v":0},"","",null,1,null,1,1,3021]
[null,null,{"$f":"IFERROR(VLOOKUP(D3026,'1_Causas_Levantadas'!C:D,2,0),\"\")","v":0},"","",null,1,null,1,1,3022]
[null,null,{"$f":"IFERROR(VLOOKUP(D3027,'1_Causas_Levantadas'!C:D,2,0),\"\")","v":0},"","",null,1,null,1,1,3023]
[null,null,{"$f":"IFERROR(VLOOKUP(D3028,'1_Causas_Levantadas'!C:D,2,0),\"\")","v":0},"","",null,1,null,1,1,3024]
[null,null,{"$f":"IFERROR(VLOOKUP(D3029,'1_Causas_Levantadas'!C:D,2,0),\"\")","v":0},"","",null,1,null,1,1,3025]
[null,null,{"$f":"IFERROR(VLOOKUP(D3030,'1_Causas_Levantadas'!C:D,2,0),\"\")","v":0},"","",null,1,null,1,1,3026]
[null,null,{"$f":"IFERROR(VLOOKUP(D3031,'1_Causas_Levantadas'!C:D,2,0),\"\")","v":0},"","",null,1,null,1,1,3027]
[null,null,{"$f":"IFERROR(VLOOKUP(D3032,'1_Causas_Levantadas'!C:D,2,0),\"\")","v":0},"","",null,1,null,1,1,3028]
[null,null,{"$f":"IFERROR(VLOOKUP(D3033,'1_Causas_Levantadas'!C:D,2,0),\"\")","v":0},"","",null,1,null,1,1,3029]
[null,null,{"$f":"IFERROR(VLOOKUP(D3034,'1_Causas_Levantadas'!C:D,2,0),\"\")","v":0},"","",null,1,null,1,1,3030]
[null,null,{"$f":"IFERROR(VLOOKUP(D3035,'1_Causas_Levantadas'!C:D,2,0),\"\")","v":0},"","",null,1,null,1,1,3031]
[null,null,{"$f":"IFERROR(VLOOKUP(D3036,'1_Causas_Levantadas'!C:D,2,0),\"\")","v":0},"","",null,1,null,1,1,3032]
[null,null,{"$f":"IFERROR(VLOOKUP(D3037,'1_Causas_Levantadas'!C:D,2,0),\"\")","v":0},"","",null,1,null,1,1,3033]
[null,null,{"$f":"IFERROR(VLOOKUP(D3038,'1_Causas_Levantadas'!C:D,2,0),\"\")","v":0},"","",null,1,null,1,1,3034]
[null,null,{"$f":"IFERROR(VLOOKUP(D3039,'1_Causas_Levantadas'!C:D,2,0),\"\")","v":0},"","",null,1,null,1,1,3035]
[null,null,{"$f":"IFERROR(VLOOKUP(D3040,'1_Causas_Levantadas'!C:D,2,0),\"\")","v":0},"","",null,1,null,1,1,3036]
[null,null,{"$f":"IFERROR(VLOOKUP(D3041,'1_Causas_Levantadas'!C:D,2,0),\"\")","v":0},"","",null,1,null,1,1,3037]
[null,null,{"$f":"IFERROR(VLOOKUP(D3042,'1_Causas_Levantadas'!C:D,2,0),\"\")","v":0},"","",null,1,null,1,1,3038]
[null,null,{"$f":"IFERROR(VLOOKUP(D3043,'1_Causas_Levantadas'!C:D,2,0),\"\")","v":0},"","",null,1,null,1,1,3039]
[null,null,{"$f":"IFERROR(VLOOKUP(D3044,'1_Causas_Levantadas'!C:D,2,0),\"\")","v":0},"","",null,1,null,1,1,3040]
[null,null,{"$f":"IFERROR(VLOOKUP(D3045,'1_Causas_Levantadas'!C:D,2,0),\"\")","v":0},"","",null,1,null,1,1,3041]
[null,null,{"$f":"IFERROR(VLOOKUP(D3046,'1_Causas_Levantadas'!C:D,2,0),\"\")","v":0},"","",null,1,null,1,1,3042]
[null,null,{"$f":"IFERROR(VLOOKUP(D3047,'1_Causas_Levantadas'!C:D,2,0),\"\")","v":0},"","",null,1,null,1,1,3043]
[null,null,{"$f":"IFERROR(VLOOKUP(D3048,'1_Causas_Levantadas'!C:D,2,0),\"\")","v":0},"","",null,1,null,1,1,3044]
[null,null,{"$f":"IFERROR(VLOOKUP(D3049,'1_Causas_Levantadas'!C:D,2,0),\"\")","v":0},"","",null,1,null,1,1,3045]
[null,null,{"$f":"IFERROR(VLOOKUP(D3050,'1_Causas_Levantadas'!C:D,2,0),\"\")","v":0},"","",null,1,null,1,1,3046]
[null,null,{"$f":"IFERROR(VLOOKUP(D3051,'1_Causas_Levantadas'!C:D,2,0),\"\")","v":0},"","",null,1,null,1,1,3047]
[null,null,{"$f":"IFERROR(VLOOKUP(D3052,'1_Causas_Levantadas'!C:D,2,0),\"\")","v":0},"","",null,1,null,1,1,3048]
[null,null,{"$f":"IFERROR(VLOOKUP(D3053,'1_Causas_Levantadas'!C:D,2,0),\"\")","v":0},"","",null,1,null,1,1,3049]
[null,null,{"$f":"IFERROR(VLOOKUP(D3054,'1_Causas_Levantadas'!C:D,2,0),\"\")","v":0},"","",null,1,null,1,1,3050]
[null,null,{"$f":"IFERROR(VLOOKUP(D3055,'1_Causas_Levantadas'!C:D,2,0),\"\")","v":0},"","",null,1,null,1,1,3051]
[null,null,{"$f":"IFERROR(VLOOKUP(D3056,'1_Causas_Levantadas'!C:D,2,0),\"\")","v":0},"","",null,1,null,1,1,3052]
[null,null,{"$f":"IFERROR(VLOOKUP(D3057,'1_Causas_Levantadas'!C:D,2,0),\"\")","v":0},"","",null,1,null,1,1,3053]
[null,null,{"$f":"IFERROR(VLOOKUP(D3058,'1_Causas_Levantadas'!C:D,2,0),\"\")","v":0},"","",null,1,null,1,1,3054]
[null,null,{"$f":"IFERROR(VLOOKUP(D3059,'1_Causas_Levantadas'!C:D,2,0),\"\")","v":0},"","",null,1,null,1,1,3055]
[null,null,{"$f":"IFERROR(VLOOKUP(D3060,'1_Causas_Levantadas'!C:D,2,0),\"\")","v":0},"","",null,1,null,1,1,3056]
[null,null,{"$f":"IFERROR(VLOOKUP(D3061,'1_Causas_Levantadas'!C:D,2,0),\"\")","v":0},"","",null,1,null,1,1,3057]
[null,null,{"$f":"IFERROR(VLOOKUP(D3062,'1_Causas_Levantadas'!C:D,2,0),\"\")","v":0},"","",null,1,null,1,1,3058]
[null,null,{"$f":"IFERROR(VLOOKUP(D3063,'1_Causas_Levantadas'!C:D,2,0),\"\")","v":0},"","",null,1,null,1,1,3059]
[null,null,{"$f":"IFERROR(VLOOKUP(D3064,'1_Causas_Levantadas'!C:D,2,0),\"\")","v":0},"","",null,1,null,1,1,3060]
[null,null,{"$f":"IFERROR(VLOOKUP(D3065,'1_Causas_Levantadas'!C:D,2,0),\"\")","v":0},"","",null,1,null,1,1,3061]
[null,null,{"$f":"IFERROR(VLOOKUP(D3066,'1_Causas_Levantadas'!C:D,2,0),\"\")","v":0},"","",null,1,null,1,1,3062]
[null,null,{"$f":"IFERROR(VLOOKUP(D3067,'1_Causas_Levantadas'!C:D,2,0),\"\")","v":0},"","",null,1,null,1,1,3063]
[null,null,{"$f":"IFERROR(VLOOKUP(D3068,'1_Causas_Levantadas'!C:D,2,0),\"\")","v":0},"","",null,1,null,1,1,3064]
[null,null,{"$f":"IFERROR(VLOOKUP(D3069,'1_Causas_Levantadas'!C:D,2,0),\"\")","v":0},"","",null,1,null,1,1,3065]
[null,null,{"$f":"IFERROR(VLOOKUP(D3070,'1_Causas_Levantadas'!C:D,2,0),\"\")","v":0},"","",null,1,null,1,1,3066]
[null,null,{"$f":"IFERROR(VLOOKUP(D3071,'1_Causas_Levantadas'!C:D,2,0),\"\")","v":0},"","",null,1,null,1,1,3067]
[null,null,{"$f":"IFERROR(VLOOKUP(D3072,'1_Causas_Levantadas'!C:D,2,0),\"\")","v":0},"","",null,1,null,1,1,3068]
[null,null,{"$f":"IFERROR(VLOOKUP(D3073,'1_Causas_Levantadas'!C:D,2,0),\"\")","v":0},"","",null,1,null,1,1,3069]
[null,null,{"$f":"IFERROR(VLOOKUP(D3074,'1_Causas_Levantadas'!C:D,2,0),\"\")","v":0},"","",null,1,null,1,1,3070]
[null,null,{"$f":"IFERROR(VLOOKUP(D3075,'1_Causas_Levantadas'!C:D,2,0),\"\")","v":0},"","",null,1,null,1,1,3071]
[null,null,{"$f":"IFERROR(VLOOKUP(D3076,'1_Causas_Levantadas'!C:D,2,0),\"\")","v":0},"","",null,1,null,1,1,3072]
[null,null,{"$f":"IFERROR(VLOOKUP(D3077,'1_Causas_Levantadas'!C:D,2,0),\"\")","v":0},"","",null,1,null,1,1,3073]
[null,null,{"$f":"IFERROR(VLOOKUP(D3078,'1_Causas_Levantadas'!C:D,2,0),\"\")","v":0},{"$f":"IF(K3078<=$H$4,(IF(G3077>0,G3078,$G$5)),\"\")","v":""},{"$f":"IF(D3078<>\"\",\"Participante \"&K3078,\"\")","v":""},null,{"$f":"J3078","v":1},null,{"$f":"IF(G3078=$G$5,1,0)","v":1},1,{"$f":"I3078+K3077","v":3074}]
[null,null,{"$f":"IFERROR(VLOOKUP(D3079,'1_Causas_Levantadas'!C:D,2,0),\"\")","v":0},"","",null,1,null,1,{"$f":"IF(G3078<$G$4,J3078+1,1)","v":1},3075]
[null,null,{"$f":"IFERROR(VLOOKUP(D3080,'1_Causas_Levantadas'!C:D,2,0),\"\")","v":0},"","",null,1,null,1,1,3076]
[null,null,{"$f":"IFERROR(VLOOKUP(D3081,'1_Causas_Levantadas'!C:D,2,0),\"\")","v":0},"","",null,1,null,1,1,3077]
[null,null,{"$f":"IFERROR(VLOOKUP(D3082,'1_Causas_Levantadas'!C:D,2,0),\"\")","v":0},"","",null,1,null,1,1,3078]
[null,null,{"$f":"IFERROR(VLOOKUP(D3083,'1_Causas_Levantadas'!C:D,2,0),\"\")","v":0},"","",null,1,null,1,1,3079]
[null,null,{"$f":"IFERROR(VLOOKUP(D3084,'1_Causas_Levantadas'!C:D,2,0),\"\")","v":0},"","",null,1,null,1,1,3080]
[null,null,{"$f":"IFERROR(VLOOKUP(D3085,'1_Causas_Levantadas'!C:D,2,0),\"\")","v":0},"","",null,1,null,1,1,3081]
[null,null,{"$f":"IFERROR(VLOOKUP(D3086,'1_Causas_Levantadas'!C:D,2,0),\"\")","v":0},"","",null,1,null,1,1,3082]
[null,null,{"$f":"IFERROR(VLOOKUP(D3087,'1_Causas_Levantadas'!C:D,2,0),\"\")","v":0},"","",null,1,null,1,1,3083]
[null,null,{"$f":"IFERROR(VLOOKUP(D3088,'1_Causas_Levantadas'!C:D,2,0),\"\")","v":0},"","",null,1,null,1,1,3084]
[null,null,{"$f":"IFERROR(VLOOKUP(D3089,'1_Causas_Levantadas'!C:D,2,0),\"\")","v":0},"","",null,1,null,1,1,3085]
[null,null,{"$f":"IFERROR(VLOOKUP(D3090,'1_Causas_Levantadas'!C:D,2,0),\"\")","v":0},"","",null,1,null,1,1,3086]
[null,null,{"$f":"IFERROR(VLOOKUP(D3091,'1_Causas_Levantadas'!C:D,2,0),\"\")","v":0},"","",null,1,null,1,1,3087]
[null,null,{"$f":"IFERROR(VLOOKUP(D3092,'1_Causas_Levantadas'!C:D,2,0),\"\")","v":0},"","",null,1,null,1,1,3088]
[null,null,{"$f":"IFERROR(VLOOKUP(D3093,'1_Causas_Levantadas'!C:D,2,0),\"\")","v":0},"","",null,1,null,1,1,3089]
[null,null,{"$f":"IFERROR(VLOOKUP(D3094,'1_Causas_Levantadas'!C:D,2,0),\"\")","v":0},"","",null,1,null,1,1,3090]
[null,null,{"$f":"IFERROR(VLOOKUP(D3095,'1_Causas_Levantadas'!C:D,2,0),\"\")","v":0},"","",null,1,null,1,1,3091]
[null,null,{"$f":"IFERROR(VLOOKUP(D3096,'1_Causas_Levantadas'!C:D,2,0),\"\")","v":0},"","",null,1,null,1,1,3092]
[null,null,{"$f":"IFERROR(VLOOKUP(D3097,'1_Causas_Levantadas'!C:D,2,0),\"\")","v":0},"","",null,1,null,1,1,3093]
[null,null,{"$f":"IFERROR(VLOOKUP(D3098,'1_Causas_Levantadas'!C:D,2,0),\"\")","v":0},"","",null,1,null,1,1,3094]
[null,null,{"$f":"IFERROR(VLOOKUP(D3099,'1_Causas_Levantadas'!C:D,2,0),\"\")","v":0},"","",null,1,null,1,1,3095]
[null,null,{"$f":"IFERROR(VLOOKUP(D3100,'1_Causas_Levantadas'!C:D,2,0),\"\")","v":0},"","",null,1,null,1,1,3096]
[null,null,{"$f":"IFERROR(VLOOKUP(D3101,'1_Causas_Levantadas'!C:D,2,0),\"\")","v":0},"","",null,1,null,1,1,3097]
[null,null,{"$f":"IFERROR(VLOOKUP(D3102,'1_Causas_Levantadas'!C:D,2,0),\"\")","v":0},"","",null,1,null,1,1,3098]
[null,null,{"$f":"IFERROR(VLOOKUP(D3103,'1_Causas_Levantadas'!C:D,2,0),\"\")","v":0},"","",null,1,null,1,1,3099]
[null,null,{"$f":"IFERROR(VLOOKUP(D3104,'1_Causas_Levantadas'!C:D,2,0),\"\")","v":0},"","",null,1,null,1,1,3100]
[null,null,{"$f":"IFERROR(VLOOKUP(D3105,'1_Causas_Levantadas'!C:D,2,0),\"\")","v":0},"","",null,1,null,1,1,3101]
[null,null,{"$f":"IFERROR(VLOOKUP(D3106,'1_Causas_Levantadas'!C:D,2,0),\"\")","v":0},"","",null,1,null,1,1,3102]
[null,null,{"$f":"IFERROR(VLOOKUP(D3107,'1_Causas_Levantadas'!C:D,2,0),\"\")","v":0},"","",null,1,null,1,1,3103]
[null,null,{"$f":"IFERROR(VLOOKUP(D3108,'1_Causas_Levantadas'!C:D,2,0),\"\")","v":0},"","",null,1,null,1,1,3104]
[null,null,{"$f":"IFERROR(VLOOKUP(D3109,'1_Causas_Levantadas'!C:D,2,0),\"\")","v":0},"","",null,1,null,1,1,3105]
[null,null,{"$f":"IFERROR(VLOOKUP(D3110,'1_Causas_Levantadas'!C:D,2,0),\"\")","v":0},"","",null,1,null,1,1,3106]
[null,null,{"$f":"IFERROR(VLOOKUP(D3111,'1_Causas_Levantadas'!C:D,2,0),\"\")","v":0},"","",null,1,null,1,1,3107]
[null,null,{"$f":"IFERROR(VLOOKUP(D3112,'1_Causas_Levantadas'!C:D,2,0),\"\")","v":0},"","",null,1,null,1,1,3108]
[null,null,{"$f":"IFERROR(VLOOKUP(D3113,'1_Causas_Levantadas'!C:D,2,0),\"\")","v":0},"","",null,1,null,1,1,3109]
[null,null,{"$f":"IFERROR(VLOOKUP(D3114,'1_Causas_Levantadas'!C:D,2,0),\"\")","v":0},"","",null,1,null,1,1,3110]
[null,null,{"$f":"IFERROR(VLOOKUP(D3115,'1_Causas_Levantadas'!C:D,2,0),\"\")","v":0},"","",null,1,null,1,1,3111]
[null,null,{"$f":"IFERROR(VLOOKUP(D3116,'1_Causas_Levantadas'!C:D,2,0),\"\")","v":0},"","",null,1,null,1,1,3112]
[null,null,{"$f":"IFERROR(VLOOKUP(D3117,'1_Causas_Levantadas'!C:D,2,0),\"\")","v":0},"","",null,1,null,1,1,3113]
[null,null,{"$f":"IFERROR(VLOOKUP(D3118,'1_Causas_Levantadas'!C:D,2,0),\"\")","v":0},"","",null,1,null,1,1,3114]
[null,null,{"$f":"IFERROR(VLOOKUP(D3119,'1_Causas_Levantadas'!C:D,2,0),\"\")","v":0},"","",null,1,null,1,1,3115]
[null,null,{"$f":"IFERROR(VLOOKUP(D3120,'1_Causas_Levantadas'!C:D,2,0),\"\")","v":0},"","",null,1,null,1,1,3116]
[null,null,{"$f":"IFERROR(VLOOKUP(D3121,'1_Causas_Levantadas'!C:D,2,0),\"\")","v":0},"","",null,1,null,1,1,3117]
[null,null,{"$f":"IFERROR(VLOOKUP(D3122,'1_Causas_Levantadas'!C:D,2,0),\"\")","v":0},"","",null,1,null,1,1,3118]
[null,null,{"$f":"IFERROR(VLOOKUP(D3123,'1_Causas_Levantadas'!C:D,2,0),\"\")","v":0},"","",null,1,null,1,1,3119]
[null,null,{"$f":"IFERROR(VLOOKUP(D3124,'1_Causas_Levantadas'!C:D,2,0),\"\")","v":0},"","",null,1,null,1,1,3120]
[null,null,{"$f":"IFERROR(VLOOKUP(D3125,'1_Causas_Levantadas'!C:D,2,0),\"\")","v":0},"","",null,1,null,1,1,3121]
[null,null,{"$f":"IFERROR(VLOOKUP(D3126,'1_Causas_Levantadas'!C:D,2,0),\"\")","v":0},"","",null,1,null,1,1,3122]
[null,null,{"$f":"IFERROR(VLOOKUP(D3127,'1_Causas_Levantadas'!C:D,2,0),\"\")","v":0},"","",null,1,null,1,1,3123]
[null,null,{"$f":"IFERROR(VLOOKUP(D3128,'1_Causas_Levantadas'!C:D,2,0),\"\")","v":0},"","",null,1,null,1,1,3124]
[null,null,{"$f":"IFERROR(VLOOKUP(D3129,'1_Causas_Levantadas'!C:D,2,0),\"\")","v":0},"","",null,1,null,1,1,3125]
[null,null,{"$f":"IFERROR(VLOOKUP(D3130,'1_Causas_Levantadas'!C:D,2,0),\"\")","v":0},"","",null,1,null,1,1,3126]
[null,null,{"$f":"IFERROR(VLOOKUP(D3131,'1_Causas_Levantadas'!C:D,2,0),\"\")","v":0},"","",null,1,null,1,1,3127]
[null,null,{"$f":"IFERROR(VLOOKUP(D3132,'1_Causas_Levantadas'!C:D,2,0),\"\")","v":0},"","",null,1,null,1,1,3128]
[null,null,{"$f":"IFERROR(VLOOKUP(D3133,'1_Causas_Levantadas'!C:D,2,0),\"\")","v":0},"","",null,1,null,1,1,3129]
[null,null,{"$f":"IFERROR(VLOOKUP(D3134,'1_Causas_Levantadas'!C:D,2,0),\"\")","v":0},"","",null,1,null,1,1,3130]
[null,null,{"$f":"IFERROR(VLOOKUP(D3135,'1_Causas_Levantadas'!C:D,2,0),\"\")","v":0},"","",null,1,null,1,1,3131]
[null,null,{"$f":"IFERROR(VLOOKUP(D3136,'1_Causas_Levantadas'!C:D,2,0),\"\")","v":0},"","",null,1,null,1,1,3132]
[null,null,{"$f":"IFERROR(VLOOKUP(D3137,'1_Causas_Levantadas'!C:D,2,0),\"\")","v":0},"","",null,1,null,1,1,3133]
[null,null,{"$f":"IFERROR(VLOOKUP(D3138,'1_Causas_Levantadas'!C:D,2,0),\"\")","v":0},"","",null,1,null,1,1,3134]
[null,null,{"$f":"IFERROR(VLOOKUP(D3139,'1_Causas_Levantadas'!C:D,2,0),\"\")","v":0},"","",null,1,null,1,1,3135]
[null,null,{"$f":"IFERROR(VLOOKUP(D3140,'1_Causas_Levantadas'!C:D,2,0),\"\")","v":0},"","",null,1,null,1,1,3136]
[null,null,{"$f":"IFERROR(VLOOKUP(D3141,'1_Causas_Levantadas'!C:D,2,0),\"\")","v":0},"","",null,1,null,1,1,3137]
[null,null,{"$f":"IFERROR(VLOOKUP(D3142,'1_Causas_Levantadas'!C:D,2,0),\"\")","v":0},{"$f":"IF(K3142<=$H$4,(IF(G3141>0,G3142,$G$5)),\"\")","v":""},{"$f":"IF(D3142<>\"\",\"Participante \"&K3142,\"\")","v":""},null,{"$f":"J3142","v":1},null,{"$f":"IF(G3142=$G$5,1,0)","v":1},1,{"$f":"I3142+K3141","v":3138}]
[null,null,{"$f":"IFERROR(VLOOKUP(D3143,'1_Causas_Levantadas'!C:D,2,0),\"\")","v":0},"","",null,1,null,1,{"$f":"IF(G3142<$G$4,J3142+1,1)","v":1},3139]
[null,null,{"$f":"IFERROR(VLOOKUP(D3144,'1_Causas_Levantadas'!C:D,2,0),\"\")","v":0},"","",null,1,null,1,1,3140]
[null,null,{"$f":"IFERROR(VLOOKUP(D3145,'1_Causas_Levantadas'!C:D,2,0),\"\")","v":0},"","",null,1,null,1,1,3141]
[null,null,{"$f":"IFERROR(VLOOKUP(D3146,'1_Causas_Levantadas'!C:D,2,0),\"\")","v":0},"","",null,1,null,1,1,3142]
[null,null,{"$f":"IFERROR(VLOOKUP(D3147,'1_Causas_Levantadas'!C:D,2,0),\"\")","v":0},"","",null,1,null,1,1,3143]
[null,null,{"$f":"IFERROR(VLOOKUP(D3148,'1_Causas_Levantadas'!C:D,2,0),\"\")","v":0},"","",null,1,null,1,1,3144]
[null,null,{"$f":"IFERROR(VLOOKUP(D3149,'1_Causas_Levantadas'!C:D,2,0),\"\")","v":0},"","",null,1,null,1,1,3145]
[null,null,{"$f":"IFERROR(VLOOKUP(D3150,'1_Causas_Levantadas'!C:D,2,0),\"\")","v":0},"","",null,1,null,1,1,3146]
[null,null,{"$f":"IFERROR(VLOOKUP(D3151,'1_Causas_Levantadas'!C:D,2,0),\"\")","v":0},"","",null,1,null,1,1,3147]
[null,null,{"$f":"IFERROR(VLOOKUP(D3152,'1_Causas_Levantadas'!C:D,2,0),\"\")","v":0},"","",null,1,null,1,1,3148]
[null,null,{"$f":"IFERROR(VLOOKUP(D3153,'1_Causas_Levantadas'!C:D,2,0),\"\")","v":0},"","",null,1,null,1,1,3149]
[null,null,{"$f":"IFERROR(VLOOKUP(D3154,'1_Causas_Levantadas'!C:D,2,0),\"\")","v":0},"","",null,1,null,1,1,3150]
[null,null,{"$f":"IFERROR(VLOOKUP(D3155,'1_Causas_Levantadas'!C:D,2,0),\"\")","v":0},"","",null,1,null,1,1,3151]
[null,null,{"$f":"IFERROR(VLOOKUP(D3156,'1_Causas_Levantadas'!C:D,2,0),\"\")","v":0},"","",null,1,null,1,1,3152]
[null,null,{"$f":"IFERROR(VLOOKUP(D3157,'1_Causas_Levantadas'!C:D,2,0),\"\")","v":0},"","",null,1,null,1,1,3153]
[null,null,{"$f":"IFERROR(VLOOKUP(D3158,'1_Causas_Levantadas'!C:D,2,0),\"\")","v":0},"","",null,1,null,1,1,3154]
[null,null,{"$f":"IFERROR(VLOOKUP(D3159,'1_Causas_Levantadas'!C:D,2,0),\"\")","v":0},"","",null,1,null,1,1,3155]
[null,null,{"$f":"IFERROR(VLOOKUP(D3160,'1_Causas_Levantadas'!C:D,2,0),\"\")","v":0},"","",null,1,null,1,1,3156]
[null,null,{"$f":"IFERROR(VLOOKUP(D3161,'1_Causas_Levantadas'!C:D,2,0),\"\")","v":0},"","",null,1,null,1,1,3157]
[null,null,{"$f":"IFERROR(VLOOKUP(D3162,'1_Causas_Levantadas'!C:D,2,0),\"\")","v":0},"","",null,1,null,1,1,3158]
[null,null,{"$f":"IFERROR(VLOOKUP(D3163,'1_Causas_Levantadas'!C:D,2,0),\"\")","v":0},"","",null,1,null,1,1,3159]
[null,null,{"$f":"IFERROR(VLOOKUP(D3164,'1_Causas_Levantadas'!C:D,2,0),\"\")","v":0},"","",null,1,null,1,1,3160]
[null,null,{"$f":"IFERROR(VLOOKUP(D3165,'1_Causas_Levantadas'!C:D,2,0),\"\")","v":0},"","",null,1,null,1,1,3161]
[null,null,{"$f":"IFERROR(VLOOKUP(D3166,'1_Causas_Levantadas'!C:D,2,0),\"\")","v":0},"","",null,1,null,1,1,3162]
[null,null,{"$f":"IFERROR(VLOOKUP(D3167,'1_Causas_Levantadas'!C:D,2,0),\"\")","v":0},"","",null,1,null,1,1,3163]
[null,null,{"$f":"IFERROR(VLOOKUP(D3168,'1_Causas_Levantadas'!C:D,2,0),\"\")","v":0},"","",null,1,null,1,1,3164]
[null,null,{"$f":"IFERROR(VLOOKUP(D3169,'1_Causas_Levantadas'!C:D,2,0),\"\")","v":0},"","",null,1,null,1,1,3165]
[null,null,{"$f":"IFERROR(VLOOKUP(D3170,'1_Causas_Levantadas'!C:D,2,0),\"\")","v":0},"","",null,1,null,1,1,3166]
[null,null,{"$f":"IFERROR(VLOOKUP(D3171,'1_Causas_Levantadas'!C:D,2,0),\"\")","v":0},"","",null,1,null,1,1,3167]
[null,null,{"$f":"IFERROR(VLOOKUP(D3172,'1_Causas_Levantadas'!C:D,2,0),\"\")","v":0},"","",null,1,null,1,1,3168]
[null,null,{"$f":"IFERROR(VLOOKUP(D3173,'1_Causas_Levantadas'!C:D,2,0),\"\")","v":0},"","",null,1,null,1,1,3169]
[null,null,{"$f":"IFERROR(VLOOKUP(D3174,'1_Causas_Levantadas'!C:D,2,0),\"\")","v":0},"","",null,1,null,1,1,3170]
[null,null,{"$f":"IFERROR(VLOOKUP(D3175,'1_Causas_Levantadas'!C:D,2,0),\"\")","v":0},"","",null,1,null,1,1,3171]
[null,null,{"$f":"IFERROR(VLOOKUP(D3176,'1_Causas_Levantadas'!C:D,2,0),\"\")","v":0},"","",null,1,null,1,1,3172]
[null,null,{"$f":"IFERROR(VLOOKUP(D3177,'1_Causas_Levantadas'!C:D,2,0),\"\")","v":0},"","",null,1,null,1,1,3173]
[null,null,{"$f":"IFERROR(VLOOKUP(D3178,'1_Causas_Levantadas'!C:D,2,0),\"\")","v":0},"","",null,1,null,1,1,3174]
[null,null,{"$f":"IFERROR(VLOOKUP(D3179,'1_Causas_Levantadas'!C:D,2,0),\"\")","v":0},"","",null,1,null,1,1,3175]
[null,null,{"$f":"IFERROR(VLOOKUP(D3180,'1_Causas_Levantadas'!C:D,2,0),\"\")","v":0},"","",null,1,null,1,1,3176]
[null,null,{"$f":"IFERROR(VLOOKUP(D3181,'1_Causas_Levantadas'!C:D,2,0),\"\")","v":0},"","",null,1,null,1,1,3177]
[null,null,{"$f":"IFERROR(VLOOKUP(D3182,'1_Causas_Levantadas'!C:D,2,0),\"\")","v":0},"","",null,1,null,1,1,3178]
[null,null,{"$f":"IFERROR(VLOOKUP(D3183,'1_Causas_Levantadas'!C:D,2,0),\"\")","v":0},"","",null,1,null,1,1,3179]
[null,null,{"$f":"IFERROR(VLOOKUP(D3184,'1_Causas_Levantadas'!C:D,2,0),\"\")","v":0},"","",null,1,null,1,1,3180]
[null,null,{"$f":"IFERROR(VLOOKUP(D3185,'1_Causas_Levantadas'!C:D,2,0),\"\")","v":0},"","",null,1,null,1,1,3181]
[null,null,{"$f":"IFERROR(VLOOKUP(D3186,'1_Causas_Levantadas'!C:D,2,0),\"\")","v":0},"","",null,1,null,1,1,3182]
[null,null,{"$f":"IFERROR(VLOOKUP(D3187,'1_Causas_Levantadas'!C:D,2,0),\"\")","v":0},"","",null,1,null,1,1,3183]
[null,null,{"$f":"IFERROR(VLOOKUP(D3188,'1_Causas_Levantadas'!C:D,2,0),\"\")","v":0},"","",null,1,null,1,1,3184]
[null,null,{"$f":"IFERROR(VLOOKUP(D3189,'1_Causas_Levantadas'!C:D,2,0),\"\")","v":0},"","",null,1,null,1,1,3185]
[null,null,{"$f":"IFERROR(VLOOKUP(D3190,'1_Causas_Levantadas'!C:D,2,0),\"\")","v":0},"","",null,1,null,1,1,3186]
[null,null,{"$f":"IFERROR(VLOOKUP(D3191,'1_Causas_Levantadas'!C:D,2,0),\"\")","v":0},"","",null,1,null,1,1,3187]
[null,null,{"$f":"IFERROR(VLOOKUP(D3192,'1_Causas_Levantadas'!C:D,2,0),\"\")","v":0},"","",null,1,null,1,1,3188]
[null,null,{"$f":"IFERROR(VLOOKUP(D3193,'1_Causas_Levantadas'!C:D,2,0),\"\")","v":0},"","",null,1,null,1,1,3189]
[null,null,{"$f":"IFERROR(VLOOKUP(D3194,'1_Causas_Levantadas'!C:D,2,0),\"\")","v":0},"","",null,1,null,1,1,3190]
[null,null,{"$f":"IFERROR(VLOOKUP(D3195,'1_Causas_Levantadas'!C:D,2,0),\"\")","v":0},"","",null,1,null,1,1,3191]
[null,null,{"$f":"IFERROR(VLOOKUP(D3196,'1_Causas_Levantadas'!C:D,2,0),\"\")","v":0},"","",null,1,null,1,1,3192]
[null,null,{"$f":"IFERROR(VLOOKUP(D3197,'1_Causas_Levantadas'!C:D,2,0),\"\")","v":0},"","",null,1,null,1,1,3193]
[null,null,{"$f":"IFERROR(VLOOKUP(D3198,'1_Causas_Levantadas'!C:D,2,0),\"\")","v":0},"","",null,1,null,1,1,3194]
[null,null,{"$f":"IFERROR(VLOOKUP(D3199,'1_Causas_Levantadas'!C:D,2,0),\"\")","v":0},"","",null,1,null,1,1,3195]
[null,null,{"$f":"IFERROR(VLOOKUP(D3200,'1_Causas_Levantadas'!C:D,2,0),\"\")","v":0},"","",null,1,null,1,1,3196]
[null,null,{"$f":"IFERROR(VLOOKUP(D3201,'1_Causas_Levantadas'!C:D,2,0),\"\")","v":0},"","",null,1,null,1,1,3197]
[null,null,{"$f":"IFERROR(VLOOKUP(D3202,'1_Causas_Levantadas'!C:D,2,0),\"\")","v":0},"","",null,1,null,1,1,3198]
[null,null,{"$f":"IFERROR(VLOOKUP(D3203,'1_Causas_Levantadas'!C:D,2,0),\"\")","v":0},"","",null,1,null,1,1,3199]
[null,null,{"$f":"IFERROR(VLOOKUP(D3204,'1_Causas_Levantadas'!C:D,2,0),\"\")","v":0},"","",null,1,null,1,1,3200]
[null,null,{"$f":"IFERROR(VLOOKUP(D3205,'1_Causas_Levantadas'!C:D,2,0),\"\")","v":0},"","",null,1,null,1,1,3201]
[null,null,{"$f":"IFERROR(VLOOKUP(D3206,'1_Causas_Levantadas'!C:D,2,0),\"\")","v":0},{"$f":"IF(K3206<=$H$4,(IF(G3205>0,G3206,$G$5)),\"\")","v":""},{"$f":"IF(D3206<>\"\",\"Participante \"&K3206,\"\")","v":""},null,{"$f":"J3206","v":1},null,{"$f":"IF(G3206=$G$5,1,0)","v":1},1,{"$f":"I3206+K3205","v":3202}]
[null,null,{"$f":"IFERROR(VLOOKUP(D3207,'1_Causas_Levantadas'!C:D,2,0),\"\")","v":0},"","",null,1,null,1,{"$f":"IF(G3206<$G$4,J3206+1,1)","v":1},3203]
[null,null,{"$f":"IFERROR(VLOOKUP(D3208,'1_Causas_Levantadas'!C:D,2,0),\"\")","v":0},"","",null,1,null,1,1,3204]
[null,null,{"$f":"IFERROR(VLOOKUP(D3209,'1_Causas_Levantadas'!C:D,2,0),\"\")","v":0},"","",null,1,null,1,1,3205]
[null,null,{"$f":"IFERROR(VLOOKUP(D3210,'1_Causas_Levantadas'!C:D,2,0),\"\")","v":0},"","",null,1,null,1,1,3206]
[null,null,{"$f":"IFERROR(VLOOKUP(D3211,'1_Causas_Levantadas'!C:D,2,0),\"\")","v":0},"","",null,1,null,1,1,3207]
[null,null,{"$f":"IFERROR(VLOOKUP(D3212,'1_Causas_Levantadas'!C:D,2,0),\"\")","v":0},"","",null,1,null,1,1,3208]
[null,null,{"$f":"IFERROR(VLOOKUP(D3213,'1_Causas_Levantadas'!C:D,2,0),\"\")","v":0},"","",null,1,null,1,1,3209]
[null,null,{"$f":"IFERROR(VLOOKUP(D3214,'1_Causas_Levantadas'!C:D,2,0),\"\")","v":0},"","",null,1,null,1,1,3210]
[null,null,{"$f":"IFERROR(VLOOKUP(D3215,'1_Causas_Levantadas'!C:D,2,0),\"\")","v":0},"","",null,1,null,1,1,3211]
[null,null,{"$f":"IFERROR(VLOOKUP(D3216,'1_Causas_Levantadas'!C:D,2,0),\"\")","v":0},"","",null,1,null,1,1,3212]
[null,null,{"$f":"IFERROR(VLOOKUP(D3217,'1_Causas_Levantadas'!C:D,2,0),\"\")","v":0},"","",null,1,null,1,1,3213]
[null,null,{"$f":"IFERROR(VLOOKUP(D3218,'1_Causas_Levantadas'!C:D,2,0),\"\")","v":0},"","",null,1,null,1,1,3214]
[null,null,{"$f":"IFERROR(VLOOKUP(D3219,'1_Causas_Levantadas'!C:D,2,0),\"\")","v":0},"","",null,1,null,1,1,3215]
[null,null,{"$f":"IFERROR(VLOOKUP(D3220,'1_Causas_Levantadas'!C:D,2,0),\"\")","v":0},"","",null,1,null,1,1,3216]
[null,null,{"$f":"IFERROR(VLOOKUP(D3221,'1_Causas_Levantadas'!C:D,2,0),\"\")","v":0},"","",null,1,null,1,1,3217]
[null,null,{"$f":"IFERROR(VLOOKUP(D3222,'1_Causas_Levantadas'!C:D,2,0),\"\")","v":0},"","",null,1,null,1,1,3218]
[null,null,{"$f":"IFERROR(VLOOKUP(D3223,'1_Causas_Levantadas'!C:D,2,0),\"\")","v":0},"","",null,1,null,1,1,3219]
[null,null,{"$f":"IFERROR(VLOOKUP(D3224,'1_Causas_Levantadas'!C:D,2,0),\"\")","v":0},"","",null,1,null,1,1,3220]
[null,null,{"$f":"IFERROR(VLOOKUP(D3225,'1_Causas_Levantadas'!C:D,2,0),\"\")","v":0},"","",null,1,null,1,1,3221]
[null,null,{"$f":"IFERROR(VLOOKUP(D3226,'1_Causas_Levantadas'!C:D,2,0),\"\")","v":0},"","",null,1,null,1,1,3222]
[null,null,{"$f":"IFERROR(VLOOKUP(D3227,'1_Causas_Levantadas'!C:D,2,0),\"\")","v":0},"","",null,1,null,1,1,3223]
[null,null,{"$f":"IFERROR(VLOOKUP(D3228,'1_Causas_Levantadas'!C:D,2,0),\"\")","v":0},"","",null,1,null,1,1,3224]
[null,null,{"$f":"IFERROR(VLOOKUP(D3229,'1_Causas_Levantadas'!C:D,2,0),\"\")","v":0},"","",null,1,null,1,1,3225]
[null,null,{"$f":"IFERROR(VLOOKUP(D3230,'1_Causas_Levantadas'!C:D,2,0),\"\")","v":0},"","",null,1,null,1,1,3226]
[null,null,{"$f":"IFERROR(VLOOKUP(D3231,'1_Causas_Levantadas'!C:D,2,0),\"\")","v":0},"","",null,1,null,1,1,3227]
[null,null,{"$f":"IFERROR(VLOOKUP(D3232,'1_Causas_Levantadas'!C:D,2,0),\"\")","v":0},"","",null,1,null,1,1,3228]
[null,null,{"$f":"IFERROR(VLOOKUP(D3233,'1_Causas_Levantadas'!C:D,2,0),\"\")","v":0},"","",null,1,null,1,1,3229]
[null,null,{"$f":"IFERROR(VLOOKUP(D3234,'1_Causas_Levantadas'!C:D,2,0),\"\")","v":0},"","",null,1,null,1,1,3230]
[null,null,{"$f":"IFERROR(VLOOKUP(D3235,'1_Causas_Levantadas'!C:D,2,0),\"\")","v":0},"","",null,1,null,1,1,3231]
[null,null,{"$f":"IFERROR(VLOOKUP(D3236,'1_Causas_Levantadas'!C:D,2,0),\"\")","v":0},"","",null,1,null,1,1,3232]
[null,null,{"$f":"IFERROR(VLOOKUP(D3237,'1_Causas_Levantadas'!C:D,2,0),\"\")","v":0},"","",null,1,null,1,1,3233]
[null,null,{"$f":"IFERROR(VLOOKUP(D3238,'1_Causas_Levantadas'!C:D,2,0),\"\")","v":0},"","",null,1,null,1,1,3234]
[null,null,{"$f":"IFERROR(VLOOKUP(D3239,'1_Causas_Levantadas'!C:D,2,0),\"\")","v":0},"","",null,1,null,1,1,3235]
[null,null,{"$f":"IFERROR(VLOOKUP(D3240,'1_Causas_Levantadas'!C:D,2,0),\"\")","v":0},"","",null,1,null,1,1,3236]
[null,null,{"$f":"IFERROR(VLOOKUP(D3241,'1_Causas_Levantadas'!C:D,2,0),\"\")","v":0},"","",null,1,null,1,1,3237]
[null,null,{"$f":"IFERROR(VLOOKUP(D3242,'1_Causas_Levantadas'!C:D,2,0),\"\")","v":0},"","",null,1,null,1,1,3238]
[null,null,{"$f":"IFERROR(VLOOKUP(D3243,'1_Causas_Levantadas'!C:D,2,0),\"\")","v":0},"","",null,1,null,1,1,3239]
[null,null,{"$f":"IFERROR(VLOOKUP(D3244,'1_Causas_Levantadas'!C:D,2,0),\"\")","v":0},"","",null,1,null,1,1,3240]
[null,null,{"$f":"IFERROR(VLOOKUP(D3245,'1_Causas_Levantadas'!C:D,2,0),\"\")","v":0},"","",null,1,null,1,1,3241]
[null,null,{"$f":"IFERROR(VLOOKUP(D3246,'1_Causas_Levantadas'!C:D,2,0),\"\")","v":0},"","",null,1,null,1,1,3242]
[null,null,{"$f":"IFERROR(VLOOKUP(D3247,'1_Causas_Levantadas'!C:D,2,0),\"\")","v":0},"","",null,1,null,1,1,3243]
[null,null,{"$f":"IFERROR(VLOOKUP(D3248,'1_Causas_Levantadas'!C:D,2,0),\"\")","v":0},"","",null,1,null,1,1,3244]
[null,null,{"$f":"IFERROR(VLOOKUP(D3249,'1_Causas_Levantadas'!C:D,2,0),\"\")","v":0},"","",null,1,null,1,1,3245]
[null,null,{"$f":"IFERROR(VLOOKUP(D3250,'1_Causas_Levantadas'!C:D,2,0),\"\")","v":0},"","",null,1,null,1,1,3246]
[null,null,{"$f":"IFERROR(VLOOKUP(D3251,'1_Causas_Levantadas'!C:D,2,0),\"\")","v":0},"","",null,1,null,1,1,3247]
[null,null,{"$f":"IFERROR(VLOOKUP(D3252,'1_Causas_Levantadas'!C:D,2,0),\"\")","v":0},"","",null,1,null,1,1,3248]
[null,null,{"$f":"IFERROR(VLOOKUP(D3253,'1_Causas_Levantadas'!C:D,2,0),\"\")","v":0},"","",null,1,null,1,1,3249]
[null,null,{"$f":"IFERROR(VLOOKUP(D3254,'1_Causas_Levantadas'!C:D,2,0),\"\")","v":0},"","",null,1,null,1,1,3250]
[null,null,{"$f":"IFERROR(VLOOKUP(D3255,'1_Causas_Levantadas'!C:D,2,0),\"\")","v":0},"","",null,1,null,1,1,3251]
[null,null,{"$f":"IFERROR(VLOOKUP(D3256,'1_Causas_Levantadas'!C:D,2,0),\"\")","v":0},"","",null,1,null,1,1,3252]
[null,null,{"$f":"IFERROR(VLOOKUP(D3257,'1_Causas_Levantadas'!C:D,2,0),\"\")","v":0},"","",null,1,null,1,1,3253]
[null,null,{"$f":"IFERROR(VLOOKUP(D3258,'1_Causas_Levantadas'!C:D,2,0),\"\")","v":0},"","",null,1,null,1,1,3254]
[null,null,{"$f":"IFERROR(VLOOKUP(D3259,'1_Causas_Levantadas'!C:D,2,0),\"\")","v":0},"","",null,1,null,1,1,3255]
[null,null,{"$f":"IFERROR(VLOOKUP(D3260,'1_Causas_Levantadas'!C:D,2,0),\"\")","v":0},"","",null,1,null,1,1,3256]
[null,null,{"$f":"IFERROR(VLOOKUP(D3261,'1_Causas_Levantadas'!C:D,2,0),\"\")","v":0},"","",null,1,null,1,1,3257]
[null,null,{"$f":"IFERROR(VLOOKUP(D3262,'1_Causas_Levantadas'!C:D,2,0),\"\")","v":0},"","",null,1,null,1,1,3258]
[null,null,{"$f":"IFERROR(VLOOKUP(D3263,'1_Causas_Levantadas'!C:D,2,0),\"\")","v":0},"","",null,1,null,1,1,3259]
[null,null,{"$f":"IFERROR(VLOOKUP(D3264,'1_Causas_Levantadas'!C:D,2,0),\"\")","v":0},"","",null,1,null,1,1,3260]
[null,null,{"$f":"IFERROR(VLOOKUP(D3265,'1_Causas_Levantadas'!C:D,2,0),\"\")","v":0},"","",null,1,null,1,1,3261]
[null,null,{"$f":"IFERROR(VLOOKUP(D3266,'1_Causas_Levantadas'!C:D,2,0),\"\")","v":0},"","",null,1,null,1,1,3262]
[null,null,{"$f":"IFERROR(VLOOKUP(D3267,'1_Causas_Levantadas'!C:D,2,0),\"\")","v":0},"","",null,1,null,1,1,3263]
[null,null,{"$f":"IFERROR(VLOOKUP(D3268,'1_Causas_Levantadas'!C:D,2,0),\"\")","v":0},"","",null,1,null,1,1,3264]
[null,null,{"$f":"IFERROR(VLOOKUP(D3269,'1_Causas_Levantadas'!C:D,2,0),\"\")","v":0},"","",null,1,null,1,1,3265]
[null,null,{"$f":"IFERROR(VLOOKUP(D3270,'1_Causas_Levantadas'!C:D,2,0),\"\")","v":0},{"$f":"IF(K3270<=$H$4,(IF(G3269>0,G3270,$G$5)),\"\")","v":""},{"$f":"IF(D3270<>\"\",\"Participante \"&K3270,\"\")","v":""},null,{"$f":"J3270","v":1},null,{"$f":"IF(G3270=$G$5,1,0)","v":1},1,{"$f":"I3270+K3269","v":3266}]
[null,null,{"$f":"IFERROR(VLOOKUP(D3271,'1_Causas_Levantadas'!C:D,2,0),\"\")","v":0},"","",null,1,null,1,{"$f":"IF(G3270<$G$4,J3270+1,1)","v":1},3267]
[null,null,{"$f":"IFERROR(VLOOKUP(D3272,'1_Causas_Levantadas'!C:D,2,0),\"\")","v":0},"","",null,1,null,1,1,3268]
[null,null,{"$f":"IFERROR(VLOOKUP(D3273,'1_Causas_Levantadas'!C:D,2,0),\"\")","v":0},"","",null,1,null,1,1,3269]
[null,null,{"$f":"IFERROR(VLOOKUP(D3274,'1_Causas_Levantadas'!C:D,2,0),\"\")","v":0},"","",null,1,null,1,1,3270]
[null,null,{"$f":"IFERROR(VLOOKUP(D3275,'1_Causas_Levantadas'!C:D,2,0),\"\")","v":0},"","",null,1,null,1,1,3271]
[null,null,{"$f":"IFERROR(VLOOKUP(D3276,'1_Causas_Levantadas'!C:D,2,0),\"\")","v":0},"","",null,1,null,1,1,3272]
[null,null,{"$f":"IFERROR(VLOOKUP(D3277,'1_Causas_Levantadas'!C:D,2,0),\"\")","v":0},"","",null,1,null,1,1,3273]
[null,null,{"$f":"IFERROR(VLOOKUP(D3278,'1_Causas_Levantadas'!C:D,2,0),\"\")","v":0},"","",null,1,null,1,1,3274]
[null,null,{"$f":"IFERROR(VLOOKUP(D3279,'1_Causas_Levantadas'!C:D,2,0),\"\")","v":0},"","",null,1,null,1,1,3275]
[null,null,{"$f":"IFERROR(VLOOKUP(D3280,'1_Causas_Levantadas'!C:D,2,0),\"\")","v":0},"","",null,1,null,1,1,3276]
[null,null,{"$f":"IFERROR(VLOOKUP(D3281,'1_Causas_Levantadas'!C:D,2,0),\"\")","v":0},"","",null,1,null,1,1,3277]
[null,null,{"$f":"IFERROR(VLOOKUP(D3282,'1_Causas_Levantadas'!C:D,2,0),\"\")","v":0},"","",null,1,null,1,1,3278]
[null,null,{"$f":"IFERROR(VLOOKUP(D3283,'1_Causas_Levantadas'!C:D,2,0),\"\")","v":0},"","",null,1,null,1,1,3279]
[null,null,{"$f":"IFERROR(VLOOKUP(D3284,'1_Causas_Levantadas'!C:D,2,0),\"\")","v":0},"","",null,1,null,1,1,3280]
[null,null,{"$f":"IFERROR(VLOOKUP(D3285,'1_Causas_Levantadas'!C:D,2,0),\"\")","v":0},"","",null,1,null,1,1,3281]
[null,null,{"$f":"IFERROR(VLOOKUP(D3286,'1_Causas_Levantadas'!C:D,2,0),\"\")","v":0},"","",null,1,null,1,1,3282]
[null,null,{"$f":"IFERROR(VLOOKUP(D3287,'1_Causas_Levantadas'!C:D,2,0),\"\")","v":0},"","",null,1,null,1,1,3283]
[null,null,{"$f":"IFERROR(VLOOKUP(D3288,'1_Causas_Levantadas'!C:D,2,0),\"\")","v":0},"","",null,1,null,1,1,3284]
[null,null,{"$f":"IFERROR(VLOOKUP(D3289,'1_Causas_Levantadas'!C:D,2,0),\"\")","v":0},"","",null,1,null,1,1,3285]
[null,null,{"$f":"IFERROR(VLOOKUP(D3290,'1_Causas_Levantadas'!C:D,2,0),\"\")","v":0},"","",null,1,null,1,1,3286]
[null,null,{"$f":"IFERROR(VLOOKUP(D3291,'1_Causas_Levantadas'!C:D,2,0),\"\")","v":0},"","",null,1,null,1,1,3287]
[null,null,{"$f":"IFERROR(VLOOKUP(D3292,'1_Causas_Levantadas'!C:D,2,0),\"\")","v":0},"","",null,1,null,1,1,3288]
[null,null,{"$f":"IFERROR(VLOOKUP(D3293,'1_Causas_Levantadas'!C:D,2,0),\"\")","v":0},"","",null,1,null,1,1,3289]
[null,null,{"$f":"IFERROR(VLOOKUP(D3294,'1_Causas_Levantadas'!C:D,2,0),\"\")","v":0},"","",null,1,null,1,1,3290]
[null,null,{"$f":"IFERROR(VLOOKUP(D3295,'1_Causas_Levantadas'!C:D,2,0),\"\")","v":0},"","",null,1,null,1,1,3291]
[null,null,{"$f":"IFERROR(VLOOKUP(D3296,'1_Causas_Levantadas'!C:D,2,0),\"\")","v":0},"","",null,1,null,1,1,3292]
[null,null,{"$f":"IFERROR(VLOOKUP(D3297,'1_Causas_Levantadas'!C:D,2,0),\"\")","v":0},"","",null,1,null,1,1,3293]
[null,null,{"$f":"IFERROR(VLOOKUP(D3298,'1_Causas_Levantadas'!C:D,2,0),\"\")","v":0},"","",null,1,null,1,1,3294]
[null,null,{"$f":"IFERROR(VLOOKUP(D3299,'1_Causas_Levantadas'!C:D,2,0),\"\")","v":0},"","",null,1,null,1,1,3295]
[null,null,{"$f":"IFERROR(VLOOKUP(D3300,'1_Causas_Levantadas'!C:D,2,0),\"\")","v":0},"","",null,1,null,1,1,3296]
[null,null,{"$f":"IFERROR(VLOOKUP(D3301,'1_Causas_Levantadas'!C:D,2,0),\"\")","v":0},"","",null,1,null,1,1,3297]
[null,null,{"$f":"IFERROR(VLOOKUP(D3302,'1_Causas_Levantadas'!C:D,2,0),\"\")","v":0},"","",null,1,null,1,1,3298]
[null,null,{"$f":"IFERROR(VLOOKUP(D3303,'1_Causas_Levantadas'!C:D,2,0),\"\")","v":0},"","",null,1,null,1,1,3299]
[null,null,{"$f":"IFERROR(VLOOKUP(D3304,'1_Causas_Levantadas'!C:D,2,0),\"\")","v":0},"","",null,1,null,1,1,3300]
[null,null,{"$f":"IFERROR(VLOOKUP(D3305,'1_Causas_Levantadas'!C:D,2,0),\"\")","v":0},"","",null,1,null,1,1,3301]
[null,null,{"$f":"IFERROR(VLOOKUP(D3306,'1_Causas_Levantadas'!C:D,2,0),\"\")","v":0},"","",null,1,null,1,1,3302]
[null,null,{"$f":"IFERROR(VLOOKUP(D3307,'1_Causas_Levantadas'!C:D,2,0),\"\")","v":0},"","",null,1,null,1,1,3303]
[null,null,{"$f":"IFERROR(VLOOKUP(D3308,'1_Causas_Levantadas'!C:D,2,0),\"\")","v":0},"","",null,1,null,1,1,3304]
[null,null,{"$f":"IFERROR(VLOOKUP(D3309,'1_Causas_Levantadas'!C:D,2,0),\"\")","v":0},"","",null,1,null,1,1,3305]
[null,null,{"$f":"IFERROR(VLOOKUP(D3310,'1_Causas_Levantadas'!C:D,2,0),\"\")","v":0},"","",null,1,null,1,1,3306]
[null,null,{"$f":"IFERROR(VLOOKUP(D3311,'1_Causas_Levantadas'!C:D,2,0),\"\")","v":0},"","",null,1,null,1,1,3307]
[null,null,{"$f":"IFERROR(VLOOKUP(D3312,'1_Causas_Levantadas'!C:D,2,0),\"\")","v":0},"","",null,1,null,1,1,3308]
[null,null,{"$f":"IFERROR(VLOOKUP(D3313,'1_Causas_Levantadas'!C:D,2,0),\"\")","v":0},"","",null,1,null,1,1,3309]
[null,null,{"$f":"IFERROR(VLOOKUP(D3314,'1_Causas_Levantadas'!C:D,2,0),\"\")","v":0},"","",null,1,null,1,1,3310]
[null,null,{"$f":"IFERROR(VLOOKUP(D3315,'1_Causas_Levantadas'!C:D,2,0),\"\")","v":0},"","",null,1,null,1,1,3311]
[null,null,{"$f":"IFERROR(VLOOKUP(D3316,'1_Causas_Levantadas'!C:D,2,0),\"\")","v":0},"","",null,1,null,1,1,3312]
[null,null,{"$f":"IFERROR(VLOOKUP(D3317,'1_Causas_Levantadas'!C:D,2,0),\"\")","v":0},"","",null,1,null,1,1,3313]
[null,null,{"$f":"IFERROR(VLOOKUP(D3318,'1_Causas_Levantadas'!C:D,2,0),\"\")","v":0},"","",null,1,null,1,1,3314]
[null,null,{"$f":"IFERROR(VLOOKUP(D3319,'1_Causas_Levantadas'!C:D,2,0),\"\")","v":0},"","",null,1,null,1,1,3315]
[null,null,{"$f":"IFERROR(VLOOKUP(D3320,'1_Causas_Levantadas'!C:D,2,0),\"\")","v":0},"","",null,1,null,1,1,3316]
[null,null,{"$f":"IFERROR(VLOOKUP(D3321,'1_Causas_Levantadas'!C:D,2,0),\"\")","v":0},"","",null,1,null,1,1,3317]
[null,null,{"$f":"IFERROR(VLOOKUP(D3322,'1_Causas_Levantadas'!C:D,2,0),\"\")","v":0},"","",null,1,null,1,1,3318]
[null,null,{"$f":"IFERROR(VLOOKUP(D3323,'1_Causas_Levantadas'!C:D,2,0),\"\")","v":0},"","",null,1,null,1,1,3319]
[null,null,{"$f":"IFERROR(VLOOKUP(D3324,'1_Causas_Levantadas'!C:D,2,0),\"\")","v":0},"","",null,1,null,1,1,3320]
[null,null,{"$f":"IFERROR(VLOOKUP(D3325,'1_Causas_Levantadas'!C:D,2,0),\"\")","v":0},"","",null,1,null,1,1,3321]
[null,null,{"$f":"IFERROR(VLOOKUP(D3326,'1_Causas_Levantadas'!C:D,2,0),\"\")","v":0},"","",null,1,null,1,1,3322]
[null,null,{"$f":"IFERROR(VLOOKUP(D3327,'1_Causas_Levantadas'!C:D,2,0),\"\")","v":0},"","",null,1,null,1,1,3323]
[null,null,{"$f":"IFERROR(VLOOKUP(D3328,'1_Causas_Levantadas'!C:D,2,0),\"\")","v":0},"","",null,1,null,1,1,3324]
[null,null,{"$f":"IFERROR(VLOOKUP(D3329,'1_Causas_Levantadas'!C:D,2,0),\"\")","v":0},"","",null,1,null,1,1,3325]
[null,null,{"$f":"IFERROR(VLOOKUP(D3330,'1_Causas_Levantadas'!C:D,2,0),\"\")","v":0},"","",null,1,null,1,1,3326]
[null,null,{"$f":"IFERROR(VLOOKUP(D3331,'1_Causas_Levantadas'!C:D,2,0),\"\")","v":0},"","",null,1,null,1,1,3327]
[null,null,{"$f":"IFERROR(VLOOKUP(D3332,'1_Causas_Levantadas'!C:D,2,0),\"\")","v":0},"","",null,1,null,1,1,3328]
[null,null,{"$f":"IFERROR(VLOOKUP(D3333,'1_Causas_Levantadas'!C:D,2,0),\"\")","v":0},"","",null,1,null,1,1,3329]
[null,null,{"$f":"IFERROR(VLOOKUP(D3334,'1_Causas_Levantadas'!C:D,2,0),\"\")","v":0},{"$f":"IF(K3334<=$H$4,(IF(G3333>0,G3334,$G$5)),\"\")","v":""},{"$f":"IF(D3334<>\"\",\"Participante \"&K3334,\"\")","v":""},null,{"$f":"J3334","v":1},null,{"$f":"IF(G3334=$G$5,1,0)","v":1},1,{"$f":"I3334+K3333","v":3330}]
[null,null,{"$f":"IFERROR(VLOOKUP(D3335,'1_Causas_Levantadas'!C:D,2,0),\"\")","v":0},"","",null,1,null,1,{"$f":"IF(G3334<$G$4,J3334+1,1)","v":1},3331]
[null,null,{"$f":"IFERROR(VLOOKUP(D3336,'1_Causas_Levantadas'!C:D,2,0),\"\")","v":0},"","",null,1,null,1,1,3332]
[null,null,{"$f":"IFERROR(VLOOKUP(D3337,'1_Causas_Levantadas'!C:D,2,0),\"\")","v":0},"","",null,1,null,1,1,3333]
[null,null,{"$f":"IFERROR(VLOOKUP(D3338,'1_Causas_Levantadas'!C:D,2,0),\"\")","v":0},"","",null,1,null,1,1,3334]
[null,null,{"$f":"IFERROR(VLOOKUP(D3339,'1_Causas_Levantadas'!C:D,2,0),\"\")","v":0},"","",null,1,null,1,1,3335]
[null,null,{"$f":"IFERROR(VLOOKUP(D3340,'1_Causas_Levantadas'!C:D,2,0),\"\")","v":0},"","",null,1,null,1,1,3336]
[null,null,{"$f":"IFERROR(VLOOKUP(D3341,'1_Causas_Levantadas'!C:D,2,0),\"\")","v":0},"","",null,1,null,1,1,3337]
[null,null,{"$f":"IFERROR(VLOOKUP(D3342,'1_Causas_Levantadas'!C:D,2,0),\"\")","v":0},"","",null,1,null,1,1,3338]
[null,null,{"$f":"IFERROR(VLOOKUP(D3343,'1_Causas_Levantadas'!C:D,2,0),\"\")","v":0},"","",null,1,null,1,1,3339]
[null,null,{"$f":"IFERROR(VLOOKUP(D3344,'1_Causas_Levantadas'!C:D,2,0),\"\")","v":0},"","",null,1,null,1,1,3340]
[null,null,{"$f":"IFERROR(VLOOKUP(D3345,'1_Causas_Levantadas'!C:D,2,0),\"\")","v":0},"","",null,1,null,1,1,3341]
[null,null,{"$f":"IFERROR(VLOOKUP(D3346,'1_Causas_Levantadas'!C:D,2,0),\"\")","v":0},"","",null,1,null,1,1,3342]
[null,null,{"$f":"IFERROR(VLOOKUP(D3347,'1_Causas_Levantadas'!C:D,2,0),\"\")","v":0},"","",null,1,null,1,1,3343]
[null,null,{"$f":"IFERROR(VLOOKUP(D3348,'1_Causas_Levantadas'!C:D,2,0),\"\")","v":0},"","",null,1,null,1,1,3344]
[null,null,{"$f":"IFERROR(VLOOKUP(D3349,'1_Causas_Levantadas'!C:D,2,0),\"\")","v":0},"","",null,1,null,1,1,3345]
[null,null,{"$f":"IFERROR(VLOOKUP(D3350,'1_Causas_Levantadas'!C:D,2,0),\"\")","v":0},"","",null,1,null,1,1,3346]
[null,null,{"$f":"IFERROR(VLOOKUP(D3351,'1_Causas_Levantadas'!C:D,2,0),\"\")","v":0},"","",null,1,null,1,1,3347]
[null,null,{"$f":"IFERROR(VLOOKUP(D3352,'1_Causas_Levantadas'!C:D,2,0),\"\")","v":0},"","",null,1,null,1,1,3348]
[null,null,{"$f":"IFERROR(VLOOKUP(D3353,'1_Causas_Levantadas'!C:D,2,0),\"\")","v":0},"","",null,1,null,1,1,3349]
[null,null,{"$f":"IFERROR(VLOOKUP(D3354,'1_Causas_Levantadas'!C:D,2,0),\"\")","v":0},"","",null,1,null,1,1,3350]
[null,null,{"$f":"IFERROR(VLOOKUP(D3355,'1_Causas_Levantadas'!C:D,2,0),\"\")","v":0},"","",null,1,null,1,1,3351]
[null,null,{"$f":"IFERROR(VLOOKUP(D3356,'1_Causas_Levantadas'!C:D,2,0),\"\")","v":0},"","",null,1,null,1,1,3352]
[null,null,{"$f":"IFERROR(VLOOKUP(D3357,'1_Causas_Levantadas'!C:D,2,0),\"\")","v":0},"","",null,1,null,1,1,3353]
[null,null,{"$f":"IFERROR(VLOOKUP(D3358,'1_Causas_Levantadas'!C:D,2,0),\"\")","v":0},"","",null,1,null,1,1,3354]
[null,null,{"$f":"IFERROR(VLOOKUP(D3359,'1_Causas_Levantadas'!C:D,2,0),\"\")","v":0},"","",null,1,null,1,1,3355]
[null,null,{"$f":"IFERROR(VLOOKUP(D3360,'1_Causas_Levantadas'!C:D,2,0),\"\")","v":0},"","",null,1,null,1,1,3356]
[null,null,{"$f":"IFERROR(VLOOKUP(D3361,'1_Causas_Levantadas'!C:D,2,0),\"\")","v":0},"","",null,1,null,1,1,3357]
[null,null,{"$f":"IFERROR(VLOOKUP(D3362,'1_Causas_Levantadas'!C:D,2,0),\"\")","v":0},"","",null,1,null,1,1,3358]
[null,null,{"$f":"IFERROR(VLOOKUP(D3363,'1_Causas_Levantadas'!C:D,2,0),\"\")","v":0},"","",null,1,null,1,1,3359]
[null,null,{"$f":"IFERROR(VLOOKUP(D3364,'1_Causas_Levantadas'!C:D,2,0),\"\")","v":0},"","",null,1,null,1,1,3360]
[null,null,{"$f":"IFERROR(VLOOKUP(D3365,'1_Causas_Levantadas'!C:D,2,0),\"\")","v":0},"","",null,1,null,1,1,3361]
[null,null,{"$f":"IFERROR(VLOOKUP(D3366,'1_Causas_Levantadas'!C:D,2,0),\"\")","v":0},"","",null,1,null,1,1,3362]
[null,null,{"$f":"IFERROR(VLOOKUP(D3367,'1_Causas_Levantadas'!C:D,2,0),\"\")","v":0},"","",null,1,null,1,1,3363]
[null,null,{"$f":"IFERROR(VLOOKUP(D3368,'1_Causas_Levantadas'!C:D,2,0),\"\")","v":0},"","",null,1,null,1,1,3364]
[null,null,{"$f":"IFERROR(VLOOKUP(D3369,'1_Causas_Levantadas'!C:D,2,0),\"\")","v":0},"","",null,1,null,1,1,3365]
[null,null,{"$f":"IFERROR(VLOOKUP(D3370,'1_Causas_Levantadas'!C:D,2,0),\"\")","v":0},"","",null,1,null,1,1,3366]
[null,null,{"$f":"IFERROR(VLOOKUP(D3371,'1_Causas_Levantadas'!C:D,2,0),\"\")","v":0},"","",null,1,null,1,1,3367]
[null,null,{"$f":"IFERROR(VLOOKUP(D3372,'1_Causas_Levantadas'!C:D,2,0),\"\")","v":0},"","",null,1,null,1,1,3368]
[null,null,{"$f":"IFERROR(VLOOKUP(D3373,'1_Causas_Levantadas'!C:D,2,0),\"\")","v":0},"","",null,1,null,1,1,3369]
[null,null,{"$f":"IFERROR(VLOOKUP(D3374,'1_Causas_Levantadas'!C:D,2,0),\"\")","v":0},"","",null,1,null,1,1,3370]
[null,null,{"$f":"IFERROR(VLOOKUP(D3375,'1_Causas_Levantadas'!C:D,2,0),\"\")","v":0},"","",null,1,null,1,1,3371]
[null,null,{"$f":"IFERROR(VLOOKUP(D3376,'1_Causas_Levantadas'!C:D,2,0),\"\")","v":0},"","",null,1,null,1,1,3372]
[null,null,{"$f":"IFERROR(VLOOKUP(D3377,'1_Causas_Levantadas'!C:D,2,0),\"\")","v":0},"","",null,1,null,1,1,3373]
[null,null,{"$f":"IFERROR(VLOOKUP(D3378,'1_Causas_Levantadas'!C:D,2,0),\"\")","v":0},"","",null,1,null,1,1,3374]
[null,null,{"$f":"IFERROR(VLOOKUP(D3379,'1_Causas_Levantadas'!C:D,2,0),\"\")","v":0},"","",null,1,null,1,1,3375]
[null,null,{"$f":"IFERROR(VLOOKUP(D3380,'1_Causas_Levantadas'!C:D,2,0),\"\")","v":0},"","",null,1,null,1,1,3376]
[null,null,{"$f":"IFERROR(VLOOKUP(D3381,'1_Causas_Levantadas'!C:D,2,0),\"\")","v":0},"","",null,1,null,1,1,3377]
[null,null,{"$f":"IFERROR(VLOOKUP(D3382,'1_Causas_Levantadas'!C:D,2,0),\"\")","v":0},"","",null,1,null,1,1,3378]
[null,null,{"$f":"IFERROR(VLOOKUP(D3383,'1_Causas_Levantadas'!C:D,2,0),\"\")","v":0},"","",null,1,null,1,1,3379]
[null,null,{"$f":"IFERROR(VLOOKUP(D3384,'1_Causas_Levantadas'!C:D,2,0),\"\")","v":0},"","",null,1,null,1,1,3380]
[null,null,{"$f":"IFERROR(VLOOKUP(D3385,'1_Causas_Levantadas'!C:D,2,0),\"\")","v":0},"","",null,1,null,1,1,3381]
[null,null,{"$f":"IFERROR(VLOOKUP(D3386,'1_Causas_Levantadas'!C:D,2,0),\"\")","v":0},"","",null,1,null,1,1,3382]
[null,null,{"$f":"IFERROR(VLOOKUP(D3387,'1_Causas_Levantadas'!C:D,2,0),\"\")","v":0},"","",null,1,null,1,1,3383]
[null,null,{"$f":"IFERROR(VLOOKUP(D3388,'1_Causas_Levantadas'!C:D,2,0),\"\")","v":0},"","",null,1,null,1,1,3384]
[null,null,{"$f":"IFERROR(VLOOKUP(D3389,'1_Causas_Levantadas'!C:D,2,0),\"\")","v":0},"","",null,1,null,1,1,3385]
[null,null,{"$f":"IFERROR(VLOOKUP(D3390,'1_Causas_Levantadas'!C:D,2,0),\"\")","v":0},"","",null,1,null,1,1,3386]
[null,null,{"$f":"IFERROR(VLOOKUP(D3391,'1_Causas_Levantadas'!C:D,2,0),\"\")","v":0},"","",null,1,null,1,1,3387]
[null,null,{"$f":"IFERROR(VLOOKUP(D3392,'1_Causas_Levantadas'!C:D,2,0),\"\")","v":0},"","",null,1,null,1,1,3388]
[null,null,{"$f":"IFERROR(VLOOKUP(D3393,'1_Causas_Levantadas'!C:D,2,0),\"\")","v":0},"","",null,1,null,1,1,3389]
[null,null,{"$f":"IFERROR(VLOOKUP(D3394,'1_Causas_Levantadas'!C:D,2,0),\"\")","v":0},"","",null,1,null,1,1,3390]
[null,null,{"$f":"IFERROR(VLOOKUP(D3395,'1_Causas_Levantadas'!C:D,2,0),\"\")","v":0},"","",null,1,null,1,1,3391]
[null,null,{"$f":"IFERROR(VLOOKUP(D3396,'1_Causas_Levantadas'!C:D,2,0),\"\")","v":0},"","",null,1,null,1,1,3392]
[null,null,{"$f":"IFERROR(VLOOKUP(D3397,'1_Causas_Levantadas'!C:D,2,0),\"\")","v":0},"","",null,1,null,1,1,3393]
[null,null,{"$f":"IFERROR(VLOOKUP(D3398,'1_Causas_Levantadas'!C:D,2,0),\"\")","v":0},{"$f":"IF(K3398<=$H$4,(IF(G3397>0,G3398,$G$5)),\"\")","v":""},{"$f":"IF(D3398<>\"\",\"Participante \"&K3398,\"\")","v":""},null,{"$f":"J3398","v":1},null,{"$f":"IF(G3398=$G$5,1,0)","v":1},1,{"$f":"I3398+K3397","v":3394}]
[null,null,{"$f":"IFERROR(VLOOKUP(D3399,'1_Causas_Levantadas'!C:D,2,0),\"\")","v":0},"","",null,1,null,1,{"$f":"IF(G3398<$G$4,J3398+1,1)","v":1},3395]
[null,null,{"$f":"IFERROR(VLOOKUP(D3400,'1_Causas_Levantadas'!C:D,2,0),\"\")","v":0},"","",null,1,null,1,1,3396]
[null,null,{"$f":"IFERROR(VLOOKUP(D3401,'1_Causas_Levantadas'!C:D,2,0),\"\")","v":0},"","",null,1,null,1,1,3397]
[null,null,{"$f":"IFERROR(VLOOKUP(D3402,'1_Causas_Levantadas'!C:D,2,0),\"\")","v":0},"","",null,1,null,1,1,3398]
[null,null,{"$f":"IFERROR(VLOOKUP(D3403,'1_Causas_Levantadas'!C:D,2,0),\"\")","v":0},"","",null,1,null,1,1,3399]
[null,null,{"$f":"IFERROR(VLOOKUP(D3404,'1_Causas_Levantadas'!C:D,2,0),\"\")","v":0},"","",null,1,null,1,1,3400]
[null,null,{"$f":"IFERROR(VLOOKUP(D3405,'1_Causas_Levantadas'!C:D,2,0),\"\")","v":0},"","",null,1,null,1,1,3401]
[null,null,{"$f":"IFERROR(VLOOKUP(D3406,'1_Causas_Levantadas'!C:D,2,0),\"\")","v":0},"","",null,1,null,1,1,3402]
[null,null,{"$f":"IFERROR(VLOOKUP(D3407,'1_Causas_Levantadas'!C:D,2,0),\"\")","v":0},"","",null,1,null,1,1,3403]
[null,null,{"$f":"IFERROR(VLOOKUP(D3408,'1_Causas_Levantadas'!C:D,2,0),\"\")","v":0},"","",null,1,null,1,1,3404]
[null,null,{"$f":"IFERROR(VLOOKUP(D3409,'1_Causas_Levantadas'!C:D,2,0),\"\")","v":0},"","",null,1,null,1,1,3405]
[null,null,{"$f":"IFERROR(VLOOKUP(D3410,'1_Causas_Levantadas'!C:D,2,0),\"\")","v":0},"","",null,1,null,1,1,3406]
[null,null,{"$f":"IFERROR(VLOOKUP(D3411,'1_Causas_Levantadas'!C:D,2,0),\"\")","v":0},"","",null,1,null,1,1,3407]
[null,null,{"$f":"IFERROR(VLOOKUP(D3412,'1_Causas_Levantadas'!C:D,2,0),\"\")","v":0},"","",null,1,null,1,1,3408]
[null,null,{"$f":"IFERROR(VLOOKUP(D3413,'1_Causas_Levantadas'!C:D,2,0),\"\")","v":0},"","",null,1,null,1,1,3409]
[null,null,{"$f":"IFERROR(VLOOKUP(D3414,'1_Causas_Levantadas'!C:D,2,0),\"\")","v":0},"","",null,1,null,1,1,3410]
[null,null,{"$f":"IFERROR(VLOOKUP(D3415,'1_Causas_Levantadas'!C:D,2,0),\"\")","v":0},"","",null,1,null,1,1,3411]
[null,null,{"$f":"IFERROR(VLOOKUP(D3416,'1_Causas_Levantadas'!C:D,2,0),\"\")","v":0},"","",null,1,null,1,1,3412]
[null,null,{"$f":"IFERROR(VLOOKUP(D3417,'1_Causas_Levantadas'!C:D,2,0),\"\")","v":0},"","",null,1,null,1,1,3413]
[null,null,{"$f":"IFERROR(VLOOKUP(D3418,'1_Causas_Levantadas'!C:D,2,0),\"\")","v":0},"","",null,1,null,1,1,3414]
[null,null,{"$f":"IFERROR(VLOOKUP(D3419,'1_Causas_Levantadas'!C:D,2,0),\"\")","v":0},"","",null,1,null,1,1,3415]
[null,null,{"$f":"IFERROR(VLOOKUP(D3420,'1_Causas_Levantadas'!C:D,2,0),\"\")","v":0},"","",null,1,null,1,1,3416]
[null,null,{"$f":"IFERROR(VLOOKUP(D3421,'1_Causas_Levantadas'!C:D,2,0),\"\")","v":0},"","",null,1,null,1,1,3417]
[null,null,{"$f":"IFERROR(VLOOKUP(D3422,'1_Causas_Levantadas'!C:D,2,0),\"\")","v":0},"","",null,1,null,1,1,3418]
[null,null,{"$f":"IFERROR(VLOOKUP(D3423,'1_Causas_Levantadas'!C:D,2,0),\"\")","v":0},"","",null,1,null,1,1,3419]
[null,null,{"$f":"IFERROR(VLOOKUP(D3424,'1_Causas_Levantadas'!C:D,2,0),\"\")","v":0},"","",null,1,null,1,1,3420]
[null,null,{"$f":"IFERROR(VLOOKUP(D3425,'1_Causas_Levantadas'!C:D,2,0),\"\")","v":0},"","",null,1,null,1,1,3421]
[null,null,{"$f":"IFERROR(VLOOKUP(D3426,'1_Causas_Levantadas'!C:D,2,0),\"\")","v":0},"","",null,1,null,1,1,3422]
[null,null,{"$f":"IFERROR(VLOOKUP(D3427,'1_Causas_Levantadas'!C:D,2,0),\"\")","v":0},"","",null,1,null,1,1,3423]
[null,null,{"$f":"IFERROR(VLOOKUP(D3428,'1_Causas_Levantadas'!C:D,2,0),\"\")","v":0},"","",null,1,null,1,1,3424]
[null,null,{"$f":"IFERROR(VLOOKUP(D3429,'1_Causas_Levantadas'!C:D,2,0),\"\")","v":0},"","",null,1,null,1,1,3425]
[null,null,{"$f":"IFERROR(VLOOKUP(D3430,'1_Causas_Levantadas'!C:D,2,0),\"\")","v":0},"","",null,1,null,1,1,3426]
[null,null,{"$f":"IFERROR(VLOOKUP(D3431,'1_Causas_Levantadas'!C:D,2,0),\"\")","v":0},"","",null,1,null,1,1,3427]
[null,null,{"$f":"IFERROR(VLOOKUP(D3432,'1_Causas_Levantadas'!C:D,2,0),\"\")","v":0},"","",null,1,null,1,1,3428]
[null,null,{"$f":"IFERROR(VLOOKUP(D3433,'1_Causas_Levantadas'!C:D,2,0),\"\")","v":0},"","",null,1,null,1,1,3429]
[null,null,{"$f":"IFERROR(VLOOKUP(D3434,'1_Causas_Levantadas'!C:D,2,0),\"\")","v":0},"","",null,1,null,1,1,3430]
[null,null,{"$f":"IFERROR(VLOOKUP(D3435,'1_Causas_Levantadas'!C:D,2,0),\"\")","v":0},"","",null,1,null,1,1,3431]
[null,null,{"$f":"IFERROR(VLOOKUP(D3436,'1_Causas_Levantadas'!C:D,2,0),\"\")","v":0},"","",null,1,null,1,1,3432]
[null,null,{"$f":"IFERROR(VLOOKUP(D3437,'1_Causas_Levantadas'!C:D,2,0),\"\")","v":0},"","",null,1,null,1,1,3433]
[null,null,{"$f":"IFERROR(VLOOKUP(D3438,'1_Causas_Levantadas'!C:D,2,0),\"\")","v":0},"","",null,1,null,1,1,3434]
[null,null,{"$f":"IFERROR(VLOOKUP(D3439,'1_Causas_Levantadas'!C:D,2,0),\"\")","v":0},"","",null,1,null,1,1,3435]
[null,null,{"$f":"IFERROR(VLOOKUP(D3440,'1_Causas_Levantadas'!C:D,2,0),\"\")","v":0},"","",null,1,null,1,1,3436]
[null,null,{"$f":"IFERROR(VLOOKUP(D3441,'1_Causas_Levantadas'!C:D,2,0),\"\")","v":0},"","",null,1,null,1,1,3437]
[null,null,{"$f":"IFERROR(VLOOKUP(D3442,'1_Causas_Levantadas'!C:D,2,0),\"\")","v":0},"","",null,1,null,1,1,3438]
[null,null,{"$f":"IFERROR(VLOOKUP(D3443,'1_Causas_Levantadas'!C:D,2,0),\"\")","v":0},"","",null,1,null,1,1,3439]
[null,null,{"$f":"IFERROR(VLOOKUP(D3444,'1_Causas_Levantadas'!C:D,2,0),\"\")","v":0},"","",null,1,null,1,1,3440]
[null,null,{"$f":"IFERROR(VLOOKUP(D3445,'1_Causas_Levantadas'!C:D,2,0),\"\")","v":0},"","",null,1,null,1,1,3441]
[null,null,{"$f":"IFERROR(VLOOKUP(D3446,'1_Causas_Levantadas'!C:D,2,0),\"\")","v":0},"","",null,1,null,1,1,3442]
[null,null,{"$f":"IFERROR(VLOOKUP(D3447,'1_Causas_Levantadas'!C:D,2,0),\"\")","v":0},"","",null,1,null,1,1,3443]
[null,null,{"$f":"IFERROR(VLOOKUP(D3448,'1_Causas_Levantadas'!C:D,2,0),\"\")","v":0},"","",null,1,null,1,1,3444]
[null,null,{"$f":"IFERROR(VLOOKUP(D3449,'1_Causas_Levantadas'!C:D,2,0),\"\")","v":0},"","",null,1,null,1,1,3445]
[null,null,{"$f":"IFERROR(VLOOKUP(D3450,'1_Causas_Levantadas'!C:D,2,0),\"\")","v":0},"","",null,1,null,1,1,3446]
[null,null,{"$f":"IFERROR(VLOOKUP(D3451,'1_Causas_Levantadas'!C:D,2,0),\"\")","v":0},"","",null,1,null,1,1,3447]
[null,null,{"$f":"IFERROR(VLOOKUP(D3452,'1_Causas_Levantadas'!C:D,2,0),\"\")","v":0},"","",null,1,null,1,1,3448]
[null,null,{"$f":"IFERROR(VLOOKUP(D3453,'1_Causas_Levantadas'!C:D,2,0),\"\")","v":0},"","",null,1,null,1,1,3449]
[null,null,{"$f":"IFERROR(VLOOKUP(D3454,'1_Causas_Levantadas'!C:D,2,0),\"\")","v":0},"","",null,1,null,1,1,3450]
[null,null,{"$f":"IFERROR(VLOOKUP(D3455,'1_Causas_Levantadas'!C:D,2,0),\"\")","v":0},"","",null,1,null,1,1,3451]
[null,null,{"$f":"IFERROR(VLOOKUP(D3456,'1_Causas_Levantadas'!C:D,2,0),\"\")","v":0},"","",null,1,null,1,1,3452]
[null,null,{"$f":"IFERROR(VLOOKUP(D3457,'1_Causas_Levantadas'!C:D,2,0),\"\")","v":0},"","",null,1,null,1,1,3453]
[null,null,{"$f":"IFERROR(VLOOKUP(D3458,'1_Causas_Levantadas'!C:D,2,0),\"\")","v":0},"","",null,1,null,1,1,3454]
[null,null,{"$f":"IFERROR(VLOOKUP(D3459,'1_Causas_Levantadas'!C:D,2,0),\"\")","v":0},"","",null,1,null,1,1,3455]
[null,null,{"$f":"IFERROR(VLOOKUP(D3460,'1_Causas_Levantadas'!C:D,2,0),\"\")","v":0},"","",null,1,null,1,1,3456]
[null,null,{"$f":"IFERROR(VLOOKUP(D3461,'1_Causas_Levantadas'!C:D,2,0),\"\")","v":0},"","",null,1,null,1,1,3457]
[null,null,{"$f":"IFERROR(VLOOKUP(D3462,'1_Causas_Levantadas'!C:D,2,0),\"\")","v":0},{"$f":"IF(K3462<=$H$4,(IF(G3461>0,G3462,$G$5)),\"\")","v":""},{"$f":"IF(D3462<>\"\",\"Participante \"&K3462,\"\")","v":""},null,{"$f":"J3462","v":1},null,{"$f":"IF(G3462=$G$5,1,0)","v":1},1,{"$f":"I3462+K3461","v":3458}]
[null,null,{"$f":"IFERROR(VLOOKUP(D3463,'1_Causas_Levantadas'!C:D,2,0),\"\")","v":0},"","",null,1,null,1,{"$f":"IF(G3462<$G$4,J3462+1,1)","v":1},3459]
[null,null,{"$f":"IFERROR(VLOOKUP(D3464,'1_Causas_Levantadas'!C:D,2,0),\"\")","v":0},"","",null,1,null,1,1,3460]
[null,null,{"$f":"IFERROR(VLOOKUP(D3465,'1_Causas_Levantadas'!C:D,2,0),\"\")","v":0},"","",null,1,null,1,1,3461]
[null,null,{"$f":"IFERROR(VLOOKUP(D3466,'1_Causas_Levantadas'!C:D,2,0),\"\")","v":0},"","",null,1,null,1,1,3462]
[null,null,{"$f":"IFERROR(VLOOKUP(D3467,'1_Causas_Levantadas'!C:D,2,0),\"\")","v":0},"","",null,1,null,1,1,3463]
[null,null,{"$f":"IFERROR(VLOOKUP(D3468,'1_Causas_Levantadas'!C:D,2,0),\"\")","v":0},"","",null,1,null,1,1,3464]
[null,null,{"$f":"IFERROR(VLOOKUP(D3469,'1_Causas_Levantadas'!C:D,2,0),\"\")","v":0},"","",null,1,null,1,1,3465]
[null,null,{"$f":"IFERROR(VLOOKUP(D3470,'1_Causas_Levantadas'!C:D,2,0),\"\")","v":0},"","",null,1,null,1,1,3466]
[null,null,{"$f":"IFERROR(VLOOKUP(D3471,'1_Causas_Levantadas'!C:D,2,0),\"\")","v":0},"","",null,1,null,1,1,3467]
[null,null,{"$f":"IFERROR(VLOOKUP(D3472,'1_Causas_Levantadas'!C:D,2,0),\"\")","v":0},"","",null,1,null,1,1,3468]
[null,null,{"$f":"IFERROR(VLOOKUP(D3473,'1_Causas_Levantadas'!C:D,2,0),\"\")","v":0},"","",null,1,null,1,1,3469]
[null,null,{"$f":"IFERROR(VLOOKUP(D3474,'1_Causas_Levantadas'!C:D,2,0),\"\")","v":0},"","",null,1,null,1,1,3470]
[null,null,{"$f":"IFERROR(VLOOKUP(D3475,'1_Causas_Levantadas'!C:D,2,0),\"\")","v":0},"","",null,1,null,1,1,3471]
[null,null,{"$f":"IFERROR(VLOOKUP(D3476,'1_Causas_Levantadas'!C:D,2,0),\"\")","v":0},"","",null,1,null,1,1,3472]
[null,null,{"$f":"IFERROR(VLOOKUP(D3477,'1_Causas_Levantadas'!C:D,2,0),\"\")","v":0},"","",null,1,null,1,1,3473]
[null,null,{"$f":"IFERROR(VLOOKUP(D3478,'1_Causas_Levantadas'!C:D,2,0),\"\")","v":0},"","",null,1,null,1,1,3474]
[null,null,{"$f":"IFERROR(VLOOKUP(D3479,'1_Causas_Levantadas'!C:D,2,0),\"\")","v":0},"","",null,1,null,1,1,3475]
[null,null,{"$f":"IFERROR(VLOOKUP(D3480,'1_Causas_Levantadas'!C:D,2,0),\"\")","v":0},"","",null,1,null,1,1,3476]
[null,null,{"$f":"IFERROR(VLOOKUP(D3481,'1_Causas_Levantadas'!C:D,2,0),\"\")","v":0},"","",null,1,null,1,1,3477]
[null,null,{"$f":"IFERROR(VLOOKUP(D3482,'1_Causas_Levantadas'!C:D,2,0),\"\")","v":0},"","",null,1,null,1,1,3478]
[null,null,{"$f":"IFERROR(VLOOKUP(D3483,'1_Causas_Levantadas'!C:D,2,0),\"\")","v":0},"","",null,1,null,1,1,3479]
[null,null,{"$f":"IFERROR(VLOOKUP(D3484,'1_Causas_Levantadas'!C:D,2,0),\"\")","v":0},"","",null,1,null,1,1,3480]
[null,null,{"$f":"IFERROR(VLOOKUP(D3485,'1_Causas_Levantadas'!C:D,2,0),\"\")","v":0},"","",null,1,null,1,1,3481]
[null,null,{"$f":"IFERROR(VLOOKUP(D3486,'1_Causas_Levantadas'!C:D,2,0),\"\")","v":0},"","",null,1,null,1,1,3482]
[null,null,{"$f":"IFERROR(VLOOKUP(D3487,'1_Causas_Levantadas'!C:D,2,0),\"\")","v":0},"","",null,1,null,1,1,3483]
[null,null,{"$f":"IFERROR(VLOOKUP(D3488,'1_Causas_Levantadas'!C:D,2,0),\"\")","v":0},"","",null,1,null,1,1,3484]
[null,null,{"$f":"IFERROR(VLOOKUP(D3489,'1_Causas_Levantadas'!C:D,2,0),\"\")","v":0},"","",null,1,null,1,1,3485]
[null,null,{"$f":"IFERROR(VLOOKUP(D3490,'1_Causas_Levantadas'!C:D,2,0),\"\")","v":0},"","",null,1,null,1,1,3486]
[null,null,{"$f":"IFERROR(VLOOKUP(D3491,'1_Causas_Levantadas'!C:D,2,0),\"\")","v":0},"","",null,1,null,1,1,3487]
[null,null,{"$f":"IFERROR(VLOOKUP(D3492,'1_Causas_Levantadas'!C:D,2,0),\"\")","v":0},"","",null,1,null,1,1,3488]
[null,null,{"$f":"IFERROR(VLOOKUP(D3493,'1_Causas_Levantadas'!C:D,2,0),\"\")","v":0},"","",null,1,null,1,1,3489]
[null,null,{"$f":"IFERROR(VLOOKUP(D3494,'1_Causas_Levantadas'!C:D,2,0),\"\")","v":0},"","",null,1,null,1,1,3490]
[null,null,{"$f":"IFERROR(VLOOKUP(D3495,'1_Causas_Levantadas'!C:D,2,0),\"\")","v":0},"","",null,1,null,1,1,3491]
[null,null,{"$f":"IFERROR(VLOOKUP(D3496,'1_Causas_Levantadas'!C:D,2,0),\"\")","v":0},"","",null,1,null,1,1,3492]
[null,null,{"$f":"IFERROR(VLOOKUP(D3497,'1_Causas_Levantadas'!C:D,2,0),\"\")","v":0},"","",null,1,null,1,1,3493]
[null,null,{"$f":"IFERROR(VLOOKUP(D3498,'1_Causas_Levantadas'!C:D,2,0),\"\")","v":0},"","",null,1,null,1,1,3494]
[null,null,{"$f":"IFERROR(VLOOKUP(D3499,'1_Causas_Levantadas'!C:D,2,0),\"\")","v":0},"","",null,1,null,1,1,3495]
[null,null,{"$f":"IFERROR(VLOOKUP(D3500,'1_Causas_Levantadas'!C:D,2,0),\"\")","v":0},"","",null,1,null,1,1,3496]
[null,null,{"$f":"IFERROR(VLOOKUP(D3501,'1_Causas_Levantadas'!C:D,2,0),\"\")","v":0},"","",null,1,null,1,1,3497]
[null,null,{"$f":"IFERROR(VLOOKUP(D3502,'1_Causas_Levantadas'!C:D,2,0),\"\")","v":0},"","",null,1,null,1,1,3498]
[null,null,{"$f":"IFERROR(VLOOKUP(D3503,'1_Causas_Levantadas'!C:D,2,0),\"\")","v":0},"","",null,1,null,1,1,3499]
[null,null,{"$f":"IFERROR(VLOOKUP(D3504,'1_Causas_Levantadas'!C:D,2,0),\"\")","v":0},"","",null,1,null,1,1,3500]
[null,null,{"$f":"IFERROR(VLOOKUP(D3505,'1_Causas_Levantadas'!C:D,2,0),\"\")","v":0},"","",null,1,null,1,1,3501]
[null,null,{"$f":"IFERROR(VLOOKUP(D3506,'1_Causas_Levantadas'!C:D,2,0),\"\")","v":0},"","",null,1,null,1,1,3502]
[null,null,{"$f":"IFERROR(VLOOKUP(D3507,'1_Causas_Levantadas'!C:D,2,0),\"\")","v":0},"","",null,1,null,1,1,3503]
[null,null,{"$f":"IFERROR(VLOOKUP(D3508,'1_Causas_Levantadas'!C:D,2,0),\"\")","v":0},"","",null,1,null,1,1,3504]
[null,null,{"$f":"IFERROR(VLOOKUP(D3509,'1_Causas_Levantadas'!C:D,2,0),\"\")","v":0},"","",null,1,null,1,1,3505]
[null,null,{"$f":"IFERROR(VLOOKUP(D3510,'1_Causas_Levantadas'!C:D,2,0),\"\")","v":0},"","",null,1,null,1,1,3506]
[null,null,{"$f":"IFERROR(VLOOKUP(D3511,'1_Causas_Levantadas'!C:D,2,0),\"\")","v":0},"","",null,1,null,1,1,3507]
[null,null,{"$f":"IFERROR(VLOOKUP(D3512,'1_Causas_Levantadas'!C:D,2,0),\"\")","v":0},"","",null,1,null,1,1,3508]
[null,null,{"$f":"IFERROR(VLOOKUP(D3513,'1_Causas_Levantadas'!C:D,2,0),\"\")","v":0},"","",null,1,null,1,1,3509]
[null,null,{"$f":"IFERROR(VLOOKUP(D3514,'1_Causas_Levantadas'!C:D,2,0),\"\")","v":0},"","",null,1,null,1,1,3510]
[null,null,{"$f":"IFERROR(VLOOKUP(D3515,'1_Causas_Levantadas'!C:D,2,0),\"\")","v":0},"","",null,1,null,1,1,3511]
[null,null,{"$f":"IFERROR(VLOOKUP(D3516,'1_Causas_Levantadas'!C:D,2,0),\"\")","v":0},"","",null,1,null,1,1,3512]
[null,null,{"$f":"IFERROR(VLOOKUP(D3517,'1_Causas_Levantadas'!C:D,2,0),\"\")","v":0},"","",null,1,null,1,1,3513]
[null,null,{"$f":"IFERROR(VLOOKUP(D3518,'1_Causas_Levantadas'!C:D,2,0),\"\")","v":0},"","",null,1,null,1,1,3514]
[null,null,{"$f":"IFERROR(VLOOKUP(D3519,'1_Causas_Levantadas'!C:D,2,0),\"\")","v":0},"","",null,1,null,1,1,3515]
[null,null,{"$f":"IFERROR(VLOOKUP(D3520,'1_Causas_Levantadas'!C:D,2,0),\"\")","v":0},"","",null,1,null,1,1,3516]
[null,null,{"$f":"IFERROR(VLOOKUP(D3521,'1_Causas_Levantadas'!C:D,2,0),\"\")","v":0},"","",null,1,null,1,1,3517]
[null,null,{"$f":"IFERROR(VLOOKUP(D3522,'1_Causas_Levantadas'!C:D,2,0),\"\")","v":0},"","",null,1,null,1,1,3518]
[null,null,{"$f":"IFERROR(VLOOKUP(D3523,'1_Causas_Levantadas'!C:D,2,0),\"\")","v":0},"","",null,1,null,1,1,3519]
[null,null,{"$f":"IFERROR(VLOOKUP(D3524,'1_Causas_Levantadas'!C:D,2,0),\"\")","v":0},"","",null,1,null,1,1,3520]
[null,null,{"$f":"IFERROR(VLOOKUP(D3525,'1_Causas_Levantadas'!C:D,2,0),\"\")","v":0},"","",null,1,null,1,1,3521]
[null,null,{"$f":"IFERROR(VLOOKUP(D3526,'1_Causas_Levantadas'!C:D,2,0),\"\")","v":0},{"$f":"IF(K3526<=$H$4,(IF(G3525>0,G3526,$G$5)),\"\")","v":""},{"$f":"IF(D3526<>\"\",\"Participante \"&K3526,\"\")","v":""},null,{"$f":"J3526","v":1},null,{"$f":"IF(G3526=$G$5,1,0)","v":1},1,{"$f":"I3526+K3525","v":3522}]
[null,null,{"$f":"IFERROR(VLOOKUP(D3527,'1_Causas_Levantadas'!C:D,2,0),\"\")","v":0},"","",null,1,null,1,{"$f":"IF(G3526<$G$4,J3526+1,1)","v":1},3523]
[null,null,{"$f":"IFERROR(VLOOKUP(D3528,'1_Causas_Levantadas'!C:D,2,0),\"\")","v":0},"","",null,1,null,1,1,3524]
[null,null,{"$f":"IFERROR(VLOOKUP(D3529,'1_Causas_Levantadas'!C:D,2,0),\"\")","v":0},"","",null,1,null,1,1,3525]
[null,null,{"$f":"IFERROR(VLOOKUP(D3530,'1_Causas_Levantadas'!C:D,2,0),\"\")","v":0},"","",null,1,null,1,1,3526]
[null,null,{"$f":"IFERROR(VLOOKUP(D3531,'1_Causas_Levantadas'!C:D,2,0),\"\")","v":0},"","",null,1,null,1,1,3527]
[null,null,{"$f":"IFERROR(VLOOKUP(D3532,'1_Causas_Levantadas'!C:D,2,0),\"\")","v":0},"","",null,1,null,1,1,3528]
[null,null,{"$f":"IFERROR(VLOOKUP(D3533,'1_Causas_Levantadas'!C:D,2,0),\"\")","v":0},"","",null,1,null,1,1,3529]
[null,null,{"$f":"IFERROR(VLOOKUP(D3534,'1_Causas_Levantadas'!C:D,2,0),\"\")","v":0},"","",null,1,null,1,1,3530]
[null,null,{"$f":"IFERROR(VLOOKUP(D3535,'1_Causas_Levantadas'!C:D,2,0),\"\")","v":0},"","",null,1,null,1,1,3531]
[null,null,{"$f":"IFERROR(VLOOKUP(D3536,'1_Causas_Levantadas'!C:D,2,0),\"\")","v":0},"","",null,1,null,1,1,3532]
[null,null,{"$f":"IFERROR(VLOOKUP(D3537,'1_Causas_Levantadas'!C:D,2,0),\"\")","v":0},"","",null,1,null,1,1,3533]
[null,null,{"$f":"IFERROR(VLOOKUP(D3538,'1_Causas_Levantadas'!C:D,2,0),\"\")","v":0},"","",null,1,null,1,1,3534]
[null,null,{"$f":"IFERROR(VLOOKUP(D3539,'1_Causas_Levantadas'!C:D,2,0),\"\")","v":0},"","",null,1,null,1,1,3535]
[null,null,{"$f":"IFERROR(VLOOKUP(D3540,'1_Causas_Levantadas'!C:D,2,0),\"\")","v":0},"","",null,1,null,1,1,3536]
[null,null,{"$f":"IFERROR(VLOOKUP(D3541,'1_Causas_Levantadas'!C:D,2,0),\"\")","v":0},"","",null,1,null,1,1,3537]
[null,null,{"$f":"IFERROR(VLOOKUP(D3542,'1_Causas_Levantadas'!C:D,2,0),\"\")","v":0},"","",null,1,null,1,1,3538]
[null,null,{"$f":"IFERROR(VLOOKUP(D3543,'1_Causas_Levantadas'!C:D,2,0),\"\")","v":0},"","",null,1,null,1,1,3539]
[null,null,{"$f":"IFERROR(VLOOKUP(D3544,'1_Causas_Levantadas'!C:D,2,0),\"\")","v":0},"","",null,1,null,1,1,3540]
[null,null,{"$f":"IFERROR(VLOOKUP(D3545,'1_Causas_Levantadas'!C:D,2,0),\"\")","v":0},"","",null,1,null,1,1,3541]
[null,null,{"$f":"IFERROR(VLOOKUP(D3546,'1_Causas_Levantadas'!C:D,2,0),\"\")","v":0},"","",null,1,null,1,1,3542]
[null,null,{"$f":"IFERROR(VLOOKUP(D3547,'1_Causas_Levantadas'!C:D,2,0),\"\")","v":0},"","",null,1,null,1,1,3543]
[null,null,{"$f":"IFERROR(VLOOKUP(D3548,'1_Causas_Levantadas'!C:D,2,0),\"\")","v":0},"","",null,1,null,1,1,3544]
[null,null,{"$f":"IFERROR(VLOOKUP(D3549,'1_Causas_Levantadas'!C:D,2,0),\"\")","v":0},"","",null,1,null,1,1,3545]
[null,null,{"$f":"IFERROR(VLOOKUP(D3550,'1_Causas_Levantadas'!C:D,2,0),\"\")","v":0},"","",null,1,null,1,1,3546]
[null,null,{"$f":"IFERROR(VLOOKUP(D3551,'1_Causas_Levantadas'!C:D,2,0),\"\")","v":0},"","",null,1,null,1,1,3547]
[null,null,{"$f":"IFERROR(VLOOKUP(D3552,'1_Causas_Levantadas'!C:D,2,0),\"\")","v":0},"","",null,1,null,1,1,3548]
[null,null,{"$f":"IFERROR(VLOOKUP(D3553,'1_Causas_Levantadas'!C:D,2,0),\"\")","v":0},"","",null,1,null,1,1,3549]
[null,null,{"$f":"IFERROR(VLOOKUP(D3554,'1_Causas_Levantadas'!C:D,2,0),\"\")","v":0},"","",null,1,null,1,1,3550]
[null,null,{"$f":"IFERROR(VLOOKUP(D3555,'1_Causas_Levantadas'!C:D,2,0),\"\")","v":0},"","",null,1,null,1,1,3551]
[null,null,{"$f":"IFERROR(VLOOKUP(D3556,'1_Causas_Levantadas'!C:D,2,0),\"\")","v":0},"","",null,1,null,1,1,3552]
[null,null,{"$f":"IFERROR(VLOOKUP(D3557,'1_Causas_Levantadas'!C:D,2,0),\"\")","v":0},"","",null,1,null,1,1,3553]
[null,null,{"$f":"IFERROR(VLOOKUP(D3558,'1_Causas_Levantadas'!C:D,2,0),\"\")","v":0},"","",null,1,null,1,1,3554]
[null,null,{"$f":"IFERROR(VLOOKUP(D3559,'1_Causas_Levantadas'!C:D,2,0),\"\")","v":0},"","",null,1,null,1,1,3555]
[null,null,{"$f":"IFERROR(VLOOKUP(D3560,'1_Causas_Levantadas'!C:D,2,0),\"\")","v":0},"","",null,1,null,1,1,3556]
[null,null,{"$f":"IFERROR(VLOOKUP(D3561,'1_Causas_Levantadas'!C:D,2,0),\"\")","v":0},"","",null,1,null,1,1,3557]
[null,null,{"$f":"IFERROR(VLOOKUP(D3562,'1_Causas_Levantadas'!C:D,2,0),\"\")","v":0},"","",null,1,null,1,1,3558]
[null,null,{"$f":"IFERROR(VLOOKUP(D3563,'1_Causas_Levantadas'!C:D,2,0),\"\")","v":0},"","",null,1,null,1,1,3559]
[null,null,{"$f":"IFERROR(VLOOKUP(D3564,'1_Causas_Levantadas'!C:D,2,0),\"\")","v":0},"","",null,1,null,1,1,3560]
[null,null,{"$f":"IFERROR(VLOOKUP(D3565,'1_Causas_Levantadas'!C:D,2,0),\"\")","v":0},"","",null,1,null,1,1,3561]
[null,null,{"$f":"IFERROR(VLOOKUP(D3566,'1_Causas_Levantadas'!C:D,2,0),\"\")","v":0},"","",null,1,null,1,1,3562]
[null,null,{"$f":"IFERROR(VLOOKUP(D3567,'1_Causas_Levantadas'!C:D,2,0),\"\")","v":0},"","",null,1,null,1,1,3563]
[null,null,{"$f":"IFERROR(VLOOKUP(D3568,'1_Causas_Levantadas'!C:D,2,0),\"\")","v":0},"","",null,1,null,1,1,3564]
[null,null,{"$f":"IFERROR(VLOOKUP(D3569,'1_Causas_Levantadas'!C:D,2,0),\"\")","v":0},"","",null,1,null,1,1,3565]
[null,null,{"$f":"IFERROR(VLOOKUP(D3570,'1_Causas_Levantadas'!C:D,2,0),\"\")","v":0},"","",null,1,null,1,1,3566]
[null,null,{"$f":"IFERROR(VLOOKUP(D3571,'1_Causas_Levantadas'!C:D,2,0),\"\")","v":0},"","",null,1,null,1,1,3567]
[null,null,{"$f":"IFERROR(VLOOKUP(D3572,'1_Causas_Levantadas'!C:D,2,0),\"\")","v":0},"","",null,1,null,1,1,3568]
[null,null,{"$f":"IFERROR(VLOOKUP(D3573,'1_Causas_Levantadas'!C:D,2,0),\"\")","v":0},"","",null,1,null,1,1,3569]
[null,null,{"$f":"IFERROR(VLOOKUP(D3574,'1_Causas_Levantadas'!C:D,2,0),\"\")","v":0},"","",null,1,null,1,1,3570]
[null,null,{"$f":"IFERROR(VLOOKUP(D3575,'1_Causas_Levantadas'!C:D,2,0),\"\")","v":0},"","",null,1,null,1,1,3571]
[null,null,{"$f":"IFERROR(VLOOKUP(D3576,'1_Causas_Levantadas'!C:D,2,0),\"\")","v":0},"","",null,1,null,1,1,3572]
[null,null,{"$f":"IFERROR(VLOOKUP(D3577,'1_Causas_Levantadas'!C:D,2,0),\"\")","v":0},"","",null,1,null,1,1,3573]
[null,null,{"$f":"IFERROR(VLOOKUP(D3578,'1_Causas_Levantadas'!C:D,2,0),\"\")","v":0},"","",null,1,null,1,1,3574]
[null,null,{"$f":"IFERROR(VLOOKUP(D3579,'1_Causas_Levantadas'!C:D,2,0),\"\")","v":0},"","",null,1,null,1,1,3575]
[null,null,{"$f":"IFERROR(VLOOKUP(D3580,'1_Causas_Levantadas'!C:D,2,0),\"\")","v":0},"","",null,1,null,1,1,3576]
[null,null,{"$f":"IFERROR(VLOOKUP(D3581,'1_Causas_Levantadas'!C:D,2,0),\"\")","v":0},"","",null,1,null,1,1,3577]
[null,null,{"$f":"IFERROR(VLOOKUP(D3582,'1_Causas_Levantadas'!C:D,2,0),\"\")","v":0},"","",null,1,null,1,1,3578]
[null,null,{"$f":"IFERROR(VLOOKUP(D3583,'1_Causas_Levantadas'!C:D,2,0),\"\")","v":0},"","",null,1,null,1,1,3579]
[null,null,{"$f":"IFERROR(VLOOKUP(D3584,'1_Causas_Levantadas'!C:D,2,0),\"\")","v":0},"","",null,1,null,1,1,3580]
[null,null,{"$f":"IFERROR(VLOOKUP(D3585,'1_Causas_Levantadas'!C:D,2,0),\"\")","v":0},"","",null,1,null,1,1,3581]
[null,null,{"$f":"IFERROR(VLOOKUP(D3586,'1_Causas_Levantadas'!C:D,2,0),\"\")","v":0},"","",null,1,null,1,1,3582]
[null,null,{"$f":"IFERROR(VLOOKUP(D3587,'1_Causas_Levantadas'!C:D,2,0),\"\")","v":0},"","",null,1,null,1,1,3583]
[null,null,{"$f":"IFERROR(VLOOKUP(D3588,'1_Causas_Levantadas'!C:D,2,0),\"\")","v":0},"","",null,1,null,1,1,3584]
[null,null,{"$f":"IFERROR(VLOOKUP(D3589,'1_Causas_Levantadas'!C:D,2,0),\"\")","v":0},"","",null,1,null,1,1,3585]
[null,null,{"$f":"IFERROR(VLOOKUP(D3590,'1_Causas_Levantadas'!C:D,2,0),\"\")","v":0},{"$f":"IF(K3590<=$H$4,(IF(G3589>0,G3590,$G$5)),\"\")","v":""},{"$f":"IF(D3590<>\"\",\"Participante \"&K3590,\"\")","v":""},null,{"$f":"J3590","v":1},null,{"$f":"IF(G3590=$G$5,1,0)","v":1},1,{"$f":"I3590+K3589","v":3586}]
[null,null,{"$f":"IFERROR(VLOOKUP(D3591,'1_Causas_Levantadas'!C:D,2,0),\"\")","v":0},"","",null,1,null,1,{"$f":"IF(G3590<$G$4,J3590+1,1)","v":1},3587]
[null,null,{"$f":"IFERROR(VLOOKUP(D3592,'1_Causas_Levantadas'!C:D,2,0),\"\")","v":0},"","",null,1,null,1,1,3588]
[null,null,{"$f":"IFERROR(VLOOKUP(D3593,'1_Causas_Levantadas'!C:D,2,0),\"\")","v":0},"","",null,1,null,1,1,3589]
[null,null,{"$f":"IFERROR(VLOOKUP(D3594,'1_Causas_Levantadas'!C:D,2,0),\"\")","v":0},"","",null,1,null,1,1,3590]
[null,null,{"$f":"IFERROR(VLOOKUP(D3595,'1_Causas_Levantadas'!C:D,2,0),\"\")","v":0},"","",null,1,null,1,1,3591]
[null,null,{"$f":"IFERROR(VLOOKUP(D3596,'1_Causas_Levantadas'!C:D,2,0),\"\")","v":0},"","",null,1,null,1,1,3592]
[null,null,{"$f":"IFERROR(VLOOKUP(D3597,'1_Causas_Levantadas'!C:D,2,0),\"\")","v":0},"","",null,1,null,1,1,3593]
[null,null,{"$f":"IFERROR(VLOOKUP(D3598,'1_Causas_Levantadas'!C:D,2,0),\"\")","v":0},"","",null,1,null,1,1,3594]
[null,null,{"$f":"IFERROR(VLOOKUP(D3599,'1_Causas_Levantadas'!C:D,2,0),\"\")","v":0},"","",null,1,null,1,1,3595]
[null,null,{"$f":"IFERROR(VLOOKUP(D3600,'1_Causas_Levantadas'!C:D,2,0),\"\")","v":0},"","",null,1,null,1,1,3596]
[null,null,{"$f":"IFERROR(VLOOKUP(D3601,'1_Causas_Levantadas'!C:D,2,0),\"\")","v":0},"","",null,1,null,1,1,3597]
[null,null,{"$f":"IFERROR(VLOOKUP(D3602,'1_Causas_Levantadas'!C:D,2,0),\"\")","v":0},"","",null,1,null,1,1,3598]
[null,null,{"$f":"IFERROR(VLOOKUP(D3603,'1_Causas_Levantadas'!C:D,2,0),\"\")","v":0},"","",null,1,null,1,1,3599]
[null,null,{"$f":"IFERROR(VLOOKUP(D3604,'1_Causas_Levantadas'!C:D,2,0),\"\")","v":0},"","",null,1,null,1,1,3600]
[null,null,{"$f":"IFERROR(VLOOKUP(D3605,'1_Causas_Levantadas'!C:D,2,0),\"\")","v":0},"","",null,1,null,1,1,3601]
[null,null,{"$f":"IFERROR(VLOOKUP(D3606,'1_Causas_Levantadas'!C:D,2,0),\"\")","v":0},"","",null,1,null,1,1,3602]
[null,null,{"$f":"IFERROR(VLOOKUP(D3607,'1_Causas_Levantadas'!C:D,2,0),\"\")","v":0},"","",null,1,null,1,1,3603]
[null,null,{"$f":"IFERROR(VLOOKUP(D3608,'1_Causas_Levantadas'!C:D,2,0),\"\")","v":0},"","",null,1,null,1,1,3604]
[null,null,{"$f":"IFERROR(VLOOKUP(D3609,'1_Causas_Levantadas'!C:D,2,0),\"\")","v":0},"","",null,1,null,1,1,3605]
[null,null,{"$f":"IFERROR(VLOOKUP(D3610,'1_Causas_Levantadas'!C:D,2,0),\"\")","v":0},"","",null,1,null,1,1,3606]
[null,null,{"$f":"IFERROR(VLOOKUP(D3611,'1_Causas_Levantadas'!C:D,2,0),\"\")","v":0},"","",null,1,null,1,1,3607]
[null,null,{"$f":"IFERROR(VLOOKUP(D3612,'1_Causas_Levantadas'!C:D,2,0),\"\")","v":0},"","",null,1,null,1,1,3608]
[null,null,{"$f":"IFERROR(VLOOKUP(D3613,'1_Causas_Levantadas'!C:D,2,0),\"\")","v":0},"","",null,1,null,1,1,3609]
[null,null,{"$f":"IFERROR(VLOOKUP(D3614,'1_Causas_Levantadas'!C:D,2,0),\"\")","v":0},"","",null,1,null,1,1,3610]
[null,null,{"$f":"IFERROR(VLOOKUP(D3615,'1_Causas_Levantadas'!C:D,2,0),\"\")","v":0},"","",null,1,null,1,1,3611]
[null,null,{"$f":"IFERROR(VLOOKUP(D3616,'1_Causas_Levantadas'!C:D,2,0),\"\")","v":0},"","",null,1,null,1,1,3612]
[null,null,{"$f":"IFERROR(VLOOKUP(D3617,'1_Causas_Levantadas'!C:D,2,0),\"\")","v":0},"","",null,1,null,1,1,3613]
[null,null,{"$f":"IFERROR(VLOOKUP(D3618,'1_Causas_Levantadas'!C:D,2,0),\"\")","v":0},"","",null,1,null,1,1,3614]
[null,null,{"$f":"IFERROR(VLOOKUP(D3619,'1_Causas_Levantadas'!C:D,2,0),\"\")","v":0},"","",null,1,null,1,1,3615]
[null,null,{"$f":"IFERROR(VLOOKUP(D3620,'1_Causas_Levantadas'!C:D,2,0),\"\")","v":0},"","",null,1,null,1,1,3616]
[null,null,{"$f":"IFERROR(VLOOKUP(D3621,'1_Causas_Levantadas'!C:D,2,0),\"\")","v":0},"","",null,1,null,1,1,3617]
[null,null,{"$f":"IFERROR(VLOOKUP(D3622,'1_Causas_Levantadas'!C:D,2,0),\"\")","v":0},"","",null,1,null,1,1,3618]
[null,null,{"$f":"IFERROR(VLOOKUP(D3623,'1_Causas_Levantadas'!C:D,2,0),\"\")","v":0},"","",null,1,null,1,1,3619]
[null,null,{"$f":"IFERROR(VLOOKUP(D3624,'1_Causas_Levantadas'!C:D,2,0),\"\")","v":0},"","",null,1,null,1,1,3620]
[null,null,{"$f":"IFERROR(VLOOKUP(D3625,'1_Causas_Levantadas'!C:D,2,0),\"\")","v":0},"","",null,1,null,1,1,3621]
[null,null,{"$f":"IFERROR(VLOOKUP(D3626,'1_Causas_Levantadas'!C:D,2,0),\"\")","v":0},"","",null,1,null,1,1,3622]
[null,null,{"$f":"IFERROR(VLOOKUP(D3627,'1_Causas_Levantadas'!C:D,2,0),\"\")","v":0},"","",null,1,null,1,1,3623]
[null,null,{"$f":"IFERROR(VLOOKUP(D3628,'1_Causas_Levantadas'!C:D,2,0),\"\")","v":0},"","",null,1,null,1,1,3624]
[null,null,{"$f":"IFERROR(VLOOKUP(D3629,'1_Causas_Levantadas'!C:D,2,0),\"\")","v":0},"","",null,1,null,1,1,3625]
[null,null,{"$f":"IFERROR(VLOOKUP(D3630,'1_Causas_Levantadas'!C:D,2,0),\"\")","v":0},"","",null,1,null,1,1,3626]
[null,null,{"$f":"IFERROR(VLOOKUP(D3631,'1_Causas_Levantadas'!C:D,2,0),\"\")","v":0},"","",null,1,null,1,1,3627]
[null,null,{"$f":"IFERROR(VLOOKUP(D3632,'1_Causas_Levantadas'!C:D,2,0),\"\")","v":0},"","",null,1,null,1,1,3628]
[null,null,{"$f":"IFERROR(VLOOKUP(D3633,'1_Causas_Levantadas'!C:D,2,0),\"\")","v":0},"","",null,1,null,1,1,3629]
[null,null,{"$f":"IFERROR(VLOOKUP(D3634,'1_Causas_Levantadas'!C:D,2,0),\"\")","v":0},"","",null,1,null,1,1,3630]
[null,null,{"$f":"IFERROR(VLOOKUP(D3635,'1_Causas_Levantadas'!C:D,2,0),\"\")","v":0},"","",null,1,null,1,1,3631]
[null,null,{"$f":"IFERROR(VLOOKUP(D3636,'1_Causas_Levantadas'!C:D,2,0),\"\")","v":0},"","",null,1,null,1,1,3632]
[null,null,{"$f":"IFERROR(VLOOKUP(D3637,'1_Causas_Levantadas'!C:D,2,0),\"\")","v":0},"","",null,1,null,1,1,3633]
[null,null,{"$f":"IFERROR(VLOOKUP(D3638,'1_Causas_Levantadas'!C:D,2,0),\"\")","v":0},"","",null,1,null,1,1,3634]
[null,null,{"$f":"IFERROR(VLOOKUP(D3639,'1_Causas_Levantadas'!C:D,2,0),\"\")","v":0},"","",null,1,null,1,1,3635]
[null,null,{"$f":"IFERROR(VLOOKUP(D3640,'1_Causas_Levantadas'!C:D,2,0),\"\")","v":0},"","",null,1,null,1,1,3636]
[null,null,{"$f":"IFERROR(VLOOKUP(D3641,'1_Causas_Levantadas'!C:D,2,0),\"\")","v":0},"","",null,1,null,1,1,3637]
[null,null,{"$f":"IFERROR(VLOOKUP(D3642,'1_Causas_Levantadas'!C:D,2,0),\"\")","v":0},"","",null,1,null,1,1,3638]
[null,null,{"$f":"IFERROR(VLOOKUP(D3643,'1_Causas_Levantadas'!C:D,2,0),\"\")","v":0},"","",null,1,null,1,1,3639]
[null,null,{"$f":"IFERROR(VLOOKUP(D3644,'1_Causas_Levantadas'!C:D,2,0),\"\")","v":0},"","",null,1,null,1,1,3640]
[null,null,{"$f":"IFERROR(VLOOKUP(D3645,'1_Causas_Levantadas'!C:D,2,0),\"\")","v":0},"","",null,1,null,1,1,3641]
[null,null,{"$f":"IFERROR(VLOOKUP(D3646,'1_Causas_Levantadas'!C:D,2,0),\"\")","v":0},"","",null,1,null,1,1,3642]
[null,null,{"$f":"IFERROR(VLOOKUP(D3647,'1_Causas_Levantadas'!C:D,2,0),\"\")","v":0},"","",null,1,null,1,1,3643]
[null,null,{"$f":"IFERROR(VLOOKUP(D3648,'1_Causas_Levantadas'!C:D,2,0),\"\")","v":0},"","",null,1,null,1,1,3644]
[null,null,{"$f":"IFERROR(VLOOKUP(D3649,'1_Causas_Levantadas'!C:D,2,0),\"\")","v":0},"","",null,1,null,1,1,3645]
[null,null,{"$f":"IFERROR(VLOOKUP(D3650,'1_Causas_Levantadas'!C:D,2,0),\"\")","v":0},"","",null,1,null,1,1,3646]
[null,null,{"$f":"IFERROR(VLOOKUP(D3651,'1_Causas_Levantadas'!C:D,2,0),\"\")","v":0},"","",null,1,null,1,1,3647]
[null,null,{"$f":"IFERROR(VLOOKUP(D3652,'1_Causas_Levantadas'!C:D,2,0),\"\")","v":0},"","",null,1,null,1,1,3648]
[null,null,{"$f":"IFERROR(VLOOKUP(D3653,'1_Causas_Levantadas'!C:D,2,0),\"\")","v":0},"","",null,1,null,1,1,3649]
[null,null,{"$f":"IFERROR(VLOOKUP(D3654,'1_Causas_Levantadas'!C:D,2,0),\"\")","v":0},{"$f":"IF(K3654<=$H$4,(IF(G3653>0,G3654,$G$5)),\"\")","v":""},{"$f":"IF(D3654<>\"\",\"Participante \"&K3654,\"\")","v":""},null,{"$f":"J3654","v":1},null,{"$f":"IF(G3654=$G$5,1,0)","v":1},1,{"$f":"I3654+K3653","v":3650}]
[null,null,{"$f":"IFERROR(VLOOKUP(D3655,'1_Causas_Levantadas'!C:D,2,0),\"\")","v":0},"","",null,1,null,1,{"$f":"IF(G3654<$G$4,J3654+1,1)","v":1},3651]
[null,null,{"$f":"IFERROR(VLOOKUP(D3656,'1_Causas_Levantadas'!C:D,2,0),\"\")","v":0},"","",null,1,null,1,1,3652]
[null,null,{"$f":"IFERROR(VLOOKUP(D3657,'1_Causas_Levantadas'!C:D,2,0),\"\")","v":0},"","",null,1,null,1,1,3653]
[null,null,{"$f":"IFERROR(VLOOKUP(D3658,'1_Causas_Levantadas'!C:D,2,0),\"\")","v":0},"","",null,1,null,1,1,3654]
[null,null,{"$f":"IFERROR(VLOOKUP(D3659,'1_Causas_Levantadas'!C:D,2,0),\"\")","v":0},"","",null,1,null,1,1,3655]
[null,null,{"$f":"IFERROR(VLOOKUP(D3660,'1_Causas_Levantadas'!C:D,2,0),\"\")","v":0},"","",null,1,null,1,1,3656]
[null,null,{"$f":"IFERROR(VLOOKUP(D3661,'1_Causas_Levantadas'!C:D,2,0),\"\")","v":0},"","",null,1,null,1,1,3657]
[null,null,{"$f":"IFERROR(VLOOKUP(D3662,'1_Causas_Levantadas'!C:D,2,0),\"\")","v":0},"","",null,1,null,1,1,3658]
[null,null,{"$f":"IFERROR(VLOOKUP(D3663,'1_Causas_Levantadas'!C:D,2,0),\"\")","v":0},"","",null,1,null,1,1,3659]
[null,null,{"$f":"IFERROR(VLOOKUP(D3664,'1_Causas_Levantadas'!C:D,2,0),\"\")","v":0},"","",null,1,null,1,1,3660]
[null,null,{"$f":"IFERROR(VLOOKUP(D3665,'1_Causas_Levantadas'!C:D,2,0),\"\")","v":0},"","",null,1,null,1,1,3661]
[null,null,{"$f":"IFERROR(VLOOKUP(D3666,'1_Causas_Levantadas'!C:D,2,0),\"\")","v":0},"","",null,1,null,1,1,3662]
[null,null,{"$f":"IFERROR(VLOOKUP(D3667,'1_Causas_Levantadas'!C:D,2,0),\"\")","v":0},"","",null,1,null,1,1,3663]
[null,null,{"$f":"IFERROR(VLOOKUP(D3668,'1_Causas_Levantadas'!C:D,2,0),\"\")","v":0},"","",null,1,null,1,1,3664]
[null,null,{"$f":"IFERROR(VLOOKUP(D3669,'1_Causas_Levantadas'!C:D,2,0),\"\")","v":0},"","",null,1,null,1,1,3665]
[null,null,{"$f":"IFERROR(VLOOKUP(D3670,'1_Causas_Levantadas'!C:D,2,0),\"\")","v":0},"","",null,1,null,1,1,3666]
[null,null,{"$f":"IFERROR(VLOOKUP(D3671,'1_Causas_Levantadas'!C:D,2,0),\"\")","v":0},"","",null,1,null,1,1,3667]
[null,null,{"$f":"IFERROR(VLOOKUP(D3672,'1_Causas_Levantadas'!C:D,2,0),\"\")","v":0},"","",null,1,null,1,1,3668]
[null,null,{"$f":"IFERROR(VLOOKUP(D3673,'1_Causas_Levantadas'!C:D,2,0),\"\")","v":0},"","",null,1,null,1,1,3669]
[null,null,{"$f":"IFERROR(VLOOKUP(D3674,'1_Causas_Levantadas'!C:D,2,0),\"\")","v":0},"","",null,1,null,1,1,3670]
[null,null,{"$f":"IFERROR(VLOOKUP(D3675,'1_Causas_Levantadas'!C:D,2,0),\"\")","v":0},"","",null,1,null,1,1,3671]
[null,null,{"$f":"IFERROR(VLOOKUP(D3676,'1_Causas_Levantadas'!C:D,2,0),\"\")","v":0},"","",null,1,null,1,1,3672]
[null,null,{"$f":"IFERROR(VLOOKUP(D3677,'1_Causas_Levantadas'!C:D,2,0),\"\")","v":0},"","",null,1,null,1,1,3673]
[null,null,{"$f":"IFERROR(VLOOKUP(D3678,'1_Causas_Levantadas'!C:D,2,0),\"\")","v":0},"","",null,1,null,1,1,3674]
[null,null,{"$f":"IFERROR(VLOOKUP(D3679,'1_Causas_Levantadas'!C:D,2,0),\"\")","v":0},"","",null,1,null,1,1,3675]
[null,null,{"$f":"IFERROR(VLOOKUP(D3680,'1_Causas_Levantadas'!C:D,2,0),\"\")","v":0},"","",null,1,null,1,1,3676]
[null,null,{"$f":"IFERROR(VLOOKUP(D3681,'1_Causas_Levantadas'!C:D,2,0),\"\")","v":0},"","",null,1,null,1,1,3677]
[null,null,{"$f":"IFERROR(VLOOKUP(D3682,'1_Causas_Levantadas'!C:D,2,0),\"\")","v":0},"","",null,1,null,1,1,3678]
[null,null,{"$f":"IFERROR(VLOOKUP(D3683,'1_Causas_Levantadas'!C:D,2,0),\"\")","v":0},"","",null,1,null,1,1,3679]
[null,null,{"$f":"IFERROR(VLOOKUP(D3684,'1_Causas_Levantadas'!C:D,2,0),\"\")","v":0},"","",null,1,null,1,1,3680]
[null,null,{"$f":"IFERROR(VLOOKUP(D3685,'1_Causas_Levantadas'!C:D,2,0),\"\")","v":0},"","",null,1,null,1,1,3681]
[null,null,{"$f":"IFERROR(VLOOKUP(D3686,'1_Causas_Levantadas'!C:D,2,0),\"\")","v":0},"","",null,1,null,1,1,3682]
[null,null,{"$f":"IFERROR(VLOOKUP(D3687,'1_Causas_Levantadas'!C:D,2,0),\"\")","v":0},"","",null,1,null,1,1,3683]
[null,null,{"$f":"IFERROR(VLOOKUP(D3688,'1_Causas_Levantadas'!C:D,2,0),\"\")","v":0},"","",null,1,null,1,1,3684]
[null,null,{"$f":"IFERROR(VLOOKUP(D3689,'1_Causas_Levantadas'!C:D,2,0),\"\")","v":0},"","",null,1,null,1,1,3685]
[null,null,{"$f":"IFERROR(VLOOKUP(D3690,'1_Causas_Levantadas'!C:D,2,0),\"\")","v":0},"","",null,1,null,1,1,3686]
[null,null,{"$f":"IFERROR(VLOOKUP(D3691,'1_Causas_Levantadas'!C:D,2,0),\"\")","v":0},"","",null,1,null,1,1,3687]
[null,null,{"$f":"IFERROR(VLOOKUP(D3692,'1_Causas_Levantadas'!C:D,2,0),\"\")","v":0},"","",null,1,null,1,1,3688]
[null,null,{"$f":"IFERROR(VLOOKUP(D3693,'1_Causas_Levantadas'!C:D,2,0),\"\")","v":0},"","",null,1,null,1,1,3689]
[null,null,{"$f":"IFERROR(VLOOKUP(D3694,'1_Causas_Levantadas'!C:D,2,0),\"\")","v":0},"","",null,1,null,1,1,3690]
[null,null,{"$f":"IFERROR(VLOOKUP(D3695,'1_Causas_Levantadas'!C:D,2,0),\"\")","v":0},"","",null,1,null,1,1,3691]
[null,null,{"$f":"IFERROR(VLOOKUP(D3696,'1_Causas_Levantadas'!C:D,2,0),\"\")","v":0},"","",null,1,null,1,1,3692]
[null,null,{"$f":"IFERROR(VLOOKUP(D3697,'1_Causas_Levantadas'!C:D,2,0),\"\")","v":0},"","",null,1,null,1,1,3693]
[null,null,{"$f":"IFERROR(VLOOKUP(D3698,'1_Causas_Levantadas'!C:D,2,0),\"\")","v":0},"","",null,1,null,1,1,3694]
[null,null,{"$f":"IFERROR(VLOOKUP(D3699,'1_Causas_Levantadas'!C:D,2,0),\"\")","v":0},"","",null,1,null,1,1,3695]
[null,null,{"$f":"IFERROR(VLOOKUP(D3700,'1_Causas_Levantadas'!C:D,2,0),\"\")","v":0},"","",null,1,null,1,1,3696]
[null,null,{"$f":"IFERROR(VLOOKUP(D3701,'1_Causas_Levantadas'!C:D,2,0),\"\")","v":0},"","",null,1,null,1,1,3697]
[null,null,{"$f":"IFERROR(VLOOKUP(D3702,'1_Causas_Levantadas'!C:D,2,0),\"\")","v":0},"","",null,1,null,1,1,3698]
[null,null,{"$f":"IFERROR(VLOOKUP(D3703,'1_Causas_Levantadas'!C:D,2,0),\"\")","v":0},"","",null,1,null,1,1,3699]
[null,null,{"$f":"IFERROR(VLOOKUP(D3704,'1_Causas_Levantadas'!C:D,2,0),\"\")","v":0},"","",null,1,null,1,1,3700]
[null,null,{"$f":"IFERROR(VLOOKUP(D3705,'1_Causas_Levantadas'!C:D,2,0),\"\")","v":0},"","",null,1,null,1,1,3701]
[null,null,{"$f":"IFERROR(VLOOKUP(D3706,'1_Causas_Levantadas'!C:D,2,0),\"\")","v":0},"","",null,1,null,1,1,3702]
[null,null,{"$f":"IFERROR(VLOOKUP(D3707,'1_Causas_Levantadas'!C:D,2,0),\"\")","v":0},"","",null,1,null,1,1,3703]
[null,null,{"$f":"IFERROR(VLOOKUP(D3708,'1_Causas_Levantadas'!C:D,2,0),\"\")","v":0},"","",null,1,null,1,1,3704]
[null,null,{"$f":"IFERROR(VLOOKUP(D3709,'1_Causas_Levantadas'!C:D,2,0),\"\")","v":0},"","",null,1,null,1,1,3705]
[null,null,{"$f":"IFERROR(VLOOKUP(D3710,'1_Causas_Levantadas'!C:D,2,0),\"\")","v":0},"","",null,1,null,1,1,3706]
[null,null,{"$f":"IFERROR(VLOOKUP(D3711,'1_Causas_Levantadas'!C:D,2,0),\"\")","v":0},"","",null,1,null,1,1,3707]
[null,null,{"$f":"IFERROR(VLOOKUP(D3712,'1_Causas_Levantadas'!C:D,2,0),\"\")","v":0},"","",null,1,null,1,1,3708]
[null,null,{"$f":"IFERROR(VLOOKUP(D3713,'1_Causas_Levantadas'!C:D,2,0),\"\")","v":0},"","",null,1,null,1,1,3709]
[null,null,{"$f":"IFERROR(VLOOKUP(D3714,'1_Causas_Levantadas'!C:D,2,0),\"\")","v":0},"","",null,1,null,1,1,3710]
[null,null,{"$f":"IFERROR(VLOOKUP(D3715,'1_Causas_Levantadas'!C:D,2,0),\"\")","v":0},"","",null,1,null,1,1,3711]
[null,null,{"$f":"IFERROR(VLOOKUP(D3716,'1_Causas_Levantadas'!C:D,2,0),\"\")","v":0},"","",null,1,null,1,1,3712]
[null,null,{"$f":"IFERROR(VLOOKUP(D3717,'1_Causas_Levantadas'!C:D,2,0),\"\")","v":0},"","",null,1,null,1,1,3713]
[null,null,{"$f":"IFERROR(VLOOKUP(D3718,'1_Causas_Levantadas'!C:D,2,0),\"\")","v":0},{"$f":"IF(K3718<=$H$4,(IF(G3717>0,G3718,$G$5)),\"\")","v":""},{"$f":"IF(D3718<>\"\",\"Participante \"&K3718,\"\")","v":""},null,{"$f":"J3718","v":1},null,{"$f":"IF(G3718=$G$5,1,0)","v":1},1,{"$f":"I3718+K3717","v":3714}]
[null,null,{"$f":"IFERROR(VLOOKUP(D3719,'1_Causas_Levantadas'!C:D,2,0),\"\")","v":0},"","",null,1,null,1,{"$f":"IF(G3718<$G$4,J3718+1,1)","v":1},3715]
[null,null,{"$f":"IFERROR(VLOOKUP(D3720,'1_Causas_Levantadas'!C:D,2,0),\"\")","v":0},"","",null,1,null,1,1,3716]
[null,null,{"$f":"IFERROR(VLOOKUP(D3721,'1_Causas_Levantadas'!C:D,2,0),\"\")","v":0},"","",null,1,null,1,1,3717]
[null,null,{"$f":"IFERROR(VLOOKUP(D3722,'1_Causas_Levantadas'!C:D,2,0),\"\")","v":0},"","",null,1,null,1,1,3718]
[null,null,{"$f":"IFERROR(VLOOKUP(D3723,'1_Causas_Levantadas'!C:D,2,0),\"\")","v":0},"","",null,1,null,1,1,3719]
[null,null,{"$f":"IFERROR(VLOOKUP(D3724,'1_Causas_Levantadas'!C:D,2,0),\"\")","v":0},"","",null,1,null,1,1,3720]
[null,null,{"$f":"IFERROR(VLOOKUP(D3725,'1_Causas_Levantadas'!C:D,2,0),\"\")","v":0},"","",null,1,null,1,1,3721]
[null,null,{"$f":"IFERROR(VLOOKUP(D3726,'1_Causas_Levantadas'!C:D,2,0),\"\")","v":0},"","",null,1,null,1,1,3722]
[null,null,{"$f":"IFERROR(VLOOKUP(D3727,'1_Causas_Levantadas'!C:D,2,0),\"\")","v":0},"","",null,1,null,1,1,3723]
[null,null,{"$f":"IFERROR(VLOOKUP(D3728,'1_Causas_Levantadas'!C:D,2,0),\"\")","v":0},"","",null,1,null,1,1,3724]
[null,null,{"$f":"IFERROR(VLOOKUP(D3729,'1_Causas_Levantadas'!C:D,2,0),\"\")","v":0},"","",null,1,null,1,1,3725]
[null,null,{"$f":"IFERROR(VLOOKUP(D3730,'1_Causas_Levantadas'!C:D,2,0),\"\")","v":0},"","",null,1,null,1,1,3726]
[null,null,{"$f":"IFERROR(VLOOKUP(D3731,'1_Causas_Levantadas'!C:D,2,0),\"\")","v":0},"","",null,1,null,1,1,3727]
[null,null,{"$f":"IFERROR(VLOOKUP(D3732,'1_Causas_Levantadas'!C:D,2,0),\"\")","v":0},"","",null,1,null,1,1,3728]
[null,null,{"$f":"IFERROR(VLOOKUP(D3733,'1_Causas_Levantadas'!C:D,2,0),\"\")","v":0},"","",null,1,null,1,1,3729]
[null,null,{"$f":"IFERROR(VLOOKUP(D3734,'1_Causas_Levantadas'!C:D,2,0),\"\")","v":0},"","",null,1,null,1,1,3730]
[null,null,{"$f":"IFERROR(VLOOKUP(D3735,'1_Causas_Levantadas'!C:D,2,0),\"\")","v":0},"","",null,1,null,1,1,3731]
[null,null,{"$f":"IFERROR(VLOOKUP(D3736,'1_Causas_Levantadas'!C:D,2,0),\"\")","v":0},"","",null,1,null,1,1,3732]
[null,null,{"$f":"IFERROR(VLOOKUP(D3737,'1_Causas_Levantadas'!C:D,2,0),\"\")","v":0},"","",null,1,null,1,1,3733]
[null,null,{"$f":"IFERROR(VLOOKUP(D3738,'1_Causas_Levantadas'!C:D,2,0),\"\")","v":0},"","",null,1,null,1,1,3734]
[null,null,{"$f":"IFERROR(VLOOKUP(D3739,'1_Causas_Levantadas'!C:D,2,0),\"\")","v":0},"","",null,1,null,1,1,3735]
[null,null,{"$f":"IFERROR(VLOOKUP(D3740,'1_Causas_Levantadas'!C:D,2,0),\"\")","v":0},"","",null,1,null,1,1,3736]
[null,null,{"$f":"IFERROR(VLOOKUP(D3741,'1_Causas_Levantadas'!C:D,2,0),\"\")","v":0},"","",null,1,null,1,1,3737]
[null,null,{"$f":"IFERROR(VLOOKUP(D3742,'1_Causas_Levantadas'!C:D,2,0),\"\")","v":0},"","",null,1,null,1,1,3738]
[null,null,{"$f":"IFERROR(VLOOKUP(D3743,'1_Causas_Levantadas'!C:D,2,0),\"\")","v":0},"","",null,1,null,1,1,3739]
[null,null,{"$f":"IFERROR(VLOOKUP(D3744,'1_Causas_Levantadas'!C:D,2,0),\"\")","v":0},"","",null,1,null,1,1,3740]
[null,null,{"$f":"IFERROR(VLOOKUP(D3745,'1_Causas_Levantadas'!C:D,2,0),\"\")","v":0},"","",null,1,null,1,1,3741]
[null,null,{"$f":"IFERROR(VLOOKUP(D3746,'1_Causas_Levantadas'!C:D,2,0),\"\")","v":0},"","",null,1,null,1,1,3742]
[null,null,{"$f":"IFERROR(VLOOKUP(D3747,'1_Causas_Levantadas'!C:D,2,0),\"\")","v":0},"","",null,1,null,1,1,3743]
[null,null,{"$f":"IFERROR(VLOOKUP(D3748,'1_Causas_Levantadas'!C:D,2,0),\"\")","v":0},"","",null,1,null,1,1,3744]
[null,null,{"$f":"IFERROR(VLOOKUP(D3749,'1_Causas_Levantadas'!C:D,2,0),\"\")","v":0},"","",null,1,null,1,1,3745]
[null,null,{"$f":"IFERROR(VLOOKUP(D3750,'1_Causas_Levantadas'!C:D,2,0),\"\")","v":0},"","",null,1,null,1,1,3746]
[null,null,{"$f":"IFERROR(VLOOKUP(D3751,'1_Causas_Levantadas'!C:D,2,0),\"\")","v":0},"","",null,1,null,1,1,3747]
[null,null,{"$f":"IFERROR(VLOOKUP(D3752,'1_Causas_Levantadas'!C:D,2,0),\"\")","v":0},"","",null,1,null,1,1,3748]
[null,null,{"$f":"IFERROR(VLOOKUP(D3753,'1_Causas_Levantadas'!C:D,2,0),\"\")","v":0},"","",null,1,null,1,1,3749]
[null,null,{"$f":"IFERROR(VLOOKUP(D3754,'1_Causas_Levantadas'!C:D,2,0),\"\")","v":0},"","",null,1,null,1,1,3750]
[null,null,{"$f":"IFERROR(VLOOKUP(D3755,'1_Causas_Levantadas'!C:D,2,0),\"\")","v":0},"","",null,1,null,1,1,3751]
[null,null,{"$f":"IFERROR(VLOOKUP(D3756,'1_Causas_Levantadas'!C:D,2,0),\"\")","v":0},"","",null,1,null,1,1,3752]
[null,null,{"$f":"IFERROR(VLOOKUP(D3757,'1_Causas_Levantadas'!C:D,2,0),\"\")","v":0},"","",null,1,null,1,1,3753]
[null,null,{"$f":"IFERROR(VLOOKUP(D3758,'1_Causas_Levantadas'!C:D,2,0),\"\")","v":0},"","",null,1,null,1,1,3754]
[null,null,{"$f":"IFERROR(VLOOKUP(D3759,'1_Causas_Levantadas'!C:D,2,0),\"\")","v":0},"","",null,1,null,1,1,3755]
[null,null,{"$f":"IFERROR(VLOOKUP(D3760,'1_Causas_Levantadas'!C:D,2,0),\"\")","v":0},"","",null,1,null,1,1,3756]
[null,null,{"$f":"IFERROR(VLOOKUP(D3761,'1_Causas_Levantadas'!C:D,2,0),\"\")","v":0},"","",null,1,null,1,1,3757]
[null,null,{"$f":"IFERROR(VLOOKUP(D3762,'1_Causas_Levantadas'!C:D,2,0),\"\")","v":0},"","",null,1,null,1,1,3758]
[null,null,{"$f":"IFERROR(VLOOKUP(D3763,'1_Causas_Levantadas'!C:D,2,0),\"\")","v":0},"","",null,1,null,1,1,3759]
[null,null,{"$f":"IFERROR(VLOOKUP(D3764,'1_Causas_Levantadas'!C:D,2,0),\"\")","v":0},"","",null,1,null,1,1,3760]
[null,null,{"$f":"IFERROR(VLOOKUP(D3765,'1_Causas_Levantadas'!C:D,2,0),\"\")","v":0},"","",null,1,null,1,1,3761]
[null,null,{"$f":"IFERROR(VLOOKUP(D3766,'1_Causas_Levantadas'!C:D,2,0),\"\")","v":0},"","",null,1,null,1,1,3762]
[null,null,{"$f":"IFERROR(VLOOKUP(D3767,'1_Causas_Levantadas'!C:D,2,0),\"\")","v":0},"","",null,1,null,1,1,3763]
[null,null,{"$f":"IFERROR(VLOOKUP(D3768,'1_Causas_Levantadas'!C:D,2,0),\"\")","v":0},"","",null,1,null,1,1,3764]
[null,null,{"$f":"IFERROR(VLOOKUP(D3769,'1_Causas_Levantadas'!C:D,2,0),\"\")","v":0},"","",null,1,null,1,1,3765]
[null,null,{"$f":"IFERROR(VLOOKUP(D3770,'1_Causas_Levantadas'!C:D,2,0),\"\")","v":0},"","",null,1,null,1,1,3766]
[null,null,{"$f":"IFERROR(VLOOKUP(D3771,'1_Causas_Levantadas'!C:D,2,0),\"\")","v":0},"","",null,1,null,1,1,3767]
[null,null,{"$f":"IFERROR(VLOOKUP(D3772,'1_Causas_Levantadas'!C:D,2,0),\"\")","v":0},"","",null,1,null,1,1,3768]
[null,null,{"$f":"IFERROR(VLOOKUP(D3773,'1_Causas_Levantadas'!C:D,2,0),\"\")","v":0},"","",null,1,null,1,1,3769]
[null,null,{"$f":"IFERROR(VLOOKUP(D3774,'1_Causas_Levantadas'!C:D,2,0),\"\")","v":0},"","",null,1,null,1,1,3770]
[null,null,{"$f":"IFERROR(VLOOKUP(D3775,'1_Causas_Levantadas'!C:D,2,0),\"\")","v":0},"","",null,1,null,1,1,3771]
[null,null,{"$f":"IFERROR(VLOOKUP(D3776,'1_Causas_Levantadas'!C:D,2,0),\"\")","v":0},"","",null,1,null,1,1,3772]
[null,null,{"$f":"IFERROR(VLOOKUP(D3777,'1_Causas_Levantadas'!C:D,2,0),\"\")","v":0},"","",null,1,null,1,1,3773]
[null,null,{"$f":"IFERROR(VLOOKUP(D3778,'1_Causas_Levantadas'!C:D,2,0),\"\")","v":0},"","",null,1,null,1,1,3774]
[null,null,{"$f":"IFERROR(VLOOKUP(D3779,'1_Causas_Levantadas'!C:D,2,0),\"\")","v":0},"","",null,1,null,1,1,3775]
[null,null,{"$f":"IFERROR(VLOOKUP(D3780,'1_Causas_Levantadas'!C:D,2,0),\"\")","v":0},"","",null,1,null,1,1,3776]
[null,null,{"$f":"IFERROR(VLOOKUP(D3781,'1_Causas_Levantadas'!C:D,2,0),\"\")","v":0},"","",null,1,null,1,1,3777]
[null,null,{"$f":"IFERROR(VLOOKUP(D3782,'1_Causas_Levantadas'!C:D,2,0),\"\")","v":0},{"$f":"IF(K3782<=$H$4,(IF(G3781>0,G3782,$G$5)),\"\")","v":""},{"$f":"IF(D3782<>\"\",\"Participante \"&K3782,\"\")","v":""},null,{"$f":"J3782","v":1},null,{"$f":"IF(G3782=$G$5,1,0)","v":1},1,{"$f":"I3782+K3781","v":3778}]
[null,null,{"$f":"IFERROR(VLOOKUP(D3783,'1_Causas_Levantadas'!C:D,2,0),\"\")","v":0},"","",null,1,null,1,{"$f":"IF(G3782<$G$4,J3782+1,1)","v":1},3779]
[null,null,{"$f":"IFERROR(VLOOKUP(D3784,'1_Causas_Levantadas'!C:D,2,0),\"\")","v":0},"","",null,1,null,1,1,3780]
[null,null,{"$f":"IFERROR(VLOOKUP(D3785,'1_Causas_Levantadas'!C:D,2,0),\"\")","v":0},"","",null,1,null,1,1,3781]
[null,null,{"$f":"IFERROR(VLOOKUP(D3786,'1_Causas_Levantadas'!C:D,2,0),\"\")","v":0},"","",null,1,null,1,1,3782]
[null,null,{"$f":"IFERROR(VLOOKUP(D3787,'1_Causas_Levantadas'!C:D,2,0),\"\")","v":0},"","",null,1,null,1,1,3783]
[null,null,{"$f":"IFERROR(VLOOKUP(D3788,'1_Causas_Levantadas'!C:D,2,0),\"\")","v":0},"","",null,1,null,1,1,3784]
[null,null,{"$f":"IFERROR(VLOOKUP(D3789,'1_Causas_Levantadas'!C:D,2,0),\"\")","v":0},"","",null,1,null,1,1,3785]
[null,null,{"$f":"IFERROR(VLOOKUP(D3790,'1_Causas_Levantadas'!C:D,2,0),\"\")","v":0},"","",null,1,null,1,1,3786]
[null,null,{"$f":"IFERROR(VLOOKUP(D3791,'1_Causas_Levantadas'!C:D,2,0),\"\")","v":0},"","",null,1,null,1,1,3787]
[null,null,{"$f":"IFERROR(VLOOKUP(D3792,'1_Causas_Levantadas'!C:D,2,0),\"\")","v":0},"","",null,1,null,1,1,3788]
[null,null,{"$f":"IFERROR(VLOOKUP(D3793,'1_Causas_Levantadas'!C:D,2,0),\"\")","v":0},"","",null,1,null,1,1,3789]
[null,null,{"$f":"IFERROR(VLOOKUP(D3794,'1_Causas_Levantadas'!C:D,2,0),\"\")","v":0},"","",null,1,null,1,1,3790]
[null,null,{"$f":"IFERROR(VLOOKUP(D3795,'1_Causas_Levantadas'!C:D,2,0),\"\")","v":0},"","",null,1,null,1,1,3791]
[null,null,{"$f":"IFERROR(VLOOKUP(D3796,'1_Causas_Levantadas'!C:D,2,0),\"\")","v":0},"","",null,1,null,1,1,3792]
[null,null,{"$f":"IFERROR(VLOOKUP(D3797,'1_Causas_Levantadas'!C:D,2,0),\"\")","v":0},"","",null,1,null,1,1,3793]
[null,null,{"$f":"IFERROR(VLOOKUP(D3798,'1_Causas_Levantadas'!C:D,2,0),\"\")","v":0},"","",null,1,null,1,1,3794]
[null,null,{"$f":"IFERROR(VLOOKUP(D3799,'1_Causas_Levantadas'!C:D,2,0),\"\")","v":0},"","",null,1,null,1,1,3795]
[null,null,{"$f":"IFERROR(VLOOKUP(D3800,'1_Causas_Levantadas'!C:D,2,0),\"\")","v":0},"","",null,1,null,1,1,3796]
[null,null,{"$f":"IFERROR(VLOOKUP(D3801,'1_Causas_Levantadas'!C:D,2,0),\"\")","v":0},"","",null,1,null,1,1,3797]
[null,null,{"$f":"IFERROR(VLOOKUP(D3802,'1_Causas_Levantadas'!C:D,2,0),\"\")","v":0},"","",null,1,null,1,1,3798]
[null,null,{"$f":"IFERROR(VLOOKUP(D3803,'1_Causas_Levantadas'!C:D,2,0),\"\")","v":0},"","",null,1,null,1,1,3799]
[null,null,{"$f":"IFERROR(VLOOKUP(D3804,'1_Causas_Levantadas'!C:D,2,0),\"\")","v":0},"","",null,1,null,1,1,3800]
[null,null,{"$f":"IFERROR(VLOOKUP(D3805,'1_Causas_Levantadas'!C:D,2,0),\"\")","v":0},"","",null,1,null,1,1,3801]
[null,null,{"$f":"IFERROR(VLOOKUP(D3806,'1_Causas_Levantadas'!C:D,2,0),\"\")","v":0},"","",null,1,null,1,1,3802]
[null,null,{"$f":"IFERROR(VLOOKUP(D3807,'1_Causas_Levantadas'!C:D,2,0),\"\")","v":0},"","",null,1,null,1,1,3803]
[null,null,{"$f":"IFERROR(VLOOKUP(D3808,'1_Causas_Levantadas'!C:D,2,0),\"\")","v":0},"","",null,1,null,1,1,3804]
[null,null,{"$f":"IFERROR(VLOOKUP(D3809,'1_Causas_Levantadas'!C:D,2,0),\"\")","v":0},"","",null,1,null,1,1,3805]
[null,null,{"$f":"IFERROR(VLOOKUP(D3810,'1_Causas_Levantadas'!C:D,2,0),\"\")","v":0},"","",null,1,null,1,1,3806]
[null,null,{"$f":"IFERROR(VLOOKUP(D3811,'1_Causas_Levantadas'!C:D,2,0),\"\")","v":0},"","",null,1,null,1,1,3807]
[null,null,{"$f":"IFERROR(VLOOKUP(D3812,'1_Causas_Levantadas'!C:D,2,0),\"\")","v":0},"","",null,1,null,1,1,3808]
[null,null,{"$f":"IFERROR(VLOOKUP(D3813,'1_Causas_Levantadas'!C:D,2,0),\"\")","v":0},"","",null,1,null,1,1,3809]
[null,null,{"$f":"IFERROR(VLOOKUP(D3814,'1_Causas_Levantadas'!C:D,2,0),\"\")","v":0},"","",null,1,null,1,1,3810]
[null,null,{"$f":"IFERROR(VLOOKUP(D3815,'1_Causas_Levantadas'!C:D,2,0),\"\")","v":0},"","",null,1,null,1,1,3811]
[null,null,{"$f":"IFERROR(VLOOKUP(D3816,'1_Causas_Levantadas'!C:D,2,0),\"\")","v":0},"","",null,1,null,1,1,3812]
[null,null,{"$f":"IFERROR(VLOOKUP(D3817,'1_Causas_Levantadas'!C:D,2,0),\"\")","v":0},"","",null,1,null,1,1,3813]
[null,null,{"$f":"IFERROR(VLOOKUP(D3818,'1_Causas_Levantadas'!C:D,2,0),\"\")","v":0},"","",null,1,null,1,1,3814]
[null,null,{"$f":"IFERROR(VLOOKUP(D3819,'1_Causas_Levantadas'!C:D,2,0),\"\")","v":0},"","",null,1,null,1,1,3815]
[null,null,{"$f":"IFERROR(VLOOKUP(D3820,'1_Causas_Levantadas'!C:D,2,0),\"\")","v":0},"","",null,1,null,1,1,3816]
[null,null,{"$f":"IFERROR(VLOOKUP(D3821,'1_Causas_Levantadas'!C:D,2,0),\"\")","v":0},"","",null,1,null,1,1,3817]
[null,null,{"$f":"IFERROR(VLOOKUP(D3822,'1_Causas_Levantadas'!C:D,2,0),\"\")","v":0},"","",null,1,null,1,1,3818]
[null,null,{"$f":"IFERROR(VLOOKUP(D3823,'1_Causas_Levantadas'!C:D,2,0),\"\")","v":0},"","",null,1,null,1,1,3819]
[null,null,{"$f":"IFERROR(VLOOKUP(D3824,'1_Causas_Levantadas'!C:D,2,0),\"\")","v":0},"","",null,1,null,1,1,3820]
[null,null,{"$f":"IFERROR(VLOOKUP(D3825,'1_Causas_Levantadas'!C:D,2,0),\"\")","v":0},"","",null,1,null,1,1,3821]
[null,null,{"$f":"IFERROR(VLOOKUP(D3826,'1_Causas_Levantadas'!C:D,2,0),\"\")","v":0},"","",null,1,null,1,1,3822]
[null,null,{"$f":"IFERROR(VLOOKUP(D3827,'1_Causas_Levantadas'!C:D,2,0),\"\")","v":0},"","",null,1,null,1,1,3823]
[null,null,{"$f":"IFERROR(VLOOKUP(D3828,'1_Causas_Levantadas'!C:D,2,0),\"\")","v":0},"","",null,1,null,1,1,3824]
[null,null,{"$f":"IFERROR(VLOOKUP(D3829,'1_Causas_Levantadas'!C:D,2,0),\"\")","v":0},"","",null,1,null,1,1,3825]
[null,null,{"$f":"IFERROR(VLOOKUP(D3830,'1_Causas_Levantadas'!C:D,2,0),\"\")","v":0},"","",null,1,null,1,1,3826]
[null,null,{"$f":"IFERROR(VLOOKUP(D3831,'1_Causas_Levantadas'!C:D,2,0),\"\")","v":0},"","",null,1,null,1,1,3827]
[null,null,{"$f":"IFERROR(VLOOKUP(D3832,'1_Causas_Levantadas'!C:D,2,0),\"\")","v":0},"","",null,1,null,1,1,3828]
[null,null,{"$f":"IFERROR(VLOOKUP(D3833,'1_Causas_Levantadas'!C:D,2,0),\"\")","v":0},"","",null,1,null,1,1,3829]
[null,null,{"$f":"IFERROR(VLOOKUP(D3834,'1_Causas_Levantadas'!C:D,2,0),\"\")","v":0},"","",null,1,null,1,1,3830]
[null,null,{"$f":"IFERROR(VLOOKUP(D3835,'1_Causas_Levantadas'!C:D,2,0),\"\")","v":0},"","",null,1,null,1,1,3831]
[null,null,{"$f":"IFERROR(VLOOKUP(D3836,'1_Causas_Levantadas'!C:D,2,0),\"\")","v":0},"","",null,1,null,1,1,3832]
[null,null,{"$f":"IFERROR(VLOOKUP(D3837,'1_Causas_Levantadas'!C:D,2,0),\"\")","v":0},"","",null,1,null,1,1,3833]
[null,null,{"$f":"IFERROR(VLOOKUP(D3838,'1_Causas_Levantadas'!C:D,2,0),\"\")","v":0},"","",null,1,null,1,1,3834]
[null,null,{"$f":"IFERROR(VLOOKUP(D3839,'1_Causas_Levantadas'!C:D,2,0),\"\")","v":0},"","",null,1,null,1,1,3835]
[null,null,{"$f":"IFERROR(VLOOKUP(D3840,'1_Causas_Levantadas'!C:D,2,0),\"\")","v":0},"","",null,1,null,1,1,3836]
[null,null,{"$f":"IFERROR(VLOOKUP(D3841,'1_Causas_Levantadas'!C:D,2,0),\"\")","v":0},"","",null,1,null,1,1,3837]
[null,null,{"$f":"IFERROR(VLOOKUP(D3842,'1_Causas_Levantadas'!C:D,2,0),\"\")","v":0},"","",null,1,null,1,1,3838]
[null,null,{"$f":"IFERROR(VLOOKUP(D3843,'1_Causas_Levantadas'!C:D,2,0),\"\")","v":0},"","",null,1,null,1,1,3839]
[null,null,{"$f":"IFERROR(VLOOKUP(D3844,'1_Causas_Levantadas'!C:D,2,0),\"\")","v":0},"","",null,1,null,1,1,3840]
[null,null,{"$f":"IFERROR(VLOOKUP(D3845,'1_Causas_Levantadas'!C:D,2,0),\"\")","v":0},"","",null,1,null,1,1,3841]
[null,null,{"$f":"IFERROR(VLOOKUP(D3846,'1_Causas_Levantadas'!C:D,2,0),\"\")","v":0},{"$f":"IF(K3846<=$H$4,(IF(G3845>0,G3846,$G$5)),\"\")","v":""},{"$f":"IF(D3846<>\"\",\"Participante \"&K3846,\"\")","v":""},null,{"$f":"J3846","v":1},null,{"$f":"IF(G3846=$G$5,1,0)","v":1},1,{"$f":"I3846+K3845","v":3842}]
[null,null,{"$f":"IFERROR(VLOOKUP(D3847,'1_Causas_Levantadas'!C:D,2,0),\"\")","v":0},"","",null,1,null,1,{"$f":"IF(G3846<$G$4,J3846+1,1)","v":1},3843]
[null,null,{"$f":"IFERROR(VLOOKUP(D3848,'1_Causas_Levantadas'!C:D,2,0),\"\")","v":0},"","",null,1,null,1,1,3844]
[null,null,{"$f":"IFERROR(VLOOKUP(D3849,'1_Causas_Levantadas'!C:D,2,0),\"\")","v":0},"","",null,1,null,1,1,3845]
[null,null,{"$f":"IFERROR(VLOOKUP(D3850,'1_Causas_Levantadas'!C:D,2,0),\"\")","v":0},"","",null,1,null,1,1,3846]
[null,null,{"$f":"IFERROR(VLOOKUP(D3851,'1_Causas_Levantadas'!C:D,2,0),\"\")","v":0},"","",null,1,null,1,1,3847]
[null,null,{"$f":"IFERROR(VLOOKUP(D3852,'1_Causas_Levantadas'!C:D,2,0),\"\")","v":0},"","",null,1,null,1,1,3848]
[null,null,{"$f":"IFERROR(VLOOKUP(D3853,'1_Causas_Levantadas'!C:D,2,0),\"\")","v":0},"","",null,1,null,1,1,3849]
[null,null,{"$f":"IFERROR(VLOOKUP(D3854,'1_Causas_Levantadas'!C:D,2,0),\"\")","v":0},"","",null,1,null,1,1,3850]
[null,null,{"$f":"IFERROR(VLOOKUP(D3855,'1_Causas_Levantadas'!C:D,2,0),\"\")","v":0},"","",null,1,null,1,1,3851]
[null,null,{"$f":"IFERROR(VLOOKUP(D3856,'1_Causas_Levantadas'!C:D,2,0),\"\")","v":0},"","",null,1,null,1,1,3852]
[null,null,{"$f":"IFERROR(VLOOKUP(D3857,'1_Causas_Levantadas'!C:D,2,0),\"\")","v":0},"","",null,1,null,1,1,3853]
[null,null,{"$f":"IFERROR(VLOOKUP(D3858,'1_Causas_Levantadas'!C:D,2,0),\"\")","v":0},"","",null,1,null,1,1,3854]
[null,null,{"$f":"IFERROR(VLOOKUP(D3859,'1_Causas_Levantadas'!C:D,2,0),\"\")","v":0},"","",null,1,null,1,1,3855]
[null,null,{"$f":"IFERROR(VLOOKUP(D3860,'1_Causas_Levantadas'!C:D,2,0),\"\")","v":0},"","",null,1,null,1,1,3856]
[null,null,{"$f":"IFERROR(VLOOKUP(D3861,'1_Causas_Levantadas'!C:D,2,0),\"\")","v":0},"","",null,1,null,1,1,3857]
[null,null,{"$f":"IFERROR(VLOOKUP(D3862,'1_Causas_Levantadas'!C:D,2,0),\"\")","v":0},"","",null,1,null,1,1,3858]
[null,null,{"$f":"IFERROR(VLOOKUP(D3863,'1_Causas_Levantadas'!C:D,2,0),\"\")","v":0},"","",null,1,null,1,1,3859]
[null,null,{"$f":"IFERROR(VLOOKUP(D3864,'1_Causas_Levantadas'!C:D,2,0),\"\")","v":0},"","",null,1,null,1,1,3860]
[null,null,{"$f":"IFERROR(VLOOKUP(D3865,'1_Causas_Levantadas'!C:D,2,0),\"\")","v":0},"","",null,1,null,1,1,3861]
[null,null,{"$f":"IFERROR(VLOOKUP(D3866,'1_Causas_Levantadas'!C:D,2,0),\"\")","v":0},"","",null,1,null,1,1,3862]
[null,null,{"$f":"IFERROR(VLOOKUP(D3867,'1_Causas_Levantadas'!C:D,2,0),\"\")","v":0},"","",null,1,null,1,1,3863]
[null,null,{"$f":"IFERROR(VLOOKUP(D3868,'1_Causas_Levantadas'!C:D,2,0),\"\")","v":0},"","",null,1,null,1,1,3864]
[null,null,{"$f":"IFERROR(VLOOKUP(D3869,'1_Causas_Levantadas'!C:D,2,0),\"\")","v":0},"","",null,1,null,1,1,3865]
[null,null,{"$f":"IFERROR(VLOOKUP(D3870,'1_Causas_Levantadas'!C:D,2,0),\"\")","v":0},"","",null,1,null,1,1,3866]
[null,null,{"$f":"IFERROR(VLOOKUP(D3871,'1_Causas_Levantadas'!C:D,2,0),\"\")","v":0},"","",null,1,null,1,1,3867]
[null,null,{"$f":"IFERROR(VLOOKUP(D3872,'1_Causas_Levantadas'!C:D,2,0),\"\")","v":0},"","",null,1,null,1,1,3868]
[null,null,{"$f":"IFERROR(VLOOKUP(D3873,'1_Causas_Levantadas'!C:D,2,0),\"\")","v":0},"","",null,1,null,1,1,3869]
[null,null,{"$f":"IFERROR(VLOOKUP(D3874,'1_Causas_Levantadas'!C:D,2,0),\"\")","v":0},"","",null,1,null,1,1,3870]
[null,null,{"$f":"IFERROR(VLOOKUP(D3875,'1_Causas_Levantadas'!C:D,2,0),\"\")","v":0},"","",null,1,null,1,1,3871]
[null,null,{"$f":"IFERROR(VLOOKUP(D3876,'1_Causas_Levantadas'!C:D,2,0),\"\")","v":0},"","",null,1,null,1,1,3872]
[null,null,{"$f":"IFERROR(VLOOKUP(D3877,'1_Causas_Levantadas'!C:D,2,0),\"\")","v":0},"","",null,1,null,1,1,3873]
[null,null,{"$f":"IFERROR(VLOOKUP(D3878,'1_Causas_Levantadas'!C:D,2,0),\"\")","v":0},"","",null,1,null,1,1,3874]
[null,null,{"$f":"IFERROR(VLOOKUP(D3879,'1_Causas_Levantadas'!C:D,2,0),\"\")","v":0},"","",null,1,null,1,1,3875]
[null,null,{"$f":"IFERROR(VLOOKUP(D3880,'1_Causas_Levantadas'!C:D,2,0),\"\")","v":0},"","",null,1,null,1,1,3876]
[null,null,{"$f":"IFERROR(VLOOKUP(D3881,'1_Causas_Levantadas'!C:D,2,0),\"\")","v":0},"","",null,1,null,1,1,3877]
[null,null,{"$f":"IFERROR(VLOOKUP(D3882,'1_Causas_Levantadas'!C:D,2,0),\"\")","v":0},"","",null,1,null,1,1,3878]
[null,null,{"$f":"IFERROR(VLOOKUP(D3883,'1_Causas_Levantadas'!C:D,2,0),\"\")","v":0},"","",null,1,null,1,1,3879]
[null,null,{"$f":"IFERROR(VLOOKUP(D3884,'1_Causas_Levantadas'!C:D,2,0),\"\")","v":0},"","",null,1,null,1,1,3880]
[null,null,{"$f":"IFERROR(VLOOKUP(D3885,'1_Causas_Levantadas'!C:D,2,0),\"\")","v":0},"","",null,1,null,1,1,3881]
[null,null,{"$f":"IFERROR(VLOOKUP(D3886,'1_Causas_Levantadas'!C:D,2,0),\"\")","v":0},"","",null,1,null,1,1,3882]
[null,null,{"$f":"IFERROR(VLOOKUP(D3887,'1_Causas_Levantadas'!C:D,2,0),\"\")","v":0},"","",null,1,null,1,1,3883]
[null,null,{"$f":"IFERROR(VLOOKUP(D3888,'1_Causas_Levantadas'!C:D,2,0),\"\")","v":0},"","",null,1,null,1,1,3884]
[null,null,{"$f":"IFERROR(VLOOKUP(D3889,'1_Causas_Levantadas'!C:D,2,0),\"\")","v":0},"","",null,1,null,1,1,3885]
[null,null,{"$f":"IFERROR(VLOOKUP(D3890,'1_Causas_Levantadas'!C:D,2,0),\"\")","v":0},"","",null,1,null,1,1,3886]
[null,null,{"$f":"IFERROR(VLOOKUP(D3891,'1_Causas_Levantadas'!C:D,2,0),\"\")","v":0},"","",null,1,null,1,1,3887]
[null,null,{"$f":"IFERROR(VLOOKUP(D3892,'1_Causas_Levantadas'!C:D,2,0),\"\")","v":0},"","",null,1,null,1,1,3888]
[null,null,{"$f":"IFERROR(VLOOKUP(D3893,'1_Causas_Levantadas'!C:D,2,0),\"\")","v":0},"","",null,1,null,1,1,3889]
[null,null,{"$f":"IFERROR(VLOOKUP(D3894,'1_Causas_Levantadas'!C:D,2,0),\"\")","v":0},"","",null,1,null,1,1,3890]
[null,null,{"$f":"IFERROR(VLOOKUP(D3895,'1_Causas_Levantadas'!C:D,2,0),\"\")","v":0},"","",null,1,null,1,1,3891]
[null,null,{"$f":"IFERROR(VLOOKUP(D3896,'1_Causas_Levantadas'!C:D,2,0),\"\")","v":0},"","",null,1,null,1,1,3892]
[null,null,{"$f":"IFERROR(VLOOKUP(D3897,'1_Causas_Levantadas'!C:D,2,0),\"\")","v":0},"","",null,1,null,1,1,3893]
[null,null,{"$f":"IFERROR(VLOOKUP(D3898,'1_Causas_Levantadas'!C:D,2,0),\"\")","v":0},"","",null,1,null,1,1,3894]
[null,null,{"$f":"IFERROR(VLOOKUP(D3899,'1_Causas_Levantadas'!C:D,2,0),\"\")","v":0},"","",null,1,null,1,1,3895]
[null,null,{"$f":"IFERROR(VLOOKUP(D3900,'1_Causas_Levantadas'!C:D,2,0),\"\")","v":0},"","",null,1,null,1,1,3896]
[null,null,{"$f":"IFERROR(VLOOKUP(D3901,'1_Causas_Levantadas'!C:D,2,0),\"\")","v":0},"","",null,1,null,1,1,3897]
[null,null,{"$f":"IFERROR(VLOOKUP(D3902,'1_Causas_Levantadas'!C:D,2,0),\"\")","v":0},"","",null,1,null,1,1,3898]
[null,null,{"$f":"IFERROR(VLOOKUP(D3903,'1_Causas_Levantadas'!C:D,2,0),\"\")","v":0},"","",null,1,null,1,1,3899]
[null,null,{"$f":"IFERROR(VLOOKUP(D3904,'1_Causas_Levantadas'!C:D,2,0),\"\")","v":0},"","",null,1,null,1,1,3900]
[null,null,{"$f":"IFERROR(VLOOKUP(D3905,'1_Causas_Levantadas'!C:D,2,0),\"\")","v":0},"","",null,1,null,1,1,3901]
[null,null,{"$f":"IFERROR(VLOOKUP(D3906,'1_Causas_Levantadas'!C:D,2,0),\"\")","v":0},"","",null,1,null,1,1,3902]
[null,null,{"$f":"IFERROR(VLOOKUP(D3907,'1_Causas_Levantadas'!C:D,2,0),\"\")","v":0},"","",null,1,null,1,1,3903]
[null,null,{"$f":"IFERROR(VLOOKUP(D3908,'1_Causas_Levantadas'!C:D,2,0),\"\")","v":0},"","",null,1,null,1,1,3904]
[null,null,{"$f":"IFERROR(VLOOKUP(D3909,'1_Causas_Levantadas'!C:D,2,0),\"\")","v":0},"","",null,1,null,1,1,3905]
[null,null,{"$f":"IFERROR(VLOOKUP(D3910,'1_Causas_Levantadas'!C:D,2,0),\"\")","v":0},{"$f":"IF(K3910<=$H$4,(IF(G3909>0,G3910,$G$5)),\"\")","v":""},{"$f":"IF(D3910<>\"\",\"Participante \"&K3910,\"\")","v":""},null,{"$f":"J3910","v":1},null,{"$f":"IF(G3910=$G$5,1,0)","v":1},1,{"$f":"I3910+K3909","v":3906}]
[null,null,{"$f":"IFERROR(VLOOKUP(D3911,'1_Causas_Levantadas'!C:D,2,0),\"\")","v":0},"","",null,1,null,1,{"$f":"IF(G3910<$G$4,J3910+1,1)","v":1},3907]
[null,null,{"$f":"IFERROR(VLOOKUP(D3912,'1_Causas_Levantadas'!C:D,2,0),\"\")","v":0},"","",null,1,null,1,1,3908]
[null,null,{"$f":"IFERROR(VLOOKUP(D3913,'1_Causas_Levantadas'!C:D,2,0),\"\")","v":0},"","",null,1,null,1,1,3909]
[null,null,{"$f":"IFERROR(VLOOKUP(D3914,'1_Causas_Levantadas'!C:D,2,0),\"\")","v":0},"","",null,1,null,1,1,3910]
[null,null,{"$f":"IFERROR(VLOOKUP(D3915,'1_Causas_Levantadas'!C:D,2,0),\"\")","v":0},"","",null,1,null,1,1,3911]
[null,null,{"$f":"IFERROR(VLOOKUP(D3916,'1_Causas_Levantadas'!C:D,2,0),\"\")","v":0},"","",null,1,null,1,1,3912]
[null,null,{"$f":"IFERROR(VLOOKUP(D3917,'1_Causas_Levantadas'!C:D,2,0),\"\")","v":0},"","",null,1,null,1,1,3913]
[null,null,{"$f":"IFERROR(VLOOKUP(D3918,'1_Causas_Levantadas'!C:D,2,0),\"\")","v":0},"","",null,1,null,1,1,3914]
[null,null,{"$f":"IFERROR(VLOOKUP(D3919,'1_Causas_Levantadas'!C:D,2,0),\"\")","v":0},"","",null,1,null,1,1,3915]
[null,null,{"$f":"IFERROR(VLOOKUP(D3920,'1_Causas_Levantadas'!C:D,2,0),\"\")","v":0},"","",null,1,null,1,1,3916]
[null,null,{"$f":"IFERROR(VLOOKUP(D3921,'1_Causas_Levantadas'!C:D,2,0),\"\")","v":0},"","",null,1,null,1,1,3917]
[null,null,{"$f":"IFERROR(VLOOKUP(D3922,'1_Causas_Levantadas'!C:D,2,0),\"\")","v":0},"","",null,1,null,1,1,3918]
[null,null,{"$f":"IFERROR(VLOOKUP(D3923,'1_Causas_Levantadas'!C:D,2,0),\"\")","v":0},"","",null,1,null,1,1,3919]
[null,null,{"$f":"IFERROR(VLOOKUP(D3924,'1_Causas_Levantadas'!C:D,2,0),\"\")","v":0},"","",null,1,null,1,1,3920]
[null,null,{"$f":"IFERROR(VLOOKUP(D3925,'1_Causas_Levantadas'!C:D,2,0),\"\")","v":0},"","",null,1,null,1,1,3921]
[null,null,{"$f":"IFERROR(VLOOKUP(D3926,'1_Causas_Levantadas'!C:D,2,0),\"\")","v":0},"","",null,1,null,1,1,3922]
[null,null,{"$f":"IFERROR(VLOOKUP(D3927,'1_Causas_Levantadas'!C:D,2,0),\"\")","v":0},"","",null,1,null,1,1,3923]
[null,null,{"$f":"IFERROR(VLOOKUP(D3928,'1_Causas_Levantadas'!C:D,2,0),\"\")","v":0},"","",null,1,null,1,1,3924]
[null,null,{"$f":"IFERROR(VLOOKUP(D3929,'1_Causas_Levantadas'!C:D,2,0),\"\")","v":0},"","",null,1,null,1,1,3925]
[null,null,{"$f":"IFERROR(VLOOKUP(D3930,'1_Causas_Levantadas'!C:D,2,0),\"\")","v":0},"","",null,1,null,1,1,3926]
[null,null,{"$f":"IFERROR(VLOOKUP(D3931,'1_Causas_Levantadas'!C:D,2,0),\"\")","v":0},"","",null,1,null,1,1,3927]
[null,null,{"$f":"IFERROR(VLOOKUP(D3932,'1_Causas_Levantadas'!C:D,2,0),\"\")","v":0},"","",null,1,null,1,1,3928]
[null,null,{"$f":"IFERROR(VLOOKUP(D3933,'1_Causas_Levantadas'!C:D,2,0),\"\")","v":0},"","",null,1,null,1,1,3929]
[null,null,{"$f":"IFERROR(VLOOKUP(D3934,'1_Causas_Levantadas'!C:D,2,0),\"\")","v":0},"","",null,1,null,1,1,3930]
[null,null,{"$f":"IFERROR(VLOOKUP(D3935,'1_Causas_Levantadas'!C:D,2,0),\"\")","v":0},"","",null,1,null,1,1,3931]
[null,null,{"$f":"IFERROR(VLOOKUP(D3936,'1_Causas_Levantadas'!C:D,2,0),\"\")","v":0},"","",null,1,null,1,1,3932]
[null,null,{"$f":"IFERROR(VLOOKUP(D3937,'1_Causas_Levantadas'!C:D,2,0),\"\")","v":0},"","",null,1,null,1,1,3933]
[null,null,{"$f":"IFERROR(VLOOKUP(D3938,'1_Causas_Levantadas'!C:D,2,0),\"\")","v":0},"","",null,1,null,1,1,3934]
[null,null,{"$f":"IFERROR(VLOOKUP(D3939,'1_Causas_Levantadas'!C:D,2,0),\"\")","v":0},"","",null,1,null,1,1,3935]
[null,null,{"$f":"IFERROR(VLOOKUP(D3940,'1_Causas_Levantadas'!C:D,2,0),\"\")","v":0},"","",null,1,null,1,1,3936]
[null,null,{"$f":"IFERROR(VLOOKUP(D3941,'1_Causas_Levantadas'!C:D,2,0),\"\")","v":0},"","",null,1,null,1,1,3937]
[null,null,{"$f":"IFERROR(VLOOKUP(D3942,'1_Causas_Levantadas'!C:D,2,0),\"\")","v":0},"","",null,1,null,1,1,3938]
[null,null,{"$f":"IFERROR(VLOOKUP(D3943,'1_Causas_Levantadas'!C:D,2,0),\"\")","v":0},"","",null,1,null,1,1,3939]
[null,null,{"$f":"IFERROR(VLOOKUP(D3944,'1_Causas_Levantadas'!C:D,2,0),\"\")","v":0},"","",null,1,null,1,1,3940]
[null,null,{"$f":"IFERROR(VLOOKUP(D3945,'1_Causas_Levantadas'!C:D,2,0),\"\")","v":0},"","",null,1,null,1,1,3941]
[null,null,{"$f":"IFERROR(VLOOKUP(D3946,'1_Causas_Levantadas'!C:D,2,0),\"\")","v":0},"","",null,1,null,1,1,3942]
[null,null,{"$f":"IFERROR(VLOOKUP(D3947,'1_Causas_Levantadas'!C:D,2,0),\"\")","v":0},"","",null,1,null,1,1,3943]
[null,null,{"$f":"IFERROR(VLOOKUP(D3948,'1_Causas_Levantadas'!C:D,2,0),\"\")","v":0},"","",null,1,null,1,1,3944]
[null,null,{"$f":"IFERROR(VLOOKUP(D3949,'1_Causas_Levantadas'!C:D,2,0),\"\")","v":0},"","",null,1,null,1,1,3945]
[null,null,{"$f":"IFERROR(VLOOKUP(D3950,'1_Causas_Levantadas'!C:D,2,0),\"\")","v":0},"","",null,1,null,1,1,3946]
[null,null,{"$f":"IFERROR(VLOOKUP(D3951,'1_Causas_Levantadas'!C:D,2,0),\"\")","v":0},"","",null,1,null,1,1,3947]
[null,null,{"$f":"IFERROR(VLOOKUP(D3952,'1_Causas_Levantadas'!C:D,2,0),\"\")","v":0},"","",null,1,null,1,1,3948]
[null,null,{"$f":"IFERROR(VLOOKUP(D3953,'1_Causas_Levantadas'!C:D,2,0),\"\")","v":0},"","",null,1,null,1,1,3949]
[null,null,{"$f":"IFERROR(VLOOKUP(D3954,'1_Causas_Levantadas'!C:D,2,0),\"\")","v":0},"","",null,1,null,1,1,3950]
[null,null,{"$f":"IFERROR(VLOOKUP(D3955,'1_Causas_Levantadas'!C:D,2,0),\"\")","v":0},"","",null,1,null,1,1,3951]
[null,null,{"$f":"IFERROR(VLOOKUP(D3956,'1_Causas_Levantadas'!C:D,2,0),\"\")","v":0},"","",null,1,null,1,1,3952]
[null,null,{"$f":"IFERROR(VLOOKUP(D3957,'1_Causas_Levantadas'!C:D,2,0),\"\")","v":0},"","",null,1,null,1,1,3953]
[null,null,{"$f":"IFERROR(VLOOKUP(D3958,'1_Causas_Levantadas'!C:D,2,0),\"\")","v":0},"","",null,1,null,1,1,3954]
[null,null,{"$f":"IFERROR(VLOOKUP(D3959,'1_Causas_Levantadas'!C:D,2,0),\"\")","v":0},"","",null,1,null,1,1,3955]
[null,null,{"$f":"IFERROR(VLOOKUP(D3960,'1_Causas_Levantadas'!C:D,2,0),\"\")","v":0},"","",null,1,null,1,1,3956]
[null,null,{"$f":"IFERROR(VLOOKUP(D3961,'1_Causas_Levantadas'!C:D,2,0),\"\")","v":0},"","",null,1,null,1,1,3957]
[null,null,{"$f":"IFERROR(VLOOKUP(D3962,'1_Causas_Levantadas'!C:D,2,0),\"\")","v":0},"","",null,1,null,1,1,3958]
[null,null,{"$f":"IFERROR(VLOOKUP(D3963,'1_Causas_Levantadas'!C:D,2,0),\"\")","v":0},"","",null,1,null,1,1,3959]
[null,null,{"$f":"IFERROR(VLOOKUP(D3964,'1_Causas_Levantadas'!C:D,2,0),\"\")","v":0},"","",null,1,null,1,1,3960]
[null,null,{"$f":"IFERROR(VLOOKUP(D3965,'1_Causas_Levantadas'!C:D,2,0),\"\")","v":0},"","",null,1,null,1,1,3961]
[null,null,{"$f":"IFERROR(VLOOKUP(D3966,'1_Causas_Levantadas'!C:D,2,0),\"\")","v":0},"","",null,1,null,1,1,3962]
[null,null,{"$f":"IFERROR(VLOOKUP(D3967,'1_Causas_Levantadas'!C:D,2,0),\"\")","v":0},"","",null,1,null,1,1,3963]
[null,null,{"$f":"IFERROR(VLOOKUP(D3968,'1_Causas_Levantadas'!C:D,2,0),\"\")","v":0},"","",null,1,null,1,1,3964]
[null,null,{"$f":"IFERROR(VLOOKUP(D3969,'1_Causas_Levantadas'!C:D,2,0),\"\")","v":0},"","",null,1,null,1,1,3965]
[null,null,{"$f":"IFERROR(VLOOKUP(D3970,'1_Causas_Levantadas'!C:D,2,0),\"\")","v":0},"","",null,1,null,1,1,3966]
[null,null,{"$f":"IFERROR(VLOOKUP(D3971,'1_Causas_Levantadas'!C:D,2,0),\"\")","v":0},"","",null,1,null,1,1,3967]
[null,null,{"$f":"IFERROR(VLOOKUP(D3972,'1_Causas_Levantadas'!C:D,2,0),\"\")","v":0},"","",null,1,null,1,1,3968]
[null,null,{"$f":"IFERROR(VLOOKUP(D3973,'1_Causas_Levantadas'!C:D,2,0),\"\")","v":0},"","",null,1,null,1,1,3969]
[null,null,{"$f":"IFERROR(VLOOKUP(D3974,'1_Causas_Levantadas'!C:D,2,0),\"\")","v":0},{"$f":"IF(K3974<=$H$4,(IF(G3973>0,G3974,$G$5)),\"\")","v":""},{"$f":"IF(D3974<>\"\",\"Participante \"&K3974,\"\")","v":""},null,{"$f":"J3974","v":1},null,{"$f":"IF(G3974=$G$5,1,0)","v":1},1,{"$f":"I3974+K3973","v":3970}]
[null,null,{"$f":"IFERROR(VLOOKUP(D3975,'1_Causas_Levantadas'!C:D,2,0),\"\")","v":0},"","",null,1,null,1,{"$f":"IF(G3974<$G$4,J3974+1,1)","v":1},3971]
[null,null,{"$f":"IFERROR(VLOOKUP(D3976,'1_Causas_Levantadas'!C:D,2,0),\"\")","v":0},"","",null,1,null,1,1,3972]
[null,null,{"$f":"IFERROR(VLOOKUP(D3977,'1_Causas_Levantadas'!C:D,2,0),\"\")","v":0},"","",null,1,null,1,1,3973]
[null,null,{"$f":"IFERROR(VLOOKUP(D3978,'1_Causas_Levantadas'!C:D,2,0),\"\")","v":0},"","",null,1,null,1,1,3974]
[null,null,{"$f":"IFERROR(VLOOKUP(D3979,'1_Causas_Levantadas'!C:D,2,0),\"\")","v":0},"","",null,1,null,1,1,3975]
[null,null,{"$f":"IFERROR(VLOOKUP(D3980,'1_Causas_Levantadas'!C:D,2,0),\"\")","v":0},"","",null,1,null,1,1,3976]
[null,null,{"$f":"IFERROR(VLOOKUP(D3981,'1_Causas_Levantadas'!C:D,2,0),\"\")","v":0},"","",null,1,null,1,1,3977]
[null,null,{"$f":"IFERROR(VLOOKUP(D3982,'1_Causas_Levantadas'!C:D,2,0),\"\")","v":0},"","",null,1,null,1,1,3978]
[null,null,{"$f":"IFERROR(VLOOKUP(D3983,'1_Causas_Levantadas'!C:D,2,0),\"\")","v":0},"","",null,1,null,1,1,3979]
[null,null,{"$f":"IFERROR(VLOOKUP(D3984,'1_Causas_Levantadas'!C:D,2,0),\"\")","v":0},"","",null,1,null,1,1,3980]
[null,null,{"$f":"IFERROR(VLOOKUP(D3985,'1_Causas_Levantadas'!C:D,2,0),\"\")","v":0},"","",null,1,null,1,1,3981]
[null,null,{"$f":"IFERROR(VLOOKUP(D3986,'1_Causas_Levantadas'!C:D,2,0),\"\")","v":0},"","",null,1,null,1,1,3982]
[null,null,{"$f":"IFERROR(VLOOKUP(D3987,'1_Causas_Levantadas'!C:D,2,0),\"\")","v":0},"","",null,1,null,1,1,3983]
[null,null,{"$f":"IFERROR(VLOOKUP(D3988,'1_Causas_Levantadas'!C:D,2,0),\"\")","v":0},"","",null,1,null,1,1,3984]
[null,null,{"$f":"IFERROR(VLOOKUP(D3989,'1_Causas_Levantadas'!C:D,2,0),\"\")","v":0},"","",null,1,null,1,1,3985]
[null,null,{"$f":"IFERROR(VLOOKUP(D3990,'1_Causas_Levantadas'!C:D,2,0),\"\")","v":0},"","",null,1,null,1,1,3986]
[null,null,{"$f":"IFERROR(VLOOKUP(D3991,'1_Causas_Levantadas'!C:D,2,0),\"\")","v":0},"","",null,1,null,1,1,3987]
[null,null,{"$f":"IFERROR(VLOOKUP(D3992,'1_Causas_Levantadas'!C:D,2,0),\"\")","v":0},"","",null,1,null,1,1,3988]
[null,null,{"$f":"IFERROR(VLOOKUP(D3993,'1_Causas_Levantadas'!C:D,2,0),\"\")","v":0},"","",null,1,null,1,1,3989]
[null,null,{"$f":"IFERROR(VLOOKUP(D3994,'1_Causas_Levantadas'!C:D,2,0),\"\")","v":0},"","",null,1,null,1,1,3990]
[null,null,{"$f":"IFERROR(VLOOKUP(D3995,'1_Causas_Levantadas'!C:D,2,0),\"\")","v":0},"","",null,1,null,1,1,3991]
[null,null,{"$f":"IFERROR(VLOOKUP(D3996,'1_Causas_Levantadas'!C:D,2,0),\"\")","v":0},"","",null,1,null,1,1,3992]
[null,null,{"$f":"IFERROR(VLOOKUP(D3997,'1_Causas_Levantadas'!C:D,2,0),\"\")","v":0},"","",null,1,null,1,1,3993]
[null,null,{"$f":"IFERROR(VLOOKUP(D3998,'1_Causas_Levantadas'!C:D,2,0),\"\")","v":0},"","",null,1,null,1,1,3994]
[null,null,{"$f":"IFERROR(VLOOKUP(D3999,'1_Causas_Levantadas'!C:D,2,0),\"\")","v":0},"","",null,1,null,1,1,3995]
[null,null,{"$f":"IFERROR(VLOOKUP(D4000,'1_Causas_Levantadas'!C:D,2,0),\"\")","v":0},"","",null,1,null,1,1,3996]
[null,null,{"$f":"IFERROR(VLOOKUP(D4001,'1_Causas_Levantadas'!C:D,2,0),\"\")","v":0},"","",null,1,null,1,1,3997]
[null,null,{"$f":"IFERROR(VLOOKUP(D4002,'1_Causas_Levantadas'!C:D,2,0),\"\")","v":0},"","",null,1,null,1,1,3998]
[null,null,{"$f":"IFERROR(VLOOKUP(D4003,'1_Causas_Levantadas'!C:D,2,0),\"\")","v":0},"","",null,1,null,1,1,3999]
[null,null,{"$f":"IFERROR(VLOOKUP(D4004,'1_Causas_Levantadas'!C:D,2,0),\"\")","v":0},"","",null,1,null,1,1,4000]
[null,null,{"$f":"IFERROR(VLOOKUP(D4005,'1_Causas_Levantadas'!C:D,2,0),\"\")","v":0},"","",null,1,null,1,1,4001]
[null,null,{"$f":"IFERROR(VLOOKUP(D4006,'1_Causas_Levantadas'!C:D,2,0),\"\")","v":0},"","",null,1,null,1,1,4002]
[null,null,{"$f":"IFERROR(VLOOKUP(D4007,'1_Causas_Levantadas'!C:D,2,0),\"\")","v":0},"","",null,1,null,1,1,4003]
[null,null,{"$f":"IFERROR(VLOOKUP(D4008,'1_Causas_Levantadas'!C:D,2,0),\"\")","v":0},"","",null,1,null,1,1,4004]
[null,null,{"$f":"IFERROR(VLOOKUP(D4009,'1_Causas_Levantadas'!C:D,2,0),\"\")","v":0},"","",null,1,null,1,1,4005]
[null,null,{"$f":"IFERROR(VLOOKUP(D4010,'1_Causas_Levantadas'!C:D,2,0),\"\")","v":0},"","",null,1,null,1,1,4006]
[null,null,{"$f":"IFERROR(VLOOKUP(D4011,'1_Causas_Levantadas'!C:D,2,0),\"\")","v":0},"","",null,1,null,1,1,4007]
[null,null,{"$f":"IFERROR(VLOOKUP(D4012,'1_Causas_Levantadas'!C:D,2,0),\"\")","v":0},"","",null,1,null,1,1,4008]
[null,null,{"$f":"IFERROR(VLOOKUP(D4013,'1_Causas_Levantadas'!C:D,2,0),\"\")","v":0},"","",null,1,null,1,1,4009]
[null,null,{"$f":"IFERROR(VLOOKUP(D4014,'1_Causas_Levantadas'!C:D,2,0),\"\")","v":0},"","",null,1,null,1,1,4010]
[null,null,{"$f":"IFERROR(VLOOKUP(D4015,'1_Causas_Levantadas'!C:D,2,0),\"\")","v":0},"","",null,1,null,1,1,4011]
[null,null,{"$f":"IFERROR(VLOOKUP(D4016,'1_Causas_Levantadas'!C:D,2,0),\"\")","v":0},"","",null,1,null,1,1,4012]
[null,null,{"$f":"IFERROR(VLOOKUP(D4017,'1_Causas_Levantadas'!C:D,2,0),\"\")","v":0},"","",null,1,null,1,1,4013]
[null,null,{"$f":"IFERROR(VLOOKUP(D4018,'1_Causas_Levantadas'!C:D,2,0),\"\")","v":0},"","",null,1,null,1,1,4014]
[null,null,{"$f":"IFERROR(VLOOKUP(D4019,'1_Causas_Levantadas'!C:D,2,0),\"\")","v":0},"","",null,1,null,1,1,4015]
[null,null,{"$f":"IFERROR(VLOOKUP(D4020,'1_Causas_Levantadas'!C:D,2,0),\"\")","v":0},"","",null,1,null,1,1,4016]
[null,null,{"$f":"IFERROR(VLOOKUP(D4021,'1_Causas_Levantadas'!C:D,2,0),\"\")","v":0},"","",null,1,null,1,1,4017]
[null,null,{"$f":"IFERROR(VLOOKUP(D4022,'1_Causas_Levantadas'!C:D,2,0),\"\")","v":0},"","",null,1,null,1,1,4018]
[null,null,{"$f":"IFERROR(VLOOKUP(D4023,'1_Causas_Levantadas'!C:D,2,0),\"\")","v":0},"","",null,1,null,1,1,4019]
[null,null,{"$f":"IFERROR(VLOOKUP(D4024,'1_Causas_Levantadas'!C:D,2,0),\"\")","v":0},"","",null,1,null,1,1,4020]
[null,null,{"$f":"IFERROR(VLOOKUP(D4025,'1_Causas_Levantadas'!C:D,2,0),\"\")","v":0},"","",null,1,null,1,1,4021]
[null,null,{"$f":"IFERROR(VLOOKUP(D4026,'1_Causas_Levantadas'!C:D,2,0),\"\")","v":0},"","",null,1,null,1,1,4022]
[null,null,{"$f":"IFERROR(VLOOKUP(D4027,'1_Causas_Levantadas'!C:D,2,0),\"\")","v":0},"","",null,1,null,1,1,4023]
[null,null,{"$f":"IFERROR(VLOOKUP(D4028,'1_Causas_Levantadas'!C:D,2,0),\"\")","v":0},"","",null,1,null,1,1,4024]
[null,null,{"$f":"IFERROR(VLOOKUP(D4029,'1_Causas_Levantadas'!C:D,2,0),\"\")","v":0},"","",null,1,null,1,1,4025]
[null,null,{"$f":"IFERROR(VLOOKUP(D4030,'1_Causas_Levantadas'!C:D,2,0),\"\")","v":0},"","",null,1,null,1,1,4026]
[null,null,{"$f":"IFERROR(VLOOKUP(D4031,'1_Causas_Levantadas'!C:D,2,0),\"\")","v":0},"","",null,1,null,1,1,4027]
[null,null,{"$f":"IFERROR(VLOOKUP(D4032,'1_Causas_Levantadas'!C:D,2,0),\"\")","v":0},"","",null,1,null,1,1,4028]
[null,null,{"$f":"IFERROR(VLOOKUP(D4033,'1_Causas_Levantadas'!C:D,2,0),\"\")","v":0},"","",null,1,null,1,1,4029]
[null,null,{"$f":"IFERROR(VLOOKUP(D4034,'1_Causas_Levantadas'!C:D,2,0),\"\")","v":0},"","",null,1,null,1,1,4030]
[null,null,{"$f":"IFERROR(VLOOKUP(D4035,'1_Causas_Levantadas'!C:D,2,0),\"\")","v":0},"","",null,1,null,1,1,4031]
[null,null,{"$f":"IFERROR(VLOOKUP(D4036,'1_Causas_Levantadas'!C:D,2,0),\"\")","v":0},"","",null,1,null,1,1,4032]
[null,null,{"$f":"IFERROR(VLOOKUP(D4037,'1_Causas_Levantadas'!C:D,2,0),\"\")","v":0},"","",null,1,null,1,1,4033]
[null,null,{"$f":"IFERROR(VLOOKUP(D4038,'1_Causas_Levantadas'!C:D,2,0),\"\")","v":0},{"$f":"IF(K4038<=$H$4,(IF(G4037>0,G4038,$G$5)),\"\")","v":""},{"$f":"IF(D4038<>\"\",\"Participante \"&K4038,\"\")","v":""},null,{"$f":"J4038","v":1},null,{"$f":"IF(G4038=$G$5,1,0)","v":1},1,{"$f":"I4038+K4037","v":4034}]
[null,null,{"$f":"IFERROR(VLOOKUP(D4039,'1_Causas_Levantadas'!C:D,2,0),\"\")","v":0},"","",null,1,null,1,{"$f":"IF(G4038<$G$4,J4038+1,1)","v":1},4035]
[null,null,{"$f":"IFERROR(VLOOKUP(D4040,'1_Causas_Levantadas'!C:D,2,0),\"\")","v":0},"","",null,1,null,1,1,4036]
[null,null,{"$f":"IFERROR(VLOOKUP(D4041,'1_Causas_Levantadas'!C:D,2,0),\"\")","v":0},"","",null,1,null,1,1,4037]
[null,null,{"$f":"IFERROR(VLOOKUP(D4042,'1_Causas_Levantadas'!C:D,2,0),\"\")","v":0},"","",null,1,null,1,1,4038]
[null,null,{"$f":"IFERROR(VLOOKUP(D4043,'1_Causas_Levantadas'!C:D,2,0),\"\")","v":0},"","",null,1,null,1,1,4039]
[null,null,{"$f":"IFERROR(VLOOKUP(D4044,'1_Causas_Levantadas'!C:D,2,0),\"\")","v":0},"","",null,1,null,1,1,4040]
[null,null,{"$f":"IFERROR(VLOOKUP(D4045,'1_Causas_Levantadas'!C:D,2,0),\"\")","v":0},"","",null,1,null,1,1,4041]
[null,null,{"$f":"IFERROR(VLOOKUP(D4046,'1_Causas_Levantadas'!C:D,2,0),\"\")","v":0},"","",null,1,null,1,1,4042]
[null,null,{"$f":"IFERROR(VLOOKUP(D4047,'1_Causas_Levantadas'!C:D,2,0),\"\")","v":0},"","",null,1,null,1,1,4043]
[null,null,{"$f":"IFERROR(VLOOKUP(D4048,'1_Causas_Levantadas'!C:D,2,0),\"\")","v":0},"","",null,1,null,1,1,4044]
[null,null,{"$f":"IFERROR(VLOOKUP(D4049,'1_Causas_Levantadas'!C:D,2,0),\"\")","v":0},"","",null,1,null,1,1,4045]
[null,null,{"$f":"IFERROR(VLOOKUP(D4050,'1_Causas_Levantadas'!C:D,2,0),\"\")","v":0},"","",null,1,null,1,1,4046]
[null,null,{"$f":"IFERROR(VLOOKUP(D4051,'1_Causas_Levantadas'!C:D,2,0),\"\")","v":0},"","",null,1,null,1,1,4047]
[null,null,{"$f":"IFERROR(VLOOKUP(D4052,'1_Causas_Levantadas'!C:D,2,0),\"\")","v":0},"","",null,1,null,1,1,4048]
[null,null,{"$f":"IFERROR(VLOOKUP(D4053,'1_Causas_Levantadas'!C:D,2,0),\"\")","v":0},"","",null,1,null,1,1,4049]
[null,null,{"$f":"IFERROR(VLOOKUP(D4054,'1_Causas_Levantadas'!C:D,2,0),\"\")","v":0},"","",null,1,null,1,1,4050]
[null,null,{"$f":"IFERROR(VLOOKUP(D4055,'1_Causas_Levantadas'!C:D,2,0),\"\")","v":0},"","",null,1,null,1,1,4051]
[null,null,{"$f":"IFERROR(VLOOKUP(D4056,'1_Causas_Levantadas'!C:D,2,0),\"\")","v":0},"","",null,1,null,1,1,4052]
[null,null,{"$f":"IFERROR(VLOOKUP(D4057,'1_Causas_Levantadas'!C:D,2,0),\"\")","v":0},"","",null,1,null,1,1,4053]
[null,null,{"$f":"IFERROR(VLOOKUP(D4058,'1_Causas_Levantadas'!C:D,2,0),\"\")","v":0},"","",null,1,null,1,1,4054]
[null,null,{"$f":"IFERROR(VLOOKUP(D4059,'1_Causas_Levantadas'!C:D,2,0),\"\")","v":0},"","",null,1,null,1,1,4055]
[null,null,{"$f":"IFERROR(VLOOKUP(D4060,'1_Causas_Levantadas'!C:D,2,0),\"\")","v":0},"","",null,1,null,1,1,4056]
[null,null,{"$f":"IFERROR(VLOOKUP(D4061,'1_Causas_Levantadas'!C:D,2,0),\"\")","v":0},"","",null,1,null,1,1,4057]
[null,null,{"$f":"IFERROR(VLOOKUP(D4062,'1_Causas_Levantadas'!C:D,2,0),\"\")","v":0},"","",null,1,null,1,1,4058]
[null,null,{"$f":"IFERROR(VLOOKUP(D4063,'1_Causas_Levantadas'!C:D,2,0),\"\")","v":0},"","",null,1,null,1,1,4059]
[null,null,{"$f":"IFERROR(VLOOKUP(D4064,'1_Causas_Levantadas'!C:D,2,0),\"\")","v":0},"","",null,1,null,1,1,4060]
[null,null,{"$f":"IFERROR(VLOOKUP(D4065,'1_Causas_Levantadas'!C:D,2,0),\"\")","v":0},"","",null,1,null,1,1,4061]
[null,null,{"$f":"IFERROR(VLOOKUP(D4066,'1_Causas_Levantadas'!C:D,2,0),\"\")","v":0},"","",null,1,null,1,1,4062]
[null,null,{"$f":"IFERROR(VLOOKUP(D4067,'1_Causas_Levantadas'!C:D,2,0),\"\")","v":0},"","",null,1,null,1,1,4063]
[null,null,{"$f":"IFERROR(VLOOKUP(D4068,'1_Causas_Levantadas'!C:D,2,0),\"\")","v":0},"","",null,1,null,1,1,4064]
[null,null,{"$f":"IFERROR(VLOOKUP(D4069,'1_Causas_Levantadas'!C:D,2,0),\"\")","v":0},"","",null,1,null,1,1,4065]
[null,null,{"$f":"IFERROR(VLOOKUP(D4070,'1_Causas_Levantadas'!C:D,2,0),\"\")","v":0},"","",null,1,null,1,1,4066]
[null,null,{"$f":"IFERROR(VLOOKUP(D4071,'1_Causas_Levantadas'!C:D,2,0),\"\")","v":0},"","",null,1,null,1,1,4067]
[null,null,{"$f":"IFERROR(VLOOKUP(D4072,'1_Causas_Levantadas'!C:D,2,0),\"\")","v":0},"","",null,1,null,1,1,4068]
[null,null,{"$f":"IFERROR(VLOOKUP(D4073,'1_Causas_Levantadas'!C:D,2,0),\"\")","v":0},"","",null,1,null,1,1,4069]
[null,null,{"$f":"IFERROR(VLOOKUP(D4074,'1_Causas_Levantadas'!C:D,2,0),\"\")","v":0},"","",null,1,null,1,1,4070]
[null,null,{"$f":"IFERROR(VLOOKUP(D4075,'1_Causas_Levantadas'!C:D,2,0),\"\")","v":0},"","",null,1,null,1,1,4071]
[null,null,{"$f":"IFERROR(VLOOKUP(D4076,'1_Causas_Levantadas'!C:D,2,0),\"\")","v":0},"","",null,1,null,1,1,4072]
[null,null,{"$f":"IFERROR(VLOOKUP(D4077,'1_Causas_Levantadas'!C:D,2,0),\"\")","v":0},"","",null,1,null,1,1,4073]
[null,null,{"$f":"IFERROR(VLOOKUP(D4078,'1_Causas_Levantadas'!C:D,2,0),\"\")","v":0},"","",null,1,null,1,1,4074]
[null,null,{"$f":"IFERROR(VLOOKUP(D4079,'1_Causas_Levantadas'!C:D,2,0),\"\")","v":0},"","",null,1,null,1,1,4075]
[null,null,{"$f":"IFERROR(VLOOKUP(D4080,'1_Causas_Levantadas'!C:D,2,0),\"\")","v":0},"","",null,1,null,1,1,4076]
[null,null,{"$f":"IFERROR(VLOOKUP(D4081,'1_Causas_Levantadas'!C:D,2,0),\"\")","v":0},"","",null,1,null,1,1,4077]
[null,null,{"$f":"IFERROR(VLOOKUP(D4082,'1_Causas_Levantadas'!C:D,2,0),\"\")","v":0},"","",null,1,null,1,1,4078]
[null,null,{"$f":"IFERROR(VLOOKUP(D4083,'1_Causas_Levantadas'!C:D,2,0),\"\")","v":0},"","",null,1,null,1,1,4079]
[null,null,{"$f":"IFERROR(VLOOKUP(D4084,'1_Causas_Levantadas'!C:D,2,0),\"\")","v":0},"","",null,1,null,1,1,4080]
[null,null,{"$f":"IFERROR(VLOOKUP(D4085,'1_Causas_Levantadas'!C:D,2,0),\"\")","v":0},"","",null,1,null,1,1,4081]
[null,null,{"$f":"IFERROR(VLOOKUP(D4086,'1_Causas_Levantadas'!C:D,2,0),\"\")","v":0},"","",null,1,null,1,1,4082]
[null,null,{"$f":"IFERROR(VLOOKUP(D4087,'1_Causas_Levantadas'!C:D,2,0),\"\")","v":0},"","",null,1,null,1,1,4083]
[null,null,{"$f":"IFERROR(VLOOKUP(D4088,'1_Causas_Levantadas'!C:D,2,0),\"\")","v":0},"","",null,1,null,1,1,4084]
[null,null,{"$f":"IFERROR(VLOOKUP(D4089,'1_Causas_Levantadas'!C:D,2,0),\"\")","v":0},"","",null,1,null,1,1,4085]
[null,null,{"$f":"IFERROR(VLOOKUP(D4090,'1_Causas_Levantadas'!C:D,2,0),\"\")","v":0},"","",null,1,null,1,1,4086]
[null,null,{"$f":"IFERROR(VLOOKUP(D4091,'1_Causas_Levantadas'!C:D,2,0),\"\")","v":0},"","",null,1,null,1,1,4087]
[null,null,{"$f":"IFERROR(VLOOKUP(D4092,'1_Causas_Levantadas'!C:D,2,0),\"\")","v":0},"","",null,1,null,1,1,4088]
[null,null,{"$f":"IFERROR(VLOOKUP(D4093,'1_Causas_Levantadas'!C:D,2,0),\"\")","v":0},"","",null,1,null,1,1,4089]
[null,null,{"$f":"IFERROR(VLOOKUP(D4094,'1_Causas_Levantadas'!C:D,2,0),\"\")","v":0},"","",null,1,null,1,1,4090]
[null,null,{"$f":"IFERROR(VLOOKUP(D4095,'1_Causas_Levantadas'!C:D,2,0),\"\")","v":0},"","",null,1,null,1,1,4091]
[null,null,{"$f":"IFERROR(VLOOKUP(D4096,'1_Causas_Levantadas'!C:D,2,0),\"\")","v":0},"","",null,1,null,1,1,4092]
[null,null,{"$f":"IFERROR(VLOOKUP(D4097,'1_Causas_Levantadas'!C:D,2,0),\"\")","v":0},"","",null,1,null,1,1,4093]
[null,null,{"$f":"IFERROR(VLOOKUP(D4098,'1_Causas_Levantadas'!C:D,2,0),\"\")","v":0},"","",null,1,null,1,1,4094]
[null,null,{"$f":"IFERROR(VLOOKUP(D4099,'1_Causas_Levantadas'!C:D,2,0),\"\")","v":0},"","",null,1,null,1,1,4095]
[null,null,{"$f":"IFERROR(VLOOKUP(D4100,'1_Causas_Levantadas'!C:D,2,0),\"\")","v":0},"","",null,1,null,1,1,4096]
[null,null,{"$f":"IFERROR(VLOOKUP(D4101,'1_Causas_Levantadas'!C:D,2,0),\"\")","v":0},"","",null,1,null,1,1,4097]
[null,null,{"$f":"IFERROR(VLOOKUP(D4102,'1_Causas_Levantadas'!C:D,2,0),\"\")","v":0},{"$f":"IF(K4102<=$H$4,(IF(G4101>0,G4102,$G$5)),\"\")","v":""},{"$f":"IF(D4102<>\"\",\"Participante \"&K4102,\"\")","v":""},null,{"$f":"J4102","v":1},null,{"$f":"IF(G4102=$G$5,1,0)","v":1},1,{"$f":"I4102+K4101","v":4098}]
[null,null,{"$f":"IFERROR(VLOOKUP(D4103,'1_Causas_Levantadas'!C:D,2,0),\"\")","v":0},"","",null,1,null,1,{"$f":"IF(G4102<$G$4,J4102+1,1)","v":1},4099]
[null,null,{"$f":"IFERROR(VLOOKUP(D4104,'1_Causas_Levantadas'!C:D,2,0),\"\")","v":0},"","",null,1,null,1,1,4100]
[null,null,{"$f":"IFERROR(VLOOKUP(D4105,'1_Causas_Levantadas'!C:D,2,0),\"\")","v":0},"","",null,1,null,1,1,4101]
[null,null,{"$f":"IFERROR(VLOOKUP(D4106,'1_Causas_Levantadas'!C:D,2,0),\"\")","v":0},"","",null,1,null,1,1,4102]
[null,null,{"$f":"IFERROR(VLOOKUP(D4107,'1_Causas_Levantadas'!C:D,2,0),\"\")","v":0},"","",null,1,null,1,1,4103]
[null,null,{"$f":"IFERROR(VLOOKUP(D4108,'1_Causas_Levantadas'!C:D,2,0),\"\")","v":0},"","",null,1,null,1,1,4104]
[null,null,{"$f":"IFERROR(VLOOKUP(D4109,'1_Causas_Levantadas'!C:D,2,0),\"\")","v":0},"","",null,1,null,1,1,4105]
[null,null,{"$f":"IFERROR(VLOOKUP(D4110,'1_Causas_Levantadas'!C:D,2,0),\"\")","v":0},"","",null,1,null,1,1,4106]
[null,null,{"$f":"IFERROR(VLOOKUP(D4111,'1_Causas_Levantadas'!C:D,2,0),\"\")","v":0},"","",null,1,null,1,1,4107]
[null,null,{"$f":"IFERROR(VLOOKUP(D4112,'1_Causas_Levantadas'!C:D,2,0),\"\")","v":0},"","",null,1,null,1,1,4108]
[null,null,{"$f":"IFERROR(VLOOKUP(D4113,'1_Causas_Levantadas'!C:D,2,0),\"\")","v":0},"","",null,1,null,1,1,4109]
[null,null,{"$f":"IFERROR(VLOOKUP(D4114,'1_Causas_Levantadas'!C:D,2,0),\"\")","v":0},"","",null,1,null,1,1,4110]
[null,null,{"$f":"IFERROR(VLOOKUP(D4115,'1_Causas_Levantadas'!C:D,2,0),\"\")","v":0},"","",null,1,null,1,1,4111]
[null,null,{"$f":"IFERROR(VLOOKUP(D4116,'1_Causas_Levantadas'!C:D,2,0),\"\")","v":0},"","",null,1,null,1,1,4112]
[null,null,{"$f":"IFERROR(VLOOKUP(D4117,'1_Causas_Levantadas'!C:D,2,0),\"\")","v":0},"","",null,1,null,1,1,4113]
[null,null,{"$f":"IFERROR(VLOOKUP(D4118,'1_Causas_Levantadas'!C:D,2,0),\"\")","v":0},"","",null,1,null,1,1,4114]
[null,null,{"$f":"IFERROR(VLOOKUP(D4119,'1_Causas_Levantadas'!C:D,2,0),\"\")","v":0},"","",null,1,null,1,1,4115]
[null,null,{"$f":"IFERROR(VLOOKUP(D4120,'1_Causas_Levantadas'!C:D,2,0),\"\")","v":0},"","",null,1,null,1,1,4116]
[null,null,{"$f":"IFERROR(VLOOKUP(D4121,'1_Causas_Levantadas'!C:D,2,0),\"\")","v":0},"","",null,1,null,1,1,4117]
[null,null,{"$f":"IFERROR(VLOOKUP(D4122,'1_Causas_Levantadas'!C:D,2,0),\"\")","v":0},"","",null,1,null,1,1,4118]
[null,null,{"$f":"IFERROR(VLOOKUP(D4123,'1_Causas_Levantadas'!C:D,2,0),\"\")","v":0},"","",null,1,null,1,1,4119]
[null,null,{"$f":"IFERROR(VLOOKUP(D4124,'1_Causas_Levantadas'!C:D,2,0),\"\")","v":0},"","",null,1,null,1,1,4120]
[null,null,{"$f":"IFERROR(VLOOKUP(D4125,'1_Causas_Levantadas'!C:D,2,0),\"\")","v":0},"","",null,1,null,1,1,4121]
[null,null,{"$f":"IFERROR(VLOOKUP(D4126,'1_Causas_Levantadas'!C:D,2,0),\"\")","v":0},"","",null,1,null,1,1,4122]
[null,null,{"$f":"IFERROR(VLOOKUP(D4127,'1_Causas_Levantadas'!C:D,2,0),\"\")","v":0},"","",null,1,null,1,1,4123]
[null,null,{"$f":"IFERROR(VLOOKUP(D4128,'1_Causas_Levantadas'!C:D,2,0),\"\")","v":0},"","",null,1,null,1,1,4124]
[null,null,{"$f":"IFERROR(VLOOKUP(D4129,'1_Causas_Levantadas'!C:D,2,0),\"\")","v":0},"","",null,1,null,1,1,4125]
[null,null,{"$f":"IFERROR(VLOOKUP(D4130,'1_Causas_Levantadas'!C:D,2,0),\"\")","v":0},"","",null,1,null,1,1,4126]
[null,null,{"$f":"IFERROR(VLOOKUP(D4131,'1_Causas_Levantadas'!C:D,2,0),\"\")","v":0},"","",null,1,null,1,1,4127]
[null,null,{"$f":"IFERROR(VLOOKUP(D4132,'1_Causas_Levantadas'!C:D,2,0),\"\")","v":0},"","",null,1,null,1,1,4128]
[null,null,{"$f":"IFERROR(VLOOKUP(D4133,'1_Causas_Levantadas'!C:D,2,0),\"\")","v":0},"","",null,1,null,1,1,4129]
[null,null,{"$f":"IFERROR(VLOOKUP(D4134,'1_Causas_Levantadas'!C:D,2,0),\"\")","v":0},"","",null,1,null,1,1,4130]
[null,null,{"$f":"IFERROR(VLOOKUP(D4135,'1_Causas_Levantadas'!C:D,2,0),\"\")","v":0},"","",null,1,null,1,1,4131]
[null,null,{"$f":"IFERROR(VLOOKUP(D4136,'1_Causas_Levantadas'!C:D,2,0),\"\")","v":0},"","",null,1,null,1,1,4132]
[null,null,{"$f":"IFERROR(VLOOKUP(D4137,'1_Causas_Levantadas'!C:D,2,0),\"\")","v":0},"","",null,1,null,1,1,4133]
[null,null,{"$f":"IFERROR(VLOOKUP(D4138,'1_Causas_Levantadas'!C:D,2,0),\"\")","v":0},"","",null,1,null,1,1,4134]
[null,null,{"$f":"IFERROR(VLOOKUP(D4139,'1_Causas_Levantadas'!C:D,2,0),\"\")","v":0},"","",null,1,null,1,1,4135]
[null,null,{"$f":"IFERROR(VLOOKUP(D4140,'1_Causas_Levantadas'!C:D,2,0),\"\")","v":0},"","",null,1,null,1,1,4136]
[null,null,{"$f":"IFERROR(VLOOKUP(D4141,'1_Causas_Levantadas'!C:D,2,0),\"\")","v":0},"","",null,1,null,1,1,4137]
[null,null,{"$f":"IFERROR(VLOOKUP(D4142,'1_Causas_Levantadas'!C:D,2,0),\"\")","v":0},"","",null,1,null,1,1,4138]
[null,null,{"$f":"IFERROR(VLOOKUP(D4143,'1_Causas_Levantadas'!C:D,2,0),\"\")","v":0},"","",null,1,null,1,1,4139]
[null,null,{"$f":"IFERROR(VLOOKUP(D4144,'1_Causas_Levantadas'!C:D,2,0),\"\")","v":0},"","",null,1,null,1,1,4140]
[null,null,{"$f":"IFERROR(VLOOKUP(D4145,'1_Causas_Levantadas'!C:D,2,0),\"\")","v":0},"","",null,1,null,1,1,4141]
[null,null,{"$f":"IFERROR(VLOOKUP(D4146,'1_Causas_Levantadas'!C:D,2,0),\"\")","v":0},"","",null,1,null,1,1,4142]
[null,null,{"$f":"IFERROR(VLOOKUP(D4147,'1_Causas_Levantadas'!C:D,2,0),\"\")","v":0},"","",null,1,null,1,1,4143]
[null,null,{"$f":"IFERROR(VLOOKUP(D4148,'1_Causas_Levantadas'!C:D,2,0),\"\")","v":0},"","",null,1,null,1,1,4144]
[null,null,{"$f":"IFERROR(VLOOKUP(D4149,'1_Causas_Levantadas'!C:D,2,0),\"\")","v":0},"","",null,1,null,1,1,4145]
[null,null,{"$f":"IFERROR(VLOOKUP(D4150,'1_Causas_Levantadas'!C:D,2,0),\"\")","v":0},"","",null,1,null,1,1,4146]
[null,null,{"$f":"IFERROR(VLOOKUP(D4151,'1_Causas_Levantadas'!C:D,2,0),\"\")","v":0},"","",null,1,null,1,1,4147]
[null,null,{"$f":"IFERROR(VLOOKUP(D4152,'1_Causas_Levantadas'!C:D,2,0),\"\")","v":0},"","",null,1,null,1,1,4148]
[null,null,{"$f":"IFERROR(VLOOKUP(D4153,'1_Causas_Levantadas'!C:D,2,0),\"\")","v":0},"","",null,1,null,1,1,4149]
[null,null,{"$f":"IFERROR(VLOOKUP(D4154,'1_Causas_Levantadas'!C:D,2,0),\"\")","v":0},"","",null,1,null,1,1,4150]
[null,null,{"$f":"IFERROR(VLOOKUP(D4155,'1_Causas_Levantadas'!C:D,2,0),\"\")","v":0},"","",null,1,null,1,1,4151]
[null,null,{"$f":"IFERROR(VLOOKUP(D4156,'1_Causas_Levantadas'!C:D,2,0),\"\")","v":0},"","",null,1,null,1,1,4152]
[null,null,{"$f":"IFERROR(VLOOKUP(D4157,'1_Causas_Levantadas'!C:D,2,0),\"\")","v":0},"","",null,1,null,1,1,4153]
[null,null,{"$f":"IFERROR(VLOOKUP(D4158,'1_Causas_Levantadas'!C:D,2,0),\"\")","v":0},"","",null,1,null,1,1,4154]
[null,null,{"$f":"IFERROR(VLOOKUP(D4159,'1_Causas_Levantadas'!C:D,2,0),\"\")","v":0},"","",null,1,null,1,1,4155]
[null,null,{"$f":"IFERROR(VLOOKUP(D4160,'1_Causas_Levantadas'!C:D,2,0),\"\")","v":0},"","",null,1,null,1,1,4156]
[null,null,{"$f":"IFERROR(VLOOKUP(D4161,'1_Causas_Levantadas'!C:D,2,0),\"\")","v":0},"","",null,1,null,1,1,4157]
[null,null,{"$f":"IFERROR(VLOOKUP(D4162,'1_Causas_Levantadas'!C:D,2,0),\"\")","v":0},"","",null,1,null,1,1,4158]
[null,null,{"$f":"IFERROR(VLOOKUP(D4163,'1_Causas_Levantadas'!C:D,2,0),\"\")","v":0},"","",null,1,null,1,1,4159]
[null,null,{"$f":"IFERROR(VLOOKUP(D4164,'1_Causas_Levantadas'!C:D,2,0),\"\")","v":0},"","",null,1,null,1,1,4160]
[null,null,{"$f":"IFERROR(VLOOKUP(D4165,'1_Causas_Levantadas'!C:D,2,0),\"\")","v":0},"","",null,1,null,1,1,4161]
[null,null,{"$f":"IFERROR(VLOOKUP(D4166,'1_Causas_Levantadas'!C:D,2,0),\"\")","v":0},{"$f":"IF(K4166<=$H$4,(IF(G4165>0,G4166,$G$5)),\"\")","v":""},{"$f":"IF(D4166<>\"\",\"Participante \"&K4166,\"\")","v":""},null,{"$f":"J4166","v":1},null,{"$f":"IF(G4166=$G$5,1,0)","v":1},1,{"$f":"I4166+K4165","v":4162}]
[null,null,{"$f":"IFERROR(VLOOKUP(D4167,'1_Causas_Levantadas'!C:D,2,0),\"\")","v":0},"","",null,1,null,1,{"$f":"IF(G4166<$G$4,J4166+1,1)","v":1},4163]
[null,null,{"$f":"IFERROR(VLOOKUP(D4168,'1_Causas_Levantadas'!C:D,2,0),\"\")","v":0},"","",null,1,null,1,1,4164]
[null,null,{"$f":"IFERROR(VLOOKUP(D4169,'1_Causas_Levantadas'!C:D,2,0),\"\")","v":0},"","",null,1,null,1,1,4165]
[null,null,{"$f":"IFERROR(VLOOKUP(D4170,'1_Causas_Levantadas'!C:D,2,0),\"\")","v":0},"","",null,1,null,1,1,4166]
[null,null,{"$f":"IFERROR(VLOOKUP(D4171,'1_Causas_Levantadas'!C:D,2,0),\"\")","v":0},"","",null,1,null,1,1,4167]
[null,null,{"$f":"IFERROR(VLOOKUP(D4172,'1_Causas_Levantadas'!C:D,2,0),\"\")","v":0},"","",null,1,null,1,1,4168]
[null,null,{"$f":"IFERROR(VLOOKUP(D4173,'1_Causas_Levantadas'!C:D,2,0),\"\")","v":0},"","",null,1,null,1,1,4169]
[null,null,{"$f":"IFERROR(VLOOKUP(D4174,'1_Causas_Levantadas'!C:D,2,0),\"\")","v":0},"","",null,1,null,1,1,4170]
[null,null,{"$f":"IFERROR(VLOOKUP(D4175,'1_Causas_Levantadas'!C:D,2,0),\"\")","v":0},"","",null,1,null,1,1,4171]
[null,null,{"$f":"IFERROR(VLOOKUP(D4176,'1_Causas_Levantadas'!C:D,2,0),\"\")","v":0},"","",null,1,null,1,1,4172]
[null,null,{"$f":"IFERROR(VLOOKUP(D4177,'1_Causas_Levantadas'!C:D,2,0),\"\")","v":0},"","",null,1,null,1,1,4173]
[null,null,{"$f":"IFERROR(VLOOKUP(D4178,'1_Causas_Levantadas'!C:D,2,0),\"\")","v":0},"","",null,1,null,1,1,4174]
[null,null,{"$f":"IFERROR(VLOOKUP(D4179,'1_Causas_Levantadas'!C:D,2,0),\"\")","v":0},"","",null,1,null,1,1,4175]
[null,null,{"$f":"IFERROR(VLOOKUP(D4180,'1_Causas_Levantadas'!C:D,2,0),\"\")","v":0},"","",null,1,null,1,1,4176]
[null,null,{"$f":"IFERROR(VLOOKUP(D4181,'1_Causas_Levantadas'!C:D,2,0),\"\")","v":0},"","",null,1,null,1,1,4177]
[null,null,{"$f":"IFERROR(VLOOKUP(D4182,'1_Causas_Levantadas'!C:D,2,0),\"\")","v":0},"","",null,1,null,1,1,4178]
[null,null,{"$f":"IFERROR(VLOOKUP(D4183,'1_Causas_Levantadas'!C:D,2,0),\"\")","v":0},"","",null,1,null,1,1,4179]
[null,null,{"$f":"IFERROR(VLOOKUP(D4184,'1_Causas_Levantadas'!C:D,2,0),\"\")","v":0},"","",null,1,null,1,1,4180]
[null,null,{"$f":"IFERROR(VLOOKUP(D4185,'1_Causas_Levantadas'!C:D,2,0),\"\")","v":0},"","",null,1,null,1,1,4181]
[null,null,{"$f":"IFERROR(VLOOKUP(D4186,'1_Causas_Levantadas'!C:D,2,0),\"\")","v":0},"","",null,1,null,1,1,4182]
[null,null,{"$f":"IFERROR(VLOOKUP(D4187,'1_Causas_Levantadas'!C:D,2,0),\"\")","v":0},"","",null,1,null,1,1,4183]
[null,null,{"$f":"IFERROR(VLOOKUP(D4188,'1_Causas_Levantadas'!C:D,2,0),\"\")","v":0},"","",null,1,null,1,1,4184]
[null,null,{"$f":"IFERROR(VLOOKUP(D4189,'1_Causas_Levantadas'!C:D,2,0),\"\")","v":0},"","",null,1,null,1,1,4185]
[null,null,{"$f":"IFERROR(VLOOKUP(D4190,'1_Causas_Levantadas'!C:D,2,0),\"\")","v":0},"","",null,1,null,1,1,4186]
[null,null,{"$f":"IFERROR(VLOOKUP(D4191,'1_Causas_Levantadas'!C:D,2,0),\"\")","v":0},"","",null,1,null,1,1,4187]
[null,null,{"$f":"IFERROR(VLOOKUP(D4192,'1_Causas_Levantadas'!C:D,2,0),\"\")","v":0},"","",null,1,null,1,1,4188]
[null,null,{"$f":"IFERROR(VLOOKUP(D4193,'1_Causas_Levantadas'!C:D,2,0),\"\")","v":0},"","",null,1,null,1,1,4189]
[null,null,{"$f":"IFERROR(VLOOKUP(D4194,'1_Causas_Levantadas'!C:D,2,0),\"\")","v":0},"","",null,1,null,1,1,4190]
[null,null,{"$f":"IFERROR(VLOOKUP(D4195,'1_Causas_Levantadas'!C:D,2,0),\"\")","v":0},"","",null,1,null,1,1,4191]
[null,null,{"$f":"IFERROR(VLOOKUP(D4196,'1_Causas_Levantadas'!C:D,2,0),\"\")","v":0},"","",null,1,null,1,1,4192]
[null,null,{"$f":"IFERROR(VLOOKUP(D4197,'1_Causas_Levantadas'!C:D,2,0),\"\")","v":0},"","",null,1,null,1,1,4193]
[null,null,{"$f":"IFERROR(VLOOKUP(D4198,'1_Causas_Levantadas'!C:D,2,0),\"\")","v":0},"","",null,1,null,1,1,4194]
[null,null,{"$f":"IFERROR(VLOOKUP(D4199,'1_Causas_Levantadas'!C:D,2,0),\"\")","v":0},"","",null,1,null,1,1,4195]
[null,null,{"$f":"IFERROR(VLOOKUP(D4200,'1_Causas_Levantadas'!C:D,2,0),\"\")","v":0},"","",null,1,null,1,1,4196]
[null,null,{"$f":"IFERROR(VLOOKUP(D4201,'1_Causas_Levantadas'!C:D,2,0),\"\")","v":0},"","",null,1,null,1,1,4197]
[null,null,{"$f":"IFERROR(VLOOKUP(D4202,'1_Causas_Levantadas'!C:D,2,0),\"\")","v":0},"","",null,1,null,1,1,4198]
[null,null,{"$f":"IFERROR(VLOOKUP(D4203,'1_Causas_Levantadas'!C:D,2,0),\"\")","v":0},"","",null,1,null,1,1,4199]
[null,null,{"$f":"IFERROR(VLOOKUP(D4204,'1_Causas_Levantadas'!C:D,2,0),\"\")","v":0},"","",null,1,null,1,1,4200]
[null,null,{"$f":"IFERROR(VLOOKUP(D4205,'1_Causas_Levantadas'!C:D,2,0),\"\")","v":0},"","",null,1,null,1,1,4201]
[null,null,{"$f":"IFERROR(VLOOKUP(D4206,'1_Causas_Levantadas'!C:D,2,0),\"\")","v":0},"","",null,1,null,1,1,4202]
[null,null,{"$f":"IFERROR(VLOOKUP(D4207,'1_Causas_Levantadas'!C:D,2,0),\"\")","v":0},"","",null,1,null,1,1,4203]
[null,null,{"$f":"IFERROR(VLOOKUP(D4208,'1_Causas_Levantadas'!C:D,2,0),\"\")","v":0},"","",null,1,null,1,1,4204]
[null,null,{"$f":"IFERROR(VLOOKUP(D4209,'1_Causas_Levantadas'!C:D,2,0),\"\")","v":0},"","",null,1,null,1,1,4205]
[null,null,{"$f":"IFERROR(VLOOKUP(D4210,'1_Causas_Levantadas'!C:D,2,0),\"\")","v":0},"","",null,1,null,1,1,4206]
[null,null,{"$f":"IFERROR(VLOOKUP(D4211,'1_Causas_Levantadas'!C:D,2,0),\"\")","v":0},"","",null,1,null,1,1,4207]
[null,null,{"$f":"IFERROR(VLOOKUP(D4212,'1_Causas_Levantadas'!C:D,2,0),\"\")","v":0},"","",null,1,null,1,1,4208]
[null,null,{"$f":"IFERROR(VLOOKUP(D4213,'1_Causas_Levantadas'!C:D,2,0),\"\")","v":0},"","",null,1,null,1,1,4209]
[null,null,{"$f":"IFERROR(VLOOKUP(D4214,'1_Causas_Levantadas'!C:D,2,0),\"\")","v":0},"","",null,1,null,1,1,4210]
[null,null,{"$f":"IFERROR(VLOOKUP(D4215,'1_Causas_Levantadas'!C:D,2,0),\"\")","v":0},"","",null,1,null,1,1,4211]
[null,null,{"$f":"IFERROR(VLOOKUP(D4216,'1_Causas_Levantadas'!C:D,2,0),\"\")","v":0},"","",null,1,null,1,1,4212]
[null,null,{"$f":"IFERROR(VLOOKUP(D4217,'1_Causas_Levantadas'!C:D,2,0),\"\")","v":0},"","",null,1,null,1,1,4213]
[null,null,{"$f":"IFERROR(VLOOKUP(D4218,'1_Causas_Levantadas'!C:D,2,0),\"\")","v":0},"","",null,1,null,1,1,4214]
[null,null,{"$f":"IFERROR(VLOOKUP(D4219,'1_Causas_Levantadas'!C:D,2,0),\"\")","v":0},"","",null,1,null,1,1,4215]
[null,null,{"$f":"IFERROR(VLOOKUP(D4220,'1_Causas_Levantadas'!C:D,2,0),\"\")","v":0},"","",null,1,null,1,1,4216]
[null,null,{"$f":"IFERROR(VLOOKUP(D4221,'1_Causas_Levantadas'!C:D,2,0),\"\")","v":0},"","",null,1,null,1,1,4217]
[null,null,{"$f":"IFERROR(VLOOKUP(D4222,'1_Causas_Levantadas'!C:D,2,0),\"\")","v":0},"","",null,1,null,1,1,4218]
[null,null,{"$f":"IFERROR(VLOOKUP(D4223,'1_Causas_Levantadas'!C:D,2,0),\"\")","v":0},"","",null,1,null,1,1,4219]
[null,null,{"$f":"IFERROR(VLOOKUP(D4224,'1_Causas_Levantadas'!C:D,2,0),\"\")","v":0},"","",null,1,null,1,1,4220]
[null,null,{"$f":"IFERROR(VLOOKUP(D4225,'1_Causas_Levantadas'!C:D,2,0),\"\")","v":0},"","",null,1,null,1,1,4221]
[null,null,{"$f":"IFERROR(VLOOKUP(D4226,'1_Causas_Levantadas'!C:D,2,0),\"\")","v":0},"","",null,1,null,1,1,4222]
[null,null,{"$f":"IFERROR(VLOOKUP(D4227,'1_Causas_Levantadas'!C:D,2,0),\"\")","v":0},"","",null,1,null,1,1,4223]
[null,null,{"$f":"IFERROR(VLOOKUP(D4228,'1_Causas_Levantadas'!C:D,2,0),\"\")","v":0},"","",null,1,null,1,1,4224]
[null,null,{"$f":"IFERROR(VLOOKUP(D4229,'1_Causas_Levantadas'!C:D,2,0),\"\")","v":0},"","",null,1,null,1,1,4225]
[null,null,{"$f":"IFERROR(VLOOKUP(D4230,'1_Causas_Levantadas'!C:D,2,0),\"\")","v":0},{"$f":"IF(K4230<=$H$4,(IF(G4229>0,G4230,$G$5)),\"\")","v":""},{"$f":"IF(D4230<>\"\",\"Participante \"&K4230,\"\")","v":""},null,{"$f":"J4230","v":1},null,{"$f":"IF(G4230=$G$5,1,0)","v":1},1,{"$f":"I4230+K4229","v":4226}]
[null,null,{"$f":"IFERROR(VLOOKUP(D4231,'1_Causas_Levantadas'!C:D,2,0),\"\")","v":0},"","",null,1,null,1,{"$f":"IF(G4230<$G$4,J4230+1,1)","v":1},4227]
[null,null,{"$f":"IFERROR(VLOOKUP(D4232,'1_Causas_Levantadas'!C:D,2,0),\"\")","v":0},"","",null,1,null,1,1,4228]
[null,null,{"$f":"IFERROR(VLOOKUP(D4233,'1_Causas_Levantadas'!C:D,2,0),\"\")","v":0},"","",null,1,null,1,1,4229]
[null,null,{"$f":"IFERROR(VLOOKUP(D4234,'1_Causas_Levantadas'!C:D,2,0),\"\")","v":0},"","",null,1,null,1,1,4230]
[null,null,{"$f":"IFERROR(VLOOKUP(D4235,'1_Causas_Levantadas'!C:D,2,0),\"\")","v":0},"","",null,1,null,1,1,4231]
[null,null,{"$f":"IFERROR(VLOOKUP(D4236,'1_Causas_Levantadas'!C:D,2,0),\"\")","v":0},"","",null,1,null,1,1,4232]
[null,null,{"$f":"IFERROR(VLOOKUP(D4237,'1_Causas_Levantadas'!C:D,2,0),\"\")","v":0},"","",null,1,null,1,1,4233]
[null,null,{"$f":"IFERROR(VLOOKUP(D4238,'1_Causas_Levantadas'!C:D,2,0),\"\")","v":0},"","",null,1,null,1,1,4234]
[null,null,{"$f":"IFERROR(VLOOKUP(D4239,'1_Causas_Levantadas'!C:D,2,0),\"\")","v":0},"","",null,1,null,1,1,4235]
[null,null,{"$f":"IFERROR(VLOOKUP(D4240,'1_Causas_Levantadas'!C:D,2,0),\"\")","v":0},"","",null,1,null,1,1,4236]
[null,null,{"$f":"IFERROR(VLOOKUP(D4241,'1_Causas_Levantadas'!C:D,2,0),\"\")","v":0},"","",null,1,null,1,1,4237]
[null,null,{"$f":"IFERROR(VLOOKUP(D4242,'1_Causas_Levantadas'!C:D,2,0),\"\")","v":0},"","",null,1,null,1,1,4238]
[null,null,{"$f":"IFERROR(VLOOKUP(D4243,'1_Causas_Levantadas'!C:D,2,0),\"\")","v":0},"","",null,1,null,1,1,4239]
[null,null,{"$f":"IFERROR(VLOOKUP(D4244,'1_Causas_Levantadas'!C:D,2,0),\"\")","v":0},"","",null,1,null,1,1,4240]
[null,null,{"$f":"IFERROR(VLOOKUP(D4245,'1_Causas_Levantadas'!C:D,2,0),\"\")","v":0},"","",null,1,null,1,1,4241]
[null,null,{"$f":"IFERROR(VLOOKUP(D4246,'1_Causas_Levantadas'!C:D,2,0),\"\")","v":0},"","",null,1,null,1,1,4242]
[null,null,{"$f":"IFERROR(VLOOKUP(D4247,'1_Causas_Levantadas'!C:D,2,0),\"\")","v":0},"","",null,1,null,1,1,4243]
[null,null,{"$f":"IFERROR(VLOOKUP(D4248,'1_Causas_Levantadas'!C:D,2,0),\"\")","v":0},"","",null,1,null,1,1,4244]
[null,null,{"$f":"IFERROR(VLOOKUP(D4249,'1_Causas_Levantadas'!C:D,2,0),\"\")","v":0},"","",null,1,null,1,1,4245]
[null,null,{"$f":"IFERROR(VLOOKUP(D4250,'1_Causas_Levantadas'!C:D,2,0),\"\")","v":0},"","",null,1,null,1,1,4246]
[null,null,{"$f":"IFERROR(VLOOKUP(D4251,'1_Causas_Levantadas'!C:D,2,0),\"\")","v":0},"","",null,1,null,1,1,4247]
[null,null,{"$f":"IFERROR(VLOOKUP(D4252,'1_Causas_Levantadas'!C:D,2,0),\"\")","v":0},"","",null,1,null,1,1,4248]
[null,null,{"$f":"IFERROR(VLOOKUP(D4253,'1_Causas_Levantadas'!C:D,2,0),\"\")","v":0},"","",null,1,null,1,1,4249]
[null,null,{"$f":"IFERROR(VLOOKUP(D4254,'1_Causas_Levantadas'!C:D,2,0),\"\")","v":0},"","",null,1,null,1,1,4250]
[null,null,{"$f":"IFERROR(VLOOKUP(D4255,'1_Causas_Levantadas'!C:D,2,0),\"\")","v":0},"","",null,1,null,1,1,4251]
[null,null,{"$f":"IFERROR(VLOOKUP(D4256,'1_Causas_Levantadas'!C:D,2,0),\"\")","v":0},"","",null,1,null,1,1,4252]
[null,null,{"$f":"IFERROR(VLOOKUP(D4257,'1_Causas_Levantadas'!C:D,2,0),\"\")","v":0},"","",null,1,null,1,1,4253]
[null,null,{"$f":"IFERROR(VLOOKUP(D4258,'1_Causas_Levantadas'!C:D,2,0),\"\")","v":0},"","",null,1,null,1,1,4254]
[null,null,{"$f":"IFERROR(VLOOKUP(D4259,'1_Causas_Levantadas'!C:D,2,0),\"\")","v":0},"","",null,1,null,1,1,4255]
[null,null,{"$f":"IFERROR(VLOOKUP(D4260,'1_Causas_Levantadas'!C:D,2,0),\"\")","v":0},"","",null,1,null,1,1,4256]
[null,null,{"$f":"IFERROR(VLOOKUP(D4261,'1_Causas_Levantadas'!C:D,2,0),\"\")","v":0},"","",null,1,null,1,1,4257]
[null,null,{"$f":"IFERROR(VLOOKUP(D4262,'1_Causas_Levantadas'!C:D,2,0),\"\")","v":0},"","",null,1,null,1,1,4258]
[null,null,{"$f":"IFERROR(VLOOKUP(D4263,'1_Causas_Levantadas'!C:D,2,0),\"\")","v":0},"","",null,1,null,1,1,4259]
[null,null,{"$f":"IFERROR(VLOOKUP(D4264,'1_Causas_Levantadas'!C:D,2,0),\"\")","v":0},"","",null,1,null,1,1,4260]
[null,null,{"$f":"IFERROR(VLOOKUP(D4265,'1_Causas_Levantadas'!C:D,2,0),\"\")","v":0},"","",null,1,null,1,1,4261]
[null,null,{"$f":"IFERROR(VLOOKUP(D4266,'1_Causas_Levantadas'!C:D,2,0),\"\")","v":0},"","",null,1,null,1,1,4262]
[null,null,{"$f":"IFERROR(VLOOKUP(D4267,'1_Causas_Levantadas'!C:D,2,0),\"\")","v":0},"","",null,1,null,1,1,4263]
[null,null,{"$f":"IFERROR(VLOOKUP(D4268,'1_Causas_Levantadas'!C:D,2,0),\"\")","v":0},"","",null,1,null,1,1,4264]
[null,null,{"$f":"IFERROR(VLOOKUP(D4269,'1_Causas_Levantadas'!C:D,2,0),\"\")","v":0},"","",null,1,null,1,1,4265]
[null,null,{"$f":"IFERROR(VLOOKUP(D4270,'1_Causas_Levantadas'!C:D,2,0),\"\")","v":0},"","",null,1,null,1,1,4266]
[null,null,{"$f":"IFERROR(VLOOKUP(D4271,'1_Causas_Levantadas'!C:D,2,0),\"\")","v":0},"","",null,1,null,1,1,4267]
[null,null,{"$f":"IFERROR(VLOOKUP(D4272,'1_Causas_Levantadas'!C:D,2,0),\"\")","v":0},"","",null,1,null,1,1,4268]
[null,null,{"$f":"IFERROR(VLOOKUP(D4273,'1_Causas_Levantadas'!C:D,2,0),\"\")","v":0},"","",null,1,null,1,1,4269]
[null,null,{"$f":"IFERROR(VLOOKUP(D4274,'1_Causas_Levantadas'!C:D,2,0),\"\")","v":0},"","",null,1,null,1,1,4270]
[null,null,{"$f":"IFERROR(VLOOKUP(D4275,'1_Causas_Levantadas'!C:D,2,0),\"\")","v":0},"","",null,1,null,1,1,4271]
[null,null,{"$f":"IFERROR(VLOOKUP(D4276,'1_Causas_Levantadas'!C:D,2,0),\"\")","v":0},"","",null,1,null,1,1,4272]
[null,null,{"$f":"IFERROR(VLOOKUP(D4277,'1_Causas_Levantadas'!C:D,2,0),\"\")","v":0},"","",null,1,null,1,1,4273]
[null,null,{"$f":"IFERROR(VLOOKUP(D4278,'1_Causas_Levantadas'!C:D,2,0),\"\")","v":0},"","",null,1,null,1,1,4274]
[null,null,{"$f":"IFERROR(VLOOKUP(D4279,'1_Causas_Levantadas'!C:D,2,0),\"\")","v":0},"","",null,1,null,1,1,4275]
[null,null,{"$f":"IFERROR(VLOOKUP(D4280,'1_Causas_Levantadas'!C:D,2,0),\"\")","v":0},"","",null,1,null,1,1,4276]
[null,null,{"$f":"IFERROR(VLOOKUP(D4281,'1_Causas_Levantadas'!C:D,2,0),\"\")","v":0},"","",null,1,null,1,1,4277]
[null,null,{"$f":"IFERROR(VLOOKUP(D4282,'1_Causas_Levantadas'!C:D,2,0),\"\")","v":0},"","",null,1,null,1,1,4278]
[null,null,{"$f":"IFERROR(VLOOKUP(D4283,'1_Causas_Levantadas'!C:D,2,0),\"\")","v":0},"","",null,1,null,1,1,4279]
[null,null,{"$f":"IFERROR(VLOOKUP(D4284,'1_Causas_Levantadas'!C:D,2,0),\"\")","v":0},"","",null,1,null,1,1,4280]
[null,null,{"$f":"IFERROR(VLOOKUP(D4285,'1_Causas_Levantadas'!C:D,2,0),\"\")","v":0},"","",null,1,null,1,1,4281]
[null,null,{"$f":"IFERROR(VLOOKUP(D4286,'1_Causas_Levantadas'!C:D,2,0),\"\")","v":0},"","",null,1,null,1,1,4282]
[null,null,{"$f":"IFERROR(VLOOKUP(D4287,'1_Causas_Levantadas'!C:D,2,0),\"\")","v":0},"","",null,1,null,1,1,4283]
[null,null,{"$f":"IFERROR(VLOOKUP(D4288,'1_Causas_Levantadas'!C:D,2,0),\"\")","v":0},"","",null,1,null,1,1,4284]
[null,null,{"$f":"IFERROR(VLOOKUP(D4289,'1_Causas_Levantadas'!C:D,2,0),\"\")","v":0},"","",null,1,null,1,1,4285]
[null,null,{"$f":"IFERROR(VLOOKUP(D4290,'1_Causas_Levantadas'!C:D,2,0),\"\")","v":0},"","",null,1,null,1,1,4286]
[null,null,{"$f":"IFERROR(VLOOKUP(D4291,'1_Causas_Levantadas'!C:D,2,0),\"\")","v":0},"","",null,1,null,1,1,4287]
[null,null,{"$f":"IFERROR(VLOOKUP(D4292,'1_Causas_Levantadas'!C:D,2,0),\"\")","v":0},"","",null,1,null,1,1,4288]
[null,null,{"$f":"IFERROR(VLOOKUP(D4293,'1_Causas_Levantadas'!C:D,2,0),\"\")","v":0},"","",null,1,null,1,1,4289]
[null,null,{"$f":"IFERROR(VLOOKUP(D4294,'1_Causas_Levantadas'!C:D,2,0),\"\")","v":0},{"$f":"IF(K4294<=$H$4,(IF(G4293>0,G4294,$G$5)),\"\")","v":""},{"$f":"IF(D4294<>\"\",\"Participante \"&K4294,\"\")","v":""},null,{"$f":"J4294","v":1},null,{"$f":"IF(G4294=$G$5,1,0)","v":1},1,{"$f":"I4294+K4293","v":4290}]
[null,null,{"$f":"IFERROR(VLOOKUP(D4295,'1_Causas_Levantadas'!C:D,2,0),\"\")","v":0},"","",null,1,null,1,{"$f":"IF(G4294<$G$4,J4294+1,1)","v":1},4291]
[null,null,{"$f":"IFERROR(VLOOKUP(D4296,'1_Causas_Levantadas'!C:D,2,0),\"\")","v":0},"","",null,1,null,1,1,4292]
[null,null,{"$f":"IFERROR(VLOOKUP(D4297,'1_Causas_Levantadas'!C:D,2,0),\"\")","v":0},"","",null,1,null,1,1,4293]
[null,null,{"$f":"IFERROR(VLOOKUP(D4298,'1_Causas_Levantadas'!C:D,2,0),\"\")","v":0},"","",null,1,null,1,1,4294]
[null,null,{"$f":"IFERROR(VLOOKUP(D4299,'1_Causas_Levantadas'!C:D,2,0),\"\")","v":0},"","",null,1,null,1,1,4295]
[null,null,{"$f":"IFERROR(VLOOKUP(D4300,'1_Causas_Levantadas'!C:D,2,0),\"\")","v":0},"","",null,1,null,1,1,4296]
[null,null,{"$f":"IFERROR(VLOOKUP(D4301,'1_Causas_Levantadas'!C:D,2,0),\"\")","v":0},"","",null,1,null,1,1,4297]
[null,null,{"$f":"IFERROR(VLOOKUP(D4302,'1_Causas_Levantadas'!C:D,2,0),\"\")","v":0},"","",null,1,null,1,1,4298]
[null,null,{"$f":"IFERROR(VLOOKUP(D4303,'1_Causas_Levantadas'!C:D,2,0),\"\")","v":0},"","",null,1,null,1,1,4299]
[null,null,{"$f":"IFERROR(VLOOKUP(D4304,'1_Causas_Levantadas'!C:D,2,0),\"\")","v":0},"","",null,1,null,1,1,4300]
[null,null,{"$f":"IFERROR(VLOOKUP(D4305,'1_Causas_Levantadas'!C:D,2,0),\"\")","v":0},"","",null,1,null,1,1,4301]
[null,null,{"$f":"IFERROR(VLOOKUP(D4306,'1_Causas_Levantadas'!C:D,2,0),\"\")","v":0},"","",null,1,null,1,1,4302]
[null,null,{"$f":"IFERROR(VLOOKUP(D4307,'1_Causas_Levantadas'!C:D,2,0),\"\")","v":0},"","",null,1,null,1,1,4303]
[null,null,{"$f":"IFERROR(VLOOKUP(D4308,'1_Causas_Levantadas'!C:D,2,0),\"\")","v":0},"","",null,1,null,1,1,4304]
[null,null,{"$f":"IFERROR(VLOOKUP(D4309,'1_Causas_Levantadas'!C:D,2,0),\"\")","v":0},"","",null,1,null,1,1,4305]
[null,null,{"$f":"IFERROR(VLOOKUP(D4310,'1_Causas_Levantadas'!C:D,2,0),\"\")","v":0},"","",null,1,null,1,1,4306]
[null,null,{"$f":"IFERROR(VLOOKUP(D4311,'1_Causas_Levantadas'!C:D,2,0),\"\")","v":0},"","",null,1,null,1,1,4307]
[null,null,{"$f":"IFERROR(VLOOKUP(D4312,'1_Causas_Levantadas'!C:D,2,0),\"\")","v":0},"","",null,1,null,1,1,4308]
[null,null,{"$f":"IFERROR(VLOOKUP(D4313,'1_Causas_Levantadas'!C:D,2,0),\"\")","v":0},"","",null,1,null,1,1,4309]
[null,null,{"$f":"IFERROR(VLOOKUP(D4314,'1_Causas_Levantadas'!C:D,2,0),\"\")","v":0},"","",null,1,null,1,1,4310]
[null,null,{"$f":"IFERROR(VLOOKUP(D4315,'1_Causas_Levantadas'!C:D,2,0),\"\")","v":0},"","",null,1,null,1,1,4311]
[null,null,{"$f":"IFERROR(VLOOKUP(D4316,'1_Causas_Levantadas'!C:D,2,0),\"\")","v":0},"","",null,1,null,1,1,4312]
[null,null,{"$f":"IFERROR(VLOOKUP(D4317,'1_Causas_Levantadas'!C:D,2,0),\"\")","v":0},"","",null,1,null,1,1,4313]
[null,null,{"$f":"IFERROR(VLOOKUP(D4318,'1_Causas_Levantadas'!C:D,2,0),\"\")","v":0},"","",null,1,null,1,1,4314]
[null,null,{"$f":"IFERROR(VLOOKUP(D4319,'1_Causas_Levantadas'!C:D,2,0),\"\")","v":0},"","",null,1,null,1,1,4315]
[null,null,{"$f":"IFERROR(VLOOKUP(D4320,'1_Causas_Levantadas'!C:D,2,0),\"\")","v":0},"","",null,1,null,1,1,4316]
[null,null,{"$f":"IFERROR(VLOOKUP(D4321,'1_Causas_Levantadas'!C:D,2,0),\"\")","v":0},"","",null,1,null,1,1,4317]
[null,null,{"$f":"IFERROR(VLOOKUP(D4322,'1_Causas_Levantadas'!C:D,2,0),\"\")","v":0},"","",null,1,null,1,1,4318]
[null,null,{"$f":"IFERROR(VLOOKUP(D4323,'1_Causas_Levantadas'!C:D,2,0),\"\")","v":0},"","",null,1,null,1,1,4319]
[null,null,{"$f":"IFERROR(VLOOKUP(D4324,'1_Causas_Levantadas'!C:D,2,0),\"\")","v":0},"","",null,1,null,1,1,4320]
[null,null,{"$f":"IFERROR(VLOOKUP(D4325,'1_Causas_Levantadas'!C:D,2,0),\"\")","v":0},"","",null,1,null,1,1,4321]
[null,null,{"$f":"IFERROR(VLOOKUP(D4326,'1_Causas_Levantadas'!C:D,2,0),\"\")","v":0},"","",null,1,null,1,1,4322]
[null,null,{"$f":"IFERROR(VLOOKUP(D4327,'1_Causas_Levantadas'!C:D,2,0),\"\")","v":0},"","",null,1,null,1,1,4323]
[null,null,{"$f":"IFERROR(VLOOKUP(D4328,'1_Causas_Levantadas'!C:D,2,0),\"\")","v":0},"","",null,1,null,1,1,4324]
[null,null,{"$f":"IFERROR(VLOOKUP(D4329,'1_Causas_Levantadas'!C:D,2,0),\"\")","v":0},"","",null,1,null,1,1,4325]
[null,null,{"$f":"IFERROR(VLOOKUP(D4330,'1_Causas_Levantadas'!C:D,2,0),\"\")","v":0},"","",null,1,null,1,1,4326]
[null,null,{"$f":"IFERROR(VLOOKUP(D4331,'1_Causas_Levantadas'!C:D,2,0),\"\")","v":0},"","",null,1,null,1,1,4327]
[null,null,{"$f":"IFERROR(VLOOKUP(D4332,'1_Causas_Levantadas'!C:D,2,0),\"\")","v":0},"","",null,1,null,1,1,4328]
[null,null,{"$f":"IFERROR(VLOOKUP(D4333,'1_Causas_Levantadas'!C:D,2,0),\"\")","v":0},"","",null,1,null,1,1,4329]
[null,null,{"$f":"IFERROR(VLOOKUP(D4334,'1_Causas_Levantadas'!C:D,2,0),\"\")","v":0},"","",null,1,null,1,1,4330]
[null,null,{"$f":"IFERROR(VLOOKUP(D4335,'1_Causas_Levantadas'!C:D,2,0),\"\")","v":0},"","",null,1,null,1,1,4331]
[null,null,{"$f":"IFERROR(VLOOKUP(D4336,'1_Causas_Levantadas'!C:D,2,0),\"\")","v":0},"","",null,1,null,1,1,4332]
[null,null,{"$f":"IFERROR(VLOOKUP(D4337,'1_Causas_Levantadas'!C:D,2,0),\"\")","v":0},"","",null,1,null,1,1,4333]
[null,null,{"$f":"IFERROR(VLOOKUP(D4338,'1_Causas_Levantadas'!C:D,2,0),\"\")","v":0},"","",null,1,null,1,1,4334]
[null,null,{"$f":"IFERROR(VLOOKUP(D4339,'1_Causas_Levantadas'!C:D,2,0),\"\")","v":0},"","",null,1,null,1,1,4335]
[null,null,{"$f":"IFERROR(VLOOKUP(D4340,'1_Causas_Levantadas'!C:D,2,0),\"\")","v":0},"","",null,1,null,1,1,4336]
[null,null,{"$f":"IFERROR(VLOOKUP(D4341,'1_Causas_Levantadas'!C:D,2,0),\"\")","v":0},"","",null,1,null,1,1,4337]
[null,null,{"$f":"IFERROR(VLOOKUP(D4342,'1_Causas_Levantadas'!C:D,2,0),\"\")","v":0},"","",null,1,null,1,1,4338]
[null,null,{"$f":"IFERROR(VLOOKUP(D4343,'1_Causas_Levantadas'!C:D,2,0),\"\")","v":0},"","",null,1,null,1,1,4339]
[null,null,{"$f":"IFERROR(VLOOKUP(D4344,'1_Causas_Levantadas'!C:D,2,0),\"\")","v":0},"","",null,1,null,1,1,4340]
[null,null,{"$f":"IFERROR(VLOOKUP(D4345,'1_Causas_Levantadas'!C:D,2,0),\"\")","v":0},"","",null,1,null,1,1,4341]
[null,null,{"$f":"IFERROR(VLOOKUP(D4346,'1_Causas_Levantadas'!C:D,2,0),\"\")","v":0},"","",null,1,null,1,1,4342]
[null,null,{"$f":"IFERROR(VLOOKUP(D4347,'1_Causas_Levantadas'!C:D,2,0),\"\")","v":0},"","",null,1,null,1,1,4343]
[null,null,{"$f":"IFERROR(VLOOKUP(D4348,'1_Causas_Levantadas'!C:D,2,0),\"\")","v":0},"","",null,1,null,1,1,4344]
[null,null,{"$f":"IFERROR(VLOOKUP(D4349,'1_Causas_Levantadas'!C:D,2,0),\"\")","v":0},"","",null,1,null,1,1,4345]
[null,null,{"$f":"IFERROR(VLOOKUP(D4350,'1_Causas_Levantadas'!C:D,2,0),\"\")","v":0},"","",null,1,null,1,1,4346]
[null,null,{"$f":"IFERROR(VLOOKUP(D4351,'1_Causas_Levantadas'!C:D,2,0),\"\")","v":0},"","",null,1,null,1,1,4347]
[null,null,{"$f":"IFERROR(VLOOKUP(D4352,'1_Causas_Levantadas'!C:D,2,0),\"\")","v":0},"","",null,1,null,1,1,4348]
[null,null,{"$f":"IFERROR(VLOOKUP(D4353,'1_Causas_Levantadas'!C:D,2,0),\"\")","v":0},"","",null,1,null,1,1,4349]
[null,null,{"$f":"IFERROR(VLOOKUP(D4354,'1_Causas_Levantadas'!C:D,2,0),\"\")","v":0},"","",null,1,null,1,1,4350]
[null,null,{"$f":"IFERROR(VLOOKUP(D4355,'1_Causas_Levantadas'!C:D,2,0),\"\")","v":0},"","",null,1,null,1,1,4351]
[null,null,{"$f":"IFERROR(VLOOKUP(D4356,'1_Causas_Levantadas'!C:D,2,0),\"\")","v":0},"","",null,1,null,1,1,4352]
[null,null,{"$f":"IFERROR(VLOOKUP(D4357,'1_Causas_Levantadas'!C:D,2,0),\"\")","v":0},"","",null,1,null,1,1,4353]
[null,null,{"$f":"IFERROR(VLOOKUP(D4358,'1_Causas_Levantadas'!C:D,2,0),\"\")","v":0},{"$f":"IF(K4358<=$H$4,(IF(G4357>0,G4358,$G$5)),\"\")","v":""},{"$f":"IF(D4358<>\"\",\"Participante \"&K4358,\"\")","v":""},null,{"$f":"J4358","v":1},null,{"$f":"IF(G4358=$G$5,1,0)","v":1},1,{"$f":"I4358+K4357","v":4354}]
[null,null,{"$f":"IFERROR(VLOOKUP(D4359,'1_Causas_Levantadas'!C:D,2,0),\"\")","v":0},"","",null,1,null,1,{"$f":"IF(G4358<$G$4,J4358+1,1)","v":1},4355]
[null,null,{"$f":"IFERROR(VLOOKUP(D4360,'1_Causas_Levantadas'!C:D,2,0),\"\")","v":0},"","",null,1,null,1,1,4356]
[null,null,{"$f":"IFERROR(VLOOKUP(D4361,'1_Causas_Levantadas'!C:D,2,0),\"\")","v":0},"","",null,1,null,1,1,4357]
[null,null,{"$f":"IFERROR(VLOOKUP(D4362,'1_Causas_Levantadas'!C:D,2,0),\"\")","v":0},"","",null,1,null,1,1,4358]
[null,null,{"$f":"IFERROR(VLOOKUP(D4363,'1_Causas_Levantadas'!C:D,2,0),\"\")","v":0},"","",null,1,null,1,1,4359]
[null,null,{"$f":"IFERROR(VLOOKUP(D4364,'1_Causas_Levantadas'!C:D,2,0),\"\")","v":0},"","",null,1,null,1,1,4360]
[null,null,{"$f":"IFERROR(VLOOKUP(D4365,'1_Causas_Levantadas'!C:D,2,0),\"\")","v":0},"","",null,1,null,1,1,4361]
[null,null,{"$f":"IFERROR(VLOOKUP(D4366,'1_Causas_Levantadas'!C:D,2,0),\"\")","v":0},"","",null,1,null,1,1,4362]
[null,null,{"$f":"IFERROR(VLOOKUP(D4367,'1_Causas_Levantadas'!C:D,2,0),\"\")","v":0},"","",null,1,null,1,1,4363]
[null,null,{"$f":"IFERROR(VLOOKUP(D4368,'1_Causas_Levantadas'!C:D,2,0),\"\")","v":0},"","",null,1,null,1,1,4364]
[null,null,{"$f":"IFERROR(VLOOKUP(D4369,'1_Causas_Levantadas'!C:D,2,0),\"\")","v":0},"","",null,1,null,1,1,4365]
[null,null,{"$f":"IFERROR(VLOOKUP(D4370,'1_Causas_Levantadas'!C:D,2,0),\"\")","v":0},"","",null,1,null,1,1,4366]
[null,null,{"$f":"IFERROR(VLOOKUP(D4371,'1_Causas_Levantadas'!C:D,2,0),\"\")","v":0},"","",null,1,null,1,1,4367]
[null,null,{"$f":"IFERROR(VLOOKUP(D4372,'1_Causas_Levantadas'!C:D,2,0),\"\")","v":0},"","",null,1,null,1,1,4368]
[null,null,{"$f":"IFERROR(VLOOKUP(D4373,'1_Causas_Levantadas'!C:D,2,0),\"\")","v":0},"","",null,1,null,1,1,4369]
[null,null,{"$f":"IFERROR(VLOOKUP(D4374,'1_Causas_Levantadas'!C:D,2,0),\"\")","v":0},"","",null,1,null,1,1,4370]
[null,null,{"$f":"IFERROR(VLOOKUP(D4375,'1_Causas_Levantadas'!C:D,2,0),\"\")","v":0},"","",null,1,null,1,1,4371]
[null,null,{"$f":"IFERROR(VLOOKUP(D4376,'1_Causas_Levantadas'!C:D,2,0),\"\")","v":0},"","",null,1,null,1,1,4372]
[null,null,{"$f":"IFERROR(VLOOKUP(D4377,'1_Causas_Levantadas'!C:D,2,0),\"\")","v":0},"","",null,1,null,1,1,4373]
[null,null,{"$f":"IFERROR(VLOOKUP(D4378,'1_Causas_Levantadas'!C:D,2,0),\"\")","v":0},"","",null,1,null,1,1,4374]
[null,null,{"$f":"IFERROR(VLOOKUP(D4379,'1_Causas_Levantadas'!C:D,2,0),\"\")","v":0},"","",null,1,null,1,1,4375]
[null,null,{"$f":"IFERROR(VLOOKUP(D4380,'1_Causas_Levantadas'!C:D,2,0),\"\")","v":0},"","",null,1,null,1,1,4376]
[null,null,{"$f":"IFERROR(VLOOKUP(D4381,'1_Causas_Levantadas'!C:D,2,0),\"\")","v":0},"","",null,1,null,1,1,4377]
[null,null,{"$f":"IFERROR(VLOOKUP(D4382,'1_Causas_Levantadas'!C:D,2,0),\"\")","v":0},"","",null,1,null,1,1,4378]
[null,null,{"$f":"IFERROR(VLOOKUP(D4383,'1_Causas_Levantadas'!C:D,2,0),\"\")","v":0},"","",null,1,null,1,1,4379]
[null,null,{"$f":"IFERROR(VLOOKUP(D4384,'1_Causas_Levantadas'!C:D,2,0),\"\")","v":0},"","",null,1,null,1,1,4380]
[null,null,{"$f":"IFERROR(VLOOKUP(D4385,'1_Causas_Levantadas'!C:D,2,0),\"\")","v":0},"","",null,1,null,1,1,4381]
[null,null,{"$f":"IFERROR(VLOOKUP(D4386,'1_Causas_Levantadas'!C:D,2,0),\"\")","v":0},"","",null,1,null,1,1,4382]
[null,null,{"$f":"IFERROR(VLOOKUP(D4387,'1_Causas_Levantadas'!C:D,2,0),\"\")","v":0},"","",null,1,null,1,1,4383]
[null,null,{"$f":"IFERROR(VLOOKUP(D4388,'1_Causas_Levantadas'!C:D,2,0),\"\")","v":0},"","",null,1,null,1,1,4384]
[null,null,{"$f":"IFERROR(VLOOKUP(D4389,'1_Causas_Levantadas'!C:D,2,0),\"\")","v":0},"","",null,1,null,1,1,4385]
[null,null,{"$f":"IFERROR(VLOOKUP(D4390,'1_Causas_Levantadas'!C:D,2,0),\"\")","v":0},"","",null,1,null,1,1,4386]
[null,null,{"$f":"IFERROR(VLOOKUP(D4391,'1_Causas_Levantadas'!C:D,2,0),\"\")","v":0},"","",null,1,null,1,1,4387]
[null,null,{"$f":"IFERROR(VLOOKUP(D4392,'1_Causas_Levantadas'!C:D,2,0),\"\")","v":0},"","",null,1,null,1,1,4388]
[null,null,{"$f":"IFERROR(VLOOKUP(D4393,'1_Causas_Levantadas'!C:D,2,0),\"\")","v":0},"","",null,1,null,1,1,4389]
[null,null,{"$f":"IFERROR(VLOOKUP(D4394,'1_Causas_Levantadas'!C:D,2,0),\"\")","v":0},"","",null,1,null,1,1,4390]
[null,null,{"$f":"IFERROR(VLOOKUP(D4395,'1_Causas_Levantadas'!C:D,2,0),\"\")","v":0},"","",null,1,null,1,1,4391]
[null,null,{"$f":"IFERROR(VLOOKUP(D4396,'1_Causas_Levantadas'!C:D,2,0),\"\")","v":0},"","",null,1,null,1,1,4392]
[null,null,{"$f":"IFERROR(VLOOKUP(D4397,'1_Causas_Levantadas'!C:D,2,0),\"\")","v":0},"","",null,1,null,1,1,4393]
[null,null,{"$f":"IFERROR(VLOOKUP(D4398,'1_Causas_Levantadas'!C:D,2,0),\"\")","v":0},"","",null,1,null,1,1,4394]
[null,null,{"$f":"IFERROR(VLOOKUP(D4399,'1_Causas_Levantadas'!C:D,2,0),\"\")","v":0},"","",null,1,null,1,1,4395]
[null,null,{"$f":"IFERROR(VLOOKUP(D4400,'1_Causas_Levantadas'!C:D,2,0),\"\")","v":0},"","",null,1,null,1,1,4396]
[null,null,{"$f":"IFERROR(VLOOKUP(D4401,'1_Causas_Levantadas'!C:D,2,0),\"\")","v":0},"","",null,1,null,1,1,4397]
[null,null,{"$f":"IFERROR(VLOOKUP(D4402,'1_Causas_Levantadas'!C:D,2,0),\"\")","v":0},"","",null,1,null,1,1,4398]
[null,null,{"$f":"IFERROR(VLOOKUP(D4403,'1_Causas_Levantadas'!C:D,2,0),\"\")","v":0},"","",null,1,null,1,1,4399]
[null,null,{"$f":"IFERROR(VLOOKUP(D4404,'1_Causas_Levantadas'!C:D,2,0),\"\")","v":0},"","",null,1,null,1,1,4400]
[null,null,{"$f":"IFERROR(VLOOKUP(D4405,'1_Causas_Levantadas'!C:D,2,0),\"\")","v":0},"","",null,1,null,1,1,4401]
[null,null,{"$f":"IFERROR(VLOOKUP(D4406,'1_Causas_Levantadas'!C:D,2,0),\"\")","v":0},"","",null,1,null,1,1,4402]
[null,null,{"$f":"IFERROR(VLOOKUP(D4407,'1_Causas_Levantadas'!C:D,2,0),\"\")","v":0},"","",null,1,null,1,1,4403]
[null,null,{"$f":"IFERROR(VLOOKUP(D4408,'1_Causas_Levantadas'!C:D,2,0),\"\")","v":0},"","",null,1,null,1,1,4404]
[null,null,{"$f":"IFERROR(VLOOKUP(D4409,'1_Causas_Levantadas'!C:D,2,0),\"\")","v":0},"","",null,1,null,1,1,4405]
[null,null,{"$f":"IFERROR(VLOOKUP(D4410,'1_Causas_Levantadas'!C:D,2,0),\"\")","v":0},"","",null,1,null,1,1,4406]
[null,null,{"$f":"IFERROR(VLOOKUP(D4411,'1_Causas_Levantadas'!C:D,2,0),\"\")","v":0},"","",null,1,null,1,1,4407]
[null,null,{"$f":"IFERROR(VLOOKUP(D4412,'1_Causas_Levantadas'!C:D,2,0),\"\")","v":0},"","",null,1,null,1,1,4408]
[null,null,{"$f":"IFERROR(VLOOKUP(D4413,'1_Causas_Levantadas'!C:D,2,0),\"\")","v":0},"","",null,1,null,1,1,4409]
[null,null,{"$f":"IFERROR(VLOOKUP(D4414,'1_Causas_Levantadas'!C:D,2,0),\"\")","v":0},"","",null,1,null,1,1,4410]
[null,null,{"$f":"IFERROR(VLOOKUP(D4415,'1_Causas_Levantadas'!C:D,2,0),\"\")","v":0},"","",null,1,null,1,1,4411]
[null,null,{"$f":"IFERROR(VLOOKUP(D4416,'1_Causas_Levantadas'!C:D,2,0),\"\")","v":0},"","",null,1,null,1,1,4412]
[null,null,{"$f":"IFERROR(VLOOKUP(D4417,'1_Causas_Levantadas'!C:D,2,0),\"\")","v":0},"","",null,1,null,1,1,4413]
[null,null,{"$f":"IFERROR(VLOOKUP(D4418,'1_Causas_Levantadas'!C:D,2,0),\"\")","v":0},"","",null,1,null,1,1,4414]
[null,null,{"$f":"IFERROR(VLOOKUP(D4419,'1_Causas_Levantadas'!C:D,2,0),\"\")","v":0},"","",null,1,null,1,1,4415]
[null,null,{"$f":"IFERROR(VLOOKUP(D4420,'1_Causas_Levantadas'!C:D,2,0),\"\")","v":0},"","",null,1,null,1,1,4416]
[null,null,{"$f":"IFERROR(VLOOKUP(D4421,'1_Causas_Levantadas'!C:D,2,0),\"\")","v":0},"","",null,1,null,1,1,4417]
[null,null,{"$f":"IFERROR(VLOOKUP(D4422,'1_Causas_Levantadas'!C:D,2,0),\"\")","v":0},{"$f":"IF(K4422<=$H$4,(IF(G4421>0,G4422,$G$5)),\"\")","v":""},{"$f":"IF(D4422<>\"\",\"Participante \"&K4422,\"\")","v":""},null,{"$f":"J4422","v":1},null,{"$f":"IF(G4422=$G$5,1,0)","v":1},1,{"$f":"I4422+K4421","v":4418}]
[null,null,{"$f":"IFERROR(VLOOKUP(D4423,'1_Causas_Levantadas'!C:D,2,0),\"\")","v":0},"","",null,1,null,1,{"$f":"IF(G4422<$G$4,J4422+1,1)","v":1},4419]
[null,null,{"$f":"IFERROR(VLOOKUP(D4424,'1_Causas_Levantadas'!C:D,2,0),\"\")","v":0},"","",null,1,null,1,1,4420]
[null,null,{"$f":"IFERROR(VLOOKUP(D4425,'1_Causas_Levantadas'!C:D,2,0),\"\")","v":0},"","",null,1,null,1,1,4421]
[null,null,{"$f":"IFERROR(VLOOKUP(D4426,'1_Causas_Levantadas'!C:D,2,0),\"\")","v":0},"","",null,1,null,1,1,4422]
[null,null,{"$f":"IFERROR(VLOOKUP(D4427,'1_Causas_Levantadas'!C:D,2,0),\"\")","v":0},"","",null,1,null,1,1,4423]
[null,null,{"$f":"IFERROR(VLOOKUP(D4428,'1_Causas_Levantadas'!C:D,2,0),\"\")","v":0},"","",null,1,null,1,1,4424]
[null,null,{"$f":"IFERROR(VLOOKUP(D4429,'1_Causas_Levantadas'!C:D,2,0),\"\")","v":0},"","",null,1,null,1,1,4425]
[null,null,{"$f":"IFERROR(VLOOKUP(D4430,'1_Causas_Levantadas'!C:D,2,0),\"\")","v":0},"","",null,1,null,1,1,4426]
[null,null,{"$f":"IFERROR(VLOOKUP(D4431,'1_Causas_Levantadas'!C:D,2,0),\"\")","v":0},"","",null,1,null,1,1,4427]
[null,null,{"$f":"IFERROR(VLOOKUP(D4432,'1_Causas_Levantadas'!C:D,2,0),\"\")","v":0},"","",null,1,null,1,1,4428]
[null,null,{"$f":"IFERROR(VLOOKUP(D4433,'1_Causas_Levantadas'!C:D,2,0),\"\")","v":0},"","",null,1,null,1,1,4429]
[null,null,{"$f":"IFERROR(VLOOKUP(D4434,'1_Causas_Levantadas'!C:D,2,0),\"\")","v":0},"","",null,1,null,1,1,4430]
[null,null,{"$f":"IFERROR(VLOOKUP(D4435,'1_Causas_Levantadas'!C:D,2,0),\"\")","v":0},"","",null,1,null,1,1,4431]
[null,null,{"$f":"IFERROR(VLOOKUP(D4436,'1_Causas_Levantadas'!C:D,2,0),\"\")","v":0},"","",null,1,null,1,1,4432]
[null,null,{"$f":"IFERROR(VLOOKUP(D4437,'1_Causas_Levantadas'!C:D,2,0),\"\")","v":0},"","",null,1,null,1,1,4433]
[null,null,{"$f":"IFERROR(VLOOKUP(D4438,'1_Causas_Levantadas'!C:D,2,0),\"\")","v":0},"","",null,1,null,1,1,4434]
[null,null,{"$f":"IFERROR(VLOOKUP(D4439,'1_Causas_Levantadas'!C:D,2,0),\"\")","v":0},"","",null,1,null,1,1,4435]
[null,null,{"$f":"IFERROR(VLOOKUP(D4440,'1_Causas_Levantadas'!C:D,2,0),\"\")","v":0},"","",null,1,null,1,1,4436]
[null,null,{"$f":"IFERROR(VLOOKUP(D4441,'1_Causas_Levantadas'!C:D,2,0),\"\")","v":0},"","",null,1,null,1,1,4437]
[null,null,{"$f":"IFERROR(VLOOKUP(D4442,'1_Causas_Levantadas'!C:D,2,0),\"\")","v":0},"","",null,1,null,1,1,4438]
[null,null,{"$f":"IFERROR(VLOOKUP(D4443,'1_Causas_Levantadas'!C:D,2,0),\"\")","v":0},"","",null,1,null,1,1,4439]
[null,null,{"$f":"IFERROR(VLOOKUP(D4444,'1_Causas_Levantadas'!C:D,2,0),\"\")","v":0},"","",null,1,null,1,1,4440]
[null,null,{"$f":"IFERROR(VLOOKUP(D4445,'1_Causas_Levantadas'!C:D,2,0),\"\")","v":0},"","",null,1,null,1,1,4441]
[null,null,{"$f":"IFERROR(VLOOKUP(D4446,'1_Causas_Levantadas'!C:D,2,0),\"\")","v":0},"","",null,1,null,1,1,4442]
[null,null,{"$f":"IFERROR(VLOOKUP(D4447,'1_Causas_Levantadas'!C:D,2,0),\"\")","v":0},"","",null,1,null,1,1,4443]
[null,null,{"$f":"IFERROR(VLOOKUP(D4448,'1_Causas_Levantadas'!C:D,2,0),\"\")","v":0},"","",null,1,null,1,1,4444]
[null,null,{"$f":"IFERROR(VLOOKUP(D4449,'1_Causas_Levantadas'!C:D,2,0),\"\")","v":0},"","",null,1,null,1,1,4445]
[null,null,{"$f":"IFERROR(VLOOKUP(D4450,'1_Causas_Levantadas'!C:D,2,0),\"\")","v":0},"","",null,1,null,1,1,4446]
[null,null,{"$f":"IFERROR(VLOOKUP(D4451,'1_Causas_Levantadas'!C:D,2,0),\"\")","v":0},"","",null,1,null,1,1,4447]
[null,null,{"$f":"IFERROR(VLOOKUP(D4452,'1_Causas_Levantadas'!C:D,2,0),\"\")","v":0},"","",null,1,null,1,1,4448]
[null,null,{"$f":"IFERROR(VLOOKUP(D4453,'1_Causas_Levantadas'!C:D,2,0),\"\")","v":0},"","",null,1,null,1,1,4449]
[null,null,{"$f":"IFERROR(VLOOKUP(D4454,'1_Causas_Levantadas'!C:D,2,0),\"\")","v":0},"","",null,1,null,1,1,4450]
[null,null,{"$f":"IFERROR(VLOOKUP(D4455,'1_Causas_Levantadas'!C:D,2,0),\"\")","v":0},"","",null,1,null,1,1,4451]
[null,null,{"$f":"IFERROR(VLOOKUP(D4456,'1_Causas_Levantadas'!C:D,2,0),\"\")","v":0},"","",null,1,null,1,1,4452]
[null,null,{"$f":"IFERROR(VLOOKUP(D4457,'1_Causas_Levantadas'!C:D,2,0),\"\")","v":0},"","",null,1,null,1,1,4453]
[null,null,{"$f":"IFERROR(VLOOKUP(D4458,'1_Causas_Levantadas'!C:D,2,0),\"\")","v":0},"","",null,1,null,1,1,4454]
[null,null,{"$f":"IFERROR(VLOOKUP(D4459,'1_Causas_Levantadas'!C:D,2,0),\"\")","v":0},"","",null,1,null,1,1,4455]
[null,null,{"$f":"IFERROR(VLOOKUP(D4460,'1_Causas_Levantadas'!C:D,2,0),\"\")","v":0},"","",null,1,null,1,1,4456]
[null,null,{"$f":"IFERROR(VLOOKUP(D4461,'1_Causas_Levantadas'!C:D,2,0),\"\")","v":0},"","",null,1,null,1,1,4457]
[null,null,{"$f":"IFERROR(VLOOKUP(D4462,'1_Causas_Levantadas'!C:D,2,0),\"\")","v":0},"","",null,1,null,1,1,4458]
[null,null,{"$f":"IFERROR(VLOOKUP(D4463,'1_Causas_Levantadas'!C:D,2,0),\"\")","v":0},"","",null,1,null,1,1,4459]
[null,null,{"$f":"IFERROR(VLOOKUP(D4464,'1_Causas_Levantadas'!C:D,2,0),\"\")","v":0},"","",null,1,null,1,1,4460]
[null,null,{"$f":"IFERROR(VLOOKUP(D4465,'1_Causas_Levantadas'!C:D,2,0),\"\")","v":0},"","",null,1,null,1,1,4461]
[null,null,{"$f":"IFERROR(VLOOKUP(D4466,'1_Causas_Levantadas'!C:D,2,0),\"\")","v":0},"","",null,1,null,1,1,4462]
[null,null,{"$f":"IFERROR(VLOOKUP(D4467,'1_Causas_Levantadas'!C:D,2,0),\"\")","v":0},"","",null,1,null,1,1,4463]
[null,null,{"$f":"IFERROR(VLOOKUP(D4468,'1_Causas_Levantadas'!C:D,2,0),\"\")","v":0},"","",null,1,null,1,1,4464]
[null,null,{"$f":"IFERROR(VLOOKUP(D4469,'1_Causas_Levantadas'!C:D,2,0),\"\")","v":0},"","",null,1,null,1,1,4465]
[null,null,{"$f":"IFERROR(VLOOKUP(D4470,'1_Causas_Levantadas'!C:D,2,0),\"\")","v":0},"","",null,1,null,1,1,4466]
[null,null,{"$f":"IFERROR(VLOOKUP(D4471,'1_Causas_Levantadas'!C:D,2,0),\"\")","v":0},"","",null,1,null,1,1,4467]
[null,null,{"$f":"IFERROR(VLOOKUP(D4472,'1_Causas_Levantadas'!C:D,2,0),\"\")","v":0},"","",null,1,null,1,1,4468]
[null,null,{"$f":"IFERROR(VLOOKUP(D4473,'1_Causas_Levantadas'!C:D,2,0),\"\")","v":0},"","",null,1,null,1,1,4469]
[null,null,{"$f":"IFERROR(VLOOKUP(D4474,'1_Causas_Levantadas'!C:D,2,0),\"\")","v":0},"","",null,1,null,1,1,4470]
[null,null,{"$f":"IFERROR(VLOOKUP(D4475,'1_Causas_Levantadas'!C:D,2,0),\"\")","v":0},"","",null,1,null,1,1,4471]
[null,null,{"$f":"IFERROR(VLOOKUP(D4476,'1_Causas_Levantadas'!C:D,2,0),\"\")","v":0},"","",null,1,null,1,1,4472]
[null,null,{"$f":"IFERROR(VLOOKUP(D4477,'1_Causas_Levantadas'!C:D,2,0),\"\")","v":0},"","",null,1,null,1,1,4473]
[null,null,{"$f":"IFERROR(VLOOKUP(D4478,'1_Causas_Levantadas'!C:D,2,0),\"\")","v":0},"","",null,1,null,1,1,4474]
[null,null,{"$f":"IFERROR(VLOOKUP(D4479,'1_Causas_Levantadas'!C:D,2,0),\"\")","v":0},"","",null,1,null,1,1,4475]
[null,null,{"$f":"IFERROR(VLOOKUP(D4480,'1_Causas_Levantadas'!C:D,2,0),\"\")","v":0},"","",null,1,null,1,1,4476]
[null,null,{"$f":"IFERROR(VLOOKUP(D4481,'1_Causas_Levantadas'!C:D,2,0),\"\")","v":0},"","",null,1,null,1,1,4477]
[null,null,{"$f":"IFERROR(VLOOKUP(D4482,'1_Causas_Levantadas'!C:D,2,0),\"\")","v":0},"","",null,1,null,1,1,4478]
[null,null,{"$f":"IFERROR(VLOOKUP(D4483,'1_Causas_Levantadas'!C:D,2,0),\"\")","v":0},"","",null,1,null,1,1,4479]
[null,null,{"$f":"IFERROR(VLOOKUP(D4484,'1_Causas_Levantadas'!C:D,2,0),\"\")","v":0},"","",null,1,null,1,1,4480]
[null,null,{"$f":"IFERROR(VLOOKUP(D4485,'1_Causas_Levantadas'!C:D,2,0),\"\")","v":0},"","",null,1,null,1,1,4481]
[null,null,{"$f":"IFERROR(VLOOKUP(D4486,'1_Causas_Levantadas'!C:D,2,0),\"\")","v":0},{"$f":"IF(K4486<=$H$4,(IF(G4485>0,G4486,$G$5)),\"\")","v":""},{"$f":"IF(D4486<>\"\",\"Participante \"&K4486,\"\")","v":""},null,{"$f":"J4486","v":1},null,{"$f":"IF(G4486=$G$5,1,0)","v":1},1,{"$f":"I4486+K4485","v":4482}]
[null,null,{"$f":"IFERROR(VLOOKUP(D4487,'1_Causas_Levantadas'!C:D,2,0),\"\")","v":0},"","",null,1,null,1,{"$f":"IF(G4486<$G$4,J4486+1,1)","v":1},4483]
[null,null,{"$f":"IFERROR(VLOOKUP(D4488,'1_Causas_Levantadas'!C:D,2,0),\"\")","v":0},"","",null,1,null,1,1,4484]
[null,null,{"$f":"IFERROR(VLOOKUP(D4489,'1_Causas_Levantadas'!C:D,2,0),\"\")","v":0},"","",null,1,null,1,1,4485]
[null,null,{"$f":"IFERROR(VLOOKUP(D4490,'1_Causas_Levantadas'!C:D,2,0),\"\")","v":0},"","",null,1,null,1,1,4486]
[null,null,{"$f":"IFERROR(VLOOKUP(D4491,'1_Causas_Levantadas'!C:D,2,0),\"\")","v":0},"","",null,1,null,1,1,4487]
[null,null,{"$f":"IFERROR(VLOOKUP(D4492,'1_Causas_Levantadas'!C:D,2,0),\"\")","v":0},"","",null,1,null,1,1,4488]
[null,null,{"$f":"IFERROR(VLOOKUP(D4493,'1_Causas_Levantadas'!C:D,2,0),\"\")","v":0},"","",null,1,null,1,1,4489]
[null,null,{"$f":"IFERROR(VLOOKUP(D4494,'1_Causas_Levantadas'!C:D,2,0),\"\")","v":0},"","",null,1,null,1,1,4490]
[null,null,{"$f":"IFERROR(VLOOKUP(D4495,'1_Causas_Levantadas'!C:D,2,0),\"\")","v":0},"","",null,1,null,1,1,4491]
[null,null,{"$f":"IFERROR(VLOOKUP(D4496,'1_Causas_Levantadas'!C:D,2,0),\"\")","v":0},"","",null,1,null,1,1,4492]
[null,null,{"$f":"IFERROR(VLOOKUP(D4497,'1_Causas_Levantadas'!C:D,2,0),\"\")","v":0},"","",null,1,null,1,1,4493]
[null,null,{"$f":"IFERROR(VLOOKUP(D4498,'1_Causas_Levantadas'!C:D,2,0),\"\")","v":0},"","",null,1,null,1,1,4494]
[null,null,{"$f":"IFERROR(VLOOKUP(D4499,'1_Causas_Levantadas'!C:D,2,0),\"\")","v":0},"","",null,1,null,1,1,4495]
[null,null,{"$f":"IFERROR(VLOOKUP(D4500,'1_Causas_Levantadas'!C:D,2,0),\"\")","v":0},"","",null,1,null,1,1,4496]
[null,null,{"$f":"IFERROR(VLOOKUP(D4501,'1_Causas_Levantadas'!C:D,2,0),\"\")","v":0},"","",null,1,null,1,1,4497]
[null,null,{"$f":"IFERROR(VLOOKUP(D4502,'1_Causas_Levantadas'!C:D,2,0),\"\")","v":0},"","",null,1,null,1,1,4498]
[null,null,{"$f":"IFERROR(VLOOKUP(D4503,'1_Causas_Levantadas'!C:D,2,0),\"\")","v":0},"","",null,1,null,1,1,4499]
[null,null,{"$f":"IFERROR(VLOOKUP(D4504,'1_Causas_Levantadas'!C:D,2,0),\"\")","v":0},"","",null,1,null,1,1,4500]
[null,null,{"$f":"IFERROR(VLOOKUP(D4505,'1_Causas_Levantadas'!C:D,2,0),\"\")","v":0},"","",null,1,null,1,1,4501]
[null,null,{"$f":"IFERROR(VLOOKUP(D4506,'1_Causas_Levantadas'!C:D,2,0),\"\")","v":0},"","",null,1,null,1,1,4502]
[null,null,{"$f":"IFERROR(VLOOKUP(D4507,'1_Causas_Levantadas'!C:D,2,0),\"\")","v":0},"","",null,1,null,1,1,4503]
[null,null,{"$f":"IFERROR(VLOOKUP(D4508,'1_Causas_Levantadas'!C:D,2,0),\"\")","v":0},"","",null,1,null,1,1,4504]
[null,null,{"$f":"IFERROR(VLOOKUP(D4509,'1_Causas_Levantadas'!C:D,2,0),\"\")","v":0},"","",null,1,null,1,1,4505]
[null,null,{"$f":"IFERROR(VLOOKUP(D4510,'1_Causas_Levantadas'!C:D,2,0),\"\")","v":0},"","",null,1,null,1,1,4506]
[null,null,{"$f":"IFERROR(VLOOKUP(D4511,'1_Causas_Levantadas'!C:D,2,0),\"\")","v":0},"","",null,1,null,1,1,4507]
[null,null,{"$f":"IFERROR(VLOOKUP(D4512,'1_Causas_Levantadas'!C:D,2,0),\"\")","v":0},"","",null,1,null,1,1,4508]
[null,null,{"$f":"IFERROR(VLOOKUP(D4513,'1_Causas_Levantadas'!C:D,2,0),\"\")","v":0},"","",null,1,null,1,1,4509]
[null,null,{"$f":"IFERROR(VLOOKUP(D4514,'1_Causas_Levantadas'!C:D,2,0),\"\")","v":0},"","",null,1,null,1,1,4510]
[null,null,{"$f":"IFERROR(VLOOKUP(D4515,'1_Causas_Levantadas'!C:D,2,0),\"\")","v":0},"","",null,1,null,1,1,4511]
[null,null,{"$f":"IFERROR(VLOOKUP(D4516,'1_Causas_Levantadas'!C:D,2,0),\"\")","v":0},"","",null,1,null,1,1,4512]
[null,null,{"$f":"IFERROR(VLOOKUP(D4517,'1_Causas_Levantadas'!C:D,2,0),\"\")","v":0},"","",null,1,null,1,1,4513]
[null,null,{"$f":"IFERROR(VLOOKUP(D4518,'1_Causas_Levantadas'!C:D,2,0),\"\")","v":0},"","",null,1,null,1,1,4514]
[null,null,{"$f":"IFERROR(VLOOKUP(D4519,'1_Causas_Levantadas'!C:D,2,0),\"\")","v":0},"","",null,1,null,1,1,4515]
[null,null,{"$f":"IFERROR(VLOOKUP(D4520,'1_Causas_Levantadas'!C:D,2,0),\"\")","v":0},"","",null,1,null,1,1,4516]
[null,null,{"$f":"IFERROR(VLOOKUP(D4521,'1_Causas_Levantadas'!C:D,2,0),\"\")","v":0},"","",null,1,null,1,1,4517]
[null,null,{"$f":"IFERROR(VLOOKUP(D4522,'1_Causas_Levantadas'!C:D,2,0),\"\")","v":0},"","",null,1,null,1,1,4518]
[null,null,{"$f":"IFERROR(VLOOKUP(D4523,'1_Causas_Levantadas'!C:D,2,0),\"\")","v":0},"","",null,1,null,1,1,4519]
[null,null,{"$f":"IFERROR(VLOOKUP(D4524,'1_Causas_Levantadas'!C:D,2,0),\"\")","v":0},"","",null,1,null,1,1,4520]
[null,null,{"$f":"IFERROR(VLOOKUP(D4525,'1_Causas_Levantadas'!C:D,2,0),\"\")","v":0},"","",null,1,null,1,1,4521]
[null,null,{"$f":"IFERROR(VLOOKUP(D4526,'1_Causas_Levantadas'!C:D,2,0),\"\")","v":0},"","",null,1,null,1,1,4522]
[null,null,{"$f":"IFERROR(VLOOKUP(D4527,'1_Causas_Levantadas'!C:D,2,0),\"\")","v":0},"","",null,1,null,1,1,4523]
[null,null,{"$f":"IFERROR(VLOOKUP(D4528,'1_Causas_Levantadas'!C:D,2,0),\"\")","v":0},"","",null,1,null,1,1,4524]
[null,null,{"$f":"IFERROR(VLOOKUP(D4529,'1_Causas_Levantadas'!C:D,2,0),\"\")","v":0},"","",null,1,null,1,1,4525]
[null,null,{"$f":"IFERROR(VLOOKUP(D4530,'1_Causas_Levantadas'!C:D,2,0),\"\")","v":0},"","",null,1,null,1,1,4526]
[null,null,{"$f":"IFERROR(VLOOKUP(D4531,'1_Causas_Levantadas'!C:D,2,0),\"\")","v":0},"","",null,1,null,1,1,4527]
[null,null,{"$f":"IFERROR(VLOOKUP(D4532,'1_Causas_Levantadas'!C:D,2,0),\"\")","v":0},"","",null,1,null,1,1,4528]
[null,null,{"$f":"IFERROR(VLOOKUP(D4533,'1_Causas_Levantadas'!C:D,2,0),\"\")","v":0},"","",null,1,null,1,1,4529]
[null,null,{"$f":"IFERROR(VLOOKUP(D4534,'1_Causas_Levantadas'!C:D,2,0),\"\")","v":0},"","",null,1,null,1,1,4530]
[null,null,{"$f":"IFERROR(VLOOKUP(D4535,'1_Causas_Levantadas'!C:D,2,0),\"\")","v":0},"","",null,1,null,1,1,4531]
[null,null,{"$f":"IFERROR(VLOOKUP(D4536,'1_Causas_Levantadas'!C:D,2,0),\"\")","v":0},"","",null,1,null,1,1,4532]
[null,null,{"$f":"IFERROR(VLOOKUP(D4537,'1_Causas_Levantadas'!C:D,2,0),\"\")","v":0},"","",null,1,null,1,1,4533]
[null,null,{"$f":"IFERROR(VLOOKUP(D4538,'1_Causas_Levantadas'!C:D,2,0),\"\")","v":0},"","",null,1,null,1,1,4534]
[null,null,{"$f":"IFERROR(VLOOKUP(D4539,'1_Causas_Levantadas'!C:D,2,0),\"\")","v":0},"","",null,1,null,1,1,4535]
[null,null,{"$f":"IFERROR(VLOOKUP(D4540,'1_Causas_Levantadas'!C:D,2,0),\"\")","v":0},"","",null,1,null,1,1,4536]
[null,null,{"$f":"IFERROR(VLOOKUP(D4541,'1_Causas_Levantadas'!C:D,2,0),\"\")","v":0},"","",null,1,null,1,1,4537]
[null,null,{"$f":"IFERROR(VLOOKUP(D4542,'1_Causas_Levantadas'!C:D,2,0),\"\")","v":0},"","",null,1,null,1,1,4538]
[null,null,{"$f":"IFERROR(VLOOKUP(D4543,'1_Causas_Levantadas'!C:D,2,0),\"\")","v":0},"","",null,1,null,1,1,4539]
[null,null,{"$f":"IFERROR(VLOOKUP(D4544,'1_Causas_Levantadas'!C:D,2,0),\"\")","v":0},"","",null,1,null,1,1,4540]
[null,null,{"$f":"IFERROR(VLOOKUP(D4545,'1_Causas_Levantadas'!C:D,2,0),\"\")","v":0},"","",null,1,null,1,1,4541]
[null,null,{"$f":"IFERROR(VLOOKUP(D4546,'1_Causas_Levantadas'!C:D,2,0),\"\")","v":0},"","",null,1,null,1,1,4542]
[null,null,{"$f":"IFERROR(VLOOKUP(D4547,'1_Causas_Levantadas'!C:D,2,0),\"\")","v":0},"","",null,1,null,1,1,4543]
[null,null,{"$f":"IFERROR(VLOOKUP(D4548,'1_Causas_Levantadas'!C:D,2,0),\"\")","v":0},"","",null,1,null,1,1,4544]
[null,null,{"$f":"IFERROR(VLOOKUP(D4549,'1_Causas_Levantadas'!C:D,2,0),\"\")","v":0},"","",null,1,null,1,1,4545]
[null,null,{"$f":"IFERROR(VLOOKUP(D4550,'1_Causas_Levantadas'!C:D,2,0),\"\")","v":0},{"$f":"IF(K4550<=$H$4,(IF(G4549>0,G4550,$G$5)),\"\")","v":""},{"$f":"IF(D4550<>\"\",\"Participante \"&K4550,\"\")","v":""},null,{"$f":"J4550","v":1},null,{"$f":"IF(G4550=$G$5,1,0)","v":1},1,{"$f":"I4550+K4549","v":4546}]
[null,null,{"$f":"IFERROR(VLOOKUP(D4551,'1_Causas_Levantadas'!C:D,2,0),\"\")","v":0},"","",null,1,null,1,{"$f":"IF(G4550<$G$4,J4550+1,1)","v":1},4547]
[null,null,{"$f":"IFERROR(VLOOKUP(D4552,'1_Causas_Levantadas'!C:D,2,0),\"\")","v":0},"","",null,1,null,1,1,4548]
[null,null,{"$f":"IFERROR(VLOOKUP(D4553,'1_Causas_Levantadas'!C:D,2,0),\"\")","v":0},"","",null,1,null,1,1,4549]
[null,null,{"$f":"IFERROR(VLOOKUP(D4554,'1_Causas_Levantadas'!C:D,2,0),\"\")","v":0},"","",null,1,null,1,1,4550]
[null,null,{"$f":"IFERROR(VLOOKUP(D4555,'1_Causas_Levantadas'!C:D,2,0),\"\")","v":0},"","",null,1,null,1,1,4551]
[null,null,{"$f":"IFERROR(VLOOKUP(D4556,'1_Causas_Levantadas'!C:D,2,0),\"\")","v":0},"","",null,1,null,1,1,4552]
[null,null,{"$f":"IFERROR(VLOOKUP(D4557,'1_Causas_Levantadas'!C:D,2,0),\"\")","v":0},"","",null,1,null,1,1,4553]
[null,null,{"$f":"IFERROR(VLOOKUP(D4558,'1_Causas_Levantadas'!C:D,2,0),\"\")","v":0},"","",null,1,null,1,1,4554]
[null,null,{"$f":"IFERROR(VLOOKUP(D4559,'1_Causas_Levantadas'!C:D,2,0),\"\")","v":0},"","",null,1,null,1,1,4555]
[null,null,{"$f":"IFERROR(VLOOKUP(D4560,'1_Causas_Levantadas'!C:D,2,0),\"\")","v":0},"","",null,1,null,1,1,4556]
[null,null,{"$f":"IFERROR(VLOOKUP(D4561,'1_Causas_Levantadas'!C:D,2,0),\"\")","v":0},"","",null,1,null,1,1,4557]
[null,null,{"$f":"IFERROR(VLOOKUP(D4562,'1_Causas_Levantadas'!C:D,2,0),\"\")","v":0},"","",null,1,null,1,1,4558]
[null,null,{"$f":"IFERROR(VLOOKUP(D4563,'1_Causas_Levantadas'!C:D,2,0),\"\")","v":0},"","",null,1,null,1,1,4559]
[null,null,{"$f":"IFERROR(VLOOKUP(D4564,'1_Causas_Levantadas'!C:D,2,0),\"\")","v":0},"","",null,1,null,1,1,4560]
[null,null,{"$f":"IFERROR(VLOOKUP(D4565,'1_Causas_Levantadas'!C:D,2,0),\"\")","v":0},"","",null,1,null,1,1,4561]
[null,null,{"$f":"IFERROR(VLOOKUP(D4566,'1_Causas_Levantadas'!C:D,2,0),\"\")","v":0},"","",null,1,null,1,1,4562]
[null,null,{"$f":"IFERROR(VLOOKUP(D4567,'1_Causas_Levantadas'!C:D,2,0),\"\")","v":0},"","",null,1,null,1,1,4563]
[null,null,{"$f":"IFERROR(VLOOKUP(D4568,'1_Causas_Levantadas'!C:D,2,0),\"\")","v":0},"","",null,1,null,1,1,4564]
[null,null,{"$f":"IFERROR(VLOOKUP(D4569,'1_Causas_Levantadas'!C:D,2,0),\"\")","v":0},"","",null,1,null,1,1,4565]
[null,null,{"$f":"IFERROR(VLOOKUP(D4570,'1_Causas_Levantadas'!C:D,2,0),\"\")","v":0},"","",null,1,null,1,1,4566]
[null,null,{"$f":"IFERROR(VLOOKUP(D4571,'1_Causas_Levantadas'!C:D,2,0),\"\")","v":0},"","",null,1,null,1,1,4567]
[null,null,{"$f":"IFERROR(VLOOKUP(D4572,'1_Causas_Levantadas'!C:D,2,0),\"\")","v":0},"","",null,1,null,1,1,4568]
[null,null,{"$f":"IFERROR(VLOOKUP(D4573,'1_Causas_Levantadas'!C:D,2,0),\"\")","v":0},"","",null,1,null,1,1,4569]
[null,null,{"$f":"IFERROR(VLOOKUP(D4574,'1_Causas_Levantadas'!C:D,2,0),\"\")","v":0},"","",null,1,null,1,1,4570]
[null,null,{"$f":"IFERROR(VLOOKUP(D4575,'1_Causas_Levantadas'!C:D,2,0),\"\")","v":0},"","",null,1,null,1,1,4571]
[null,null,{"$f":"IFERROR(VLOOKUP(D4576,'1_Causas_Levantadas'!C:D,2,0),\"\")","v":0},"","",null,1,null,1,1,4572]
[null,null,{"$f":"IFERROR(VLOOKUP(D4577,'1_Causas_Levantadas'!C:D,2,0),\"\")","v":0},"","",null,1,null,1,1,4573]
[null,null,{"$f":"IFERROR(VLOOKUP(D4578,'1_Causas_Levantadas'!C:D,2,0),\"\")","v":0},"","",null,1,null,1,1,4574]
[null,null,{"$f":"IFERROR(VLOOKUP(D4579,'1_Causas_Levantadas'!C:D,2,0),\"\")","v":0},"","",null,1,null,1,1,4575]
[null,null,{"$f":"IFERROR(VLOOKUP(D4580,'1_Causas_Levantadas'!C:D,2,0),\"\")","v":0},"","",null,1,null,1,1,4576]
[null,null,{"$f":"IFERROR(VLOOKUP(D4581,'1_Causas_Levantadas'!C:D,2,0),\"\")","v":0},"","",null,1,null,1,1,4577]
[null,null,{"$f":"IFERROR(VLOOKUP(D4582,'1_Causas_Levantadas'!C:D,2,0),\"\")","v":0},"","",null,1,null,1,1,4578]
[null,null,{"$f":"IFERROR(VLOOKUP(D4583,'1_Causas_Levantadas'!C:D,2,0),\"\")","v":0},"","",null,1,null,1,1,4579]
[null,null,{"$f":"IFERROR(VLOOKUP(D4584,'1_Causas_Levantadas'!C:D,2,0),\"\")","v":0},"","",null,1,null,1,1,4580]
[null,null,{"$f":"IFERROR(VLOOKUP(D4585,'1_Causas_Levantadas'!C:D,2,0),\"\")","v":0},"","",null,1,null,1,1,4581]
[null,null,{"$f":"IFERROR(VLOOKUP(D4586,'1_Causas_Levantadas'!C:D,2,0),\"\")","v":0},"","",null,1,null,1,1,4582]
[null,null,{"$f":"IFERROR(VLOOKUP(D4587,'1_Causas_Levantadas'!C:D,2,0),\"\")","v":0},"","",null,1,null,1,1,4583]
[null,null,{"$f":"IFERROR(VLOOKUP(D4588,'1_Causas_Levantadas'!C:D,2,0),\"\")","v":0},"","",null,1,null,1,1,4584]
[null,null,{"$f":"IFERROR(VLOOKUP(D4589,'1_Causas_Levantadas'!C:D,2,0),\"\")","v":0},"","",null,1,null,1,1,4585]
[null,null,{"$f":"IFERROR(VLOOKUP(D4590,'1_Causas_Levantadas'!C:D,2,0),\"\")","v":0},"","",null,1,null,1,1,4586]
[null,null,{"$f":"IFERROR(VLOOKUP(D4591,'1_Causas_Levantadas'!C:D,2,0),\"\")","v":0},"","",null,1,null,1,1,4587]
[null,null,{"$f":"IFERROR(VLOOKUP(D4592,'1_Causas_Levantadas'!C:D,2,0),\"\")","v":0},"","",null,1,null,1,1,4588]
[null,null,{"$f":"IFERROR(VLOOKUP(D4593,'1_Causas_Levantadas'!C:D,2,0),\"\")","v":0},"","",null,1,null,1,1,4589]
[null,null,{"$f":"IFERROR(VLOOKUP(D4594,'1_Causas_Levantadas'!C:D,2,0),\"\")","v":0},"","",null,1,null,1,1,4590]
[null,null,{"$f":"IFERROR(VLOOKUP(D4595,'1_Causas_Levantadas'!C:D,2,0),\"\")","v":0},"","",null,1,null,1,1,4591]
[null,null,{"$f":"IFERROR(VLOOKUP(D4596,'1_Causas_Levantadas'!C:D,2,0),\"\")","v":0},"","",null,1,null,1,1,4592]
[null,null,{"$f":"IFERROR(VLOOKUP(D4597,'1_Causas_Levantadas'!C:D,2,0),\"\")","v":0},"","",null,1,null,1,1,4593]
[null,null,{"$f":"IFERROR(VLOOKUP(D4598,'1_Causas_Levantadas'!C:D,2,0),\"\")","v":0},"","",null,1,null,1,1,4594]
[null,null,{"$f":"IFERROR(VLOOKUP(D4599,'1_Causas_Levantadas'!C:D,2,0),\"\")","v":0},"","",null,1,null,1,1,4595]
[null,null,{"$f":"IFERROR(VLOOKUP(D4600,'1_Causas_Levantadas'!C:D,2,0),\"\")","v":0},"","",null,1,null,1,1,4596]
[null,null,{"$f":"IFERROR(VLOOKUP(D4601,'1_Causas_Levantadas'!C:D,2,0),\"\")","v":0},"","",null,1,null,1,1,4597]
[null,null,{"$f":"IFERROR(VLOOKUP(D4602,'1_Causas_Levantadas'!C:D,2,0),\"\")","v":0},"","",null,1,null,1,1,4598]
[null,null,{"$f":"IFERROR(VLOOKUP(D4603,'1_Causas_Levantadas'!C:D,2,0),\"\")","v":0},"","",null,1,null,1,1,4599]
[null,null,{"$f":"IFERROR(VLOOKUP(D4604,'1_Causas_Levantadas'!C:D,2,0),\"\")","v":0},"","",null,1,null,1,1,4600]
[null,null,{"$f":"IFERROR(VLOOKUP(D4605,'1_Causas_Levantadas'!C:D,2,0),\"\")","v":0},"","",null,1,null,1,1,4601]
[null,null,{"$f":"IFERROR(VLOOKUP(D4606,'1_Causas_Levantadas'!C:D,2,0),\"\")","v":0},"","",null,1,null,1,1,4602]
[null,null,{"$f":"IFERROR(VLOOKUP(D4607,'1_Causas_Levantadas'!C:D,2,0),\"\")","v":0},"","",null,1,null,1,1,4603]
[null,null,{"$f":"IFERROR(VLOOKUP(D4608,'1_Causas_Levantadas'!C:D,2,0),\"\")","v":0},"","",null,1,null,1,1,4604]
[null,null,{"$f":"IFERROR(VLOOKUP(D4609,'1_Causas_Levantadas'!C:D,2,0),\"\")","v":0},"","",null,1,null,1,1,4605]
[null,null,{"$f":"IFERROR(VLOOKUP(D4610,'1_Causas_Levantadas'!C:D,2,0),\"\")","v":0},"","",null,1,null,1,1,4606]
[null,null,{"$f":"IFERROR(VLOOKUP(D4611,'1_Causas_Levantadas'!C:D,2,0),\"\")","v":0},"","",null,1,null,1,1,4607]
[null,null,{"$f":"IFERROR(VLOOKUP(D4612,'1_Causas_Levantadas'!C:D,2,0),\"\")","v":0},"","",null,1,null,1,1,4608]
[null,null,{"$f":"IFERROR(VLOOKUP(D4613,'1_Causas_Levantadas'!C:D,2,0),\"\")","v":0},"","",null,1,null,1,1,4609]
[null,null,{"$f":"IFERROR(VLOOKUP(D4614,'1_Causas_Levantadas'!C:D,2,0),\"\")","v":0},{"$f":"IF(K4614<=$H$4,(IF(G4613>0,G4614,$G$5)),\"\")","v":""},{"$f":"IF(D4614<>\"\",\"Participante \"&K4614,\"\")","v":""},null,{"$f":"J4614","v":1},null,{"$f":"IF(G4614=$G$5,1,0)","v":1},1,{"$f":"I4614+K4613","v":4610}]
[null,null,{"$f":"IFERROR(VLOOKUP(D4615,'1_Causas_Levantadas'!C:D,2,0),\"\")","v":0},"","",null,1,null,1,{"$f":"IF(G4614<$G$4,J4614+1,1)","v":1},4611]
[null,null,{"$f":"IFERROR(VLOOKUP(D4616,'1_Causas_Levantadas'!C:D,2,0),\"\")","v":0},"","",null,1,null,1,1,4612]
[null,null,{"$f":"IFERROR(VLOOKUP(D4617,'1_Causas_Levantadas'!C:D,2,0),\"\")","v":0},"","",null,1,null,1,1,4613]
[null,null,{"$f":"IFERROR(VLOOKUP(D4618,'1_Causas_Levantadas'!C:D,2,0),\"\")","v":0},"","",null,1,null,1,1,4614]
[null,null,{"$f":"IFERROR(VLOOKUP(D4619,'1_Causas_Levantadas'!C:D,2,0),\"\")","v":0},"","",null,1,null,1,1,4615]
[null,null,{"$f":"IFERROR(VLOOKUP(D4620,'1_Causas_Levantadas'!C:D,2,0),\"\")","v":0},"","",null,1,null,1,1,4616]
[null,null,{"$f":"IFERROR(VLOOKUP(D4621,'1_Causas_Levantadas'!C:D,2,0),\"\")","v":0},"","",null,1,null,1,1,4617]
[null,null,{"$f":"IFERROR(VLOOKUP(D4622,'1_Causas_Levantadas'!C:D,2,0),\"\")","v":0},"","",null,1,null,1,1,4618]
[null,null,{"$f":"IFERROR(VLOOKUP(D4623,'1_Causas_Levantadas'!C:D,2,0),\"\")","v":0},"","",null,1,null,1,1,4619]
[null,null,{"$f":"IFERROR(VLOOKUP(D4624,'1_Causas_Levantadas'!C:D,2,0),\"\")","v":0},"","",null,1,null,1,1,4620]
[null,null,{"$f":"IFERROR(VLOOKUP(D4625,'1_Causas_Levantadas'!C:D,2,0),\"\")","v":0},"","",null,1,null,1,1,4621]
[null,null,{"$f":"IFERROR(VLOOKUP(D4626,'1_Causas_Levantadas'!C:D,2,0),\"\")","v":0},"","",null,1,null,1,1,4622]
[null,null,{"$f":"IFERROR(VLOOKUP(D4627,'1_Causas_Levantadas'!C:D,2,0),\"\")","v":0},"","",null,1,null,1,1,4623]
[null,null,{"$f":"IFERROR(VLOOKUP(D4628,'1_Causas_Levantadas'!C:D,2,0),\"\")","v":0},"","",null,1,null,1,1,4624]
[null,null,{"$f":"IFERROR(VLOOKUP(D4629,'1_Causas_Levantadas'!C:D,2,0),\"\")","v":0},"","",null,1,null,1,1,4625]
[null,null,{"$f":"IFERROR(VLOOKUP(D4630,'1_Causas_Levantadas'!C:D,2,0),\"\")","v":0},"","",null,1,null,1,1,4626]
[null,null,{"$f":"IFERROR(VLOOKUP(D4631,'1_Causas_Levantadas'!C:D,2,0),\"\")","v":0},"","",null,1,null,1,1,4627]
[null,null,{"$f":"IFERROR(VLOOKUP(D4632,'1_Causas_Levantadas'!C:D,2,0),\"\")","v":0},"","",null,1,null,1,1,4628]
[null,null,{"$f":"IFERROR(VLOOKUP(D4633,'1_Causas_Levantadas'!C:D,2,0),\"\")","v":0},"","",null,1,null,1,1,4629]
[null,null,{"$f":"IFERROR(VLOOKUP(D4634,'1_Causas_Levantadas'!C:D,2,0),\"\")","v":0},"","",null,1,null,1,1,4630]
[null,null,{"$f":"IFERROR(VLOOKUP(D4635,'1_Causas_Levantadas'!C:D,2,0),\"\")","v":0},"","",null,1,null,1,1,4631]
[null,null,{"$f":"IFERROR(VLOOKUP(D4636,'1_Causas_Levantadas'!C:D,2,0),\"\")","v":0},"","",null,1,null,1,1,4632]
[null,null,{"$f":"IFERROR(VLOOKUP(D4637,'1_Causas_Levantadas'!C:D,2,0),\"\")","v":0},"","",null,1,null,1,1,4633]
[null,null,{"$f":"IFERROR(VLOOKUP(D4638,'1_Causas_Levantadas'!C:D,2,0),\"\")","v":0},"","",null,1,null,1,1,4634]
[null,null,{"$f":"IFERROR(VLOOKUP(D4639,'1_Causas_Levantadas'!C:D,2,0),\"\")","v":0},"","",null,1,null,1,1,4635]
[null,null,{"$f":"IFERROR(VLOOKUP(D4640,'1_Causas_Levantadas'!C:D,2,0),\"\")","v":0},"","",null,1,null,1,1,4636]
[null,null,{"$f":"IFERROR(VLOOKUP(D4641,'1_Causas_Levantadas'!C:D,2,0),\"\")","v":0},"","",null,1,null,1,1,4637]
[null,null,{"$f":"IFERROR(VLOOKUP(D4642,'1_Causas_Levantadas'!C:D,2,0),\"\")","v":0},"","",null,1,null,1,1,4638]
[null,null,{"$f":"IFERROR(VLOOKUP(D4643,'1_Causas_Levantadas'!C:D,2,0),\"\")","v":0},"","",null,1,null,1,1,4639]
[null,null,{"$f":"IFERROR(VLOOKUP(D4644,'1_Causas_Levantadas'!C:D,2,0),\"\")","v":0},"","",null,1,null,1,1,4640]
[null,null,{"$f":"IFERROR(VLOOKUP(D4645,'1_Causas_Levantadas'!C:D,2,0),\"\")","v":0},"","",null,1,null,1,1,4641]
[null,null,{"$f":"IFERROR(VLOOKUP(D4646,'1_Causas_Levantadas'!C:D,2,0),\"\")","v":0},"","",null,1,null,1,1,4642]
[null,null,{"$f":"IFERROR(VLOOKUP(D4647,'1_Causas_Levantadas'!C:D,2,0),\"\")","v":0},"","",null,1,null,1,1,4643]
[null,null,{"$f":"IFERROR(VLOOKUP(D4648,'1_Causas_Levantadas'!C:D,2,0),\"\")","v":0},"","",null,1,null,1,1,4644]
[null,null,{"$f":"IFERROR(VLOOKUP(D4649,'1_Causas_Levantadas'!C:D,2,0),\"\")","v":0},"","",null,1,null,1,1,4645]
[null,null,{"$f":"IFERROR(VLOOKUP(D4650,'1_Causas_Levantadas'!C:D,2,0),\"\")","v":0},"","",null,1,null,1,1,4646]
[null,null,{"$f":"IFERROR(VLOOKUP(D4651,'1_Causas_Levantadas'!C:D,2,0),\"\")","v":0},"","",null,1,null,1,1,4647]
[null,null,{"$f":"IFERROR(VLOOKUP(D4652,'1_Causas_Levantadas'!C:D,2,0),\"\")","v":0},"","",null,1,null,1,1,4648]
[null,null,{"$f":"IFERROR(VLOOKUP(D4653,'1_Causas_Levantadas'!C:D,2,0),\"\")","v":0},"","",null,1,null,1,1,4649]
[null,null,{"$f":"IFERROR(VLOOKUP(D4654,'1_Causas_Levantadas'!C:D,2,0),\"\")","v":0},"","",null,1,null,1,1,4650]
[null,null,{"$f":"IFERROR(VLOOKUP(D4655,'1_Causas_Levantadas'!C:D,2,0),\"\")","v":0},"","",null,1,null,1,1,4651]
[null,null,{"$f":"IFERROR(VLOOKUP(D4656,'1_Causas_Levantadas'!C:D,2,0),\"\")","v":0},"","",null,1,null,1,1,4652]
[null,null,{"$f":"IFERROR(VLOOKUP(D4657,'1_Causas_Levantadas'!C:D,2,0),\"\")","v":0},"","",null,1,null,1,1,4653]
[null,null,{"$f":"IFERROR(VLOOKUP(D4658,'1_Causas_Levantadas'!C:D,2,0),\"\")","v":0},"","",null,1,null,1,1,4654]
[null,null,{"$f":"IFERROR(VLOOKUP(D4659,'1_Causas_Levantadas'!C:D,2,0),\"\")","v":0},"","",null,1,null,1,1,4655]
[null,null,{"$f":"IFERROR(VLOOKUP(D4660,'1_Causas_Levantadas'!C:D,2,0),\"\")","v":0},"","",null,1,null,1,1,4656]
[null,null,{"$f":"IFERROR(VLOOKUP(D4661,'1_Causas_Levantadas'!C:D,2,0),\"\")","v":0},"","",null,1,null,1,1,4657]
[null,null,{"$f":"IFERROR(VLOOKUP(D4662,'1_Causas_Levantadas'!C:D,2,0),\"\")","v":0},"","",null,1,null,1,1,4658]
[null,null,{"$f":"IFERROR(VLOOKUP(D4663,'1_Causas_Levantadas'!C:D,2,0),\"\")","v":0},"","",null,1,null,1,1,4659]
[null,null,{"$f":"IFERROR(VLOOKUP(D4664,'1_Causas_Levantadas'!C:D,2,0),\"\")","v":0},"","",null,1,null,1,1,4660]
[null,null,{"$f":"IFERROR(VLOOKUP(D4665,'1_Causas_Levantadas'!C:D,2,0),\"\")","v":0},"","",null,1,null,1,1,4661]
[null,null,{"$f":"IFERROR(VLOOKUP(D4666,'1_Causas_Levantadas'!C:D,2,0),\"\")","v":0},"","",null,1,null,1,1,4662]
[null,null,{"$f":"IFERROR(VLOOKUP(D4667,'1_Causas_Levantadas'!C:D,2,0),\"\")","v":0},"","",null,1,null,1,1,4663]
[null,null,{"$f":"IFERROR(VLOOKUP(D4668,'1_Causas_Levantadas'!C:D,2,0),\"\")","v":0},"","",null,1,null,1,1,4664]
[null,null,{"$f":"IFERROR(VLOOKUP(D4669,'1_Causas_Levantadas'!C:D,2,0),\"\")","v":0},"","",null,1,null,1,1,4665]
[null,null,{"$f":"IFERROR(VLOOKUP(D4670,'1_Causas_Levantadas'!C:D,2,0),\"\")","v":0},"","",null,1,null,1,1,4666]
[null,null,{"$f":"IFERROR(VLOOKUP(D4671,'1_Causas_Levantadas'!C:D,2,0),\"\")","v":0},"","",null,1,null,1,1,4667]
[null,null,{"$f":"IFERROR(VLOOKUP(D4672,'1_Causas_Levantadas'!C:D,2,0),\"\")","v":0},"","",null,1,null,1,1,4668]
[null,null,{"$f":"IFERROR(VLOOKUP(D4673,'1_Causas_Levantadas'!C:D,2,0),\"\")","v":0},"","",null,1,null,1,1,4669]
[null,null,{"$f":"IFERROR(VLOOKUP(D4674,'1_Causas_Levantadas'!C:D,2,0),\"\")","v":0},"","",null,1,null,1,1,4670]
[null,null,{"$f":"IFERROR(VLOOKUP(D4675,'1_Causas_Levantadas'!C:D,2,0),\"\")","v":0},"","",null,1,null,1,1,4671]
[null,null,{"$f":"IFERROR(VLOOKUP(D4676,'1_Causas_Levantadas'!C:D,2,0),\"\")","v":0},"","",null,1,null,1,1,4672]
[null,null,{"$f":"IFERROR(VLOOKUP(D4677,'1_Causas_Levantadas'!C:D,2,0),\"\")","v":0},"","",null,1,null,1,1,4673]
[null,null,{"$f":"IFERROR(VLOOKUP(D4678,'1_Causas_Levantadas'!C:D,2,0),\"\")","v":0},{"$f":"IF(K4678<=$H$4,(IF(G4677>0,G4678,$G$5)),\"\")","v":""},{"$f":"IF(D4678<>\"\",\"Participante \"&K4678,\"\")","v":""},null,{"$f":"J4678","v":1},null,{"$f":"IF(G4678=$G$5,1,0)","v":1},1,{"$f":"I4678+K4677","v":4674}]
[null,null,{"$f":"IFERROR(VLOOKUP(D4679,'1_Causas_Levantadas'!C:D,2,0),\"\")","v":0},"","",null,1,null,1,{"$f":"IF(G4678<$G$4,J4678+1,1)","v":1},4675]
[null,null,{"$f":"IFERROR(VLOOKUP(D4680,'1_Causas_Levantadas'!C:D,2,0),\"\")","v":0},"","",null,1,null,1,1,4676]
[null,null,{"$f":"IFERROR(VLOOKUP(D4681,'1_Causas_Levantadas'!C:D,2,0),\"\")","v":0},"","",null,1,null,1,1,4677]
[null,null,{"$f":"IFERROR(VLOOKUP(D4682,'1_Causas_Levantadas'!C:D,2,0),\"\")","v":0},"","",null,1,null,1,1,4678]
[null,null,{"$f":"IFERROR(VLOOKUP(D4683,'1_Causas_Levantadas'!C:D,2,0),\"\")","v":0},"","",null,1,null,1,1,4679]
[null,null,{"$f":"IFERROR(VLOOKUP(D4684,'1_Causas_Levantadas'!C:D,2,0),\"\")","v":0},"","",null,1,null,1,1,4680]
[null,null,{"$f":"IFERROR(VLOOKUP(D4685,'1_Causas_Levantadas'!C:D,2,0),\"\")","v":0},"","",null,1,null,1,1,4681]
[null,null,{"$f":"IFERROR(VLOOKUP(D4686,'1_Causas_Levantadas'!C:D,2,0),\"\")","v":0},"","",null,1,null,1,1,4682]
[null,null,{"$f":"IFERROR(VLOOKUP(D4687,'1_Causas_Levantadas'!C:D,2,0),\"\")","v":0},"","",null,1,null,1,1,4683]
[null,null,{"$f":"IFERROR(VLOOKUP(D4688,'1_Causas_Levantadas'!C:D,2,0),\"\")","v":0},"","",null,1,null,1,1,4684]
[null,null,{"$f":"IFERROR(VLOOKUP(D4689,'1_Causas_Levantadas'!C:D,2,0),\"\")","v":0},"","",null,1,null,1,1,4685]
[null,null,{"$f":"IFERROR(VLOOKUP(D4690,'1_Causas_Levantadas'!C:D,2,0),\"\")","v":0},"","",null,1,null,1,1,4686]
[null,null,{"$f":"IFERROR(VLOOKUP(D4691,'1_Causas_Levantadas'!C:D,2,0),\"\")","v":0},"","",null,1,null,1,1,4687]
[null,null,{"$f":"IFERROR(VLOOKUP(D4692,'1_Causas_Levantadas'!C:D,2,0),\"\")","v":0},"","",null,1,null,1,1,4688]
[null,null,{"$f":"IFERROR(VLOOKUP(D4693,'1_Causas_Levantadas'!C:D,2,0),\"\")","v":0},"","",null,1,null,1,1,4689]
[null,null,{"$f":"IFERROR(VLOOKUP(D4694,'1_Causas_Levantadas'!C:D,2,0),\"\")","v":0},"","",null,1,null,1,1,4690]
[null,null,{"$f":"IFERROR(VLOOKUP(D4695,'1_Causas_Levantadas'!C:D,2,0),\"\")","v":0},"","",null,1,null,1,1,4691]
[null,null,{"$f":"IFERROR(VLOOKUP(D4696,'1_Causas_Levantadas'!C:D,2,0),\"\")","v":0},"","",null,1,null,1,1,4692]
[null,null,{"$f":"IFERROR(VLOOKUP(D4697,'1_Causas_Levantadas'!C:D,2,0),\"\")","v":0},"","",null,1,null,1,1,4693]
[null,null,{"$f":"IFERROR(VLOOKUP(D4698,'1_Causas_Levantadas'!C:D,2,0),\"\")","v":0},"","",null,1,null,1,1,4694]
[null,null,{"$f":"IFERROR(VLOOKUP(D4699,'1_Causas_Levantadas'!C:D,2,0),\"\")","v":0},"","",null,1,null,1,1,4695]
[null,null,{"$f":"IFERROR(VLOOKUP(D4700,'1_Causas_Levantadas'!C:D,2,0),\"\")","v":0},"","",null,1,null,1,1,4696]
[null,null,{"$f":"IFERROR(VLOOKUP(D4701,'1_Causas_Levantadas'!C:D,2,0),\"\")","v":0},"","",null,1,null,1,1,4697]
[null,null,{"$f":"IFERROR(VLOOKUP(D4702,'1_Causas_Levantadas'!C:D,2,0),\"\")","v":0},"","",null,1,null,1,1,4698]
[null,null,{"$f":"IFERROR(VLOOKUP(D4703,'1_Causas_Levantadas'!C:D,2,0),\"\")","v":0},"","",null,1,null,1,1,4699]
[null,null,{"$f":"IFERROR(VLOOKUP(D4704,'1_Causas_Levantadas'!C:D,2,0),\"\")","v":0},"","",null,1,null,1,1,4700]
[null,null,{"$f":"IFERROR(VLOOKUP(D4705,'1_Causas_Levantadas'!C:D,2,0),\"\")","v":0},"","",null,1,null,1,1,4701]
[null,null,{"$f":"IFERROR(VLOOKUP(D4706,'1_Causas_Levantadas'!C:D,2,0),\"\")","v":0},"","",null,1,null,1,1,4702]
[null,null,{"$f":"IFERROR(VLOOKUP(D4707,'1_Causas_Levantadas'!C:D,2,0),\"\")","v":0},"","",null,1,null,1,1,4703]
[null,null,{"$f":"IFERROR(VLOOKUP(D4708,'1_Causas_Levantadas'!C:D,2,0),\"\")","v":0},"","",null,1,null,1,1,4704]
[null,null,{"$f":"IFERROR(VLOOKUP(D4709,'1_Causas_Levantadas'!C:D,2,0),\"\")","v":0},"","",null,1,null,1,1,4705]
[null,null,{"$f":"IFERROR(VLOOKUP(D4710,'1_Causas_Levantadas'!C:D,2,0),\"\")","v":0},"","",null,1,null,1,1,4706]
[null,null,{"$f":"IFERROR(VLOOKUP(D4711,'1_Causas_Levantadas'!C:D,2,0),\"\")","v":0},"","",null,1,null,1,1,4707]
[null,null,{"$f":"IFERROR(VLOOKUP(D4712,'1_Causas_Levantadas'!C:D,2,0),\"\")","v":0},"","",null,1,null,1,1,4708]
[null,null,{"$f":"IFERROR(VLOOKUP(D4713,'1_Causas_Levantadas'!C:D,2,0),\"\")","v":0},"","",null,1,null,1,1,4709]
[null,null,{"$f":"IFERROR(VLOOKUP(D4714,'1_Causas_Levantadas'!C:D,2,0),\"\")","v":0},"","",null,1,null,1,1,4710]
[null,null,{"$f":"IFERROR(VLOOKUP(D4715,'1_Causas_Levantadas'!C:D,2,0),\"\")","v":0},"","",null,1,null,1,1,4711]
[null,null,{"$f":"IFERROR(VLOOKUP(D4716,'1_Causas_Levantadas'!C:D,2,0),\"\")","v":0},"","",null,1,null,1,1,4712]
[null,null,{"$f":"IFERROR(VLOOKUP(D4717,'1_Causas_Levantadas'!C:D,2,0),\"\")","v":0},"","",null,1,null,1,1,4713]
[null,null,{"$f":"IFERROR(VLOOKUP(D4718,'1_Causas_Levantadas'!C:D,2,0),\"\")","v":0},"","",null,1,null,1,1,4714]
[null,null,{"$f":"IFERROR(VLOOKUP(D4719,'1_Causas_Levantadas'!C:D,2,0),\"\")","v":0},"","",null,1,null,1,1,4715]
[null,null,{"$f":"IFERROR(VLOOKUP(D4720,'1_Causas_Levantadas'!C:D,2,0),\"\")","v":0},"","",null,1,null,1,1,4716]
[null,null,{"$f":"IFERROR(VLOOKUP(D4721,'1_Causas_Levantadas'!C:D,2,0),\"\")","v":0},"","",null,1,null,1,1,4717]
[null,null,{"$f":"IFERROR(VLOOKUP(D4722,'1_Causas_Levantadas'!C:D,2,0),\"\")","v":0},"","",null,1,null,1,1,4718]
[null,null,{"$f":"IFERROR(VLOOKUP(D4723,'1_Causas_Levantadas'!C:D,2,0),\"\")","v":0},"","",null,1,null,1,1,4719]
[null,null,{"$f":"IFERROR(VLOOKUP(D4724,'1_Causas_Levantadas'!C:D,2,0),\"\")","v":0},"","",null,1,null,1,1,4720]
[null,null,{"$f":"IFERROR(VLOOKUP(D4725,'1_Causas_Levantadas'!C:D,2,0),\"\")","v":0},"","",null,1,null,1,1,4721]
[null,null,{"$f":"IFERROR(VLOOKUP(D4726,'1_Causas_Levantadas'!C:D,2,0),\"\")","v":0},"","",null,1,null,1,1,4722]
[null,null,{"$f":"IFERROR(VLOOKUP(D4727,'1_Causas_Levantadas'!C:D,2,0),\"\")","v":0},"","",null,1,null,1,1,4723]
[null,null,{"$f":"IFERROR(VLOOKUP(D4728,'1_Causas_Levantadas'!C:D,2,0),\"\")","v":0},"","",null,1,null,1,1,4724]
[null,null,{"$f":"IFERROR(VLOOKUP(D4729,'1_Causas_Levantadas'!C:D,2,0),\"\")","v":0},"","",null,1,null,1,1,4725]
[null,null,{"$f":"IFERROR(VLOOKUP(D4730,'1_Causas_Levantadas'!C:D,2,0),\"\")","v":0},"","",null,1,null,1,1,4726]
[null,null,{"$f":"IFERROR(VLOOKUP(D4731,'1_Causas_Levantadas'!C:D,2,0),\"\")","v":0},"","",null,1,null,1,1,4727]
[null,null,{"$f":"IFERROR(VLOOKUP(D4732,'1_Causas_Levantadas'!C:D,2,0),\"\")","v":0},"","",null,1,null,1,1,4728]
[null,null,{"$f":"IFERROR(VLOOKUP(D4733,'1_Causas_Levantadas'!C:D,2,0),\"\")","v":0},"","",null,1,null,1,1,4729]
[null,null,{"$f":"IFERROR(VLOOKUP(D4734,'1_Causas_Levantadas'!C:D,2,0),\"\")","v":0},"","",null,1,null,1,1,4730]
[null,null,{"$f":"IFERROR(VLOOKUP(D4735,'1_Causas_Levantadas'!C:D,2,0),\"\")","v":0},"","",null,1,null,1,1,4731]
[null,null,{"$f":"IFERROR(VLOOKUP(D4736,'1_Causas_Levantadas'!C:D,2,0),\"\")","v":0},"","",null,1,null,1,1,4732]
[null,null,{"$f":"IFERROR(VLOOKUP(D4737,'1_Causas_Levantadas'!C:D,2,0),\"\")","v":0},"","",null,1,null,1,1,4733]
[null,null,{"$f":"IFERROR(VLOOKUP(D4738,'1_Causas_Levantadas'!C:D,2,0),\"\")","v":0},"","",null,1,null,1,1,4734]
[null,null,{"$f":"IFERROR(VLOOKUP(D4739,'1_Causas_Levantadas'!C:D,2,0),\"\")","v":0},"","",null,1,null,1,1,4735]
[null,null,{"$f":"IFERROR(VLOOKUP(D4740,'1_Causas_Levantadas'!C:D,2,0),\"\")","v":0},"","",null,1,null,1,1,4736]
[null,null,{"$f":"IFERROR(VLOOKUP(D4741,'1_Causas_Levantadas'!C:D,2,0),\"\")","v":0},"","",null,1,null,1,1,4737]
[null,null,{"$f":"IFERROR(VLOOKUP(D4742,'1_Causas_Levantadas'!C:D,2,0),\"\")","v":0},{"$f":"IF(K4742<=$H$4,(IF(G4741>0,G4742,$G$5)),\"\")","v":""},{"$f":"IF(D4742<>\"\",\"Participante \"&K4742,\"\")","v":""},null,{"$f":"J4742","v":1},null,{"$f":"IF(G4742=$G$5,1,0)","v":1},1,{"$f":"I4742+K4741","v":4738}]
[null,null,{"$f":"IFERROR(VLOOKUP(D4743,'1_Causas_Levantadas'!C:D,2,0),\"\")","v":0},"","",null,1,null,1,{"$f":"IF(G4742<$G$4,J4742+1,1)","v":1},4739]
[null,null,{"$f":"IFERROR(VLOOKUP(D4744,'1_Causas_Levantadas'!C:D,2,0),\"\")","v":0},"","",null,1,null,1,1,4740]
[null,null,{"$f":"IFERROR(VLOOKUP(D4745,'1_Causas_Levantadas'!C:D,2,0),\"\")","v":0},"","",null,1,null,1,1,4741]
[null,null,{"$f":"IFERROR(VLOOKUP(D4746,'1_Causas_Levantadas'!C:D,2,0),\"\")","v":0},"","",null,1,null,1,1,4742]
[null,null,{"$f":"IFERROR(VLOOKUP(D4747,'1_Causas_Levantadas'!C:D,2,0),\"\")","v":0},"","",null,1,null,1,1,4743]
[null,null,{"$f":"IFERROR(VLOOKUP(D4748,'1_Causas_Levantadas'!C:D,2,0),\"\")","v":0},"","",null,1,null,1,1,4744]
[null,null,{"$f":"IFERROR(VLOOKUP(D4749,'1_Causas_Levantadas'!C:D,2,0),\"\")","v":0},"","",null,1,null,1,1,4745]
[null,null,{"$f":"IFERROR(VLOOKUP(D4750,'1_Causas_Levantadas'!C:D,2,0),\"\")","v":0},"","",null,1,null,1,1,4746]
[null,null,{"$f":"IFERROR(VLOOKUP(D4751,'1_Causas_Levantadas'!C:D,2,0),\"\")","v":0},"","",null,1,null,1,1,4747]
[null,null,{"$f":"IFERROR(VLOOKUP(D4752,'1_Causas_Levantadas'!C:D,2,0),\"\")","v":0},"","",null,1,null,1,1,4748]
[null,null,{"$f":"IFERROR(VLOOKUP(D4753,'1_Causas_Levantadas'!C:D,2,0),\"\")","v":0},"","",null,1,null,1,1,4749]
[null,null,{"$f":"IFERROR(VLOOKUP(D4754,'1_Causas_Levantadas'!C:D,2,0),\"\")","v":0},"","",null,1,null,1,1,4750]
[null,null,{"$f":"IFERROR(VLOOKUP(D4755,'1_Causas_Levantadas'!C:D,2,0),\"\")","v":0},"","",null,1,null,1,1,4751]
[null,null,{"$f":"IFERROR(VLOOKUP(D4756,'1_Causas_Levantadas'!C:D,2,0),\"\")","v":0},"","",null,1,null,1,1,4752]
[null,null,{"$f":"IFERROR(VLOOKUP(D4757,'1_Causas_Levantadas'!C:D,2,0),\"\")","v":0},"","",null,1,null,1,1,4753]
[null,null,{"$f":"IFERROR(VLOOKUP(D4758,'1_Causas_Levantadas'!C:D,2,0),\"\")","v":0},"","",null,1,null,1,1,4754]
[null,null,{"$f":"IFERROR(VLOOKUP(D4759,'1_Causas_Levantadas'!C:D,2,0),\"\")","v":0},"","",null,1,null,1,1,4755]
[null,null,{"$f":"IFERROR(VLOOKUP(D4760,'1_Causas_Levantadas'!C:D,2,0),\"\")","v":0},"","",null,1,null,1,1,4756]
[null,null,{"$f":"IFERROR(VLOOKUP(D4761,'1_Causas_Levantadas'!C:D,2,0),\"\")","v":0},"","",null,1,null,1,1,4757]
[null,null,{"$f":"IFERROR(VLOOKUP(D4762,'1_Causas_Levantadas'!C:D,2,0),\"\")","v":0},"","",null,1,null,1,1,4758]
[null,null,{"$f":"IFERROR(VLOOKUP(D4763,'1_Causas_Levantadas'!C:D,2,0),\"\")","v":0},"","",null,1,null,1,1,4759]
[null,null,{"$f":"IFERROR(VLOOKUP(D4764,'1_Causas_Levantadas'!C:D,2,0),\"\")","v":0},"","",null,1,null,1,1,4760]
[null,null,{"$f":"IFERROR(VLOOKUP(D4765,'1_Causas_Levantadas'!C:D,2,0),\"\")","v":0},"","",null,1,null,1,1,4761]
[null,null,{"$f":"IFERROR(VLOOKUP(D4766,'1_Causas_Levantadas'!C:D,2,0),\"\")","v":0},"","",null,1,null,1,1,4762]
[null,null,{"$f":"IFERROR(VLOOKUP(D4767,'1_Causas_Levantadas'!C:D,2,0),\"\")","v":0},"","",null,1,null,1,1,4763]
[null,null,{"$f":"IFERROR(VLOOKUP(D4768,'1_Causas_Levantadas'!C:D,2,0),\"\")","v":0},"","",null,1,null,1,1,4764]
[null,null,{"$f":"IFERROR(VLOOKUP(D4769,'1_Causas_Levantadas'!C:D,2,0),\"\")","v":0},"","",null,1,null,1,1,4765]
[null,null,{"$f":"IFERROR(VLOOKUP(D4770,'1_Causas_Levantadas'!C:D,2,0),\"\")","v":0},"","",null,1,null,1,1,4766]
[null,null,{"$f":"IFERROR(VLOOKUP(D4771,'1_Causas_Levantadas'!C:D,2,0),\"\")","v":0},"","",null,1,null,1,1,4767]
[null,null,{"$f":"IFERROR(VLOOKUP(D4772,'1_Causas_Levantadas'!C:D,2,0),\"\")","v":0},"","",null,1,null,1,1,4768]
[null,null,{"$f":"IFERROR(VLOOKUP(D4773,'1_Causas_Levantadas'!C:D,2,0),\"\")","v":0},"","",null,1,null,1,1,4769]
[null,null,{"$f":"IFERROR(VLOOKUP(D4774,'1_Causas_Levantadas'!C:D,2,0),\"\")","v":0},"","",null,1,null,1,1,4770]
[null,null,{"$f":"IFERROR(VLOOKUP(D4775,'1_Causas_Levantadas'!C:D,2,0),\"\")","v":0},"","",null,1,null,1,1,4771]
[null,null,{"$f":"IFERROR(VLOOKUP(D4776,'1_Causas_Levantadas'!C:D,2,0),\"\")","v":0},"","",null,1,null,1,1,4772]
[null,null,{"$f":"IFERROR(VLOOKUP(D4777,'1_Causas_Levantadas'!C:D,2,0),\"\")","v":0},"","",null,1,null,1,1,4773]
[null,null,{"$f":"IFERROR(VLOOKUP(D4778,'1_Causas_Levantadas'!C:D,2,0),\"\")","v":0},"","",null,1,null,1,1,4774]
[null,null,{"$f":"IFERROR(VLOOKUP(D4779,'1_Causas_Levantadas'!C:D,2,0),\"\")","v":0},"","",null,1,null,1,1,4775]
[null,null,{"$f":"IFERROR(VLOOKUP(D4780,'1_Causas_Levantadas'!C:D,2,0),\"\")","v":0},"","",null,1,null,1,1,4776]
[null,null,{"$f":"IFERROR(VLOOKUP(D4781,'1_Causas_Levantadas'!C:D,2,0),\"\")","v":0},"","",null,1,null,1,1,4777]
[null,null,{"$f":"IFERROR(VLOOKUP(D4782,'1_Causas_Levantadas'!C:D,2,0),\"\")","v":0},"","",null,1,null,1,1,4778]
[null,null,{"$f":"IFERROR(VLOOKUP(D4783,'1_Causas_Levantadas'!C:D,2,0),\"\")","v":0},"","",null,1,null,1,1,4779]
[null,null,{"$f":"IFERROR(VLOOKUP(D4784,'1_Causas_Levantadas'!C:D,2,0),\"\")","v":0},"","",null,1,null,1,1,4780]
[null,null,{"$f":"IFERROR(VLOOKUP(D4785,'1_Causas_Levantadas'!C:D,2,0),\"\")","v":0},"","",null,1,null,1,1,4781]
[null,null,{"$f":"IFERROR(VLOOKUP(D4786,'1_Causas_Levantadas'!C:D,2,0),\"\")","v":0},"","",null,1,null,1,1,4782]
[null,null,{"$f":"IFERROR(VLOOKUP(D4787,'1_Causas_Levantadas'!C:D,2,0),\"\")","v":0},"","",null,1,null,1,1,4783]
[null,null,{"$f":"IFERROR(VLOOKUP(D4788,'1_Causas_Levantadas'!C:D,2,0),\"\")","v":0},"","",null,1,null,1,1,4784]
[null,null,{"$f":"IFERROR(VLOOKUP(D4789,'1_Causas_Levantadas'!C:D,2,0),\"\")","v":0},"","",null,1,null,1,1,4785]
[null,null,{"$f":"IFERROR(VLOOKUP(D4790,'1_Causas_Levantadas'!C:D,2,0),\"\")","v":0},"","",null,1,null,1,1,4786]
[null,null,{"$f":"IFERROR(VLOOKUP(D4791,'1_Causas_Levantadas'!C:D,2,0),\"\")","v":0},"","",null,1,null,1,1,4787]
[null,null,{"$f":"IFERROR(VLOOKUP(D4792,'1_Causas_Levantadas'!C:D,2,0),\"\")","v":0},"","",null,1,null,1,1,4788]
[null,null,{"$f":"IFERROR(VLOOKUP(D4793,'1_Causas_Levantadas'!C:D,2,0),\"\")","v":0},"","",null,1,null,1,1,4789]
[null,null,{"$f":"IFERROR(VLOOKUP(D4794,'1_Causas_Levantadas'!C:D,2,0),\"\")","v":0},"","",null,1,null,1,1,4790]
[null,null,{"$f":"IFERROR(VLOOKUP(D4795,'1_Causas_Levantadas'!C:D,2,0),\"\")","v":0},"","",null,1,null,1,1,4791]
[null,null,{"$f":"IFERROR(VLOOKUP(D4796,'1_Causas_Levantadas'!C:D,2,0),\"\")","v":0},"","",null,1,null,1,1,4792]
[null,null,{"$f":"IFERROR(VLOOKUP(D4797,'1_Causas_Levantadas'!C:D,2,0),\"\")","v":0},"","",null,1,null,1,1,4793]
[null,null,{"$f":"IFERROR(VLOOKUP(D4798,'1_Causas_Levantadas'!C:D,2,0),\"\")","v":0},"","",null,1,null,1,1,4794]
[null,null,{"$f":"IFERROR(VLOOKUP(D4799,'1_Causas_Levantadas'!C:D,2,0),\"\")","v":0},"","",null,1,null,1,1,4795]
[null,null,{"$f":"IFERROR(VLOOKUP(D4800,'1_Causas_Levantadas'!C:D,2,0),\"\")","v":0},"","",null,1,null,1,1,4796]
[null,null,{"$f":"IFERROR(VLOOKUP(D4801,'1_Causas_Levantadas'!C:D,2,0),\"\")","v":0},"","",null,1,null,1,1,4797]
[null,null,{"$f":"IFERROR(VLOOKUP(D4802,'1_Causas_Levantadas'!C:D,2,0),\"\")","v":0},"","",null,1,null,1,1,4798]
[null,null,{"$f":"IFERROR(VLOOKUP(D4803,'1_Causas_Levantadas'!C:D,2,0),\"\")","v":0},"","",null,1,null,1,1,4799]
[null,null,{"$f":"IFERROR(VLOOKUP(D4804,'1_Causas_Levantadas'!C:D,2,0),\"\")","v":0},"","",null,1,null,1,1,4800]
[null,null,{"$f":"IFERROR(VLOOKUP(D4805,'1_Causas_Levantadas'!C:D,2,0),\"\")","v":0},"","",null,1,null,1,1,4801]
[null,null,{"$f":"IFERROR(VLOOKUP(D4806,'1_Causas_Levantadas'!C:D,2,0),\"\")","v":0},{"$f":"IF(K4806<=$H$4,(IF(G4805>0,G4806,$G$5)),\"\")","v":""},{"$f":"IF(D4806<>\"\",\"Participante \"&K4806,\"\")","v":""},null,{"$f":"J4806","v":1},null,{"$f":"IF(G4806=$G$5,1,0)","v":1},1,{"$f":"I4806+K4805","v":4802}]
[null,null,{"$f":"IFERROR(VLOOKUP(D4807,'1_Causas_Levantadas'!C:D,2,0),\"\")","v":0},"","",null,1,null,1,{"$f":"IF(G4806<$G$4,J4806+1,1)","v":1},4803]
[null,null,{"$f":"IFERROR(VLOOKUP(D4808,'1_Causas_Levantadas'!C:D,2,0),\"\")","v":0},"","",null,1,null,1,1,4804]
[null,null,{"$f":"IFERROR(VLOOKUP(D4809,'1_Causas_Levantadas'!C:D,2,0),\"\")","v":0},"","",null,1,null,1,1,4805]
[null,null,{"$f":"IFERROR(VLOOKUP(D4810,'1_Causas_Levantadas'!C:D,2,0),\"\")","v":0},"","",null,1,null,1,1,4806]
[null,null,{"$f":"IFERROR(VLOOKUP(D4811,'1_Causas_Levantadas'!C:D,2,0),\"\")","v":0},"","",null,1,null,1,1,4807]
[null,null,{"$f":"IFERROR(VLOOKUP(D4812,'1_Causas_Levantadas'!C:D,2,0),\"\")","v":0},"","",null,1,null,1,1,4808]
[null,null,{"$f":"IFERROR(VLOOKUP(D4813,'1_Causas_Levantadas'!C:D,2,0),\"\")","v":0},"","",null,1,null,1,1,4809]
[null,null,{"$f":"IFERROR(VLOOKUP(D4814,'1_Causas_Levantadas'!C:D,2,0),\"\")","v":0},"","",null,1,null,1,1,4810]
[null,null,{"$f":"IFERROR(VLOOKUP(D4815,'1_Causas_Levantadas'!C:D,2,0),\"\")","v":0},"","",null,1,null,1,1,4811]
[null,null,{"$f":"IFERROR(VLOOKUP(D4816,'1_Causas_Levantadas'!C:D,2,0),\"\")","v":0},"","",null,1,null,1,1,4812]
[null,null,{"$f":"IFERROR(VLOOKUP(D4817,'1_Causas_Levantadas'!C:D,2,0),\"\")","v":0},"","",null,1,null,1,1,4813]
[null,null,{"$f":"IFERROR(VLOOKUP(D4818,'1_Causas_Levantadas'!C:D,2,0),\"\")","v":0},"","",null,1,null,1,1,4814]
[null,null,{"$f":"IFERROR(VLOOKUP(D4819,'1_Causas_Levantadas'!C:D,2,0),\"\")","v":0},"","",null,1,null,1,1,4815]
[null,null,{"$f":"IFERROR(VLOOKUP(D4820,'1_Causas_Levantadas'!C:D,2,0),\"\")","v":0},"","",null,1,null,1,1,4816]
[null,null,{"$f":"IFERROR(VLOOKUP(D4821,'1_Causas_Levantadas'!C:D,2,0),\"\")","v":0},"","",null,1,null,1,1,4817]
[null,null,{"$f":"IFERROR(VLOOKUP(D4822,'1_Causas_Levantadas'!C:D,2,0),\"\")","v":0},"","",null,1,null,1,1,4818]
[null,null,{"$f":"IFERROR(VLOOKUP(D4823,'1_Causas_Levantadas'!C:D,2,0),\"\")","v":0},"","",null,1,null,1,1,4819]
[null,null,{"$f":"IFERROR(VLOOKUP(D4824,'1_Causas_Levantadas'!C:D,2,0),\"\")","v":0},"","",null,1,null,1,1,4820]
[null,null,{"$f":"IFERROR(VLOOKUP(D4825,'1_Causas_Levantadas'!C:D,2,0),\"\")","v":0},"","",null,1,null,1,1,4821]
[null,null,{"$f":"IFERROR(VLOOKUP(D4826,'1_Causas_Levantadas'!C:D,2,0),\"\")","v":0},"","",null,1,null,1,1,4822]
[null,null,{"$f":"IFERROR(VLOOKUP(D4827,'1_Causas_Levantadas'!C:D,2,0),\"\")","v":0},"","",null,1,null,1,1,4823]
[null,null,{"$f":"IFERROR(VLOOKUP(D4828,'1_Causas_Levantadas'!C:D,2,0),\"\")","v":0},"","",null,1,null,1,1,4824]
[null,null,{"$f":"IFERROR(VLOOKUP(D4829,'1_Causas_Levantadas'!C:D,2,0),\"\")","v":0},"","",null,1,null,1,1,4825]
[null,null,{"$f":"IFERROR(VLOOKUP(D4830,'1_Causas_Levantadas'!C:D,2,0),\"\")","v":0},"","",null,1,null,1,1,4826]
[null,null,{"$f":"IFERROR(VLOOKUP(D4831,'1_Causas_Levantadas'!C:D,2,0),\"\")","v":0},"","",null,1,null,1,1,4827]
[null,null,{"$f":"IFERROR(VLOOKUP(D4832,'1_Causas_Levantadas'!C:D,2,0),\"\")","v":0},"","",null,1,null,1,1,4828]
[null,null,{"$f":"IFERROR(VLOOKUP(D4833,'1_Causas_Levantadas'!C:D,2,0),\"\")","v":0},"","",null,1,null,1,1,4829]
[null,null,{"$f":"IFERROR(VLOOKUP(D4834,'1_Causas_Levantadas'!C:D,2,0),\"\")","v":0},"","",null,1,null,1,1,4830]
[null,null,{"$f":"IFERROR(VLOOKUP(D4835,'1_Causas_Levantadas'!C:D,2,0),\"\")","v":0},"","",null,1,null,1,1,4831]
[null,null,{"$f":"IFERROR(VLOOKUP(D4836,'1_Causas_Levantadas'!C:D,2,0),\"\")","v":0},"","",null,1,null,1,1,4832]
[null,null,{"$f":"IFERROR(VLOOKUP(D4837,'1_Causas_Levantadas'!C:D,2,0),\"\")","v":0},"","",null,1,null,1,1,4833]
[null,null,{"$f":"IFERROR(VLOOKUP(D4838,'1_Causas_Levantadas'!C:D,2,0),\"\")","v":0},"","",null,1,null,1,1,4834]
[null,null,{"$f":"IFERROR(VLOOKUP(D4839,'1_Causas_Levantadas'!C:D,2,0),\"\")","v":0},"","",null,1,null,1,1,4835]
[null,null,{"$f":"IFERROR(VLOOKUP(D4840,'1_Causas_Levantadas'!C:D,2,0),\"\")","v":0},"","",null,1,null,1,1,4836]
[null,null,{"$f":"IFERROR(VLOOKUP(D4841,'1_Causas_Levantadas'!C:D,2,0),\"\")","v":0},"","",null,1,null,1,1,4837]
[null,null,{"$f":"IFERROR(VLOOKUP(D4842,'1_Causas_Levantadas'!C:D,2,0),\"\")","v":0},"","",null,1,null,1,1,4838]
[null,null,{"$f":"IFERROR(VLOOKUP(D4843,'1_Causas_Levantadas'!C:D,2,0),\"\")","v":0},"","",null,1,null,1,1,4839]
[null,null,{"$f":"IFERROR(VLOOKUP(D4844,'1_Causas_Levantadas'!C:D,2,0),\"\")","v":0},"","",null,1,null,1,1,4840]
[null,null,{"$f":"IFERROR(VLOOKUP(D4845,'1_Causas_Levantadas'!C:D,2,0),\"\")","v":0},"","",null,1,null,1,1,4841]
[null,null,{"$f":"IFERROR(VLOOKUP(D4846,'1_Causas_Levantadas'!C:D,2,0),\"\")","v":0},"","",null,1,null,1,1,4842]
[null,null,{"$f":"IFERROR(VLOOKUP(D4847,'1_Causas_Levantadas'!C:D,2,0),\"\")","v":0},"","",null,1,null,1,1,4843]
[null,null,{"$f":"IFERROR(VLOOKUP(D4848,'1_Causas_Levantadas'!C:D,2,0),\"\")","v":0},"","",null,1,null,1,1,4844]
[null,null,{"$f":"IFERROR(VLOOKUP(D4849,'1_Causas_Levantadas'!C:D,2,0),\"\")","v":0},"","",null,1,null,1,1,4845]
[null,null,{"$f":"IFERROR(VLOOKUP(D4850,'1_Causas_Levantadas'!C:D,2,0),\"\")","v":0},"","",null,1,null,1,1,4846]
[null,null,{"$f":"IFERROR(VLOOKUP(D4851,'1_Causas_Levantadas'!C:D,2,0),\"\")","v":0},"","",null,1,null,1,1,4847]
[null,null,{"$f":"IFERROR(VLOOKUP(D4852,'1_Causas_Levantadas'!C:D,2,0),\"\")","v":0},"","",null,1,null,1,1,4848]
[null,null,{"$f":"IFERROR(VLOOKUP(D4853,'1_Causas_Levantadas'!C:D,2,0),\"\")","v":0},"","",null,1,null,1,1,4849]
[null,null,{"$f":"IFERROR(VLOOKUP(D4854,'1_Causas_Levantadas'!C:D,2,0),\"\")","v":0},"","",null,1,null,1,1,4850]
[null,null,{"$f":"IFERROR(VLOOKUP(D4855,'1_Causas_Levantadas'!C:D,2,0),\"\")","v":0},"","",null,1,null,1,1,4851]
[null,null,{"$f":"IFERROR(VLOOKUP(D4856,'1_Causas_Levantadas'!C:D,2,0),\"\")","v":0},"","",null,1,null,1,1,4852]
[null,null,{"$f":"IFERROR(VLOOKUP(D4857,'1_Causas_Levantadas'!C:D,2,0),\"\")","v":0},"","",null,1,null,1,1,4853]
[null,null,{"$f":"IFERROR(VLOOKUP(D4858,'1_Causas_Levantadas'!C:D,2,0),\"\")","v":0},"","",null,1,null,1,1,4854]
[null,null,{"$f":"IFERROR(VLOOKUP(D4859,'1_Causas_Levantadas'!C:D,2,0),\"\")","v":0},"","",null,1,null,1,1,4855]
[null,null,{"$f":"IFERROR(VLOOKUP(D4860,'1_Causas_Levantadas'!C:D,2,0),\"\")","v":0},"","",null,1,null,1,1,4856]
[null,null,{"$f":"IFERROR(VLOOKUP(D4861,'1_Causas_Levantadas'!C:D,2,0),\"\")","v":0},"","",null,1,null,1,1,4857]
[null,null,{"$f":"IFERROR(VLOOKUP(D4862,'1_Causas_Levantadas'!C:D,2,0),\"\")","v":0},"","",null,1,null,1,1,4858]
[null,null,{"$f":"IFERROR(VLOOKUP(D4863,'1_Causas_Levantadas'!C:D,2,0),\"\")","v":0},"","",null,1,null,1,1,4859]
[null,null,{"$f":"IFERROR(VLOOKUP(D4864,'1_Causas_Levantadas'!C:D,2,0),\"\")","v":0},"","",null,1,null,1,1,4860]
[null,null,{"$f":"IFERROR(VLOOKUP(D4865,'1_Causas_Levantadas'!C:D,2,0),\"\")","v":0},"","",null,1,null,1,1,4861]
[null,null,{"$f":"IFERROR(VLOOKUP(D4866,'1_Causas_Levantadas'!C:D,2,0),\"\")","v":0},"","",null,1,null,1,1,4862]
[null,null,{"$f":"IFERROR(VLOOKUP(D4867,'1_Causas_Levantadas'!C:D,2,0),\"\")","v":0},"","",null,1,null,1,1,4863]
[null,null,{"$f":"IFERROR(VLOOKUP(D4868,'1_Causas_Levantadas'!C:D,2,0),\"\")","v":0},"","",null,1,null,1,1,4864]
[null,null,{"$f":"IFERROR(VLOOKUP(D4869,'1_Causas_Levantadas'!C:D,2,0),\"\")","v":0},"","",null,1,null,1,1,4865]
[null,null,{"$f":"IFERROR(VLOOKUP(D4870,'1_Causas_Levantadas'!C:D,2,0),\"\")","v":0},{"$f":"IF(K4870<=$H$4,(IF(G4869>0,G4870,$G$5)),\"\")","v":""},{"$f":"IF(D4870<>\"\",\"Participante \"&K4870,\"\")","v":""},null,{"$f":"J4870","v":1},null,{"$f":"IF(G4870=$G$5,1,0)","v":1},1,{"$f":"I4870+K4869","v":4866}]
[null,null,{"$f":"IFERROR(VLOOKUP(D4871,'1_Causas_Levantadas'!C:D,2,0),\"\")","v":0},"","",null,1,null,1,{"$f":"IF(G4870<$G$4,J4870+1,1)","v":1},4867]
[null,null,{"$f":"IFERROR(VLOOKUP(D4872,'1_Causas_Levantadas'!C:D,2,0),\"\")","v":0},"","",null,1,null,1,1,4868]
[null,null,{"$f":"IFERROR(VLOOKUP(D4873,'1_Causas_Levantadas'!C:D,2,0),\"\")","v":0},"","",null,1,null,1,1,4869]
[null,null,{"$f":"IFERROR(VLOOKUP(D4874,'1_Causas_Levantadas'!C:D,2,0),\"\")","v":0},"","",null,1,null,1,1,4870]
[null,null,{"$f":"IFERROR(VLOOKUP(D4875,'1_Causas_Levantadas'!C:D,2,0),\"\")","v":0},"","",null,1,null,1,1,4871]
[null,null,{"$f":"IFERROR(VLOOKUP(D4876,'1_Causas_Levantadas'!C:D,2,0),\"\")","v":0},"","",null,1,null,1,1,4872]
[null,null,{"$f":"IFERROR(VLOOKUP(D4877,'1_Causas_Levantadas'!C:D,2,0),\"\")","v":0},"","",null,1,null,1,1,4873]
[null,null,{"$f":"IFERROR(VLOOKUP(D4878,'1_Causas_Levantadas'!C:D,2,0),\"\")","v":0},"","",null,1,null,1,1,4874]
[null,null,{"$f":"IFERROR(VLOOKUP(D4879,'1_Causas_Levantadas'!C:D,2,0),\"\")","v":0},"","",null,1,null,1,1,4875]
[null,null,{"$f":"IFERROR(VLOOKUP(D4880,'1_Causas_Levantadas'!C:D,2,0),\"\")","v":0},"","",null,1,null,1,1,4876]
[null,null,{"$f":"IFERROR(VLOOKUP(D4881,'1_Causas_Levantadas'!C:D,2,0),\"\")","v":0},"","",null,1,null,1,1,4877]
[null,null,{"$f":"IFERROR(VLOOKUP(D4882,'1_Causas_Levantadas'!C:D,2,0),\"\")","v":0},"","",null,1,null,1,1,4878]
[null,null,{"$f":"IFERROR(VLOOKUP(D4883,'1_Causas_Levantadas'!C:D,2,0),\"\")","v":0},"","",null,1,null,1,1,4879]
[null,null,{"$f":"IFERROR(VLOOKUP(D4884,'1_Causas_Levantadas'!C:D,2,0),\"\")","v":0},"","",null,1,null,1,1,4880]
[null,null,{"$f":"IFERROR(VLOOKUP(D4885,'1_Causas_Levantadas'!C:D,2,0),\"\")","v":0},"","",null,1,null,1,1,4881]
[null,null,{"$f":"IFERROR(VLOOKUP(D4886,'1_Causas_Levantadas'!C:D,2,0),\"\")","v":0},"","",null,1,null,1,1,4882]
[null,null,{"$f":"IFERROR(VLOOKUP(D4887,'1_Causas_Levantadas'!C:D,2,0),\"\")","v":0},"","",null,1,null,1,1,4883]
[null,null,{"$f":"IFERROR(VLOOKUP(D4888,'1_Causas_Levantadas'!C:D,2,0),\"\")","v":0},"","",null,1,null,1,1,4884]
[null,null,{"$f":"IFERROR(VLOOKUP(D4889,'1_Causas_Levantadas'!C:D,2,0),\"\")","v":0},"","",null,1,null,1,1,4885]
[null,null,{"$f":"IFERROR(VLOOKUP(D4890,'1_Causas_Levantadas'!C:D,2,0),\"\")","v":0},"","",null,1,null,1,1,4886]
[null,null,{"$f":"IFERROR(VLOOKUP(D4891,'1_Causas_Levantadas'!C:D,2,0),\"\")","v":0},"","",null,1,null,1,1,4887]
[null,null,{"$f":"IFERROR(VLOOKUP(D4892,'1_Causas_Levantadas'!C:D,2,0),\"\")","v":0},"","",null,1,null,1,1,4888]
[null,null,{"$f":"IFERROR(VLOOKUP(D4893,'1_Causas_Levantadas'!C:D,2,0),\"\")","v":0},"","",null,1,null,1,1,4889]
[null,null,{"$f":"IFERROR(VLOOKUP(D4894,'1_Causas_Levantadas'!C:D,2,0),\"\")","v":0},"","",null,1,null,1,1,4890]
[null,null,{"$f":"IFERROR(VLOOKUP(D4895,'1_Causas_Levantadas'!C:D,2,0),\"\")","v":0},"","",null,1,null,1,1,4891]
[null,null,{"$f":"IFERROR(VLOOKUP(D4896,'1_Causas_Levantadas'!C:D,2,0),\"\")","v":0},"","",null,1,null,1,1,4892]
[null,null,{"$f":"IFERROR(VLOOKUP(D4897,'1_Causas_Levantadas'!C:D,2,0),\"\")","v":0},"","",null,1,null,1,1,4893]
[null,null,{"$f":"IFERROR(VLOOKUP(D4898,'1_Causas_Levantadas'!C:D,2,0),\"\")","v":0},"","",null,1,null,1,1,4894]
[null,null,{"$f":"IFERROR(VLOOKUP(D4899,'1_Causas_Levantadas'!C:D,2,0),\"\")","v":0},"","",null,1,null,1,1,4895]
[null,null,{"$f":"IFERROR(VLOOKUP(D4900,'1_Causas_Levantadas'!C:D,2,0),\"\")","v":0},"","",null,1,null,1,1,4896]
[null,null,{"$f":"IFERROR(VLOOKUP(D4901,'1_Causas_Levantadas'!C:D,2,0),\"\")","v":0},"","",null,1,null,1,1,4897]
[null,null,{"$f":"IFERROR(VLOOKUP(D4902,'1_Causas_Levantadas'!C:D,2,0),\"\")","v":0},"","",null,1,null,1,1,4898]
[null,null,{"$f":"IFERROR(VLOOKUP(D4903,'1_Causas_Levantadas'!C:D,2,0),\"\")","v":0},"","",null,1,null,1,1,4899]
[null,null,{"$f":"IFERROR(VLOOKUP(D4904,'1_Causas_Levantadas'!C:D,2,0),\"\")","v":0},"","",null,1,null,1,1,4900]
[null,null,{"$f":"IFERROR(VLOOKUP(D4905,'1_Causas_Levantadas'!C:D,2,0),\"\")","v":0},"","",null,1,null,1,1,4901]
[null,null,{"$f":"IFERROR(VLOOKUP(D4906,'1_Causas_Levantadas'!C:D,2,0),\"\")","v":0},"","",null,1,null,1,1,4902]
[null,null,{"$f":"IFERROR(VLOOKUP(D4907,'1_Causas_Levantadas'!C:D,2,0),\"\")","v":0},"","",null,1,null,1,1,4903]
[null,null,{"$f":"IFERROR(VLOOKUP(D4908,'1_Causas_Levantadas'!C:D,2,0),\"\")","v":0},"","",null,1,null,1,1,4904]
[null,null,{"$f":"IFERROR(VLOOKUP(D4909,'1_Causas_Levantadas'!C:D,2,0),\"\")","v":0},"","",null,1,null,1,1,4905]
[null,null,{"$f":"IFERROR(VLOOKUP(D4910,'1_Causas_Levantadas'!C:D,2,0),\"\")","v":0},"","",null,1,null,1,1,4906]
[null,null,{"$f":"IFERROR(VLOOKUP(D4911,'1_Causas_Levantadas'!C:D,2,0),\"\")","v":0},"","",null,1,null,1,1,4907]
[null,null,{"$f":"IFERROR(VLOOKUP(D4912,'1_Causas_Levantadas'!C:D,2,0),\"\")","v":0},"","",null,1,null,1,1,4908]
[null,null,{"$f":"IFERROR(VLOOKUP(D4913,'1_Causas_Levantadas'!C:D,2,0),\"\")","v":0},"","",null,1,null,1,1,4909]
[null,null,{"$f":"IFERROR(VLOOKUP(D4914,'1_Causas_Levantadas'!C:D,2,0),\"\")","v":0},"","",null,1,null,1,1,4910]
[null,null,{"$f":"IFERROR(VLOOKUP(D4915,'1_Causas_Levantadas'!C:D,2,0),\"\")","v":0},"","",null,1,null,1,1,4911]
[null,null,{"$f":"IFERROR(VLOOKUP(D4916,'1_Causas_Levantadas'!C:D,2,0),\"\")","v":0},"","",null,1,null,1,1,4912]
[null,null,{"$f":"IFERROR(VLOOKUP(D4917,'1_Causas_Levantadas'!C:D,2,0),\"\")","v":0},"","",null,1,null,1,1,4913]
[null,null,{"$f":"IFERROR(VLOOKUP(D4918,'1_Causas_Levantadas'!C:D,2,0),\"\")","v":0},"","",null,1,null,1,1,4914]
[null,null,{"$f":"IFERROR(VLOOKUP(D4919,'1_Causas_Levantadas'!C:D,2,0),\"\")","v":0},"","",null,1,null,1,1,4915]
[null,null,{"$f":"IFERROR(VLOOKUP(D4920,'1_Causas_Levantadas'!C:D,2,0),\"\")","v":0},"","",null,1,null,1,1,4916]
[null,null,{"$f":"IFERROR(VLOOKUP(D4921,'1_Causas_Levantadas'!C:D,2,0),\"\")","v":0},"","",null,1,null,1,1,4917]
[null,null,{"$f":"IFERROR(VLOOKUP(D4922,'1_Causas_Levantadas'!C:D,2,0),\"\")","v":0},"","",null,1,null,1,1,4918]
[null,null,{"$f":"IFERROR(VLOOKUP(D4923,'1_Causas_Levantadas'!C:D,2,0),\"\")","v":0},"","",null,1,null,1,1,4919]
[null,null,{"$f":"IFERROR(VLOOKUP(D4924,'1_Causas_Levantadas'!C:D,2,0),\"\")","v":0},"","",null,1,null,1,1,4920]
[null,null,{"$f":"IFERROR(VLOOKUP(D4925,'1_Causas_Levantadas'!C:D,2,0),\"\")","v":0},"","",null,1,null,1,1,4921]
[null,null,{"$f":"IFERROR(VLOOKUP(D4926,'1_Causas_Levantadas'!C:D,2,0),\"\")","v":0},"","",null,1,null,1,1,4922]
[null,null,{"$f":"IFERROR(VLOOKUP(D4927,'1_Causas_Levantadas'!C:D,2,0),\"\")","v":0},"","",null,1,null,1,1,4923]
[null,null,{"$f":"IFERROR(VLOOKUP(D4928,'1_Causas_Levantadas'!C:D,2,0),\"\")","v":0},"","",null,1,null,1,1,4924]
[null,null,{"$f":"IFERROR(VLOOKUP(D4929,'1_Causas_Levantadas'!C:D,2,0),\"\")","v":0},"","",null,1,null,1,1,4925]
[null,null,{"$f":"IFERROR(VLOOKUP(D4930,'1_Causas_Levantadas'!C:D,2,0),\"\")","v":0},"","",null,1,null,1,1,4926]
[null,null,{"$f":"IFERROR(VLOOKUP(D4931,'1_Causas_Levantadas'!C:D,2,0),\"\")","v":0},"","",null,1,null,1,1,4927]
[null,null,{"$f":"IFERROR(VLOOKUP(D4932,'1_Causas_Levantadas'!C:D,2,0),\"\")","v":0},"","",null,1,null,1,1,4928]
[null,null,{"$f":"IFERROR(VLOOKUP(D4933,'1_Causas_Levantadas'!C:D,2,0),\"\")","v":0},"","",null,1,null,1,1,4929]
[null,null,{"$f":"IFERROR(VLOOKUP(D4934,'1_Causas_Levantadas'!C:D,2,0),\"\")","v":0},{"$f":"IF(K4934<=$H$4,(IF(G4933>0,G4934,$G$5)),\"\")","v":""},{"$f":"IF(D4934<>\"\",\"Participante \"&K4934,\"\")","v":""},null,{"$f":"J4934","v":1},null,{"$f":"IF(G4934=$G$5,1,0)","v":1},1,{"$f":"I4934+K4933","v":4930}]
[null,null,{"$f":"IFERROR(VLOOKUP(D4935,'1_Causas_Levantadas'!C:D,2,0),\"\")","v":0},"","",null,1,null,1,{"$f":"IF(G4934<$G$4,J4934+1,1)","v":1},4931]
[null,null,{"$f":"IFERROR(VLOOKUP(D4936,'1_Causas_Levantadas'!C:D,2,0),\"\")","v":0},"","",null,1,null,1,1,4932]
[null,null,{"$f":"IFERROR(VLOOKUP(D4937,'1_Causas_Levantadas'!C:D,2,0),\"\")","v":0},"","",null,1,null,1,1,4933]
[null,null,{"$f":"IFERROR(VLOOKUP(D4938,'1_Causas_Levantadas'!C:D,2,0),\"\")","v":0},"","",null,1,null,1,1,4934]
[null,null,{"$f":"IFERROR(VLOOKUP(D4939,'1_Causas_Levantadas'!C:D,2,0),\"\")","v":0},"","",null,1,null,1,1,4935]
[null,null,{"$f":"IFERROR(VLOOKUP(D4940,'1_Causas_Levantadas'!C:D,2,0),\"\")","v":0},"","",null,1,null,1,1,4936]
[null,null,{"$f":"IFERROR(VLOOKUP(D4941,'1_Causas_Levantadas'!C:D,2,0),\"\")","v":0},"","",null,1,null,1,1,4937]
[null,null,{"$f":"IFERROR(VLOOKUP(D4942,'1_Causas_Levantadas'!C:D,2,0),\"\")","v":0},"","",null,1,null,1,1,4938]
[null,null,{"$f":"IFERROR(VLOOKUP(D4943,'1_Causas_Levantadas'!C:D,2,0),\"\")","v":0},"","",null,1,null,1,1,4939]
[null,null,{"$f":"IFERROR(VLOOKUP(D4944,'1_Causas_Levantadas'!C:D,2,0),\"\")","v":0},"","",null,1,null,1,1,4940]
[null,null,{"$f":"IFERROR(VLOOKUP(D4945,'1_Causas_Levantadas'!C:D,2,0),\"\")","v":0},"","",null,1,null,1,1,4941]
[null,null,{"$f":"IFERROR(VLOOKUP(D4946,'1_Causas_Levantadas'!C:D,2,0),\"\")","v":0},"","",null,1,null,1,1,4942]
[null,null,{"$f":"IFERROR(VLOOKUP(D4947,'1_Causas_Levantadas'!C:D,2,0),\"\")","v":0},"","",null,1,null,1,1,4943]
[null,null,{"$f":"IFERROR(VLOOKUP(D4948,'1_Causas_Levantadas'!C:D,2,0),\"\")","v":0},"","",null,1,null,1,1,4944]
[null,null,{"$f":"IFERROR(VLOOKUP(D4949,'1_Causas_Levantadas'!C:D,2,0),\"\")","v":0},"","",null,1,null,1,1,4945]
[null,null,{"$f":"IFERROR(VLOOKUP(D4950,'1_Causas_Levantadas'!C:D,2,0),\"\")","v":0},"","",null,1,null,1,1,4946]
[null,null,{"$f":"IFERROR(VLOOKUP(D4951,'1_Causas_Levantadas'!C:D,2,0),\"\")","v":0},"","",null,1,null,1,1,4947]
[null,null,{"$f":"IFERROR(VLOOKUP(D4952,'1_Causas_Levantadas'!C:D,2,0),\"\")","v":0},"","",null,1,null,1,1,4948]
[null,null,{"$f":"IFERROR(VLOOKUP(D4953,'1_Causas_Levantadas'!C:D,2,0),\"\")","v":0},"","",null,1,null,1,1,4949]
[null,null,{"$f":"IFERROR(VLOOKUP(D4954,'1_Causas_Levantadas'!C:D,2,0),\"\")","v":0},"","",null,1,null,1,1,4950]
[null,null,{"$f":"IFERROR(VLOOKUP(D4955,'1_Causas_Levantadas'!C:D,2,0),\"\")","v":0},"","",null,1,null,1,1,4951]
[null,null,{"$f":"IFERROR(VLOOKUP(D4956,'1_Causas_Levantadas'!C:D,2,0),\"\")","v":0},"","",null,1,null,1,1,4952]
[null,null,{"$f":"IFERROR(VLOOKUP(D4957,'1_Causas_Levantadas'!C:D,2,0),\"\")","v":0},"","",null,1,null,1,1,4953]
[null,null,{"$f":"IFERROR(VLOOKUP(D4958,'1_Causas_Levantadas'!C:D,2,0),\"\")","v":0},"","",null,1,null,1,1,4954]
[null,null,{"$f":"IFERROR(VLOOKUP(D4959,'1_Causas_Levantadas'!C:D,2,0),\"\")","v":0},"","",null,1,null,1,1,4955]
[null,null,{"$f":"IFERROR(VLOOKUP(D4960,'1_Causas_Levantadas'!C:D,2,0),\"\")","v":0},"","",null,1,null,1,1,4956]
[null,null,{"$f":"IFERROR(VLOOKUP(D4961,'1_Causas_Levantadas'!C:D,2,0),\"\")","v":0},"","",null,1,null,1,1,4957]
[null,null,{"$f":"IFERROR(VLOOKUP(D4962,'1_Causas_Levantadas'!C:D,2,0),\"\")","v":0},"","",null,1,null,1,1,4958]
[null,null,{"$f":"IFERROR(VLOOKUP(D4963,'1_Causas_Levantadas'!C:D,2,0),\"\")","v":0},"","",null,1,null,1,1,4959]
[null,null,{"$f":"IFERROR(VLOOKUP(D4964,'1_Causas_Levantadas'!C:D,2,0),\"\")","v":0},"","",null,1,null,1,1,4960]
[null,null,{"$f":"IFERROR(VLOOKUP(D4965,'1_Causas_Levantadas'!C:D,2,0),\"\")","v":0},"","",null,1,null,1,1,4961]
[null,null,{"$f":"IFERROR(VLOOKUP(D4966,'1_Causas_Levantadas'!C:D,2,0),\"\")","v":0},"","",null,1,null,1,1,4962]
[null,null,{"$f":"IFERROR(VLOOKUP(D4967,'1_Causas_Levantadas'!C:D,2,0),\"\")","v":0},"","",null,1,null,1,1,4963]
[null,null,{"$f":"IFERROR(VLOOKUP(D4968,'1_Causas_Levantadas'!C:D,2,0),\"\")","v":0},"","",null,1,null,1,1,4964]
[null,null,{"$f":"IFERROR(VLOOKUP(D4969,'1_Causas_Levantadas'!C:D,2,0),\"\")","v":0},"","",null,1,null,1,1,4965]
[null,null,{"$f":"IFERROR(VLOOKUP(D4970,'1_Causas_Levantadas'!C:D,2,0),\"\")","v":0},"","",null,1,null,1,1,4966]
[null,null,{"$f":"IFERROR(VLOOKUP(D4971,'1_Causas_Levantadas'!C:D,2,0),\"\")","v":0},"","",null,1,null,1,1,4967]
[null,null,{"$f":"IFERROR(VLOOKUP(D4972,'1_Causas_Levantadas'!C:D,2,0),\"\")","v":0},"","",null,1,null,1,1,4968]
[null,null,{"$f":"IFERROR(VLOOKUP(D4973,'1_Causas_Levantadas'!C:D,2,0),\"\")","v":0},"","",null,1,null,1,1,4969]
[null,null,{"$f":"IFERROR(VLOOKUP(D4974,'1_Causas_Levantadas'!C:D,2,0),\"\")","v":0},"","",null,1,null,1,1,4970]
[null,null,{"$f":"IFERROR(VLOOKUP(D4975,'1_Causas_Levantadas'!C:D,2,0),\"\")","v":0},"","",null,1,null,1,1,4971]
[null,null,{"$f":"IFERROR(VLOOKUP(D4976,'1_Causas_Levantadas'!C:D,2,0),\"\")","v":0},"","",null,1,null,1,1,4972]
[null,null,{"$f":"IFERROR(VLOOKUP(D4977,'1_Causas_Levantadas'!C:D,2,0),\"\")","v":0},"","",null,1,null,1,1,4973]
[null,null,{"$f":"IFERROR(VLOOKUP(D4978,'1_Causas_Levantadas'!C:D,2,0),\"\")","v":0},"","",null,1,null,1,1,4974]
[null,null,{"$f":"IFERROR(VLOOKUP(D4979,'1_Causas_Levantadas'!C:D,2,0),\"\")","v":0},"","",null,1,null,1,1,4975]
[null,null,{"$f":"IFERROR(VLOOKUP(D4980,'1_Causas_Levantadas'!C:D,2,0),\"\")","v":0},"","",null,1,null,1,1,4976]
[null,null,{"$f":"IFERROR(VLOOKUP(D4981,'1_Causas_Levantadas'!C:D,2,0),\"\")","v":0},"","",null,1,null,1,1,4977]
[null,null,{"$f":"IFERROR(VLOOKUP(D4982,'1_Causas_Levantadas'!C:D,2,0),\"\")","v":0},"","",null,1,null,1,1,4978]
[null,null,{"$f":"IFERROR(VLOOKUP(D4983,'1_Causas_Levantadas'!C:D,2,0),\"\")","v":0},"","",null,1,null,1,1,4979]
[null,null,{"$f":"IFERROR(VLOOKUP(D4984,'1_Causas_Levantadas'!C:D,2,0),\"\")","v":0},"","",null,1,null,1,1,4980]
[null,null,{"$f":"IFERROR(VLOOKUP(D4985,'1_Causas_Levantadas'!C:D,2,0),\"\")","v":0},"","",null,1,null,1,1,4981]
[null,null,{"$f":"IFERROR(VLOOKUP(D4986,'1_Causas_Levantadas'!C:D,2,0),\"\")","v":0},"","",null,1,null,1,1,4982]
[null,null,{"$f":"IFERROR(VLOOKUP(D4987,'1_Causas_Levantadas'!C:D,2,0),\"\")","v":0},"","",null,1,null,1,1,4983]
[null,null,{"$f":"IFERROR(VLOOKUP(D4988,'1_Causas_Levantadas'!C:D,2,0),\"\")","v":0},"","",null,1,null,1,1,4984]
[null,null,{"$f":"IFERROR(VLOOKUP(D4989,'1_Causas_Levantadas'!C:D,2,0),\"\")","v":0},"","",null,1,null,1,1,4985]
[null,null,{"$f":"IFERROR(VLOOKUP(D4990,'1_Causas_Levantadas'!C:D,2,0),\"\")","v":0},"","",null,1,null,1,1,4986]
[null,null,{"$f":"IFERROR(VLOOKUP(D4991,'1_Causas_Levantadas'!C:D,2,0),\"\")","v":0},"","",null,1,null,1,1,4987]
[null,null,{"$f":"IFERROR(VLOOKUP(D4992,'1_Causas_Levantadas'!C:D,2,0),\"\")","v":0},"","",null,1,null,1,1,4988]
[null,null,{"$f":"IFERROR(VLOOKUP(D4993,'1_Causas_Levantadas'!C:D,2,0),\"\")","v":0},"","",null,1,null,1,1,4989]
[null,null,{"$f":"IFERROR(VLOOKUP(D4994,'1_Causas_Levantadas'!C:D,2,0),\"\")","v":0},"","",null,1,null,1,1,4990]
[null,null,{"$f":"IFERROR(VLOOKUP(D4995,'1_Causas_Levantadas'!C:D,2,0),\"\")","v":0},"","",null,1,null,1,1,4991]
[null,null,{"$f":"IFERROR(VLOOKUP(D4996,'1_Causas_Levantadas'!C:D,2,0),\"\")","v":0},"","",null,1,null,1,1,4992]
[null,null,{"$f":"IFERROR(VLOOKUP(D4997,'1_Causas_Levantadas'!C:D,2,0),\"\")","v":0},"","",null,1,null,1,1,4993]
[null,null,{"$f":"IFERROR(VLOOKUP(D4998,'1_Causas_Levantadas'!C:D,2,0),\"\")","v":0},{"$f":"IF(K4998<=$H$4,(IF(G4997>0,G4998,$G$5)),\"\")","v":""},{"$f":"IF(D4998<>\"\",\"Participante \"&K4998,\"\")","v":""},null,{"$f":"J4998","v":1},null,1,1,4994]
[null,null,{"$f":"IFERROR(VLOOKUP(D4999,'1_Causas_Levantadas'!C:D,2,0),\"\")","v":0},{"$f":"IF(K4999<=$H$4,(IF(G4998>0,G4999,$G$5)),\"\")","v":""},"",null,{"$f":"J4999","v":1},null,1,{"$f":"IF(G4998<$G$4,J4998+1,1)","v":1},4995]
[null,null,{"$f":"IFERROR(VLOOKUP(D5000,'1_Causas_Levantadas'!C:D,2,0),\"\")","v":0},{"$f":"IF(K5000<=$H$4,(IF(G4999>0,G5000,$G$5)),\"\")","v":""},"",null,{"$f":"J5000","v":1},null,1,{"$f":"IF(G4999<$G$4,J4999+1,1)","v":1},4996]

{"sheet":"5_Verificar_Votos","index":5,"n_rows":87,"n_cols":18,"rows_kept":87,"cut":false,"hidden":true,"merged":[[4,1,4,5],[6,5,7,5],[12,1,12,5]]}
[]
[]
[]
[null,"Verifique os votos:",null,null,null,null,null,"Total causas",{"$f":"COUNTA('1_Causas_Levantadas'!$D$5:$D$200)","v":0}]
[null,"1. Verifique se a quantidade de votos está correta e compare as notas previstas com as reais. Caso os faróis estiverem verdes, siga para o próximo passo (\"Causas Priorizadas\"). Mas se os faróis estiverem vermelhos, clique em \"Acertar votos\".",null,null,null,null,null,"Causas/part",{"$f":"COUNTA('1_Causas_Levantadas'!$D$5:$D$200)","v":0},null,null,null,null,null,null,"Soma",{"$f":"I8*10+I9*5+I10*3","v":0}]
[]
[null,null,null,null,null,null,null,null,"devem ter/partic","Devem ter total","têm","check",null,null,null,"Participante 1",{"$f":"SUMIF('4_Base_votacao'!E5:E5000,'5_Verificar_Votos'!P7,'4_Base_votacao'!F5:F5000)","v":0},{"$f":"IF(Q7=$Q$5,1,0)","v":1}]
[null,null,null,null,{"$f":"L8","v":1},null,null,"Notas 10",{"$f":"ROUNDDOWN(I5*20%,0)","v":0},{"$f":"I8*'2_Notas_votacao'!C9","v":0},{"$f":"COUNTIF('4_Base_votacao'!F:F,10)","v":0},{"$f":"IF(K8=J8,1,0)","v":1},null,null,null,"Participante 2",{"$f":"SUMIF('4_Base_votacao'!E6:E5001,'5_Verificar_Votos'!P8,'4_Base_votacao'!F6:F5001)","v":0},{"$f":"IF(Q8=$Q$5,1,0)","v":1}]
[null,null,null,null,{"$f":"L9","v":1},null,null,"Notas 5",{"$f":"ROUND(I5*30%,0)","v":0},{"$f":"I9*'2_Notas_votacao'!C9","v":0},{"$f":"COUNTIF('4_Base_votacao'!F:F,5)","v":0},{"$f":"IF(K9=J9,1,0)","v":1},null,null,null,"Participante 3",{"$f":"SUMIF('4_Base_votacao'!E7:E5002,'5_Verificar_Votos'!P9,'4_Base_votacao'!F7:F5002)","v":0},1]
[null,null,null,null,{"$f":"L10","v":1},null,null,"Notas 3",{"$f":"I5-SUM(I8:I9)","v":0},{"$f":"I10*'2_Notas_votacao'!C9","v":0},{"$f":"COUNTIF('4_Base_votacao'!F:F,3)","v":0},{"$f":"IF(K10=J10,1,0)","v":1},null,null,null,"Participante 4",{"$f":"SUMIF('4_Base_votacao'!E8:E5003,'5_Verificar_Votos'!P10,'4_Base_votacao'!F8:F5003)","v":0},1]
[null,null,null,null,null,null,null,null,null,null,null,null,null,null,null,"Participante 5",{"$f":"SUMIF('4_Base_votacao'!E9:E5004,'5_Verificar_Votos'!P11,'4_Base_votacao'!F9:F5004)","v":0},1]
[null,null,null,null,null,null,null,null,null,null,null,null,null,null,null,"Participante 6",{"$f":"SUMIF('4_Base_votacao'!E10:E5005,'5_Verificar_Votos'!P12,'4_Base_votacao'!F10:F5005)","v":0},1]
[null,"2. Verifique qual participante está com o número de votos incorreto.",null,null,null,null,null,null,null,null,null,null,null,null,null,"Participante 7",{"$f":"SUMIF('4_Base_votacao'!E11:E5006,'5_Verificar_Votos'!P13,'4_Base_votacao'!F11:F5006)","v":0},1]
[null,null,null,null,null,null,null,null,null,null,null,null,null,null,null,"Participante 8",{"$f":"SUMIF('4_Base_votacao'!E12:E5007,'5_Verificar_Votos'!P14,'4_Base_votacao'!F12:F5007)","v":0},1]
[null,null,null,null,null,null,null,null,null,null,null,null,null,null,null,"Participante 9",{"$f":"SUMIF('4_Base_votacao'!E13:E5008,'5_Verificar_Votos'!P15,'4_Base_votacao'!F13:F5008)","v":0},1]
[null,null,{"$f":"IF(Q7<>0,P7,\"\")","v":""},{"$f":"IF(Q7<>0,R7,\"\")","v":""},null,null,null,{"$f":"IF(I16=\"\",\"\",IF(I16=$Q$5,1,0))","v":""},{"$f":"IFERROR(VLOOKUP(C16,#REF!,2,0),\"\")","v":""},null,null,null,null,null,null,"Participante 10",{"$f":"SUMIF('4_Base_votacao'!E14:E5009,'5_Verificar_Votos'!P16,'4_Base_votacao'!F14:F5009)","v":0},1]
[null,null,{"$f":"IF(Q8<>0,P8,\"\")","v":""},{"$f":"IF(Q8<>0,R8,\"\")","v":""},null,null,null,"",{"$f":"IFERROR(VLOOKUP(C17,#REF!,2,0),\"\")","v":""},null,null,null,null,null,null,"Participante 11",{"$f":"SUMIF('4_Base_votacao'!E15:E5010,'5_Verificar_Votos'!P17,'4_Base_votacao'!F15:F5010)","v":0},1]
[null,null,"","",null,null,null,"",{"$f":"IFERROR(VLOOKUP(C18,#REF!,2,0),\"\")","v":""},null,null,null,null,null,null,"Participante 12",{"$f":"SUMIF('4_Base_votacao'!E16:E5011,'5_Verificar_Votos'!P18,'4_Base_votacao'!F16:F5011)","v":0},1]
[null,null,"","",null,null,null,"",{"$f":"IFERROR(VLOOKUP(C19,#REF!,2,0),\"\")","v":""},null,null,null,null,null,null,"Participante 13",{"$f":"SUMIF('4_Base_votacao'!E17:E5012,'5_Verificar_Votos'!P19,'4_Base_votacao'!F17:F5012)","v":0},1]
[null,null,"","",null,null,null,"",{"$f":"IFERROR(VLOOKUP(C20,#REF!,2,0),\"\")","v":""},null,null,null,null,null,null,"Participante 14",{"$f":"SUMIF('4_Base_votacao'!E18:E5013,'5_Verificar_Votos'!P20,'4_Base_votacao'!F18:F5013)","v":0},1]
[null,null,"","",null,null,null,"",{"$f":"IFERROR(VLOOKUP(C21,#REF!,2,0),\"\")","v":""},null,null,null,null,null,null,"Participante 15",{"$f":"SUMIF('4_Base_votacao'!E19:E5014,'5_Verificar_Votos'!P21,'4_Base_votacao'!F19:F5014)","v":0},1]
[null,null,"","",null,null,null,"",{"$f":"IFERROR(VLOOKUP(C22,#REF!,2,0),\"\")","v":""}]
[null,null,"","",null,null,null,"",{"$f":"IFERROR(VLOOKUP(C23,#REF!,2,0),\"\")","v":""}]
[null,null,"","",null,null,null,"",{"$f":"IFERROR(VLOOKUP(C24,#REF!,2,0),\"\")","v":""}]
[null,null,"","",null,null,null,"",{"$f":"IFERROR(VLOOKUP(C25,#REF!,2,0),\"\")","v":""}]
[null,null,"","",null,null,null,"",{"$f":"IFERROR(VLOOKUP(C26,#REF!,2,0),\"\")","v":""}]
[null,null,"","",null,null,null,"",{"$f":"IFERROR(VLOOKUP(C27,#REF!,2,0),\"\")","v":""}]
[null,null,"","",null,null,null,"",{"$f":"IFERROR(VLOOKUP(C28,#REF!,2,0),\"\")","v":""}]
[null,null,"","",null,null,null,"",{"$f":"IFERROR(VLOOKUP(C29,#REF!,2,0),\"\")","v":""}]
[null,null,"","",null,null,null,"",{"$f":"IFERROR(VLOOKUP(C30,#REF!,2,0),\"\")","v":""}]
[null,null,null,{"$f":"H31","v":""},null,null,null,"",{"$f":"IFERROR(VLOOKUP(C31,#REF!,2,0),\"\")","v":""}]
[null,null,null,"",null,null,null,"",{"$f":"IFERROR(VLOOKUP(C32,#REF!,2,0),\"\")","v":""}]
[null,null,null,"",null,null,null,"",{"$f":"IFERROR(VLOOKUP(C33,#REF!,2,0),\"\")","v":""}]
[null,null,null,"",null,null,null,"",{"$f":"IFERROR(VLOOKUP(C34,#REF!,2,0),\"\")","v":""}]
[null,null,null,"",null,null,null,"",{"$f":"IFERROR(VLOOKUP(C35,#REF!,2,0),\"\")","v":""}]
[null,null,null,"",null,null,null,"",{"$f":"IFERROR(VLOOKUP(C36,#REF!,2,0),\"\")","v":""}]
[null,null,null,"",null,null,null,"",{"$f":"IFERROR(VLOOKUP(C37,#REF!,2,0),\"\")","v":""}]
[null,null,null,"",null,null,null,"",{"$f":"IFERROR(VLOOKUP(C38,#REF!,2,0),\"\")","v":""}]
[null,null,null,"",null,null,null,"",{"$f":"IFERROR(VLOOKUP(C39,#REF!,2,0),\"\")","v":""}]
[null,null,null,"",null,null,null,"",{"$f":"IFERROR(VLOOKUP(C40,#REF!,2,0),\"\")","v":""}]
[null,null,null,"",null,null,null,"",{"$f":"IFERROR(VLOOKUP(C41,#REF!,2,0),\"\")","v":""}]
[null,null,null,"",null,null,null,"",{"$f":"IFERROR(VLOOKUP(C42,#REF!,2,0),\"\")","v":""}]
[null,null,null,"",null,null,null,"",{"$f":"IFERROR(VLOOKUP(C43,#REF!,2,0),\"\")","v":""}]
[null,null,null,"",null,null,null,"",{"$f":"IFERROR(VLOOKUP(C44,#REF!,2,0),\"\")","v":""}]
[null,null,null,"",null,null,null,"",{"$f":"IFERROR(VLOOKUP(C45,#REF!,2,0),\"\")","v":""}]
[null,null,null,"",null,null,null,"",{"$f":"IFERROR(VLOOKUP(C46,#REF!,2,0),\"\")","v":""}]
[null,null,null,"",null,null,null,"",{"$f":"IFERROR(VLOOKUP(C47,#REF!,2,0),\"\")","v":""}]
[null,null,null,"",null,null,null,{"$f":"IF(I48=\"\",\"\",IF(I48=$Q$5,1,0))","v":""},{"$f":"IFERROR(VLOOKUP(C48,#REF!,2,0),\"\")","v":""}]
[null,null,null,"",null,null,null,"",{"$f":"IFERROR(VLOOKUP(C49,#REF!,2,0),\"\")","v":""}]
[null,null,null,"",null,null,null,"",{"$f":"IFERROR(VLOOKUP(C50,#REF!,2,0),\"\")","v":""}]
[null,null,null,"",null,null,null,"",{"$f":"IFERROR(VLOOKUP(C51,#REF!,2,0),\"\")","v":""}]
[null,null,null,"",null,null,null,"",{"$f":"IFERROR(VLOOKUP(C52,#REF!,2,0),\"\")","v":""}]
[null,null,null,"",null,null,null,"",{"$f":"IFERROR(VLOOKUP(C53,#REF!,2,0),\"\")","v":""}]
[null,null,null,"",null,null,null,"",{"$f":"IFERROR(VLOOKUP(C54,#REF!,2,0),\"\")","v":""}]
[null,null,null,"",null,null,null,"",{"$f":"IFERROR(VLOOKUP(C55,#REF!,2,0),\"\")","v":""}]
[null,null,null,"",null,null,null,"",{"$f":"IFERROR(VLOOKUP(C56,#REF!,2,0),\"\")","v":""}]
[null,null,null,"",null,null,null,"",{"$f":"IFERROR(VLOOKUP(C57,#REF!,2,0),\"\")","v":""}]
[null,null,null,"",null,null,null,"",{"$f":"IFERROR(VLOOKUP(C58,#REF!,2,0),\"\")","v":""}]
[null,null,null,"",null,null,null,"",{"$f":"IFERROR(VLOOKUP(C59,#REF!,2,0),\"\")","v":""}]
[null,null,null,"",null,null,null,"",{"$f":"IFERROR(VLOOKUP(C60,#REF!,2,0),\"\")","v":""}]
[null,null,null,"",null,null,null,"",{"$f":"IFERROR(VLOOKUP(C61,#REF!,2,0),\"\")","v":""}]
[null,null,null,"",null,null,null,"",{"$f":"IFERROR(VLOOKUP(C62,#REF!,2,0),\"\")","v":""}]
[null,null,null,"",null,null,null,"",{"$f":"IFERROR(VLOOKUP(C63,#REF!,2,0),\"\")","v":""}]
[null,null,null,"",null,null,null,"",{"$f":"IFERROR(VLOOKUP(C64,#REF!,2,0),\"\")","v":""}]
[null,null,null,"",null,null,null,"",{"$f":"IFERROR(VLOOKUP(C65,#REF!,2,0),\"\")","v":""}]
[null,null,null,"",null,null,null,"",{"$f":"IFERROR(VLOOKUP(C66,#REF!,2,0),\"\")","v":""}]
[null,null,null,"",null,null,null,"",{"$f":"IFERROR(VLOOKUP(C67,#REF!,2,0),\"\")","v":""}]
[null,null,null,"",null,null,null,"",{"$f":"IFERROR(VLOOKUP(C68,#REF!,2,0),\"\")","v":""}]
[null,null,null,"",null,null,null,"",{"$f":"IFERROR(VLOOKUP(C69,#REF!,2,0),\"\")","v":""}]
[null,null,null,{"$error":"#REF!"},null,null,null,{"$f":"IF(#REF!=\"\",\"\",IF(#REF!=$Q$5,1,0))","v":{"$error":"#REF!"}},{"$f":"IFERROR(VLOOKUP(C70,#REF!,2,0),\"\")","v":""}]
[null,null,null,{"$error":"#REF!"},null,null,null,{"$f":"IF(#REF!=\"\",\"\",IF(#REF!=$Q$5,1,0))","v":{"$error":"#REF!"}},{"$f":"IFERROR(VLOOKUP(C71,#REF!,2,0),\"\")","v":""}]
[null,null,null,{"$error":"#REF!"},null,null,null,{"$f":"IF(#REF!=\"\",\"\",IF(#REF!=$Q$5,1,0))","v":{"$error":"#REF!"}},{"$f":"IFERROR(VLOOKUP(C72,#REF!,2,0),\"\")","v":""}]
[null,null,null,null,null,null,null,null,{"$f":"IFERROR(VLOOKUP(C73,#REF!,2,0),\"\")","v":""}]
[null,null,null,null,null,null,null,null,{"$f":"IFERROR(VLOOKUP(C74,#REF!,2,0),\"\")","v":""}]
[null,null,null,null,null,null,null,null,{"$f":"IFERROR(VLOOKUP(C75,#REF!,2,0),\"\")","v":""}]
[null,null,null,null,null,null,null,null,{"$f":"IFERROR(VLOOKUP(C76,#REF!,2,0),\"\")","v":""}]
[null,null,null,null,null,null,null,null,{"$f":"IFERROR(VLOOKUP(C77,#REF!,2,0),\"\")","v":""}]
[null,null,null,null,null,null,null,null,{"$f":"IFERROR(VLOOKUP(C78,#REF!,2,0),\"\")","v":""}]
[null,null,null,null,null,null,null,null,{"$f":"IFERROR(VLOOKUP(C79,#REF!,2,0),\"\")","v":""}]
[null,null,null,null,null,null,null,null,{"$f":"IFERROR(VLOOKUP(C80,#REF!,2,0),\"\")","v":""}]
[null,null,null,null,null,null,null,null,{"$f":"IFERROR(VLOOKUP(C81,#REF!,2,0),\"\")","v":""}]
[null,null,null,null,null,null,null,null,{"$f":"IFERROR(VLOOKUP(C82,#REF!,2,0),\"\")","v":""}]
[null,null,null,null,null,null,null,null,{"$f":"IFERROR(VLOOKUP(C83,#REF!,2,0),\"\")","v":""}]
[null,null,null,null,null,null,null,null,{"$f":"IFERROR(VLOOKUP(C84,#REF!,2,0),\"\")","v":""}]
[null,null,null,null,null,null,null,null,{"$f":"IFERROR(VLOOKUP(C85,#REF!,2,0),\"\")","v":""}]
[null,null,null,null,null,null,null,null,{"$f":"IFERROR(VLOOKUP(C86,#REF!,2,0),\"\")","v":""}]
[null,null,null,null,null,null,null,null,{"$f":"IFERROR(VLOOKUP(C87,#REF!,2,0),\"\")","v":""}]

{"sheet":"6_Causas_Priorizadas","index":6,"n_rows":100,"n_cols":4,"rows_kept":100,"cut":false,"hidden":true,"merged":[]}
[]
[]
[null,null,"Nota-Corte (Média):",{"$f":"'2_Notas_votacao'!$C$9*5","v":30}]
[null,"Causa","Soma de Nota","Priorizado"]
[null,null,0,{"$f":"IF(OR(B5=\"\",B5=\"Total Geral\"),\"\",IF(C5>=$D$3,\"Sim\",\"Não\"))","v":""}]
[null,"Total geral",0,""]
[null,null,null,""]
[null,null,null,""]
[null,null,null,""]
[null,null,null,""]
[null,null,null,""]
[null,null,null,""]
[null,null,null,""]
[null,null,null,""]
[null,null,null,""]
[null,null,null,""]
[null,null,null,""]
[null,null,null,""]
[null,null,null,""]
[null,null,null,""]
[null,null,null,""]
[null,null,null,""]
[null,null,null,""]
[null,null,null,""]
[null,null,null,""]
[null,null,null,""]
[null,null,null,""]
[null,null,null,""]
[null,null,null,""]
[null,null,null,""]
[null,null,null,""]
[null,null,null,""]
[null,null,null,""]
[null,null,null,""]
[null,null,null,""]
[null,null,null,""]
[null,null,null,""]
[null,null,null,""]
[null,null,null,""]
[null,null,null,""]
[null,null,null,""]
[null,null,null,""]
[null,null,null,""]
[null,null,null,""]
[null,null,null,""]
[null,null,null,""]
[null,null,null,""]
[null,null,null,""]
[null,null,null,""]
[null,null,null,""]
[null,null,null,""]
[null,null,null,""]
[null,null,null,""]
[null,null,null,""]
[null,null,null,""]
[null,null,null,""]
[null,null,null,""]
[null,null,null,""]
[null,null,null,""]
[null,null,null,""]
[null,null,null,""]
[null,null,null,""]
[null,null,null,""]
[null,null,null,""]
[null,null,null,""]
[null,null,null,""]
[null,null,null,""]
[null,null,null,""]
[null,null,null,{"$f":"IF(OR(B69=\"\",B69=\"Total Geral\"),\"\",IF(C69>=$D$3,\"Sim\",\"Não\"))","v":""}]
[null,null,null,""]
[null,null,null,""]
[null,null,null,""]
[null,null,null,""]
[null,null,null,""]
[null,null,null,""]
[null,null,null,""]
[null,null,null,""]
[null,null,null,""]
[null,null,null,""]
[null,null,null,""]
[null,null,null,""]
[null,null,null,""]
[null,null,null,""]
[null,null,null,""]
[null,null,null,""]
[null,null,null,""]
[null,null,null,""]
[null,null,null,""]
[null,null,null,""]
[null,null,null,""]
[null,null,null,""]
[null,null,null,""]
[null,null,null,""]
[null,null,null,""]
[null,null,null,""]
[null,null,null,""]
[null,null,null,""]
[null,null,null,""]
[null,null,null,""]
[null,null,null,""]

{"sheet":"Habilitar Macro","index":7,"n_rows":0,"n_cols":0,"rows_kept":0,"cut":false,"hidden":false,"merged":[]}

{"sheet":"Ajuda","index":8,"n_rows":0,"n_cols":0,"rows_kept":0,"cut":false,"hidden":false,"merged":[]}